{"text_format":"1","workbook":"xlsx","n_sheets":44,"sheets":["Innéacs","Sonraí Ranga","Aonad 1","Aonad 2","Aonad 3","Aonad 4","Aonad 5","Aonad 6","Aonad 7","Aonad 8","Aonad 9","Aonad 10","Aonad 11","Aonad 12","Aonad 13","Aonad 14","Aonad 15","Aonad 16","Aonad 17","Aonad 18","Aonad 19","Aonad 20","Aonad 21","Aonad 22","Aonad 23","Aonad 24","Aonad 25","Aonad 26","Aonad 27","Aonad 28","Aonad 29","Aonad 30","Aonad 31","Aonad 32","Aonad 33","Aonad 34","Aonad 35","Aonad 36","Aonad 37","Aonad 38","Uirlis Phleanála,","Rannpháirtíocht i dtorthaí fogh","Leathanach Treoracha","Data Set"],"not_rendered":{"charts":0,"images":23,"macros":0,"external_links":0,"defined_names":44,"comments":0,"pivot_tables":0},"unopened":[],"bounds":{"document_bytes":16777216,"sheet_cells":100000,"rows_first":2000,"rows_last":500,"rows_between":2000,"halvings":0,"cell_chars":16384,"cell_head_chars":4096},"cells_cut":0,"cells_raw":0,"read":"whole","date_system":"1900"}

{"sheet":"Innéacs","index":0,"n_rows":57,"n_cols":21,"rows_kept":57,"cut":false,"hidden":false,"merged":[[7,0,32,0],[1,0,1,1],[4,5,5,5],[6,10,6,19],[0,10,2,19],[5,9,5,15],[1,5,2,5]]}
[null,null,null,null,null,null,null,null,null,null,"NÓTA: Mura liostaítear Aonaid Foghlama ar an leathanach Innéacs, cliceáil anseo."]
["Cliceáil",null,null,null,null,"Innéacs","Sonraí Ranga","Uirlis Phleanála,\nRéasúnaíoch & Aidhm","Rannpháirtíocht i dtorthaí foghlama","Treoracha"]
[]
[]
[null,null,null,null,null,{"$f":"'Data Set'!D4","v":"Teicneolaíocht Fheidhmeach"},"Grúpa Ranga: (code/name)","Cohórt na Sraithe Sóisearaí: Tús na bliana / Deireadh na bliana",null,"Scoil:"]
[null,null,null,null,null,null,{"$f":"IF('Sonraí Ranga'!K21=\"\",\"\",'Sonraí Ranga'!K21)","v":"Iontráil i mbileog sonraí an ranga"},{"$f":"IF('Sonraí Ranga'!K19=\"\",\"\",'Sonraí Ranga'!K19)","v":"Iontráil i mbileog sonraí an ranga"},{"$f":"IF('Sonraí Ranga'!K20=\"\",\"\",'Sonraí Ranga'!K20)","v":"Iontráil i mbileog sonraí an ranga"},{"$f":"IF('Sonraí Ranga'!J8=\"\",\"\",'Sonraí Ranga'!J8)","v":"Iontráil i mbileog sonraí an ranga"}]
[null,null,"Sheet names:","Active units:","List of units (No blank lines):","Teideal na nAonad Foghlama:\n(Naisc Chlinge)","Bliainghrúpa:","Dáta Tosaigh: ","Fad:","Múinteoir:","Torthaí Foghlama Roghnaithe:"]
["NÓTA: Coinnigh cluaisín don Bhileog Innéacs i gcónaí ar thaobh na láimhe clé.",{"$f":"IF(COUNTA(E8)=1,\"1\",\"\")","v":"1"},{"$f":"IFERROR(INDEX(MID(SheetNames,FIND(\"]\",SheetNames)+1,100),ROW(C2),1),\"\")","v":"Sonraí Ranga"},{"$f":"IFERROR(IF(AND(INDIRECT(\"'\"&$C8&\"'!c4\")='Data Set'!$D$4,INDIRECT(\"'\"&$C8&\"'!f5\")=\"Sea\"),C8,\"\"),\"\")","v":""},{"$f":"IFERROR(INDEX($D$8:$D$57,MATCH(0,COUNTIF($E$7:E7,$D$8:$D$57&\"\")+IF($D$8:$D$57=\"\",1,0), 0)),\"\")","v":""},{"$f":"HYPERLINK(\"#'\"&E8&\"'!A1\",E8)","v":""},{"$f":"IFERROR(IF(INDIRECT(\"'\"&$F8&\"'!c7\")=\"\",\"\",INDIRECT(\"'\"&$F8&\"'!c7\")),\"\")","v":""},{"$f":"IFERROR(IF(INDIRECT(\"'\"&$F8&\"'!e7\")=\"\",\"\",INDIRECT(\"'\"&$F8&\"'!e7\")),\"\")","v":""},{"$f":"IFERROR(IF(INDIRECT(\"'\"&$F8&\"'!f7\")=\"\",\"\",INDIRECT(\"'\"&$F8&\"'!f7\")),\"\")","v":""},{"$f":"IFERROR(IF(INDIRECT(\"'\"&$F8&\"'!h5\")=\"\",\"\",INDIRECT(\"'\"&$F8&\"'!h5\")),\"\")","v":""},{"$f":"IFERROR(LEFT(INDIRECT(\"'\"&$E8&\"'!c38\"),4),\"\")","v":""},{"$f":"IFERROR(LEFT(INDIRECT(\"'\"&$E8&\"'!c39\"),4),\"\")","v":""},{"$f":"IFERROR(LEFT(INDIRECT(\"'\"&$E8&\"'!c40\"),4),\"\")","v":""},{"$f":"IFERROR(LEFT(INDIRECT(\"'\"&$E8&\"'!c41\"),4),\"\")","v":""},{"$f":"IFERROR(LEFT(INDIRECT(\"'\"&$E8&\"'!c42\"),4),\"\")","v":""},{"$f":"IFERROR(LEFT(INDIRECT(\"'\"&$E8&\"'!c43\"),4),\"\")","v":""},{"$f":"IFERROR(LEFT(INDIRECT(\"'\"&$E8&\"'!c44\"),4),\"\")","v":""},{"$f":"IFERROR(LEFT(INDIRECT(\"'\"&$E8&\"'!c45\"),4),\"\")","v":""},{"$f":"IFERROR(LEFT(INDIRECT(\"'\"&$E8&\"'!c46\"),4),\"\")","v":""},{"$f":"IFERROR(LEFT(INDIRECT(\"'\"&$E8&\"'!c47\"),4),\"\")","v":""}," "]
[null,{"$f":"IF(E9=\"\",\"\",B8+1)","v":""},{"$f":"IFERROR(INDEX(MID(SheetNames,FIND(\"]\",SheetNames)+1,100),ROW(C3),1),\"\")","v":"Aonad 1"},{"$f":"IFERROR(IF(AND(INDIRECT(\"'\"&$C9&\"'!c4\")='Data Set'!$D$4,INDIRECT(\"'\"&$C9&\"'!f5\")=\"Sea\"),C9,\"\"),\"\")","v":""},{"$f":"IFERROR(INDEX($D$8:$D$57,MATCH(0,COUNTIF($E$7:E8,$D$8:$D$57&\"\")+IF($D$8:$D$57=\"\",1,0), 0)),\"\")","v":""},{"$f":"HYPERLINK(\"#'\"&E9&\"'!A1\",E9)","v":""},{"$f":"IFERROR(IF(INDIRECT(\"'\"&$F9&\"'!c7\")=\"\",\"\",INDIRECT(\"'\"&$F9&\"'!c7\")),\"\")","v":""},{"$f":"IFERROR(IF(INDIRECT(\"'\"&$F9&\"'!e7\")=\"\",\"\",INDIRECT(\"'\"&$F9&\"'!e7\")),\"\")","v":""},{"$f":"IFERROR(IF(INDIRECT(\"'\"&$F9&\"'!f7\")=\"\",\"\",INDIRECT(\"'\"&$F9&\"'!f7\")),\"\")","v":""},{"$f":"IFERROR(IF(INDIRECT(\"'\"&$F9&\"'!h5\")=\"\",\"\",INDIRECT(\"'\"&$F9&\"'!h5\")),\"\")","v":""},{"$f":"IFERROR(LEFT(INDIRECT(\"'\"&$E9&\"'!c38\"),4),\"\")","v":""},{"$f":"IFERROR(LEFT(INDIRECT(\"'\"&$E9&\"'!c39\"),4),\"\")","v":""},{"$f":"IFERROR(LEFT(INDIRECT(\"'\"&$E9&\"'!c40\"),4),\"\")","v":""},{"$f":"IFERROR(LEFT(INDIRECT(\"'\"&$E9&\"'!c41\"),4),\"\")","v":""},{"$f":"IFERROR(LEFT(INDIRECT(\"'\"&$E9&\"'!c42\"),4),\"\")","v":""},{"$f":"IFERROR(LEFT(INDIRECT(\"'\"&$E9&\"'!c43\"),4),\"\")","v":""},{"$f":"IFERROR(LEFT(INDIRECT(\"'\"&$E9&\"'!c44\"),4),\"\")","v":""},{"$f":"IFERROR(LEFT(INDIRECT(\"'\"&$E9&\"'!c45\"),4),\"\")","v":""},{"$f":"IFERROR(LEFT(INDIRECT(\"'\"&$E9&\"'!c46\"),4),\"\")","v":""},{"$f":"IFERROR(LEFT(INDIRECT(\"'\"&$E9&\"'!c47\"),4),\"\")","v":""}]
[null,{"$f":"IF(E10=\"\",\"\",B9+1)","v":""},{"$f":"IFERROR(INDEX(MID(SheetNames,FIND(\"]\",SheetNames)+1,100),ROW(C4),1),\"\")","v":"Aonad 2"},{"$f":"IFERROR(IF(AND(INDIRECT(\"'\"&$C10&\"'!c4\")='Data Set'!$D$4,INDIRECT(\"'\"&$C10&\"'!f5\")=\"Sea\"),C10,\"\"),\"\")","v":""},{"$f":"IFERROR(INDEX($D$8:$D$57,MATCH(0,COUNTIF($E$7:E9,$D$8:$D$57&\"\")+IF($D$8:$D$57=\"\",1,0), 0)),\"\")","v":""},"",{"$f":"IFERROR(IF(INDIRECT(\"'\"&$F10&\"'!c7\")=\"\",\"\",INDIRECT(\"'\"&$F10&\"'!c7\")),\"\")","v":""},{"$f":"IFERROR(IF(INDIRECT(\"'\"&$F10&\"'!e7\")=\"\",\"\",INDIRECT(\"'\"&$F10&\"'!e7\")),\"\")","v":""},{"$f":"IFERROR(IF(INDIRECT(\"'\"&$F10&\"'!f7\")=\"\",\"\",INDIRECT(\"'\"&$F10&\"'!f7\")),\"\")","v":""},{"$f":"IFERROR(IF(INDIRECT(\"'\"&$F10&\"'!h5\")=\"\",\"\",INDIRECT(\"'\"&$F10&\"'!h5\")),\"\")","v":""},{"$f":"IFERROR(LEFT(INDIRECT(\"'\"&$E10&\"'!c38\"),4),\"\")","v":""},{"$f":"IFERROR(LEFT(INDIRECT(\"'\"&$E10&\"'!c39\"),4),\"\")","v":""},{"$f":"IFERROR(LEFT(INDIRECT(\"'\"&$E10&\"'!c40\"),4),\"\")","v":""},{"$f":"IFERROR(LEFT(INDIRECT(\"'\"&$E10&\"'!c41\"),4),\"\")","v":""},{"$f":"IFERROR(LEFT(INDIRECT(\"'\"&$E10&\"'!c42\"),4),\"\")","v":""},{"$f":"IFERROR(LEFT(INDIRECT(\"'\"&$E10&\"'!c43\"),4),\"\")","v":""},{"$f":"IFERROR(LEFT(INDIRECT(\"'\"&$E10&\"'!c44\"),4),\"\")","v":""},{"$f":"IFERROR(LEFT(INDIRECT(\"'\"&$E10&\"'!c45\"),4),\"\")","v":""},{"$f":"IFERROR(LEFT(INDIRECT(\"'\"&$E10&\"'!c46\"),4),\"\")","v":""},{"$f":"IFERROR(LEFT(INDIRECT(\"'\"&$E10&\"'!c47\"),4),\"\")","v":""}]
[null,"",{"$f":"IFERROR(INDEX(MID(SheetNames,FIND(\"]\",SheetNames)+1,100),ROW(C5),1),\"\")","v":"Aonad 3"},{"$f":"IFERROR(IF(AND(INDIRECT(\"'\"&$C11&\"'!c4\")='Data Set'!$D$4,INDIRECT(\"'\"&$C11&\"'!f5\")=\"Sea\"),C11,\"\"),\"\")","v":""},{"$f":"IFERROR(INDEX($D$8:$D$57,MATCH(0,COUNTIF($E$7:E10,$D$8:$D$57&\"\")+IF($D$8:$D$57=\"\",1,0), 0)),\"\")","v":""},"",{"$f":"IFERROR(IF(INDIRECT(\"'\"&$F11&\"'!c7\")=\"\",\"\",INDIRECT(\"'\"&$F11&\"'!c7\")),\"\")","v":""},{"$f":"IFERROR(IF(INDIRECT(\"'\"&$F11&\"'!e7\")=\"\",\"\",INDIRECT(\"'\"&$F11&\"'!e7\")),\"\")","v":""},{"$f":"IFERROR(IF(INDIRECT(\"'\"&$F11&\"'!f7\")=\"\",\"\",INDIRECT(\"'\"&$F11&\"'!f7\")),\"\")","v":""},{"$f":"IFERROR(IF(INDIRECT(\"'\"&$F11&\"'!h5\")=\"\",\"\",INDIRECT(\"'\"&$F11&\"'!h5\")),\"\")","v":""},{"$f":"IFERROR(LEFT(INDIRECT(\"'\"&$E11&\"'!c38\"),4),\"\")","v":""},{"$f":"IFERROR(LEFT(INDIRECT(\"'\"&$E11&\"'!c39\"),4),\"\")","v":""},{"$f":"IFERROR(LEFT(INDIRECT(\"'\"&$E11&\"'!c40\"),4),\"\")","v":""},{"$f":"IFERROR(LEFT(INDIRECT(\"'\"&$E11&\"'!c41\"),4),\"\")","v":""},{"$f":"IFERROR(LEFT(INDIRECT(\"'\"&$E11&\"'!c42\"),4),\"\")","v":""},{"$f":"IFERROR(LEFT(INDIRECT(\"'\"&$E11&\"'!c43\"),4),\"\")","v":""},{"$f":"IFERROR(LEFT(INDIRECT(\"'\"&$E11&\"'!c44\"),4),\"\")","v":""},{"$f":"IFERROR(LEFT(INDIRECT(\"'\"&$E11&\"'!c45\"),4),\"\")","v":""},{"$f":"IFERROR(LEFT(INDIRECT(\"'\"&$E11&\"'!c46\"),4),\"\")","v":""},{"$f":"IFERROR(LEFT(INDIRECT(\"'\"&$E11&\"'!c47\"),4),\"\")","v":""}]
[null,"",{"$f":"IFERROR(INDEX(MID(SheetNames,FIND(\"]\",SheetNames)+1,100),ROW(C6),1),\"\")","v":"Aonad 4"},{"$f":"IFERROR(IF(AND(INDIRECT(\"'\"&$C12&\"'!c4\")='Data Set'!$D$4,INDIRECT(\"'\"&$C12&\"'!f5\")=\"Sea\"),C12,\"\"),\"\")","v":""},{"$f":"IFERROR(INDEX($D$8:$D$57,MATCH(0,COUNTIF($E$7:E11,$D$8:$D$57&\"\")+IF($D$8:$D$57=\"\",1,0), 0)),\"\")","v":""},"",{"$f":"IFERROR(IF(INDIRECT(\"'\"&$F12&\"'!c7\")=\"\",\"\",INDIRECT(\"'\"&$F12&\"'!c7\")),\"\")","v":""},{"$f":"IFERROR(IF(INDIRECT(\"'\"&$F12&\"'!e7\")=\"\",\"\",INDIRECT(\"'\"&$F12&\"'!e7\")),\"\")","v":""},{"$f":"IFERROR(IF(INDIRECT(\"'\"&$F12&\"'!f7\")=\"\",\"\",INDIRECT(\"'\"&$F12&\"'!f7\")),\"\")","v":""},{"$f":"IFERROR(IF(INDIRECT(\"'\"&$F12&\"'!h5\")=\"\",\"\",INDIRECT(\"'\"&$F12&\"'!h5\")),\"\")","v":""},{"$f":"IFERROR(LEFT(INDIRECT(\"'\"&$E12&\"'!c38\"),4),\"\")","v":""},{"$f":"IFERROR(LEFT(INDIRECT(\"'\"&$E12&\"'!c39\"),4),\"\")","v":""},{"$f":"IFERROR(LEFT(INDIRECT(\"'\"&$E12&\"'!c40\"),4),\"\")","v":""},{"$f":"IFERROR(LEFT(INDIRECT(\"'\"&$E12&\"'!c41\"),4),\"\")","v":""},{"$f":"IFERROR(LEFT(INDIRECT(\"'\"&$E12&\"'!c42\"),4),\"\")","v":""},{"$f":"IFERROR(LEFT(INDIRECT(\"'\"&$E12&\"'!c43\"),4),\"\")","v":""},{"$f":"IFERROR(LEFT(INDIRECT(\"'\"&$E12&\"'!c44\"),4),\"\")","v":""},{"$f":"IFERROR(LEFT(INDIRECT(\"'\"&$E12&\"'!c45\"),4),\"\")","v":""},{"$f":"IFERROR(LEFT(INDIRECT(\"'\"&$E12&\"'!c46\"),4),\"\")","v":""},{"$f":"IFERROR(LEFT(INDIRECT(\"'\"&$E12&\"'!c47\"),4),\"\")","v":""}]
[null,"",{"$f":"IFERROR(INDEX(MID(SheetNames,FIND(\"]\",SheetNames)+1,100),ROW(C7),1),\"\")","v":"Aonad 5"},{"$f":"IFERROR(IF(AND(INDIRECT(\"'\"&$C13&\"'!c4\")='Data Set'!$D$4,INDIRECT(\"'\"&$C13&\"'!f5\")=\"Sea\"),C13,\"\"),\"\")","v":""},{"$f":"IFERROR(INDEX($D$8:$D$57,MATCH(0,COUNTIF($E$7:E12,$D$8:$D$57&\"\")+IF($D$8:$D$57=\"\",1,0), 0)),\"\")","v":""},"",{"$f":"IFERROR(IF(INDIRECT(\"'\"&$F13&\"'!c7\")=\"\",\"\",INDIRECT(\"'\"&$F13&\"'!c7\")),\"\")","v":""},{"$f":"IFERROR(IF(INDIRECT(\"'\"&$F13&\"'!e7\")=\"\",\"\",INDIRECT(\"'\"&$F13&\"'!e7\")),\"\")","v":""},{"$f":"IFERROR(IF(INDIRECT(\"'\"&$F13&\"'!f7\")=\"\",\"\",INDIRECT(\"'\"&$F13&\"'!f7\")),\"\")","v":""},{"$f":"IFERROR(IF(INDIRECT(\"'\"&$F13&\"'!h5\")=\"\",\"\",INDIRECT(\"'\"&$F13&\"'!h5\")),\"\")","v":""},{"$f":"IFERROR(LEFT(INDIRECT(\"'\"&$E13&\"'!c38\"),4),\"\")","v":""},{"$f":"IFERROR(LEFT(INDIRECT(\"'\"&$E13&\"'!c39\"),4),\"\")","v":""},{"$f":"IFERROR(LEFT(INDIRECT(\"'\"&$E13&\"'!c40\"),4),\"\")","v":""},{"$f":"IFERROR(LEFT(INDIRECT(\"'\"&$E13&\"'!c41\"),4),\"\")","v":""},{"$f":"IFERROR(LEFT(INDIRECT(\"'\"&$E13&\"'!c42\"),4),\"\")","v":""},{"$f":"IFERROR(LEFT(INDIRECT(\"'\"&$E13&\"'!c43\"),4),\"\")","v":""},{"$f":"IFERROR(LEFT(INDIRECT(\"'\"&$E13&\"'!c44\"),4),\"\")","v":""},{"$f":"IFERROR(LEFT(INDIRECT(\"'\"&$E13&\"'!c45\"),4),\"\")","v":""},{"$f":"IFERROR(LEFT(INDIRECT(\"'\"&$E13&\"'!c46\"),4),\"\")","v":""},{"$f":"IFERROR(LEFT(INDIRECT(\"'\"&$E13&\"'!c47\"),4),\"\")","v":""}]
[null,"",{"$f":"IFERROR(INDEX(MID(SheetNames,FIND(\"]\",SheetNames)+1,100),ROW(C8),1),\"\")","v":"Aonad 6"},{"$f":"IFERROR(IF(AND(INDIRECT(\"'\"&$C14&\"'!c4\")='Data Set'!$D$4,INDIRECT(\"'\"&$C14&\"'!f5\")=\"Sea\"),C14,\"\"),\"\")","v":""},{"$f":"IFERROR(INDEX($D$8:$D$57,MATCH(0,COUNTIF($E$7:E13,$D$8:$D$57&\"\")+IF($D$8:$D$57=\"\",1,0), 0)),\"\")","v":""},"",{"$f":"IFERROR(IF(INDIRECT(\"'\"&$F14&\"'!c7\")=\"\",\"\",INDIRECT(\"'\"&$F14&\"'!c7\")),\"\")","v":""},{"$f":"IFERROR(IF(INDIRECT(\"'\"&$F14&\"'!e7\")=\"\",\"\",INDIRECT(\"'\"&$F14&\"'!e7\")),\"\")","v":""},{"$f":"IFERROR(IF(INDIRECT(\"'\"&$F14&\"'!f7\")=\"\",\"\",INDIRECT(\"'\"&$F14&\"'!f7\")),\"\")","v":""},{"$f":"IFERROR(IF(INDIRECT(\"'\"&$F14&\"'!h5\")=\"\",\"\",INDIRECT(\"'\"&$F14&\"'!h5\")),\"\")","v":""},{"$f":"IFERROR(LEFT(INDIRECT(\"'\"&$E14&\"'!c38\"),4),\"\")","v":""},{"$f":"IFERROR(LEFT(INDIRECT(\"'\"&$E14&\"'!c39\"),4),\"\")","v":""},{"$f":"IFERROR(LEFT(INDIRECT(\"'\"&$E14&\"'!c40\"),4),\"\")","v":""},{"$f":"IFERROR(LEFT(INDIRECT(\"'\"&$E14&\"'!c41\"),4),\"\")","v":""},{"$f":"IFERROR(LEFT(INDIRECT(\"'\"&$E14&\"'!c42\"),4),\"\")","v":""},{"$f":"IFERROR(LEFT(INDIRECT(\"'\"&$E14&\"'!c43\"),4),\"\")","v":""},{"$f":"IFERROR(LEFT(INDIRECT(\"'\"&$E14&\"'!c44\"),4),\"\")","v":""},{"$f":"IFERROR(LEFT(INDIRECT(\"'\"&$E14&\"'!c45\"),4),\"\")","v":""},{"$f":"IFERROR(LEFT(INDIRECT(\"'\"&$E14&\"'!c46\"),4),\"\")","v":""},{"$f":"IFERROR(LEFT(INDIRECT(\"'\"&$E14&\"'!c47\"),4),\"\")","v":""}]
[null,"",{"$f":"IFERROR(INDEX(MID(SheetNames,FIND(\"]\",SheetNames)+1,100),ROW(C9),1),\"\")","v":"Aonad 7"},{"$f":"IFERROR(IF(AND(INDIRECT(\"'\"&$C15&\"'!c4\")='Data Set'!$D$4,INDIRECT(\"'\"&$C15&\"'!f5\")=\"Sea\"),C15,\"\"),\"\")","v":""},{"$f":"IFERROR(INDEX($D$8:$D$57,MATCH(0,COUNTIF($E$7:E14,$D$8:$D$57&\"\")+IF($D$8:$D$57=\"\",1,0), 0)),\"\")","v":""},"",{"$f":"IFERROR(IF(INDIRECT(\"'\"&$F15&\"'!c7\")=\"\",\"\",INDIRECT(\"'\"&$F15&\"'!c7\")),\"\")","v":""},{"$f":"IFERROR(IF(INDIRECT(\"'\"&$F15&\"'!e7\")=\"\",\"\",INDIRECT(\"'\"&$F15&\"'!e7\")),\"\")","v":""},{"$f":"IFERROR(IF(INDIRECT(\"'\"&$F15&\"'!f7\")=\"\",\"\",INDIRECT(\"'\"&$F15&\"'!f7\")),\"\")","v":""},{"$f":"IFERROR(IF(INDIRECT(\"'\"&$F15&\"'!h5\")=\"\",\"\",INDIRECT(\"'\"&$F15&\"'!h5\")),\"\")","v":""},{"$f":"IFERROR(LEFT(INDIRECT(\"'\"&$E15&\"'!c38\"),4),\"\")","v":""},{"$f":"IFERROR(LEFT(INDIRECT(\"'\"&$E15&\"'!c39\"),4),\"\")","v":""},{"$f":"IFERROR(LEFT(INDIRECT(\"'\"&$E15&\"'!c40\"),4),\"\")","v":""},{"$f":"IFERROR(LEFT(INDIRECT(\"'\"&$E15&\"'!c41\"),4),\"\")","v":""},{"$f":"IFERROR(LEFT(INDIRECT(\"'\"&$E15&\"'!c42\"),4),\"\")","v":""},{"$f":"IFERROR(LEFT(INDIRECT(\"'\"&$E15&\"'!c43\"),4),\"\")","v":""},{"$f":"IFERROR(LEFT(INDIRECT(\"'\"&$E15&\"'!c44\"),4),\"\")","v":""},{"$f":"IFERROR(LEFT(INDIRECT(\"'\"&$E15&\"'!c45\"),4),\"\")","v":""},{"$f":"IFERROR(LEFT(INDIRECT(\"'\"&$E15&\"'!c46\"),4),\"\")","v":""},{"$f":"IFERROR(LEFT(INDIRECT(\"'\"&$E15&\"'!c47\"),4),\"\")","v":""}]
[null,"",{"$f":"IFERROR(INDEX(MID(SheetNames,FIND(\"]\",SheetNames)+1,100),ROW(C10),1),\"\")","v":"Aonad 8"},{"$f":"IFERROR(IF(AND(INDIRECT(\"'\"&$C16&\"'!c4\")='Data Set'!$D$4,INDIRECT(\"'\"&$C16&\"'!f5\")=\"Sea\"),C16,\"\"),\"\")","v":""},{"$f":"IFERROR(INDEX($D$8:$D$57,MATCH(0,COUNTIF($E$7:E15,$D$8:$D$57&\"\")+IF($D$8:$D$57=\"\",1,0), 0)),\"\")","v":""},"",{"$f":"IFERROR(IF(INDIRECT(\"'\"&$F16&\"'!c7\")=\"\",\"\",INDIRECT(\"'\"&$F16&\"'!c7\")),\"\")","v":""},{"$f":"IFERROR(IF(INDIRECT(\"'\"&$F16&\"'!e7\")=\"\",\"\",INDIRECT(\"'\"&$F16&\"'!e7\")),\"\")","v":""},{"$f":"IFERROR(IF(INDIRECT(\"'\"&$F16&\"'!f7\")=\"\",\"\",INDIRECT(\"'\"&$F16&\"'!f7\")),\"\")","v":""},{"$f":"IFERROR(IF(INDIRECT(\"'\"&$F16&\"'!h5\")=\"\",\"\",INDIRECT(\"'\"&$F16&\"'!h5\")),\"\")","v":""},{"$f":"IFERROR(LEFT(INDIRECT(\"'\"&$E16&\"'!c38\"),4),\"\")","v":""},{"$f":"IFERROR(LEFT(INDIRECT(\"'\"&$E16&\"'!c39\"),4),\"\")","v":""},{"$f":"IFERROR(LEFT(INDIRECT(\"'\"&$E16&\"'!c40\"),4),\"\")","v":""},{"$f":"IFERROR(LEFT(INDIRECT(\"'\"&$E16&\"'!c41\"),4),\"\")","v":""},{"$f":"IFERROR(LEFT(INDIRECT(\"'\"&$E16&\"'!c42\"),4),\"\")","v":""},{"$f":"IFERROR(LEFT(INDIRECT(\"'\"&$E16&\"'!c43\"),4),\"\")","v":""},{"$f":"IFERROR(LEFT(INDIRECT(\"'\"&$E16&\"'!c44\"),4),\"\")","v":""},{"$f":"IFERROR(LEFT(INDIRECT(\"'\"&$E16&\"'!c45\"),4),\"\")","v":""},{"$f":"IFERROR(LEFT(INDIRECT(\"'\"&$E16&\"'!c46\"),4),\"\")","v":""},{"$f":"IFERROR(LEFT(INDIRECT(\"'\"&$E16&\"'!c47\"),4),\"\")","v":""}]
[null,"",{"$f":"IFERROR(INDEX(MID(SheetNames,FIND(\"]\",SheetNames)+1,100),ROW(C11),1),\"\")","v":"Aonad 9"},{"$f":"IFERROR(IF(AND(INDIRECT(\"'\"&$C17&\"'!c4\")='Data Set'!$D$4,INDIRECT(\"'\"&$C17&\"'!f5\")=\"Sea\"),C17,\"\"),\"\")","v":""},{"$f":"IFERROR(INDEX($D$8:$D$57,MATCH(0,COUNTIF($E$7:E16,$D$8:$D$57&\"\")+IF($D$8:$D$57=\"\",1,0), 0)),\"\")","v":""},"",{"$f":"IFERROR(IF(INDIRECT(\"'\"&$F17&\"'!c7\")=\"\",\"\",INDIRECT(\"'\"&$F17&\"'!c7\")),\"\")","v":""},{"$f":"IFERROR(IF(INDIRECT(\"'\"&$F17&\"'!e7\")=\"\",\"\",INDIRECT(\"'\"&$F17&\"'!e7\")),\"\")","v":""},{"$f":"IFERROR(IF(INDIRECT(\"'\"&$F17&\"'!f7\")=\"\",\"\",INDIRECT(\"'\"&$F17&\"'!f7\")),\"\")","v":""},{"$f":"IFERROR(IF(INDIRECT(\"'\"&$F17&\"'!h5\")=\"\",\"\",INDIRECT(\"'\"&$F17&\"'!h5\")),\"\")","v":""},{"$f":"IFERROR(LEFT(INDIRECT(\"'\"&$E17&\"'!c38\"),4),\"\")","v":""},{"$f":"IFERROR(LEFT(INDIRECT(\"'\"&$E17&\"'!c39\"),4),\"\")","v":""},{"$f":"IFERROR(LEFT(INDIRECT(\"'\"&$E17&\"'!c40\"),4),\"\")","v":""},{"$f":"IFERROR(LEFT(INDIRECT(\"'\"&$E17&\"'!c41\"),4),\"\")","v":""},{"$f":"IFERROR(LEFT(INDIRECT(\"'\"&$E17&\"'!c42\"),4),\"\")","v":""},{"$f":"IFERROR(LEFT(INDIRECT(\"'\"&$E17&\"'!c43\"),4),\"\")","v":""},{"$f":"IFERROR(LEFT(INDIRECT(\"'\"&$E17&\"'!c44\"),4),\"\")","v":""},{"$f":"IFERROR(LEFT(INDIRECT(\"'\"&$E17&\"'!c45\"),4),\"\")","v":""},{"$f":"IFERROR(LEFT(INDIRECT(\"'\"&$E17&\"'!c46\"),4),\"\")","v":""},{"$f":"IFERROR(LEFT(INDIRECT(\"'\"&$E17&\"'!c47\"),4),\"\")","v":""}]
[null,"",{"$f":"IFERROR(INDEX(MID(SheetNames,FIND(\"]\",SheetNames)+1,100),ROW(C12),1),\"\")","v":"Aonad 10"},{"$f":"IFERROR(IF(AND(INDIRECT(\"'\"&$C18&\"'!c4\")='Data Set'!$D$4,INDIRECT(\"'\"&$C18&\"'!f5\")=\"Sea\"),C18,\"\"),\"\")","v":""},{"$f":"IFERROR(INDEX($D$8:$D$57,MATCH(0,COUNTIF($E$7:E17,$D$8:$D$57&\"\")+IF($D$8:$D$57=\"\",1,0), 0)),\"\")","v":""},"",{"$f":"IFERROR(IF(INDIRECT(\"'\"&$F18&\"'!c7\")=\"\",\"\",INDIRECT(\"'\"&$F18&\"'!c7\")),\"\")","v":""},{"$f":"IFERROR(IF(INDIRECT(\"'\"&$F18&\"'!e7\")=\"\",\"\",INDIRECT(\"'\"&$F18&\"'!e7\")),\"\")","v":""},{"$f":"IFERROR(IF(INDIRECT(\"'\"&$F18&\"'!f7\")=\"\",\"\",INDIRECT(\"'\"&$F18&\"'!f7\")),\"\")","v":""},{"$f":"IFERROR(IF(INDIRECT(\"'\"&$F18&\"'!h5\")=\"\",\"\",INDIRECT(\"'\"&$F18&\"'!h5\")),\"\")","v":""},{"$f":"IFERROR(LEFT(INDIRECT(\"'\"&$E18&\"'!c38\"),4),\"\")","v":""},{"$f":"IFERROR(LEFT(INDIRECT(\"'\"&$E18&\"'!c39\"),4),\"\")","v":""},{"$f":"IFERROR(LEFT(INDIRECT(\"'\"&$E18&\"'!c40\"),4),\"\")","v":""},{"$f":"IFERROR(LEFT(INDIRECT(\"'\"&$E18&\"'!c41\"),4),\"\")","v":""},{"$f":"IFERROR(LEFT(INDIRECT(\"'\"&$E18&\"'!c42\"),4),\"\")","v":""},{"$f":"IFERROR(LEFT(INDIRECT(\"'\"&$E18&\"'!c43\"),4),\"\")","v":""},{"$f":"IFERROR(LEFT(INDIRECT(\"'\"&$E18&\"'!c44\"),4),\"\")","v":""},{"$f":"IFERROR(LEFT(INDIRECT(\"'\"&$E18&\"'!c45\"),4),\"\")","v":""},{"$f":"IFERROR(LEFT(INDIRECT(\"'\"&$E18&\"'!c46\"),4),\"\")","v":""},{"$f":"IFERROR(LEFT(INDIRECT(\"'\"&$E18&\"'!c47\"),4),\"\")","v":""}]
[null,"",{"$f":"IFERROR(INDEX(MID(SheetNames,FIND(\"]\",SheetNames)+1,100),ROW(C13),1),\"\")","v":"Aonad 11"},{"$f":"IFERROR(IF(AND(INDIRECT(\"'\"&$C19&\"'!c4\")='Data Set'!$D$4,INDIRECT(\"'\"&$C19&\"'!f5\")=\"Sea\"),C19,\"\"),\"\")","v":""},{"$f":"IFERROR(INDEX($D$8:$D$57,MATCH(0,COUNTIF($E$7:E18,$D$8:$D$57&\"\")+IF($D$8:$D$57=\"\",1,0), 0)),\"\")","v":""},"",{"$f":"IFERROR(IF(INDIRECT(\"'\"&$F19&\"'!c7\")=\"\",\"\",INDIRECT(\"'\"&$F19&\"'!c7\")),\"\")","v":""},{"$f":"IFERROR(IF(INDIRECT(\"'\"&$F19&\"'!e7\")=\"\",\"\",INDIRECT(\"'\"&$F19&\"'!e7\")),\"\")","v":""},{"$f":"IFERROR(IF(INDIRECT(\"'\"&$F19&\"'!f7\")=\"\",\"\",INDIRECT(\"'\"&$F19&\"'!f7\")),\"\")","v":""},{"$f":"IFERROR(IF(INDIRECT(\"'\"&$F19&\"'!h5\")=\"\",\"\",INDIRECT(\"'\"&$F19&\"'!h5\")),\"\")","v":""},{"$f":"IFERROR(LEFT(INDIRECT(\"'\"&$E19&\"'!c38\"),4),\"\")","v":""},{"$f":"IFERROR(LEFT(INDIRECT(\"'\"&$E19&\"'!c39\"),4),\"\")","v":""},{"$f":"IFERROR(LEFT(INDIRECT(\"'\"&$E19&\"'!c40\"),4),\"\")","v":""},{"$f":"IFERROR(LEFT(INDIRECT(\"'\"&$E19&\"'!c41\"),4),\"\")","v":""},{"$f":"IFERROR(LEFT(INDIRECT(\"'\"&$E19&\"'!c42\"),4),\"\")","v":""},{"$f":"IFERROR(LEFT(INDIRECT(\"'\"&$E19&\"'!c43\"),4),\"\")","v":""},{"$f":"IFERROR(LEFT(INDIRECT(\"'\"&$E19&\"'!c44\"),4),\"\")","v":""},{"$f":"IFERROR(LEFT(INDIRECT(\"'\"&$E19&\"'!c45\"),4),\"\")","v":""},{"$f":"IFERROR(LEFT(INDIRECT(\"'\"&$E19&\"'!c46\"),4),\"\")","v":""},{"$f":"IFERROR(LEFT(INDIRECT(\"'\"&$E19&\"'!c47\"),4),\"\")","v":""}]
[null,"",{"$f":"IFERROR(INDEX(MID(SheetNames,FIND(\"]\",SheetNames)+1,100),ROW(C14),1),\"\")","v":"Aonad 12"},{"$f":"IFERROR(IF(AND(INDIRECT(\"'\"&$C20&\"'!c4\")='Data Set'!$D$4,INDIRECT(\"'\"&$C20&\"'!f5\")=\"Sea\"),C20,\"\"),\"\")","v":""},{"$f":"IFERROR(INDEX($D$8:$D$57,MATCH(0,COUNTIF($E$7:E19,$D$8:$D$57&\"\")+IF($D$8:$D$57=\"\",1,0), 0)),\"\")","v":""},"",{"$f":"IFERROR(IF(INDIRECT(\"'\"&$F20&\"'!c7\")=\"\",\"\",INDIRECT(\"'\"&$F20&\"'!c7\")),\"\")","v":""},{"$f":"IFERROR(IF(INDIRECT(\"'\"&$F20&\"'!e7\")=\"\",\"\",INDIRECT(\"'\"&$F20&\"'!e7\")),\"\")","v":""},{"$f":"IFERROR(IF(INDIRECT(\"'\"&$F20&\"'!f7\")=\"\",\"\",INDIRECT(\"'\"&$F20&\"'!f7\")),\"\")","v":""},{"$f":"IFERROR(IF(INDIRECT(\"'\"&$F20&\"'!h5\")=\"\",\"\",INDIRECT(\"'\"&$F20&\"'!h5\")),\"\")","v":""},{"$f":"IFERROR(LEFT(INDIRECT(\"'\"&$E20&\"'!c38\"),4),\"\")","v":""},{"$f":"IFERROR(LEFT(INDIRECT(\"'\"&$E20&\"'!c39\"),4),\"\")","v":""},{"$f":"IFERROR(LEFT(INDIRECT(\"'\"&$E20&\"'!c40\"),4),\"\")","v":""},{"$f":"IFERROR(LEFT(INDIRECT(\"'\"&$E20&\"'!c41\"),4),\"\")","v":""},{"$f":"IFERROR(LEFT(INDIRECT(\"'\"&$E20&\"'!c42\"),4),\"\")","v":""},{"$f":"IFERROR(LEFT(INDIRECT(\"'\"&$E20&\"'!c43\"),4),\"\")","v":""},{"$f":"IFERROR(LEFT(INDIRECT(\"'\"&$E20&\"'!c44\"),4),\"\")","v":""},{"$f":"IFERROR(LEFT(INDIRECT(\"'\"&$E20&\"'!c45\"),4),\"\")","v":""},{"$f":"IFERROR(LEFT(INDIRECT(\"'\"&$E20&\"'!c46\"),4),\"\")","v":""},{"$f":"IFERROR(LEFT(INDIRECT(\"'\"&$E20&\"'!c47\"),4),\"\")","v":""}]
[null,"",{"$f":"IFERROR(INDEX(MID(SheetNames,FIND(\"]\",SheetNames)+1,100),ROW(C15),1),\"\")","v":"Aonad 13"},{"$f":"IFERROR(IF(AND(INDIRECT(\"'\"&$C21&\"'!c4\")='Data Set'!$D$4,INDIRECT(\"'\"&$C21&\"'!f5\")=\"Sea\"),C21,\"\"),\"\")","v":""},{"$f":"IFERROR(INDEX($D$8:$D$57,MATCH(0,COUNTIF($E$7:E20,$D$8:$D$57&\"\")+IF($D$8:$D$57=\"\",1,0), 0)),\"\")","v":""},"",{"$f":"IFERROR(IF(INDIRECT(\"'\"&$F21&\"'!c7\")=\"\",\"\",INDIRECT(\"'\"&$F21&\"'!c7\")),\"\")","v":""},{"$f":"IFERROR(IF(INDIRECT(\"'\"&$F21&\"'!e7\")=\"\",\"\",INDIRECT(\"'\"&$F21&\"'!e7\")),\"\")","v":""},{"$f":"IFERROR(IF(INDIRECT(\"'\"&$F21&\"'!f7\")=\"\",\"\",INDIRECT(\"'\"&$F21&\"'!f7\")),\"\")","v":""},{"$f":"IFERROR(IF(INDIRECT(\"'\"&$F21&\"'!h5\")=\"\",\"\",INDIRECT(\"'\"&$F21&\"'!h5\")),\"\")","v":""},{"$f":"IFERROR(LEFT(INDIRECT(\"'\"&$E21&\"'!c38\"),4),\"\")","v":""},{"$f":"IFERROR(LEFT(INDIRECT(\"'\"&$E21&\"'!c39\"),4),\"\")","v":""},{"$f":"IFERROR(LEFT(INDIRECT(\"'\"&$E21&\"'!c40\"),4),\"\")","v":""},{"$f":"IFERROR(LEFT(INDIRECT(\"'\"&$E21&\"'!c41\"),4),\"\")","v":""},{"$f":"IFERROR(LEFT(INDIRECT(\"'\"&$E21&\"'!c42\"),4),\"\")","v":""},{"$f":"IFERROR(LEFT(INDIRECT(\"'\"&$E21&\"'!c43\"),4),\"\")","v":""},{"$f":"IFERROR(LEFT(INDIRECT(\"'\"&$E21&\"'!c44\"),4),\"\")","v":""},{"$f":"IFERROR(LEFT(INDIRECT(\"'\"&$E21&\"'!c45\"),4),\"\")","v":""},{"$f":"IFERROR(LEFT(INDIRECT(\"'\"&$E21&\"'!c46\"),4),\"\")","v":""},{"$f":"IFERROR(LEFT(INDIRECT(\"'\"&$E21&\"'!c47\"),4),\"\")","v":""}]
[null,"",{"$f":"IFERROR(INDEX(MID(SheetNames,FIND(\"]\",SheetNames)+1,100),ROW(C16),1),\"\")","v":"Aonad 14"},{"$f":"IFERROR(IF(AND(INDIRECT(\"'\"&$C22&\"'!c4\")='Data Set'!$D$4,INDIRECT(\"'\"&$C22&\"'!f5\")=\"Sea\"),C22,\"\"),\"\")","v":""},{"$f":"IFERROR(INDEX($D$8:$D$57,MATCH(0,COUNTIF($E$7:E21,$D$8:$D$57&\"\")+IF($D$8:$D$57=\"\",1,0), 0)),\"\")","v":""},"",{"$f":"IFERROR(IF(INDIRECT(\"'\"&$F22&\"'!c7\")=\"\",\"\",INDIRECT(\"'\"&$F22&\"'!c7\")),\"\")","v":""},{"$f":"IFERROR(IF(INDIRECT(\"'\"&$F22&\"'!e7\")=\"\",\"\",INDIRECT(\"'\"&$F22&\"'!e7\")),\"\")","v":""},{"$f":"IFERROR(IF(INDIRECT(\"'\"&$F22&\"'!f7\")=\"\",\"\",INDIRECT(\"'\"&$F22&\"'!f7\")),\"\")","v":""},{"$f":"IFERROR(IF(INDIRECT(\"'\"&$F22&\"'!h5\")=\"\",\"\",INDIRECT(\"'\"&$F22&\"'!h5\")),\"\")","v":""},{"$f":"IFERROR(LEFT(INDIRECT(\"'\"&$E22&\"'!c38\"),4),\"\")","v":""},{"$f":"IFERROR(LEFT(INDIRECT(\"'\"&$E22&\"'!c39\"),4),\"\")","v":""},{"$f":"IFERROR(LEFT(INDIRECT(\"'\"&$E22&\"'!c40\"),4),\"\")","v":""},{"$f":"IFERROR(LEFT(INDIRECT(\"'\"&$E22&\"'!c41\"),4),\"\")","v":""},{"$f":"IFERROR(LEFT(INDIRECT(\"'\"&$E22&\"'!c42\"),4),\"\")","v":""},{"$f":"IFERROR(LEFT(INDIRECT(\"'\"&$E22&\"'!c43\"),4),\"\")","v":""},{"$f":"IFERROR(LEFT(INDIRECT(\"'\"&$E22&\"'!c44\"),4),\"\")","v":""},{"$f":"IFERROR(LEFT(INDIRECT(\"'\"&$E22&\"'!c45\"),4),\"\")","v":""},{"$f":"IFERROR(LEFT(INDIRECT(\"'\"&$E22&\"'!c46\"),4),\"\")","v":""},{"$f":"IFERROR(LEFT(INDIRECT(\"'\"&$E22&\"'!c47\"),4),\"\")","v":""}]
[null,"",{"$f":"IFERROR(INDEX(MID(SheetNames,FIND(\"]\",SheetNames)+1,100),ROW(C17),1),\"\")","v":"Aonad 15"},{"$f":"IFERROR(IF(AND(INDIRECT(\"'\"&$C23&\"'!c4\")='Data Set'!$D$4,INDIRECT(\"'\"&$C23&\"'!f5\")=\"Sea\"),C23,\"\"),\"\")","v":""},{"$f":"IFERROR(INDEX($D$8:$D$57,MATCH(0,COUNTIF($E$7:E22,$D$8:$D$57&\"\")+IF($D$8:$D$57=\"\",1,0), 0)),\"\")","v":""},"",{"$f":"IFERROR(IF(INDIRECT(\"'\"&$F23&\"'!c7\")=\"\",\"\",INDIRECT(\"'\"&$F23&\"'!c7\")),\"\")","v":""},{"$f":"IFERROR(IF(INDIRECT(\"'\"&$F23&\"'!e7\")=\"\",\"\",INDIRECT(\"'\"&$F23&\"'!e7\")),\"\")","v":""},{"$f":"IFERROR(IF(INDIRECT(\"'\"&$F23&\"'!f7\")=\"\",\"\",INDIRECT(\"'\"&$F23&\"'!f7\")),\"\")","v":""},{"$f":"IFERROR(IF(INDIRECT(\"'\"&$F23&\"'!h5\")=\"\",\"\",INDIRECT(\"'\"&$F23&\"'!h5\")),\"\")","v":""},{"$f":"IFERROR(LEFT(INDIRECT(\"'\"&$E23&\"'!c38\"),4),\"\")","v":""},{"$f":"IFERROR(LEFT(INDIRECT(\"'\"&$E23&\"'!c39\"),4),\"\")","v":""},{"$f":"IFERROR(LEFT(INDIRECT(\"'\"&$E23&\"'!c40\"),4),\"\")","v":""},{"$f":"IFERROR(LEFT(INDIRECT(\"'\"&$E23&\"'!c41\"),4),\"\")","v":""},{"$f":"IFERROR(LEFT(INDIRECT(\"'\"&$E23&\"'!c42\"),4),\"\")","v":""},{"$f":"IFERROR(LEFT(INDIRECT(\"'\"&$E23&\"'!c43\"),4),\"\")","v":""},{"$f":"IFERROR(LEFT(INDIRECT(\"'\"&$E23&\"'!c44\"),4),\"\")","v":""},{"$f":"IFERROR(LEFT(INDIRECT(\"'\"&$E23&\"'!c45\"),4),\"\")","v":""},{"$f":"IFERROR(LEFT(INDIRECT(\"'\"&$E23&\"'!c46\"),4),\"\")","v":""},{"$f":"IFERROR(LEFT(INDIRECT(\"'\"&$E23&\"'!c47\"),4),\"\")","v":""}]
[null,"",{"$f":"IFERROR(INDEX(MID(SheetNames,FIND(\"]\",SheetNames)+1,100),ROW(C18),1),\"\")","v":"Aonad 16"},{"$f":"IFERROR(IF(AND(INDIRECT(\"'\"&$C24&\"'!c4\")='Data Set'!$D$4,INDIRECT(\"'\"&$C24&\"'!f5\")=\"Sea\"),C24,\"\"),\"\")","v":""},{"$f":"IFERROR(INDEX($D$8:$D$57,MATCH(0,COUNTIF($E$7:E23,$D$8:$D$57&\"\")+IF($D$8:$D$57=\"\",1,0), 0)),\"\")","v":""},"",{"$f":"IFERROR(IF(INDIRECT(\"'\"&$F24&\"'!c7\")=\"\",\"\",INDIRECT(\"'\"&$F24&\"'!c7\")),\"\")","v":""},{"$f":"IFERROR(IF(INDIRECT(\"'\"&$F24&\"'!e7\")=\"\",\"\",INDIRECT(\"'\"&$F24&\"'!e7\")),\"\")","v":""},{"$f":"IFERROR(IF(INDIRECT(\"'\"&$F24&\"'!f7\")=\"\",\"\",INDIRECT(\"'\"&$F24&\"'!f7\")),\"\")","v":""},{"$f":"IFERROR(IF(INDIRECT(\"'\"&$F24&\"'!h5\")=\"\",\"\",INDIRECT(\"'\"&$F24&\"'!h5\")),\"\")","v":""},{"$f":"IFERROR(LEFT(INDIRECT(\"'\"&$E24&\"'!c38\"),4),\"\")","v":""},{"$f":"IFERROR(LEFT(INDIRECT(\"'\"&$E24&\"'!c39\"),4),\"\")","v":""},{"$f":"IFERROR(LEFT(INDIRECT(\"'\"&$E24&\"'!c40\"),4),\"\")","v":""},{"$f":"IFERROR(LEFT(INDIRECT(\"'\"&$E24&\"'!c41\"),4),\"\")","v":""},{"$f":"IFERROR(LEFT(INDIRECT(\"'\"&$E24&\"'!c42\"),4),\"\")","v":""},{"$f":"IFERROR(LEFT(INDIRECT(\"'\"&$E24&\"'!c43\"),4),\"\")","v":""},{"$f":"IFERROR(LEFT(INDIRECT(\"'\"&$E24&\"'!c44\"),4),\"\")","v":""},{"$f":"IFERROR(LEFT(INDIRECT(\"'\"&$E24&\"'!c45\"),4),\"\")","v":""},{"$f":"IFERROR(LEFT(INDIRECT(\"'\"&$E24&\"'!c46\"),4),\"\")","v":""},{"$f":"IFERROR(LEFT(INDIRECT(\"'\"&$E24&\"'!c47\"),4),\"\")","v":""}]
[null,"",{"$f":"IFERROR(INDEX(MID(SheetNames,FIND(\"]\",SheetNames)+1,100),ROW(C19),1),\"\")","v":"Aonad 17"},{"$f":"IFERROR(IF(AND(INDIRECT(\"'\"&$C25&\"'!c4\")='Data Set'!$D$4,INDIRECT(\"'\"&$C25&\"'!f5\")=\"Sea\"),C25,\"\"),\"\")","v":""},{"$f":"IFERROR(INDEX($D$8:$D$57,MATCH(0,COUNTIF($E$7:E24,$D$8:$D$57&\"\")+IF($D$8:$D$57=\"\",1,0), 0)),\"\")","v":""},"",{"$f":"IFERROR(IF(INDIRECT(\"'\"&$F25&\"'!c7\")=\"\",\"\",INDIRECT(\"'\"&$F25&\"'!c7\")),\"\")","v":""},{"$f":"IFERROR(IF(INDIRECT(\"'\"&$F25&\"'!e7\")=\"\",\"\",INDIRECT(\"'\"&$F25&\"'!e7\")),\"\")","v":""},{"$f":"IFERROR(IF(INDIRECT(\"'\"&$F25&\"'!f7\")=\"\",\"\",INDIRECT(\"'\"&$F25&\"'!f7\")),\"\")","v":""},{"$f":"IFERROR(IF(INDIRECT(\"'\"&$F25&\"'!h5\")=\"\",\"\",INDIRECT(\"'\"&$F25&\"'!h5\")),\"\")","v":""},{"$f":"IFERROR(LEFT(INDIRECT(\"'\"&$E25&\"'!c38\"),4),\"\")","v":""},{"$f":"IFERROR(LEFT(INDIRECT(\"'\"&$E25&\"'!c39\"),4),\"\")","v":""},{"$f":"IFERROR(LEFT(INDIRECT(\"'\"&$E25&\"'!c40\"),4),\"\")","v":""},{"$f":"IFERROR(LEFT(INDIRECT(\"'\"&$E25&\"'!c41\"),4),\"\")","v":""},{"$f":"IFERROR(LEFT(INDIRECT(\"'\"&$E25&\"'!c42\"),4),\"\")","v":""},{"$f":"IFERROR(LEFT(INDIRECT(\"'\"&$E25&\"'!c43\"),4),\"\")","v":""},{"$f":"IFERROR(LEFT(INDIRECT(\"'\"&$E25&\"'!c44\"),4),\"\")","v":""},{"$f":"IFERROR(LEFT(INDIRECT(\"'\"&$E25&\"'!c45\"),4),\"\")","v":""},{"$f":"IFERROR(LEFT(INDIRECT(\"'\"&$E25&\"'!c46\"),4),\"\")","v":""},{"$f":"IFERROR(LEFT(INDIRECT(\"'\"&$E25&\"'!c47\"),4),\"\")","v":""}]
[null,"",{"$f":"IFERROR(INDEX(MID(SheetNames,FIND(\"]\",SheetNames)+1,100),ROW(C20),1),\"\")","v":"Aonad 18"},{"$f":"IFERROR(IF(AND(INDIRECT(\"'\"&$C26&\"'!c4\")='Data Set'!$D$4,INDIRECT(\"'\"&$C26&\"'!f5\")=\"Sea\"),C26,\"\"),\"\")","v":""},{"$f":"IFERROR(INDEX($D$8:$D$57,MATCH(0,COUNTIF($E$7:E25,$D$8:$D$57&\"\")+IF($D$8:$D$57=\"\",1,0), 0)),\"\")","v":""},"",{"$f":"IFERROR(IF(INDIRECT(\"'\"&$F26&\"'!c7\")=\"\",\"\",INDIRECT(\"'\"&$F26&\"'!c7\")),\"\")","v":""},{"$f":"IFERROR(IF(INDIRECT(\"'\"&$F26&\"'!e7\")=\"\",\"\",INDIRECT(\"'\"&$F26&\"'!e7\")),\"\")","v":""},{"$f":"IFERROR(IF(INDIRECT(\"'\"&$F26&\"'!f7\")=\"\",\"\",INDIRECT(\"'\"&$F26&\"'!f7\")),\"\")","v":""},{"$f":"IFERROR(IF(INDIRECT(\"'\"&$F26&\"'!h5\")=\"\",\"\",INDIRECT(\"'\"&$F26&\"'!h5\")),\"\")","v":""},{"$f":"IFERROR(LEFT(INDIRECT(\"'\"&$E26&\"'!c38\"),4),\"\")","v":""},{"$f":"IFERROR(LEFT(INDIRECT(\"'\"&$E26&\"'!c39\"),4),\"\")","v":""},{"$f":"IFERROR(LEFT(INDIRECT(\"'\"&$E26&\"'!c40\"),4),\"\")","v":""},{"$f":"IFERROR(LEFT(INDIRECT(\"'\"&$E26&\"'!c41\"),4),\"\")","v":""},{"$f":"IFERROR(LEFT(INDIRECT(\"'\"&$E26&\"'!c42\"),4),\"\")","v":""},{"$f":"IFERROR(LEFT(INDIRECT(\"'\"&$E26&\"'!c43\"),4),\"\")","v":""},{"$f":"IFERROR(LEFT(INDIRECT(\"'\"&$E26&\"'!c44\"),4),\"\")","v":""},{"$f":"IFERROR(LEFT(INDIRECT(\"'\"&$E26&\"'!c45\"),4),\"\")","v":""},{"$f":"IFERROR(LEFT(INDIRECT(\"'\"&$E26&\"'!c46\"),4),\"\")","v":""},{"$f":"IFERROR(LEFT(INDIRECT(\"'\"&$E26&\"'!c47\"),4),\"\")","v":""}]
[null,"",{"$f":"IFERROR(INDEX(MID(SheetNames,FIND(\"]\",SheetNames)+1,100),ROW(C21),1),\"\")","v":"Aonad 19"},{"$f":"IFERROR(IF(AND(INDIRECT(\"'\"&$C27&\"'!c4\")='Data Set'!$D$4,INDIRECT(\"'\"&$C27&\"'!f5\")=\"Sea\"),C27,\"\"),\"\")","v":""},{"$f":"IFERROR(INDEX($D$8:$D$57,MATCH(0,COUNTIF($E$7:E26,$D$8:$D$57&\"\")+IF($D$8:$D$57=\"\",1,0), 0)),\"\")","v":""},"",{"$f":"IFERROR(IF(INDIRECT(\"'\"&$F27&\"'!c7\")=\"\",\"\",INDIRECT(\"'\"&$F27&\"'!c7\")),\"\")","v":""},{"$f":"IFERROR(IF(INDIRECT(\"'\"&$F27&\"'!e7\")=\"\",\"\",INDIRECT(\"'\"&$F27&\"'!e7\")),\"\")","v":""},{"$f":"IFERROR(IF(INDIRECT(\"'\"&$F27&\"'!f7\")=\"\",\"\",INDIRECT(\"'\"&$F27&\"'!f7\")),\"\")","v":""},{"$f":"IFERROR(IF(INDIRECT(\"'\"&$F27&\"'!h5\")=\"\",\"\",INDIRECT(\"'\"&$F27&\"'!h5\")),\"\")","v":""},{"$f":"IFERROR(LEFT(INDIRECT(\"'\"&$E27&\"'!c38\"),4),\"\")","v":""},{"$f":"IFERROR(LEFT(INDIRECT(\"'\"&$E27&\"'!c39\"),4),\"\")","v":""},{"$f":"IFERROR(LEFT(INDIRECT(\"'\"&$E27&\"'!c40\"),4),\"\")","v":""},{"$f":"IFERROR(LEFT(INDIRECT(\"'\"&$E27&\"'!c41\"),4),\"\")","v":""},{"$f":"IFERROR(LEFT(INDIRECT(\"'\"&$E27&\"'!c42\"),4),\"\")","v":""},{"$f":"IFERROR(LEFT(INDIRECT(\"'\"&$E27&\"'!c43\"),4),\"\")","v":""},{"$f":"IFERROR(LEFT(INDIRECT(\"'\"&$E27&\"'!c44\"),4),\"\")","v":""},{"$f":"IFERROR(LEFT(INDIRECT(\"'\"&$E27&\"'!c45\"),4),\"\")","v":""},{"$f":"IFERROR(LEFT(INDIRECT(\"'\"&$E27&\"'!c46\"),4),\"\")","v":""},{"$f":"IFERROR(LEFT(INDIRECT(\"'\"&$E27&\"'!c47\"),4),\"\")","v":""}]
[null,"",{"$f":"IFERROR(INDEX(MID(SheetNames,FIND(\"]\",SheetNames)+1,100),ROW(C22),1),\"\")","v":"Aonad 20"},{"$f":"IFERROR(IF(AND(INDIRECT(\"'\"&$C28&\"'!c4\")='Data Set'!$D$4,INDIRECT(\"'\"&$C28&\"'!f5\")=\"Sea\"),C28,\"\"),\"\")","v":""},{"$f":"IFERROR(INDEX($D$8:$D$57,MATCH(0,COUNTIF($E$7:E27,$D$8:$D$57&\"\")+IF($D$8:$D$57=\"\",1,0), 0)),\"\")","v":""},"",{"$f":"IFERROR(IF(INDIRECT(\"'\"&$F28&\"'!c7\")=\"\",\"\",INDIRECT(\"'\"&$F28&\"'!c7\")),\"\")","v":""},{"$f":"IFERROR(IF(INDIRECT(\"'\"&$F28&\"'!e7\")=\"\",\"\",INDIRECT(\"'\"&$F28&\"'!e7\")),\"\")","v":""},{"$f":"IFERROR(IF(INDIRECT(\"'\"&$F28&\"'!f7\")=\"\",\"\",INDIRECT(\"'\"&$F28&\"'!f7\")),\"\")","v":""},{"$f":"IFERROR(IF(INDIRECT(\"'\"&$F28&\"'!h5\")=\"\",\"\",INDIRECT(\"'\"&$F28&\"'!h5\")),\"\")","v":""},{"$f":"IFERROR(LEFT(INDIRECT(\"'\"&$E28&\"'!c38\"),4),\"\")","v":""},{"$f":"IFERROR(LEFT(INDIRECT(\"'\"&$E28&\"'!c39\"),4),\"\")","v":""},{"$f":"IFERROR(LEFT(INDIRECT(\"'\"&$E28&\"'!c40\"),4),\"\")","v":""},{"$f":"IFERROR(LEFT(INDIRECT(\"'\"&$E28&\"'!c41\"),4),\"\")","v":""},{"$f":"IFERROR(LEFT(INDIRECT(\"'\"&$E28&\"'!c42\"),4),\"\")","v":""},{"$f":"IFERROR(LEFT(INDIRECT(\"'\"&$E28&\"'!c43\"),4),\"\")","v":""},{"$f":"IFERROR(LEFT(INDIRECT(\"'\"&$E28&\"'!c44\"),4),\"\")","v":""},{"$f":"IFERROR(LEFT(INDIRECT(\"'\"&$E28&\"'!c45\"),4),\"\")","v":""},{"$f":"IFERROR(LEFT(INDIRECT(\"'\"&$E28&\"'!c46\"),4),\"\")","v":""},{"$f":"IFERROR(LEFT(INDIRECT(\"'\"&$E28&\"'!c47\"),4),\"\")","v":""}]
[null,"",{"$f":"IFERROR(INDEX(MID(SheetNames,FIND(\"]\",SheetNames)+1,100),ROW(C23),1),\"\")","v":"Aonad 21"},{"$f":"IFERROR(IF(AND(INDIRECT(\"'\"&$C29&\"'!c4\")='Data Set'!$D$4,INDIRECT(\"'\"&$C29&\"'!f5\")=\"Sea\"),C29,\"\"),\"\")","v":""},{"$f":"IFERROR(INDEX($D$8:$D$57,MATCH(0,COUNTIF($E$7:E28,$D$8:$D$57&\"\")+IF($D$8:$D$57=\"\",1,0), 0)),\"\")","v":""},"",{"$f":"IFERROR(IF(INDIRECT(\"'\"&$F29&\"'!c7\")=\"\",\"\",INDIRECT(\"'\"&$F29&\"'!c7\")),\"\")","v":""},{"$f":"IFERROR(IF(INDIRECT(\"'\"&$F29&\"'!e7\")=\"\",\"\",INDIRECT(\"'\"&$F29&\"'!e7\")),\"\")","v":""},{"$f":"IFERROR(IF(INDIRECT(\"'\"&$F29&\"'!f7\")=\"\",\"\",INDIRECT(\"'\"&$F29&\"'!f7\")),\"\")","v":""},{"$f":"IFERROR(IF(INDIRECT(\"'\"&$F29&\"'!h5\")=\"\",\"\",INDIRECT(\"'\"&$F29&\"'!h5\")),\"\")","v":""},{"$f":"IFERROR(LEFT(INDIRECT(\"'\"&$E29&\"'!c38\"),4),\"\")","v":""},{"$f":"IFERROR(LEFT(INDIRECT(\"'\"&$E29&\"'!c39\"),4),\"\")","v":""},{"$f":"IFERROR(LEFT(INDIRECT(\"'\"&$E29&\"'!c40\"),4),\"\")","v":""},{"$f":"IFERROR(LEFT(INDIRECT(\"'\"&$E29&\"'!c41\"),4),\"\")","v":""},{"$f":"IFERROR(LEFT(INDIRECT(\"'\"&$E29&\"'!c42\"),4),\"\")","v":""},{"$f":"IFERROR(LEFT(INDIRECT(\"'\"&$E29&\"'!c43\"),4),\"\")","v":""},{"$f":"IFERROR(LEFT(INDIRECT(\"'\"&$E29&\"'!c44\"),4),\"\")","v":""},{"$f":"IFERROR(LEFT(INDIRECT(\"'\"&$E29&\"'!c45\"),4),\"\")","v":""},{"$f":"IFERROR(LEFT(INDIRECT(\"'\"&$E29&\"'!c46\"),4),\"\")","v":""},{"$f":"IFERROR(LEFT(INDIRECT(\"'\"&$E29&\"'!c47\"),4),\"\")","v":""}]
[null,"",{"$f":"IFERROR(INDEX(MID(SheetNames,FIND(\"]\",SheetNames)+1,100),ROW(C24),1),\"\")","v":"Aonad 22"},{"$f":"IFERROR(IF(AND(INDIRECT(\"'\"&$C30&\"'!c4\")='Data Set'!$D$4,INDIRECT(\"'\"&$C30&\"'!f5\")=\"Sea\"),C30,\"\"),\"\")","v":""},{"$f":"IFERROR(INDEX($D$8:$D$57,MATCH(0,COUNTIF($E$7:E29,$D$8:$D$57&\"\")+IF($D$8:$D$57=\"\",1,0), 0)),\"\")","v":""},"",{"$f":"IFERROR(IF(INDIRECT(\"'\"&$F30&\"'!c7\")=\"\",\"\",INDIRECT(\"'\"&$F30&\"'!c7\")),\"\")","v":""},{"$f":"IFERROR(IF(INDIRECT(\"'\"&$F30&\"'!e7\")=\"\",\"\",INDIRECT(\"'\"&$F30&\"'!e7\")),\"\")","v":""},{"$f":"IFERROR(IF(INDIRECT(\"'\"&$F30&\"'!f7\")=\"\",\"\",INDIRECT(\"'\"&$F30&\"'!f7\")),\"\")","v":""},{"$f":"IFERROR(IF(INDIRECT(\"'\"&$F30&\"'!h5\")=\"\",\"\",INDIRECT(\"'\"&$F30&\"'!h5\")),\"\")","v":""},{"$f":"IFERROR(LEFT(INDIRECT(\"'\"&$E30&\"'!c38\"),4),\"\")","v":""},{"$f":"IFERROR(LEFT(INDIRECT(\"'\"&$E30&\"'!c39\"),4),\"\")","v":""},{"$f":"IFERROR(LEFT(INDIRECT(\"'\"&$E30&\"'!c40\"),4),\"\")","v":""},{"$f":"IFERROR(LEFT(INDIRECT(\"'\"&$E30&\"'!c41\"),4),\"\")","v":""},{"$f":"IFERROR(LEFT(INDIRECT(\"'\"&$E30&\"'!c42\"),4),\"\")","v":""},{"$f":"IFERROR(LEFT(INDIRECT(\"'\"&$E30&\"'!c43\"),4),\"\")","v":""},{"$f":"IFERROR(LEFT(INDIRECT(\"'\"&$E30&\"'!c44\"),4),\"\")","v":""},{"$f":"IFERROR(LEFT(INDIRECT(\"'\"&$E30&\"'!c45\"),4),\"\")","v":""},{"$f":"IFERROR(LEFT(INDIRECT(\"'\"&$E30&\"'!c46\"),4),\"\")","v":""},{"$f":"IFERROR(LEFT(INDIRECT(\"'\"&$E30&\"'!c47\"),4),\"\")","v":""}]
[null,"",{"$f":"IFERROR(INDEX(MID(SheetNames,FIND(\"]\",SheetNames)+1,100),ROW(C25),1),\"\")","v":"Aonad 23"},{"$f":"IFERROR(IF(AND(INDIRECT(\"'\"&$C31&\"'!c4\")='Data Set'!$D$4,INDIRECT(\"'\"&$C31&\"'!f5\")=\"Sea\"),C31,\"\"),\"\")","v":""},{"$f":"IFERROR(INDEX($D$8:$D$57,MATCH(0,COUNTIF($E$7:E30,$D$8:$D$57&\"\")+IF($D$8:$D$57=\"\",1,0), 0)),\"\")","v":""},"",{"$f":"IFERROR(IF(INDIRECT(\"'\"&$F31&\"'!c7\")=\"\",\"\",INDIRECT(\"'\"&$F31&\"'!c7\")),\"\")","v":""},{"$f":"IFERROR(IF(INDIRECT(\"'\"&$F31&\"'!e7\")=\"\",\"\",INDIRECT(\"'\"&$F31&\"'!e7\")),\"\")","v":""},{"$f":"IFERROR(IF(INDIRECT(\"'\"&$F31&\"'!f7\")=\"\",\"\",INDIRECT(\"'\"&$F31&\"'!f7\")),\"\")","v":""},{"$f":"IFERROR(IF(INDIRECT(\"'\"&$F31&\"'!h5\")=\"\",\"\",INDIRECT(\"'\"&$F31&\"'!h5\")),\"\")","v":""},{"$f":"IFERROR(LEFT(INDIRECT(\"'\"&$E31&\"'!c38\"),4),\"\")","v":""},{"$f":"IFERROR(LEFT(INDIRECT(\"'\"&$E31&\"'!c39\"),4),\"\")","v":""},{"$f":"IFERROR(LEFT(INDIRECT(\"'\"&$E31&\"'!c40\"),4),\"\")","v":""},{"$f":"IFERROR(LEFT(INDIRECT(\"'\"&$E31&\"'!c41\"),4),\"\")","v":""},{"$f":"IFERROR(LEFT(INDIRECT(\"'\"&$E31&\"'!c42\"),4),\"\")","v":""},{"$f":"IFERROR(LEFT(INDIRECT(\"'\"&$E31&\"'!c43\"),4),\"\")","v":""},{"$f":"IFERROR(LEFT(INDIRECT(\"'\"&$E31&\"'!c44\"),4),\"\")","v":""},{"$f":"IFERROR(LEFT(INDIRECT(\"'\"&$E31&\"'!c45\"),4),\"\")","v":""},{"$f":"IFERROR(LEFT(INDIRECT(\"'\"&$E31&\"'!c46\"),4),\"\")","v":""},{"$f":"IFERROR(LEFT(INDIRECT(\"'\"&$E31&\"'!c47\"),4),\"\")","v":""}]
[null,"",{"$f":"IFERROR(INDEX(MID(SheetNames,FIND(\"]\",SheetNames)+1,100),ROW(C26),1),\"\")","v":"Aonad 24"},{"$f":"IFERROR(IF(AND(INDIRECT(\"'\"&$C32&\"'!c4\")='Data Set'!$D$4,INDIRECT(\"'\"&$C32&\"'!f5\")=\"Sea\"),C32,\"\"),\"\")","v":""},{"$f":"IFERROR(INDEX($D$8:$D$57,MATCH(0,COUNTIF($E$7:E31,$D$8:$D$57&\"\")+IF($D$8:$D$57=\"\",1,0), 0)),\"\")","v":""},"",{"$f":"IFERROR(IF(INDIRECT(\"'\"&$F32&\"'!c7\")=\"\",\"\",INDIRECT(\"'\"&$F32&\"'!c7\")),\"\")","v":""},{"$f":"IFERROR(IF(INDIRECT(\"'\"&$F32&\"'!e7\")=\"\",\"\",INDIRECT(\"'\"&$F32&\"'!e7\")),\"\")","v":""},{"$f":"IFERROR(IF(INDIRECT(\"'\"&$F32&\"'!f7\")=\"\",\"\",INDIRECT(\"'\"&$F32&\"'!f7\")),\"\")","v":""},{"$f":"IFERROR(IF(INDIRECT(\"'\"&$F32&\"'!h5\")=\"\",\"\",INDIRECT(\"'\"&$F32&\"'!h5\")),\"\")","v":""},{"$f":"IFERROR(LEFT(INDIRECT(\"'\"&$E32&\"'!c38\"),4),\"\")","v":""},{"$f":"IFERROR(LEFT(INDIRECT(\"'\"&$E32&\"'!c39\"),4),\"\")","v":""},{"$f":"IFERROR(LEFT(INDIRECT(\"'\"&$E32&\"'!c40\"),4),\"\")","v":""},{"$f":"IFERROR(LEFT(INDIRECT(\"'\"&$E32&\"'!c41\"),4),\"\")","v":""},{"$f":"IFERROR(LEFT(INDIRECT(\"'\"&$E32&\"'!c42\"),4),\"\")","v":""},{"$f":"IFERROR(LEFT(INDIRECT(\"'\"&$E32&\"'!c43\"),4),\"\")","v":""},{"$f":"IFERROR(LEFT(INDIRECT(\"'\"&$E32&\"'!c44\"),4),\"\")","v":""},{"$f":"IFERROR(LEFT(INDIRECT(\"'\"&$E32&\"'!c45\"),4),\"\")","v":""},{"$f":"IFERROR(LEFT(INDIRECT(\"'\"&$E32&\"'!c46\"),4),\"\")","v":""},{"$f":"IFERROR(LEFT(INDIRECT(\"'\"&$E32&\"'!c47\"),4),\"\")","v":""}]
[null,"",{"$f":"IFERROR(INDEX(MID(SheetNames,FIND(\"]\",SheetNames)+1,100),ROW(C27),1),\"\")","v":"Aonad 25"},{"$f":"IFERROR(IF(AND(INDIRECT(\"'\"&$C33&\"'!c4\")='Data Set'!$D$4,INDIRECT(\"'\"&$C33&\"'!f5\")=\"Sea\"),C33,\"\"),\"\")","v":""},{"$f":"IFERROR(INDEX($D$8:$D$57,MATCH(0,COUNTIF($E$7:E32,$D$8:$D$57&\"\")+IF($D$8:$D$57=\"\",1,0), 0)),\"\")","v":""},"",{"$f":"IFERROR(IF(INDIRECT(\"'\"&$F33&\"'!c7\")=\"\",\"\",INDIRECT(\"'\"&$F33&\"'!c7\")),\"\")","v":""},{"$f":"IFERROR(IF(INDIRECT(\"'\"&$F33&\"'!e7\")=\"\",\"\",INDIRECT(\"'\"&$F33&\"'!e7\")),\"\")","v":""},{"$f":"IFERROR(IF(INDIRECT(\"'\"&$F33&\"'!f7\")=\"\",\"\",INDIRECT(\"'\"&$F33&\"'!f7\")),\"\")","v":""},{"$f":"IFERROR(IF(INDIRECT(\"'\"&$F33&\"'!h5\")=\"\",\"\",INDIRECT(\"'\"&$F33&\"'!h5\")),\"\")","v":""},{"$f":"IFERROR(LEFT(INDIRECT(\"'\"&$E33&\"'!c38\"),4),\"\")","v":""},{"$f":"IFERROR(LEFT(INDIRECT(\"'\"&$E33&\"'!c39\"),4),\"\")","v":""},{"$f":"IFERROR(LEFT(INDIRECT(\"'\"&$E33&\"'!c40\"),4),\"\")","v":""},{"$f":"IFERROR(LEFT(INDIRECT(\"'\"&$E33&\"'!c41\"),4),\"\")","v":""},{"$f":"IFERROR(LEFT(INDIRECT(\"'\"&$E33&\"'!c42\"),4),\"\")","v":""},{"$f":"IFERROR(LEFT(INDIRECT(\"'\"&$E33&\"'!c43\"),4),\"\")","v":""},{"$f":"IFERROR(LEFT(INDIRECT(\"'\"&$E33&\"'!c44\"),4),\"\")","v":""},{"$f":"IFERROR(LEFT(INDIRECT(\"'\"&$E33&\"'!c45\"),4),\"\")","v":""},{"$f":"IFERROR(LEFT(INDIRECT(\"'\"&$E33&\"'!c46\"),4),\"\")","v":""},{"$f":"IFERROR(LEFT(INDIRECT(\"'\"&$E33&\"'!c47\"),4),\"\")","v":""}]
[null,"",{"$f":"IFERROR(INDEX(MID(SheetNames,FIND(\"]\",SheetNames)+1,100),ROW(C28),1),\"\")","v":"Aonad 26"},{"$f":"IFERROR(IF(AND(INDIRECT(\"'\"&$C34&\"'!c4\")='Data Set'!$D$4,INDIRECT(\"'\"&$C34&\"'!f5\")=\"Sea\"),C34,\"\"),\"\")","v":""},{"$f":"IFERROR(INDEX($D$8:$D$57,MATCH(0,COUNTIF($E$7:E33,$D$8:$D$57&\"\")+IF($D$8:$D$57=\"\",1,0), 0)),\"\")","v":""},"",{"$f":"IFERROR(IF(INDIRECT(\"'\"&$F34&\"'!c7\")=\"\",\"\",INDIRECT(\"'\"&$F34&\"'!c7\")),\"\")","v":""},{"$f":"IFERROR(IF(INDIRECT(\"'\"&$F34&\"'!e7\")=\"\",\"\",INDIRECT(\"'\"&$F34&\"'!e7\")),\"\")","v":""},{"$f":"IFERROR(IF(INDIRECT(\"'\"&$F34&\"'!f7\")=\"\",\"\",INDIRECT(\"'\"&$F34&\"'!f7\")),\"\")","v":""},{"$f":"IFERROR(IF(INDIRECT(\"'\"&$F34&\"'!h5\")=\"\",\"\",INDIRECT(\"'\"&$F34&\"'!h5\")),\"\")","v":""},{"$f":"IFERROR(LEFT(INDIRECT(\"'\"&$E34&\"'!c38\"),4),\"\")","v":""},{"$f":"IFERROR(LEFT(INDIRECT(\"'\"&$E34&\"'!c39\"),4),\"\")","v":""},{"$f":"IFERROR(LEFT(INDIRECT(\"'\"&$E34&\"'!c40\"),4),\"\")","v":""},{"$f":"IFERROR(LEFT(INDIRECT(\"'\"&$E34&\"'!c41\"),4),\"\")","v":""},{"$f":"IFERROR(LEFT(INDIRECT(\"'\"&$E34&\"'!c42\"),4),\"\")","v":""},{"$f":"IFERROR(LEFT(INDIRECT(\"'\"&$E34&\"'!c43\"),4),\"\")","v":""},{"$f":"IFERROR(LEFT(INDIRECT(\"'\"&$E34&\"'!c44\"),4),\"\")","v":""},{"$f":"IFERROR(LEFT(INDIRECT(\"'\"&$E34&\"'!c45\"),4),\"\")","v":""},{"$f":"IFERROR(LEFT(INDIRECT(\"'\"&$E34&\"'!c46\"),4),\"\")","v":""},{"$f":"IFERROR(LEFT(INDIRECT(\"'\"&$E34&\"'!c47\"),4),\"\")","v":""}]
[null,"",{"$f":"IFERROR(INDEX(MID(SheetNames,FIND(\"]\",SheetNames)+1,100),ROW(C29),1),\"\")","v":"Aonad 27"},{"$f":"IFERROR(IF(AND(INDIRECT(\"'\"&$C35&\"'!c4\")='Data Set'!$D$4,INDIRECT(\"'\"&$C35&\"'!f5\")=\"Sea\"),C35,\"\"),\"\")","v":""},{"$f":"IFERROR(INDEX($D$8:$D$57,MATCH(0,COUNTIF($E$7:E34,$D$8:$D$57&\"\")+IF($D$8:$D$57=\"\",1,0), 0)),\"\")","v":""},"",{"$f":"IFERROR(IF(INDIRECT(\"'\"&$F35&\"'!c7\")=\"\",\"\",INDIRECT(\"'\"&$F35&\"'!c7\")),\"\")","v":""},{"$f":"IFERROR(IF(INDIRECT(\"'\"&$F35&\"'!e7\")=\"\",\"\",INDIRECT(\"'\"&$F35&\"'!e7\")),\"\")","v":""},{"$f":"IFERROR(IF(INDIRECT(\"'\"&$F35&\"'!f7\")=\"\",\"\",INDIRECT(\"'\"&$F35&\"'!f7\")),\"\")","v":""},{"$f":"IFERROR(IF(INDIRECT(\"'\"&$F35&\"'!h5\")=\"\",\"\",INDIRECT(\"'\"&$F35&\"'!h5\")),\"\")","v":""},{"$f":"IFERROR(LEFT(INDIRECT(\"'\"&$E35&\"'!c38\"),4),\"\")","v":""},{"$f":"IFERROR(LEFT(INDIRECT(\"'\"&$E35&\"'!c39\"),4),\"\")","v":""},{"$f":"IFERROR(LEFT(INDIRECT(\"'\"&$E35&\"'!c40\"),4),\"\")","v":""},{"$f":"IFERROR(LEFT(INDIRECT(\"'\"&$E35&\"'!c41\"),4),\"\")","v":""},{"$f":"IFERROR(LEFT(INDIRECT(\"'\"&$E35&\"'!c42\"),4),\"\")","v":""},{"$f":"IFERROR(LEFT(INDIRECT(\"'\"&$E35&\"'!c43\"),4),\"\")","v":""},{"$f":"IFERROR(LEFT(INDIRECT(\"'\"&$E35&\"'!c44\"),4),\"\")","v":""},{"$f":"IFERROR(LEFT(INDIRECT(\"'\"&$E35&\"'!c45\"),4),\"\")","v":""},{"$f":"IFERROR(LEFT(INDIRECT(\"'\"&$E35&\"'!c46\"),4),\"\")","v":""},{"$f":"IFERROR(LEFT(INDIRECT(\"'\"&$E35&\"'!c47\"),4),\"\")","v":""}]
[null,"",{"$f":"IFERROR(INDEX(MID(SheetNames,FIND(\"]\",SheetNames)+1,100),ROW(C30),1),\"\")","v":"Aonad 28"},{"$f":"IFERROR(IF(AND(INDIRECT(\"'\"&$C36&\"'!c4\")='Data Set'!$D$4,INDIRECT(\"'\"&$C36&\"'!f5\")=\"Sea\"),C36,\"\"),\"\")","v":""},{"$f":"IFERROR(INDEX($D$8:$D$57,MATCH(0,COUNTIF($E$7:E35,$D$8:$D$57&\"\")+IF($D$8:$D$57=\"\",1,0), 0)),\"\")","v":""},"",{"$f":"IFERROR(IF(INDIRECT(\"'\"&$F36&\"'!c7\")=\"\",\"\",INDIRECT(\"'\"&$F36&\"'!c7\")),\"\")","v":""},{"$f":"IFERROR(IF(INDIRECT(\"'\"&$F36&\"'!e7\")=\"\",\"\",INDIRECT(\"'\"&$F36&\"'!e7\")),\"\")","v":""},{"$f":"IFERROR(IF(INDIRECT(\"'\"&$F36&\"'!f7\")=\"\",\"\",INDIRECT(\"'\"&$F36&\"'!f7\")),\"\")","v":""},{"$f":"IFERROR(IF(INDIRECT(\"'\"&$F36&\"'!h5\")=\"\",\"\",INDIRECT(\"'\"&$F36&\"'!h5\")),\"\")","v":""},{"$f":"IFERROR(LEFT(INDIRECT(\"'\"&$E36&\"'!c38\"),4),\"\")","v":""},{"$f":"IFERROR(LEFT(INDIRECT(\"'\"&$E36&\"'!c39\"),4),\"\")","v":""},{"$f":"IFERROR(LEFT(INDIRECT(\"'\"&$E36&\"'!c40\"),4),\"\")","v":""},{"$f":"IFERROR(LEFT(INDIRECT(\"'\"&$E36&\"'!c41\"),4),\"\")","v":""},{"$f":"IFERROR(LEFT(INDIRECT(\"'\"&$E36&\"'!c42\"),4),\"\")","v":""},{"$f":"IFERROR(LEFT(INDIRECT(\"'\"&$E36&\"'!c43\"),4),\"\")","v":""},{"$f":"IFERROR(LEFT(INDIRECT(\"'\"&$E36&\"'!c44\"),4),\"\")","v":""},{"$f":"IFERROR(LEFT(INDIRECT(\"'\"&$E36&\"'!c45\"),4),\"\")","v":""},{"$f":"IFERROR(LEFT(INDIRECT(\"'\"&$E36&\"'!c46\"),4),\"\")","v":""},{"$f":"IFERROR(LEFT(INDIRECT(\"'\"&$E36&\"'!c47\"),4),\"\")","v":""}]
[null,"",{"$f":"IFERROR(INDEX(MID(SheetNames,FIND(\"]\",SheetNames)+1,100),ROW(C31),1),\"\")","v":"Aonad 29"},{"$f":"IFERROR(IF(AND(INDIRECT(\"'\"&$C37&\"'!c4\")='Data Set'!$D$4,INDIRECT(\"'\"&$C37&\"'!f5\")=\"Sea\"),C37,\"\"),\"\")","v":""},{"$f":"IFERROR(INDEX($D$8:$D$57,MATCH(0,COUNTIF($E$7:E36,$D$8:$D$57&\"\")+IF($D$8:$D$57=\"\",1,0), 0)),\"\")","v":""},"",{"$f":"IFERROR(IF(INDIRECT(\"'\"&$F37&\"'!c7\")=\"\",\"\",INDIRECT(\"'\"&$F37&\"'!c7\")),\"\")","v":""},{"$f":"IFERROR(IF(INDIRECT(\"'\"&$F37&\"'!e7\")=\"\",\"\",INDIRECT(\"'\"&$F37&\"'!e7\")),\"\")","v":""},{"$f":"IFERROR(IF(INDIRECT(\"'\"&$F37&\"'!f7\")=\"\",\"\",INDIRECT(\"'\"&$F37&\"'!f7\")),\"\")","v":""},{"$f":"IFERROR(IF(INDIRECT(\"'\"&$F37&\"'!h5\")=\"\",\"\",INDIRECT(\"'\"&$F37&\"'!h5\")),\"\")","v":""},{"$f":"IFERROR(LEFT(INDIRECT(\"'\"&$E37&\"'!c38\"),4),\"\")","v":""},{"$f":"IFERROR(LEFT(INDIRECT(\"'\"&$E37&\"'!c39\"),4),\"\")","v":""},{"$f":"IFERROR(LEFT(INDIRECT(\"'\"&$E37&\"'!c40\"),4),\"\")","v":""},{"$f":"IFERROR(LEFT(INDIRECT(\"'\"&$E37&\"'!c41\"),4),\"\")","v":""},{"$f":"IFERROR(LEFT(INDIRECT(\"'\"&$E37&\"'!c42\"),4),\"\")","v":""},{"$f":"IFERROR(LEFT(INDIRECT(\"'\"&$E37&\"'!c43\"),4),\"\")","v":""},{"$f":"IFERROR(LEFT(INDIRECT(\"'\"&$E37&\"'!c44\"),4),\"\")","v":""},{"$f":"IFERROR(LEFT(INDIRECT(\"'\"&$E37&\"'!c45\"),4),\"\")","v":""},{"$f":"IFERROR(LEFT(INDIRECT(\"'\"&$E37&\"'!c46\"),4),\"\")","v":""},{"$f":"IFERROR(LEFT(INDIRECT(\"'\"&$E37&\"'!c47\"),4),\"\")","v":""}]
[null,"",{"$f":"IFERROR(INDEX(MID(SheetNames,FIND(\"]\",SheetNames)+1,100),ROW(C32),1),\"\")","v":"Aonad 30"},{"$f":"IFERROR(IF(AND(INDIRECT(\"'\"&$C38&\"'!c4\")='Data Set'!$D$4,INDIRECT(\"'\"&$C38&\"'!f5\")=\"Sea\"),C38,\"\"),\"\")","v":""},{"$f":"IFERROR(INDEX($D$8:$D$57,MATCH(0,COUNTIF($E$7:E37,$D$8:$D$57&\"\")+IF($D$8:$D$57=\"\",1,0), 0)),\"\")","v":""},"",{"$f":"IFERROR(IF(INDIRECT(\"'\"&$F38&\"'!c7\")=\"\",\"\",INDIRECT(\"'\"&$F38&\"'!c7\")),\"\")","v":""},{"$f":"IFERROR(IF(INDIRECT(\"'\"&$F38&\"'!e7\")=\"\",\"\",INDIRECT(\"'\"&$F38&\"'!e7\")),\"\")","v":""},{"$f":"IFERROR(IF(INDIRECT(\"'\"&$F38&\"'!f7\")=\"\",\"\",INDIRECT(\"'\"&$F38&\"'!f7\")),\"\")","v":""},{"$f":"IFERROR(IF(INDIRECT(\"'\"&$F38&\"'!h5\")=\"\",\"\",INDIRECT(\"'\"&$F38&\"'!h5\")),\"\")","v":""},{"$f":"IFERROR(LEFT(INDIRECT(\"'\"&$E38&\"'!c38\"),4),\"\")","v":""},{"$f":"IFERROR(LEFT(INDIRECT(\"'\"&$E38&\"'!c39\"),4),\"\")","v":""},{"$f":"IFERROR(LEFT(INDIRECT(\"'\"&$E38&\"'!c40\"),4),\"\")","v":""},{"$f":"IFERROR(LEFT(INDIRECT(\"'\"&$E38&\"'!c41\"),4),\"\")","v":""},{"$f":"IFERROR(LEFT(INDIRECT(\"'\"&$E38&\"'!c42\"),4),\"\")","v":""},{"$f":"IFERROR(LEFT(INDIRECT(\"'\"&$E38&\"'!c43\"),4),\"\")","v":""},{"$f":"IFERROR(LEFT(INDIRECT(\"'\"&$E38&\"'!c44\"),4),\"\")","v":""},{"$f":"IFERROR(LEFT(INDIRECT(\"'\"&$E38&\"'!c45\"),4),\"\")","v":""},{"$f":"IFERROR(LEFT(INDIRECT(\"'\"&$E38&\"'!c46\"),4),\"\")","v":""},{"$f":"IFERROR(LEFT(INDIRECT(\"'\"&$E38&\"'!c47\"),4),\"\")","v":""}]
[null,"",{"$f":"IFERROR(INDEX(MID(SheetNames,FIND(\"]\",SheetNames)+1,100),ROW(C33),1),\"\")","v":"Aonad 31"},{"$f":"IFERROR(IF(AND(INDIRECT(\"'\"&$C39&\"'!c4\")='Data Set'!$D$4,INDIRECT(\"'\"&$C39&\"'!f5\")=\"Sea\"),C39,\"\"),\"\")","v":""},{"$f":"IFERROR(INDEX($D$8:$D$57,MATCH(0,COUNTIF($E$7:E38,$D$8:$D$57&\"\")+IF($D$8:$D$57=\"\",1,0), 0)),\"\")","v":""},"",{"$f":"IFERROR(IF(INDIRECT(\"'\"&$F39&\"'!c7\")=\"\",\"\",INDIRECT(\"'\"&$F39&\"'!c7\")),\"\")","v":""},{"$f":"IFERROR(IF(INDIRECT(\"'\"&$F39&\"'!e7\")=\"\",\"\",INDIRECT(\"'\"&$F39&\"'!e7\")),\"\")","v":""},{"$f":"IFERROR(IF(INDIRECT(\"'\"&$F39&\"'!f7\")=\"\",\"\",INDIRECT(\"'\"&$F39&\"'!f7\")),\"\")","v":""},{"$f":"IFERROR(IF(INDIRECT(\"'\"&$F39&\"'!h5\")=\"\",\"\",INDIRECT(\"'\"&$F39&\"'!h5\")),\"\")","v":""},{"$f":"IFERROR(LEFT(INDIRECT(\"'\"&$E39&\"'!c38\"),4),\"\")","v":""},{"$f":"IFERROR(LEFT(INDIRECT(\"'\"&$E39&\"'!c39\"),4),\"\")","v":""},{"$f":"IFERROR(LEFT(INDIRECT(\"'\"&$E39&\"'!c40\"),4),\"\")","v":""},{"$f":"IFERROR(LEFT(INDIRECT(\"'\"&$E39&\"'!c41\"),4),\"\")","v":""},{"$f":"IFERROR(LEFT(INDIRECT(\"'\"&$E39&\"'!c42\"),4),\"\")","v":""},{"$f":"IFERROR(LEFT(INDIRECT(\"'\"&$E39&\"'!c43\"),4),\"\")","v":""},{"$f":"IFERROR(LEFT(INDIRECT(\"'\"&$E39&\"'!c44\"),4),\"\")","v":""},{"$f":"IFERROR(LEFT(INDIRECT(\"'\"&$E39&\"'!c45\"),4),\"\")","v":""},{"$f":"IFERROR(LEFT(INDIRECT(\"'\"&$E39&\"'!c46\"),4),\"\")","v":""},{"$f":"IFERROR(LEFT(INDIRECT(\"'\"&$E39&\"'!c47\"),4),\"\")","v":""}]
[null,"",{"$f":"IFERROR(INDEX(MID(SheetNames,FIND(\"]\",SheetNames)+1,100),ROW(C34),1),\"\")","v":"Aonad 32"},{"$f":"IFERROR(IF(AND(INDIRECT(\"'\"&$C40&\"'!c4\")='Data Set'!$D$4,INDIRECT(\"'\"&$C40&\"'!f5\")=\"Sea\"),C40,\"\"),\"\")","v":""},{"$f":"IFERROR(INDEX($D$8:$D$57,MATCH(0,COUNTIF($E$7:E39,$D$8:$D$57&\"\")+IF($D$8:$D$57=\"\",1,0), 0)),\"\")","v":""},"",{"$f":"IFERROR(IF(INDIRECT(\"'\"&$F40&\"'!c7\")=\"\",\"\",INDIRECT(\"'\"&$F40&\"'!c7\")),\"\")","v":""},{"$f":"IFERROR(IF(INDIRECT(\"'\"&$F40&\"'!e7\")=\"\",\"\",INDIRECT(\"'\"&$F40&\"'!e7\")),\"\")","v":""},{"$f":"IFERROR(IF(INDIRECT(\"'\"&$F40&\"'!f7\")=\"\",\"\",INDIRECT(\"'\"&$F40&\"'!f7\")),\"\")","v":""},{"$f":"IFERROR(IF(INDIRECT(\"'\"&$F40&\"'!h5\")=\"\",\"\",INDIRECT(\"'\"&$F40&\"'!h5\")),\"\")","v":""},{"$f":"IFERROR(LEFT(INDIRECT(\"'\"&$E40&\"'!c38\"),4),\"\")","v":""},{"$f":"IFERROR(LEFT(INDIRECT(\"'\"&$E40&\"'!c39\"),4),\"\")","v":""},{"$f":"IFERROR(LEFT(INDIRECT(\"'\"&$E40&\"'!c40\"),4),\"\")","v":""},{"$f":"IFERROR(LEFT(INDIRECT(\"'\"&$E40&\"'!c41\"),4),\"\")","v":""},{"$f":"IFERROR(LEFT(INDIRECT(\"'\"&$E40&\"'!c42\"),4),\"\")","v":""},{"$f":"IFERROR(LEFT(INDIRECT(\"'\"&$E40&\"'!c43\"),4),\"\")","v":""},{"$f":"IFERROR(LEFT(INDIRECT(\"'\"&$E40&\"'!c44\"),4),\"\")","v":""},{"$f":"IFERROR(LEFT(INDIRECT(\"'\"&$E40&\"'!c45\"),4),\"\")","v":""},{"$f":"IFERROR(LEFT(INDIRECT(\"'\"&$E40&\"'!c46\"),4),\"\")","v":""},{"$f":"IFERROR(LEFT(INDIRECT(\"'\"&$E40&\"'!c47\"),4),\"\")","v":""}]
[null,"",{"$f":"IFERROR(INDEX(MID(SheetNames,FIND(\"]\",SheetNames)+1,100),ROW(C35),1),\"\")","v":"Aonad 33"},{"$f":"IFERROR(IF(AND(INDIRECT(\"'\"&$C41&\"'!c4\")='Data Set'!$D$4,INDIRECT(\"'\"&$C41&\"'!f5\")=\"Sea\"),C41,\"\"),\"\")","v":""},{"$f":"IFERROR(INDEX($D$8:$D$57,MATCH(0,COUNTIF($E$7:E40,$D$8:$D$57&\"\")+IF($D$8:$D$57=\"\",1,0), 0)),\"\")","v":""},"",{"$f":"IFERROR(IF(INDIRECT(\"'\"&$F41&\"'!c7\")=\"\",\"\",INDIRECT(\"'\"&$F41&\"'!c7\")),\"\")","v":""},{"$f":"IFERROR(IF(INDIRECT(\"'\"&$F41&\"'!e7\")=\"\",\"\",INDIRECT(\"'\"&$F41&\"'!e7\")),\"\")","v":""},{"$f":"IFERROR(IF(INDIRECT(\"'\"&$F41&\"'!f7\")=\"\",\"\",INDIRECT(\"'\"&$F41&\"'!f7\")),\"\")","v":""},{"$f":"IFERROR(IF(INDIRECT(\"'\"&$F41&\"'!h5\")=\"\",\"\",INDIRECT(\"'\"&$F41&\"'!h5\")),\"\")","v":""},{"$f":"IFERROR(LEFT(INDIRECT(\"'\"&$E41&\"'!c38\"),4),\"\")","v":""},{"$f":"IFERROR(LEFT(INDIRECT(\"'\"&$E41&\"'!c39\"),4),\"\")","v":""},{"$f":"IFERROR(LEFT(INDIRECT(\"'\"&$E41&\"'!c40\"),4),\"\")","v":""},{"$f":"IFERROR(LEFT(INDIRECT(\"'\"&$E41&\"'!c41\"),4),\"\")","v":""},{"$f":"IFERROR(LEFT(INDIRECT(\"'\"&$E41&\"'!c42\"),4),\"\")","v":""},{"$f":"IFERROR(LEFT(INDIRECT(\"'\"&$E41&\"'!c43\"),4),\"\")","v":""},{"$f":"IFERROR(LEFT(INDIRECT(\"'\"&$E41&\"'!c44\"),4),\"\")","v":""},{"$f":"IFERROR(LEFT(INDIRECT(\"'\"&$E41&\"'!c45\"),4),\"\")","v":""},{"$f":"IFERROR(LEFT(INDIRECT(\"'\"&$E41&\"'!c46\"),4),\"\")","v":""},{"$f":"IFERROR(LEFT(INDIRECT(\"'\"&$E41&\"'!c47\"),4),\"\")","v":""}]
[null,"",{"$f":"IFERROR(INDEX(MID(SheetNames,FIND(\"]\",SheetNames)+1,100),ROW(C36),1),\"\")","v":"Aonad 34"},{"$f":"IFERROR(IF(AND(INDIRECT(\"'\"&$C42&\"'!c4\")='Data Set'!$D$4,INDIRECT(\"'\"&$C42&\"'!f5\")=\"Sea\"),C42,\"\"),\"\")","v":""},{"$f":"IFERROR(INDEX($D$8:$D$57,MATCH(0,COUNTIF($E$7:E41,$D$8:$D$57&\"\")+IF($D$8:$D$57=\"\",1,0), 0)),\"\")","v":""},"",{"$f":"IFERROR(IF(INDIRECT(\"'\"&$F42&\"'!c7\")=\"\",\"\",INDIRECT(\"'\"&$F42&\"'!c7\")),\"\")","v":""},{"$f":"IFERROR(IF(INDIRECT(\"'\"&$F42&\"'!e7\")=\"\",\"\",INDIRECT(\"'\"&$F42&\"'!e7\")),\"\")","v":""},{"$f":"IFERROR(IF(INDIRECT(\"'\"&$F42&\"'!f7\")=\"\",\"\",INDIRECT(\"'\"&$F42&\"'!f7\")),\"\")","v":""},{"$f":"IFERROR(IF(INDIRECT(\"'\"&$F42&\"'!h5\")=\"\",\"\",INDIRECT(\"'\"&$F42&\"'!h5\")),\"\")","v":""},{"$f":"IFERROR(LEFT(INDIRECT(\"'\"&$E42&\"'!c38\"),4),\"\")","v":""},{"$f":"IFERROR(LEFT(INDIRECT(\"'\"&$E42&\"'!c39\"),4),\"\")","v":""},{"$f":"IFERROR(LEFT(INDIRECT(\"'\"&$E42&\"'!c40\"),4),\"\")","v":""},{"$f":"IFERROR(LEFT(INDIRECT(\"'\"&$E42&\"'!c41\"),4),\"\")","v":""},{"$f":"IFERROR(LEFT(INDIRECT(\"'\"&$E42&\"'!c42\"),4),\"\")","v":""},{"$f":"IFERROR(LEFT(INDIRECT(\"'\"&$E42&\"'!c43\"),4),\"\")","v":""},{"$f":"IFERROR(LEFT(INDIRECT(\"'\"&$E42&\"'!c44\"),4),\"\")","v":""},{"$f":"IFERROR(LEFT(INDIRECT(\"'\"&$E42&\"'!c45\"),4),\"\")","v":""},{"$f":"IFERROR(LEFT(INDIRECT(\"'\"&$E42&\"'!c46\"),4),\"\")","v":""},{"$f":"IFERROR(LEFT(INDIRECT(\"'\"&$E42&\"'!c47\"),4),\"\")","v":""}]
[null,"",{"$f":"IFERROR(INDEX(MID(SheetNames,FIND(\"]\",SheetNames)+1,100),ROW(C37),1),\"\")","v":"Aonad 35"},{"$f":"IFERROR(IF(AND(INDIRECT(\"'\"&$C43&\"'!c4\")='Data Set'!$D$4,INDIRECT(\"'\"&$C43&\"'!f5\")=\"Sea\"),C43,\"\"),\"\")","v":""},{"$f":"IFERROR(INDEX($D$8:$D$57,MATCH(0,COUNTIF($E$7:E42,$D$8:$D$57&\"\")+IF($D$8:$D$57=\"\",1,0), 0)),\"\")","v":""},"",{"$f":"IFERROR(IF(INDIRECT(\"'\"&$F43&\"'!c7\")=\"\",\"\",INDIRECT(\"'\"&$F43&\"'!c7\")),\"\")","v":""},{"$f":"IFERROR(IF(INDIRECT(\"'\"&$F43&\"'!e7\")=\"\",\"\",INDIRECT(\"'\"&$F43&\"'!e7\")),\"\")","v":""},{"$f":"IFERROR(IF(INDIRECT(\"'\"&$F43&\"'!f7\")=\"\",\"\",INDIRECT(\"'\"&$F43&\"'!f7\")),\"\")","v":""},{"$f":"IFERROR(IF(INDIRECT(\"'\"&$F43&\"'!h5\")=\"\",\"\",INDIRECT(\"'\"&$F43&\"'!h5\")),\"\")","v":""},{"$f":"IFERROR(LEFT(INDIRECT(\"'\"&$E43&\"'!c38\"),4),\"\")","v":""},{"$f":"IFERROR(LEFT(INDIRECT(\"'\"&$E43&\"'!c39\"),4),\"\")","v":""},{"$f":"IFERROR(LEFT(INDIRECT(\"'\"&$E43&\"'!c40\"),4),\"\")","v":""},{"$f":"IFERROR(LEFT(INDIRECT(\"'\"&$E43&\"'!c41\"),4),\"\")","v":""},{"$f":"IFERROR(LEFT(INDIRECT(\"'\"&$E43&\"'!c42\"),4),\"\")","v":""},{"$f":"IFERROR(LEFT(INDIRECT(\"'\"&$E43&\"'!c43\"),4),\"\")","v":""},{"$f":"IFERROR(LEFT(INDIRECT(\"'\"&$E43&\"'!c44\"),4),\"\")","v":""},{"$f":"IFERROR(LEFT(INDIRECT(\"'\"&$E43&\"'!c45\"),4),\"\")","v":""},{"$f":"IFERROR(LEFT(INDIRECT(\"'\"&$E43&\"'!c46\"),4),\"\")","v":""},{"$f":"IFERROR(LEFT(INDIRECT(\"'\"&$E43&\"'!c47\"),4),\"\")","v":""}]
[null,"",{"$f":"IFERROR(INDEX(MID(SheetNames,FIND(\"]\",SheetNames)+1,100),ROW(C38),1),\"\")","v":"Aonad 36"},{"$f":"IFERROR(IF(AND(INDIRECT(\"'\"&$C44&\"'!c4\")='Data Set'!$D$4,INDIRECT(\"'\"&$C44&\"'!f5\")=\"Sea\"),C44,\"\"),\"\")","v":""},{"$f":"IFERROR(INDEX($D$8:$D$57,MATCH(0,COUNTIF($E$7:E43,$D$8:$D$57&\"\")+IF($D$8:$D$57=\"\",1,0), 0)),\"\")","v":""},"",{"$f":"IFERROR(IF(INDIRECT(\"'\"&$F44&\"'!c7\")=\"\",\"\",INDIRECT(\"'\"&$F44&\"'!c7\")),\"\")","v":""},{"$f":"IFERROR(IF(INDIRECT(\"'\"&$F44&\"'!e7\")=\"\",\"\",INDIRECT(\"'\"&$F44&\"'!e7\")),\"\")","v":""},{"$f":"IFERROR(IF(INDIRECT(\"'\"&$F44&\"'!f7\")=\"\",\"\",INDIRECT(\"'\"&$F44&\"'!f7\")),\"\")","v":""},{"$f":"IFERROR(IF(INDIRECT(\"'\"&$F44&\"'!h5\")=\"\",\"\",INDIRECT(\"'\"&$F44&\"'!h5\")),\"\")","v":""},{"$f":"IFERROR(LEFT(INDIRECT(\"'\"&$E44&\"'!c38\"),4),\"\")","v":""},{"$f":"IFERROR(LEFT(INDIRECT(\"'\"&$E44&\"'!c39\"),4),\"\")","v":""},{"$f":"IFERROR(LEFT(INDIRECT(\"'\"&$E44&\"'!c40\"),4),\"\")","v":""},{"$f":"IFERROR(LEFT(INDIRECT(\"'\"&$E44&\"'!c41\"),4),\"\")","v":""},{"$f":"IFERROR(LEFT(INDIRECT(\"'\"&$E44&\"'!c42\"),4),\"\")","v":""},{"$f":"IFERROR(LEFT(INDIRECT(\"'\"&$E44&\"'!c43\"),4),\"\")","v":""},{"$f":"IFERROR(LEFT(INDIRECT(\"'\"&$E44&\"'!c44\"),4),\"\")","v":""},{"$f":"IFERROR(LEFT(INDIRECT(\"'\"&$E44&\"'!c45\"),4),\"\")","v":""},{"$f":"IFERROR(LEFT(INDIRECT(\"'\"&$E44&\"'!c46\"),4),\"\")","v":""},{"$f":"IFERROR(LEFT(INDIRECT(\"'\"&$E44&\"'!c47\"),4),\"\")","v":""}]
[null,"",{"$f":"IFERROR(INDEX(MID(SheetNames,FIND(\"]\",SheetNames)+1,100),ROW(C39),1),\"\")","v":"Aonad 37"},{"$f":"IFERROR(IF(AND(INDIRECT(\"'\"&$C45&\"'!c4\")='Data Set'!$D$4,INDIRECT(\"'\"&$C45&\"'!f5\")=\"Sea\"),C45,\"\"),\"\")","v":""},{"$f":"IFERROR(INDEX($D$8:$D$57,MATCH(0,COUNTIF($E$7:E44,$D$8:$D$57&\"\")+IF($D$8:$D$57=\"\",1,0), 0)),\"\")","v":""},"",{"$f":"IFERROR(IF(INDIRECT(\"'\"&$F45&\"'!c7\")=\"\",\"\",INDIRECT(\"'\"&$F45&\"'!c7\")),\"\")","v":""},{"$f":"IFERROR(IF(INDIRECT(\"'\"&$F45&\"'!e7\")=\"\",\"\",INDIRECT(\"'\"&$F45&\"'!e7\")),\"\")","v":""},{"$f":"IFERROR(IF(INDIRECT(\"'\"&$F45&\"'!f7\")=\"\",\"\",INDIRECT(\"'\"&$F45&\"'!f7\")),\"\")","v":""},{"$f":"IFERROR(IF(INDIRECT(\"'\"&$F45&\"'!h5\")=\"\",\"\",INDIRECT(\"'\"&$F45&\"'!h5\")),\"\")","v":""},{"$f":"IFERROR(LEFT(INDIRECT(\"'\"&$E45&\"'!c38\"),4),\"\")","v":""},{"$f":"IFERROR(LEFT(INDIRECT(\"'\"&$E45&\"'!c39\"),4),\"\")","v":""},{"$f":"IFERROR(LEFT(INDIRECT(\"'\"&$E45&\"'!c40\"),4),\"\")","v":""},{"$f":"IFERROR(LEFT(INDIRECT(\"'\"&$E45&\"'!c41\"),4),\"\")","v":""},{"$f":"IFERROR(LEFT(INDIRECT(\"'\"&$E45&\"'!c42\"),4),\"\")","v":""},{"$f":"IFERROR(LEFT(INDIRECT(\"'\"&$E45&\"'!c43\"),4),\"\")","v":""},{"$f":"IFERROR(LEFT(INDIRECT(\"'\"&$E45&\"'!c44\"),4),\"\")","v":""},{"$f":"IFERROR(LEFT(INDIRECT(\"'\"&$E45&\"'!c45\"),4),\"\")","v":""},{"$f":"IFERROR(LEFT(INDIRECT(\"'\"&$E45&\"'!c46\"),4),\"\")","v":""},{"$f":"IFERROR(LEFT(INDIRECT(\"'\"&$E45&\"'!c47\"),4),\"\")","v":""}]
[null,"",{"$f":"IFERROR(INDEX(MID(SheetNames,FIND(\"]\",SheetNames)+1,100),ROW(C40),1),\"\")","v":"Aonad 38"},{"$f":"IFERROR(IF(AND(INDIRECT(\"'\"&$C46&\"'!c4\")='Data Set'!$D$4,INDIRECT(\"'\"&$C46&\"'!f5\")=\"Sea\"),C46,\"\"),\"\")","v":""},{"$f":"IFERROR(INDEX($D$8:$D$57,MATCH(0,COUNTIF($E$7:E45,$D$8:$D$57&\"\")+IF($D$8:$D$57=\"\",1,0), 0)),\"\")","v":""},"",{"$f":"IFERROR(IF(INDIRECT(\"'\"&$F46&\"'!c7\")=\"\",\"\",INDIRECT(\"'\"&$F46&\"'!c7\")),\"\")","v":""},{"$f":"IFERROR(IF(INDIRECT(\"'\"&$F46&\"'!e7\")=\"\",\"\",INDIRECT(\"'\"&$F46&\"'!e7\")),\"\")","v":""},{"$f":"IFERROR(IF(INDIRECT(\"'\"&$F46&\"'!f7\")=\"\",\"\",INDIRECT(\"'\"&$F46&\"'!f7\")),\"\")","v":""},{"$f":"IFERROR(IF(INDIRECT(\"'\"&$F46&\"'!h5\")=\"\",\"\",INDIRECT(\"'\"&$F46&\"'!h5\")),\"\")","v":""},{"$f":"IFERROR(LEFT(INDIRECT(\"'\"&$E46&\"'!c38\"),4),\"\")","v":""},{"$f":"IFERROR(LEFT(INDIRECT(\"'\"&$E46&\"'!c39\"),4),\"\")","v":""},{"$f":"IFERROR(LEFT(INDIRECT(\"'\"&$E46&\"'!c40\"),4),\"\")","v":""},{"$f":"IFERROR(LEFT(INDIRECT(\"'\"&$E46&\"'!c41\"),4),\"\")","v":""},{"$f":"IFERROR(LEFT(INDIRECT(\"'\"&$E46&\"'!c42\"),4),\"\")","v":""},{"$f":"IFERROR(LEFT(INDIRECT(\"'\"&$E46&\"'!c43\"),4),\"\")","v":""},{"$f":"IFERROR(LEFT(INDIRECT(\"'\"&$E46&\"'!c44\"),4),\"\")","v":""},{"$f":"IFERROR(LEFT(INDIRECT(\"'\"&$E46&\"'!c45\"),4),\"\")","v":""},{"$f":"IFERROR(LEFT(INDIRECT(\"'\"&$E46&\"'!c46\"),4),\"\")","v":""},{"$f":"IFERROR(LEFT(INDIRECT(\"'\"&$E46&\"'!c47\"),4),\"\")","v":""}]
[null,"",{"$f":"IFERROR(INDEX(MID(SheetNames,FIND(\"]\",SheetNames)+1,100),ROW(C41),1),\"\")","v":"Uirlis Phleanála,"},{"$f":"IFERROR(IF(AND(INDIRECT(\"'\"&$C47&\"'!c4\")='Data Set'!$D$4,INDIRECT(\"'\"&$C47&\"'!f5\")=\"Sea\"),C47,\"\"),\"\")","v":""},{"$f":"IFERROR(INDEX($D$8:$D$57,MATCH(0,COUNTIF($E$7:E46,$D$8:$D$57&\"\")+IF($D$8:$D$57=\"\",1,0), 0)),\"\")","v":""},"",{"$f":"IFERROR(IF(INDIRECT(\"'\"&$F47&\"'!c7\")=\"\",\"\",INDIRECT(\"'\"&$F47&\"'!c7\")),\"\")","v":""},{"$f":"IFERROR(IF(INDIRECT(\"'\"&$F47&\"'!e7\")=\"\",\"\",INDIRECT(\"'\"&$F47&\"'!e7\")),\"\")","v":""},{"$f":"IFERROR(IF(INDIRECT(\"'\"&$F47&\"'!f7\")=\"\",\"\",INDIRECT(\"'\"&$F47&\"'!f7\")),\"\")","v":""},{"$f":"IFERROR(IF(INDIRECT(\"'\"&$F47&\"'!h5\")=\"\",\"\",INDIRECT(\"'\"&$F47&\"'!h5\")),\"\")","v":""},{"$f":"IFERROR(LEFT(INDIRECT(\"'\"&$E47&\"'!c38\"),4),\"\")","v":""},{"$f":"IFERROR(LEFT(INDIRECT(\"'\"&$E47&\"'!c39\"),4),\"\")","v":""},{"$f":"IFERROR(LEFT(INDIRECT(\"'\"&$E47&\"'!c40\"),4),\"\")","v":""},{"$f":"IFERROR(LEFT(INDIRECT(\"'\"&$E47&\"'!c41\"),4),\"\")","v":""},{"$f":"IFERROR(LEFT(INDIRECT(\"'\"&$E47&\"'!c42\"),4),\"\")","v":""},{"$f":"IFERROR(LEFT(INDIRECT(\"'\"&$E47&\"'!c43\"),4),\"\")","v":""},{"$f":"IFERROR(LEFT(INDIRECT(\"'\"&$E47&\"'!c44\"),4),\"\")","v":""},{"$f":"IFERROR(LEFT(INDIRECT(\"'\"&$E47&\"'!c45\"),4),\"\")","v":""},{"$f":"IFERROR(LEFT(INDIRECT(\"'\"&$E47&\"'!c46\"),4),\"\")","v":""},{"$f":"IFERROR(LEFT(INDIRECT(\"'\"&$E47&\"'!c47\"),4),\"\")","v":""}]
[null,"",{"$f":"IFERROR(INDEX(MID(SheetNames,FIND(\"]\",SheetNames)+1,100),ROW(C42),1),\"\")","v":"Rannpháirtíocht i dtorthaí fogh"},{"$f":"IFERROR(IF(AND(INDIRECT(\"'\"&$C48&\"'!c4\")='Data Set'!$D$4,INDIRECT(\"'\"&$C48&\"'!f5\")=\"Sea\"),C48,\"\"),\"\")","v":""},{"$f":"IFERROR(INDEX($D$8:$D$57,MATCH(0,COUNTIF($E$7:E47,$D$8:$D$57&\"\")+IF($D$8:$D$57=\"\",1,0), 0)),\"\")","v":""},"",{"$f":"IFERROR(IF(INDIRECT(\"'\"&$F48&\"'!c7\")=\"\",\"\",INDIRECT(\"'\"&$F48&\"'!c7\")),\"\")","v":""},{"$f":"IFERROR(IF(INDIRECT(\"'\"&$F48&\"'!e7\")=\"\",\"\",INDIRECT(\"'\"&$F48&\"'!e7\")),\"\")","v":""},{"$f":"IFERROR(IF(INDIRECT(\"'\"&$F48&\"'!f7\")=\"\",\"\",INDIRECT(\"'\"&$F48&\"'!f7\")),\"\")","v":""},{"$f":"IFERROR(IF(INDIRECT(\"'\"&$F48&\"'!h5\")=\"\",\"\",INDIRECT(\"'\"&$F48&\"'!h5\")),\"\")","v":""},{"$f":"IFERROR(LEFT(INDIRECT(\"'\"&$E48&\"'!c38\"),4),\"\")","v":""},{"$f":"IFERROR(LEFT(INDIRECT(\"'\"&$E48&\"'!c39\"),4),\"\")","v":""},{"$f":"IFERROR(LEFT(INDIRECT(\"'\"&$E48&\"'!c40\"),4),\"\")","v":""},{"$f":"IFERROR(LEFT(INDIRECT(\"'\"&$E48&\"'!c41\"),4),\"\")","v":""},{"$f":"IFERROR(LEFT(INDIRECT(\"'\"&$E48&\"'!c42\"),4),\"\")","v":""},{"$f":"IFERROR(LEFT(INDIRECT(\"'\"&$E48&\"'!c43\"),4),\"\")","v":""},{"$f":"IFERROR(LEFT(INDIRECT(\"'\"&$E48&\"'!c44\"),4),\"\")","v":""},{"$f":"IFERROR(LEFT(INDIRECT(\"'\"&$E48&\"'!c45\"),4),\"\")","v":""},{"$f":"IFERROR(LEFT(INDIRECT(\"'\"&$E48&\"'!c46\"),4),\"\")","v":""},{"$f":"IFERROR(LEFT(INDIRECT(\"'\"&$E48&\"'!c47\"),4),\"\")","v":""}]
[null,"",{"$f":"IFERROR(INDEX(MID(SheetNames,FIND(\"]\",SheetNames)+1,100),ROW(C43),1),\"\")","v":"Leathanach Treoracha"},{"$f":"IFERROR(IF(AND(INDIRECT(\"'\"&$C49&\"'!c4\")='Data Set'!$D$4,INDIRECT(\"'\"&$C49&\"'!f5\")=\"Sea\"),C49,\"\"),\"\")","v":""},{"$f":"IFERROR(INDEX($D$8:$D$57,MATCH(0,COUNTIF($E$7:E48,$D$8:$D$57&\"\")+IF($D$8:$D$57=\"\",1,0), 0)),\"\")","v":""},"",{"$f":"IFERROR(IF(INDIRECT(\"'\"&$F49&\"'!c7\")=\"\",\"\",INDIRECT(\"'\"&$F49&\"'!c7\")),\"\")","v":""},{"$f":"IFERROR(IF(INDIRECT(\"'\"&$F49&\"'!e7\")=\"\",\"\",INDIRECT(\"'\"&$F49&\"'!e7\")),\"\")","v":""},{"$f":"IFERROR(IF(INDIRECT(\"'\"&$F49&\"'!f7\")=\"\",\"\",INDIRECT(\"'\"&$F49&\"'!f7\")),\"\")","v":""},{"$f":"IFERROR(IF(INDIRECT(\"'\"&$F49&\"'!h5\")=\"\",\"\",INDIRECT(\"'\"&$F49&\"'!h5\")),\"\")","v":""},{"$f":"IFERROR(LEFT(INDIRECT(\"'\"&$E49&\"'!c38\"),4),\"\")","v":""},{"$f":"IFERROR(LEFT(INDIRECT(\"'\"&$E49&\"'!c39\"),4),\"\")","v":""},{"$f":"IFERROR(LEFT(INDIRECT(\"'\"&$E49&\"'!c40\"),4),\"\")","v":""},{"$f":"IFERROR(LEFT(INDIRECT(\"'\"&$E49&\"'!c41\"),4),\"\")","v":""},{"$f":"IFERROR(LEFT(INDIRECT(\"'\"&$E49&\"'!c42\"),4),\"\")","v":""},{"$f":"IFERROR(LEFT(INDIRECT(\"'\"&$E49&\"'!c43\"),4),\"\")","v":""},{"$f":"IFERROR(LEFT(INDIRECT(\"'\"&$E49&\"'!c44\"),4),\"\")","v":""},{"$f":"IFERROR(LEFT(INDIRECT(\"'\"&$E49&\"'!c45\"),4),\"\")","v":""},{"$f":"IFERROR(LEFT(INDIRECT(\"'\"&$E49&\"'!c46\"),4),\"\")","v":""},{"$f":"IFERROR(LEFT(INDIRECT(\"'\"&$E49&\"'!c47\"),4),\"\")","v":""}]
[null,"",{"$f":"IFERROR(INDEX(MID(SheetNames,FIND(\"]\",SheetNames)+1,100),ROW(C44),1),\"\")","v":"Data Set"},{"$f":"IFERROR(IF(AND(INDIRECT(\"'\"&$C50&\"'!c4\")='Data Set'!$D$4,INDIRECT(\"'\"&$C50&\"'!f5\")=\"Sea\"),C50,\"\"),\"\")","v":""},{"$f":"IFERROR(INDEX($D$8:$D$57,MATCH(0,COUNTIF($E$7:E49,$D$8:$D$57&\"\")+IF($D$8:$D$57=\"\",1,0), 0)),\"\")","v":""},"",{"$f":"IFERROR(IF(INDIRECT(\"'\"&$F50&\"'!c7\")=\"\",\"\",INDIRECT(\"'\"&$F50&\"'!c7\")),\"\")","v":""},{"$f":"IFERROR(IF(INDIRECT(\"'\"&$F50&\"'!e7\")=\"\",\"\",INDIRECT(\"'\"&$F50&\"'!e7\")),\"\")","v":""},{"$f":"IFERROR(IF(INDIRECT(\"'\"&$F50&\"'!f7\")=\"\",\"\",INDIRECT(\"'\"&$F50&\"'!f7\")),\"\")","v":""},{"$f":"IFERROR(IF(INDIRECT(\"'\"&$F50&\"'!h5\")=\"\",\"\",INDIRECT(\"'\"&$F50&\"'!h5\")),\"\")","v":""},{"$f":"IFERROR(LEFT(INDIRECT(\"'\"&$E50&\"'!c38\"),4),\"\")","v":""},{"$f":"IFERROR(LEFT(INDIRECT(\"'\"&$E50&\"'!c39\"),4),\"\")","v":""},{"$f":"IFERROR(LEFT(INDIRECT(\"'\"&$E50&\"'!c40\"),4),\"\")","v":""},{"$f":"IFERROR(LEFT(INDIRECT(\"'\"&$E50&\"'!c41\"),4),\"\")","v":""},{"$f":"IFERROR(LEFT(INDIRECT(\"'\"&$E50&\"'!c42\"),4),\"\")","v":""},{"$f":"IFERROR(LEFT(INDIRECT(\"'\"&$E50&\"'!c43\"),4),\"\")","v":""},{"$f":"IFERROR(LEFT(INDIRECT(\"'\"&$E50&\"'!c44\"),4),\"\")","v":""},{"$f":"IFERROR(LEFT(INDIRECT(\"'\"&$E50&\"'!c45\"),4),\"\")","v":""},{"$f":"IFERROR(LEFT(INDIRECT(\"'\"&$E50&\"'!c46\"),4),\"\")","v":""},{"$f":"IFERROR(LEFT(INDIRECT(\"'\"&$E50&\"'!c47\"),4),\"\")","v":""}]
[null,"",{"$f":"IFERROR(INDEX(MID(SheetNames,FIND(\"]\",SheetNames)+1,100),ROW(C45),1),\"\")","v":""},{"$f":"IFERROR(IF(AND(INDIRECT(\"'\"&$C51&\"'!c4\")='Data Set'!$D$4,INDIRECT(\"'\"&$C51&\"'!f5\")=\"Sea\"),C51,\"\"),\"\")","v":""},{"$f":"IFERROR(INDEX($D$8:$D$57,MATCH(0,COUNTIF($E$7:E50,$D$8:$D$57&\"\")+IF($D$8:$D$57=\"\",1,0), 0)),\"\")","v":""},"",{"$f":"IFERROR(IF(INDIRECT(\"'\"&$F51&\"'!c7\")=\"\",\"\",INDIRECT(\"'\"&$F51&\"'!c7\")),\"\")","v":""},{"$f":"IFERROR(IF(INDIRECT(\"'\"&$F51&\"'!e7\")=\"\",\"\",INDIRECT(\"'\"&$F51&\"'!e7\")),\"\")","v":""},{"$f":"IFERROR(IF(INDIRECT(\"'\"&$F51&\"'!f7\")=\"\",\"\",INDIRECT(\"'\"&$F51&\"'!f7\")),\"\")","v":""},{"$f":"IFERROR(IF(INDIRECT(\"'\"&$F51&\"'!h5\")=\"\",\"\",INDIRECT(\"'\"&$F51&\"'!h5\")),\"\")","v":""},{"$f":"IFERROR(LEFT(INDIRECT(\"'\"&$E51&\"'!c38\"),4),\"\")","v":""},{"$f":"IFERROR(LEFT(INDIRECT(\"'\"&$E51&\"'!c39\"),4),\"\")","v":""},{"$f":"IFERROR(LEFT(INDIRECT(\"'\"&$E51&\"'!c40\"),4),\"\")","v":""},{"$f":"IFERROR(LEFT(INDIRECT(\"'\"&$E51&\"'!c41\"),4),\"\")","v":""},{"$f":"IFERROR(LEFT(INDIRECT(\"'\"&$E51&\"'!c42\"),4),\"\")","v":""},{"$f":"IFERROR(LEFT(INDIRECT(\"'\"&$E51&\"'!c43\"),4),\"\")","v":""},{"$f":"IFERROR(LEFT(INDIRECT(\"'\"&$E51&\"'!c44\"),4),\"\")","v":""},{"$f":"IFERROR(LEFT(INDIRECT(\"'\"&$E51&\"'!c45\"),4),\"\")","v":""},{"$f":"IFERROR(LEFT(INDIRECT(\"'\"&$E51&\"'!c46\"),4),\"\")","v":""},{"$f":"IFERROR(LEFT(INDIRECT(\"'\"&$E51&\"'!c47\"),4),\"\")","v":""}]
[null,"",{"$f":"IFERROR(INDEX(MID(SheetNames,FIND(\"]\",SheetNames)+1,100),ROW(C46),1),\"\")","v":""},{"$f":"IFERROR(IF(AND(INDIRECT(\"'\"&$C52&\"'!c4\")='Data Set'!$D$4,INDIRECT(\"'\"&$C52&\"'!f5\")=\"Sea\"),C52,\"\"),\"\")","v":""},{"$f":"IFERROR(INDEX($D$8:$D$57,MATCH(0,COUNTIF($E$7:E51,$D$8:$D$57&\"\")+IF($D$8:$D$57=\"\",1,0), 0)),\"\")","v":""},"",{"$f":"IFERROR(IF(INDIRECT(\"'\"&$F52&\"'!c7\")=\"\",\"\",INDIRECT(\"'\"&$F52&\"'!c7\")),\"\")","v":""},{"$f":"IFERROR(IF(INDIRECT(\"'\"&$F52&\"'!e7\")=\"\",\"\",INDIRECT(\"'\"&$F52&\"'!e7\")),\"\")","v":""},{"$f":"IFERROR(IF(INDIRECT(\"'\"&$F52&\"'!f7\")=\"\",\"\",INDIRECT(\"'\"&$F52&\"'!f7\")),\"\")","v":""},{"$f":"IFERROR(IF(INDIRECT(\"'\"&$F52&\"'!h5\")=\"\",\"\",INDIRECT(\"'\"&$F52&\"'!h5\")),\"\")","v":""},{"$f":"IFERROR(LEFT(INDIRECT(\"'\"&$E52&\"'!c38\"),4),\"\")","v":""},{"$f":"IFERROR(LEFT(INDIRECT(\"'\"&$E52&\"'!c39\"),4),\"\")","v":""},{"$f":"IFERROR(LEFT(INDIRECT(\"'\"&$E52&\"'!c40\"),4),\"\")","v":""},{"$f":"IFERROR(LEFT(INDIRECT(\"'\"&$E52&\"'!c41\"),4),\"\")","v":""},{"$f":"IFERROR(LEFT(INDIRECT(\"'\"&$E52&\"'!c42\"),4),\"\")","v":""},{"$f":"IFERROR(LEFT(INDIRECT(\"'\"&$E52&\"'!c43\"),4),\"\")","v":""},{"$f":"IFERROR(LEFT(INDIRECT(\"'\"&$E52&\"'!c44\"),4),\"\")","v":""},{"$f":"IFERROR(LEFT(INDIRECT(\"'\"&$E52&\"'!c45\"),4),\"\")","v":""},{"$f":"IFERROR(LEFT(INDIRECT(\"'\"&$E52&\"'!c46\"),4),\"\")","v":""},{"$f":"IFERROR(LEFT(INDIRECT(\"'\"&$E52&\"'!c47\"),4),\"\")","v":""}]
[null,"",{"$f":"IFERROR(INDEX(MID(SheetNames,FIND(\"]\",SheetNames)+1,100),ROW(C47),1),\"\")","v":""},{"$f":"IFERROR(IF(AND(INDIRECT(\"'\"&$C53&\"'!c4\")='Data Set'!$D$4,INDIRECT(\"'\"&$C53&\"'!f5\")=\"Sea\"),C53,\"\"),\"\")","v":""},{"$f":"IFERROR(INDEX($D$8:$D$57,MATCH(0,COUNTIF($E$7:E52,$D$8:$D$57&\"\")+IF($D$8:$D$57=\"\",1,0), 0)),\"\")","v":""},"",{"$f":"IFERROR(IF(INDIRECT(\"'\"&$F53&\"'!c7\")=\"\",\"\",INDIRECT(\"'\"&$F53&\"'!c7\")),\"\")","v":""},{"$f":"IFERROR(IF(INDIRECT(\"'\"&$F53&\"'!e7\")=\"\",\"\",INDIRECT(\"'\"&$F53&\"'!e7\")),\"\")","v":""},{"$f":"IFERROR(IF(INDIRECT(\"'\"&$F53&\"'!f7\")=\"\",\"\",INDIRECT(\"'\"&$F53&\"'!f7\")),\"\")","v":""},{"$f":"IFERROR(IF(INDIRECT(\"'\"&$F53&\"'!h5\")=\"\",\"\",INDIRECT(\"'\"&$F53&\"'!h5\")),\"\")","v":""},{"$f":"IFERROR(LEFT(INDIRECT(\"'\"&$E53&\"'!c38\"),4),\"\")","v":""},{"$f":"IFERROR(LEFT(INDIRECT(\"'\"&$E53&\"'!c39\"),4),\"\")","v":""},{"$f":"IFERROR(LEFT(INDIRECT(\"'\"&$E53&\"'!c40\"),4),\"\")","v":""},{"$f":"IFERROR(LEFT(INDIRECT(\"'\"&$E53&\"'!c41\"),4),\"\")","v":""},{"$f":"IFERROR(LEFT(INDIRECT(\"'\"&$E53&\"'!c42\"),4),\"\")","v":""},{"$f":"IFERROR(LEFT(INDIRECT(\"'\"&$E53&\"'!c43\"),4),\"\")","v":""},{"$f":"IFERROR(LEFT(INDIRECT(\"'\"&$E53&\"'!c44\"),4),\"\")","v":""},{"$f":"IFERROR(LEFT(INDIRECT(\"'\"&$E53&\"'!c45\"),4),\"\")","v":""},{"$f":"IFERROR(LEFT(INDIRECT(\"'\"&$E53&\"'!c46\"),4),\"\")","v":""},{"$f":"IFERROR(LEFT(INDIRECT(\"'\"&$E53&\"'!c47\"),4),\"\")","v":""}]
[null,"",{"$f":"IFERROR(INDEX(MID(SheetNames,FIND(\"]\",SheetNames)+1,100),ROW(C48),1),\"\")","v":""},{"$f":"IFERROR(IF(AND(INDIRECT(\"'\"&$C54&\"'!c4\")='Data Set'!$D$4,INDIRECT(\"'\"&$C54&\"'!f5\")=\"Sea\"),C54,\"\"),\"\")","v":""},{"$f":"IFERROR(INDEX($D$8:$D$57,MATCH(0,COUNTIF($E$7:E53,$D$8:$D$57&\"\")+IF($D$8:$D$57=\"\",1,0), 0)),\"\")","v":""},"",{"$f":"IFERROR(IF(INDIRECT(\"'\"&$F54&\"'!c7\")=\"\",\"\",INDIRECT(\"'\"&$F54&\"'!c7\")),\"\")","v":""},{"$f":"IFERROR(IF(INDIRECT(\"'\"&$F54&\"'!e7\")=\"\",\"\",INDIRECT(\"'\"&$F54&\"'!e7\")),\"\")","v":""},{"$f":"IFERROR(IF(INDIRECT(\"'\"&$F54&\"'!f7\")=\"\",\"\",INDIRECT(\"'\"&$F54&\"'!f7\")),\"\")","v":""},{"$f":"IFERROR(IF(INDIRECT(\"'\"&$F54&\"'!h5\")=\"\",\"\",INDIRECT(\"'\"&$F54&\"'!h5\")),\"\")","v":""},{"$f":"IFERROR(LEFT(INDIRECT(\"'\"&$E54&\"'!c38\"),4),\"\")","v":""},{"$f":"IFERROR(LEFT(INDIRECT(\"'\"&$E54&\"'!c39\"),4),\"\")","v":""},{"$f":"IFERROR(LEFT(INDIRECT(\"'\"&$E54&\"'!c40\"),4),\"\")","v":""},{"$f":"IFERROR(LEFT(INDIRECT(\"'\"&$E54&\"'!c41\"),4),\"\")","v":""},{"$f":"IFERROR(LEFT(INDIRECT(\"'\"&$E54&\"'!c42\"),4),\"\")","v":""},{"$f":"IFERROR(LEFT(INDIRECT(\"'\"&$E54&\"'!c43\"),4),\"\")","v":""},{"$f":"IFERROR(LEFT(INDIRECT(\"'\"&$E54&\"'!c44\"),4),\"\")","v":""},{"$f":"IFERROR(LEFT(INDIRECT(\"'\"&$E54&\"'!c45\"),4),\"\")","v":""},{"$f":"IFERROR(LEFT(INDIRECT(\"'\"&$E54&\"'!c46\"),4),\"\")","v":""},{"$f":"IFERROR(LEFT(INDIRECT(\"'\"&$E54&\"'!c47\"),4),\"\")","v":""}]
[null,"",{"$f":"IFERROR(INDEX(MID(SheetNames,FIND(\"]\",SheetNames)+1,100),ROW(C49),1),\"\")","v":""},{"$f":"IFERROR(IF(AND(INDIRECT(\"'\"&$C55&\"'!c4\")='Data Set'!$D$4,INDIRECT(\"'\"&$C55&\"'!f5\")=\"Sea\"),C55,\"\"),\"\")","v":""},{"$f":"IFERROR(INDEX($D$8:$D$57,MATCH(0,COUNTIF($E$7:E54,$D$8:$D$57&\"\")+IF($D$8:$D$57=\"\",1,0), 0)),\"\")","v":""},"",{"$f":"IFERROR(IF(INDIRECT(\"'\"&$F55&\"'!c7\")=\"\",\"\",INDIRECT(\"'\"&$F55&\"'!c7\")),\"\")","v":""},{"$f":"IFERROR(IF(INDIRECT(\"'\"&$F55&\"'!e7\")=\"\",\"\",INDIRECT(\"'\"&$F55&\"'!e7\")),\"\")","v":""},{"$f":"IFERROR(IF(INDIRECT(\"'\"&$F55&\"'!f7\")=\"\",\"\",INDIRECT(\"'\"&$F55&\"'!f7\")),\"\")","v":""},{"$f":"IFERROR(IF(INDIRECT(\"'\"&$F55&\"'!h5\")=\"\",\"\",INDIRECT(\"'\"&$F55&\"'!h5\")),\"\")","v":""},{"$f":"IFERROR(LEFT(INDIRECT(\"'\"&$E55&\"'!c38\"),4),\"\")","v":""},{"$f":"IFERROR(LEFT(INDIRECT(\"'\"&$E55&\"'!c39\"),4),\"\")","v":""},{"$f":"IFERROR(LEFT(INDIRECT(\"'\"&$E55&\"'!c40\"),4),\"\")","v":""},{"$f":"IFERROR(LEFT(INDIRECT(\"'\"&$E55&\"'!c41\"),4),\"\")","v":""},{"$f":"IFERROR(LEFT(INDIRECT(\"'\"&$E55&\"'!c42\"),4),\"\")","v":""},{"$f":"IFERROR(LEFT(INDIRECT(\"'\"&$E55&\"'!c43\"),4),\"\")","v":""},{"$f":"IFERROR(LEFT(INDIRECT(\"'\"&$E55&\"'!c44\"),4),\"\")","v":""},{"$f":"IFERROR(LEFT(INDIRECT(\"'\"&$E55&\"'!c45\"),4),\"\")","v":""},{"$f":"IFERROR(LEFT(INDIRECT(\"'\"&$E55&\"'!c46\"),4),\"\")","v":""},{"$f":"IFERROR(LEFT(INDIRECT(\"'\"&$E55&\"'!c47\"),4),\"\")","v":""}]
[null,"",{"$f":"IFERROR(INDEX(MID(SheetNames,FIND(\"]\",SheetNames)+1,100),ROW(C50),1),\"\")","v":""},{"$f":"IFERROR(IF(AND(INDIRECT(\"'\"&$C56&\"'!c4\")='Data Set'!$D$4,INDIRECT(\"'\"&$C56&\"'!f5\")=\"Sea\"),C56,\"\"),\"\")","v":""},{"$f":"IFERROR(INDEX($D$8:$D$57,MATCH(0,COUNTIF($E$7:E55,$D$8:$D$57&\"\")+IF($D$8:$D$57=\"\",1,0), 0)),\"\")","v":""},"",{"$f":"IFERROR(IF(INDIRECT(\"'\"&$F56&\"'!c7\")=\"\",\"\",INDIRECT(\"'\"&$F56&\"'!c7\")),\"\")","v":""},{"$f":"IFERROR(IF(INDIRECT(\"'\"&$F56&\"'!e7\")=\"\",\"\",INDIRECT(\"'\"&$F56&\"'!e7\")),\"\")","v":""},{"$f":"IFERROR(IF(INDIRECT(\"'\"&$F56&\"'!f7\")=\"\",\"\",INDIRECT(\"'\"&$F56&\"'!f7\")),\"\")","v":""},{"$f":"IFERROR(IF(INDIRECT(\"'\"&$F56&\"'!h5\")=\"\",\"\",INDIRECT(\"'\"&$F56&\"'!h5\")),\"\")","v":""},{"$f":"IFERROR(LEFT(INDIRECT(\"'\"&$E56&\"'!c38\"),4),\"\")","v":""},{"$f":"IFERROR(LEFT(INDIRECT(\"'\"&$E56&\"'!c39\"),4),\"\")","v":""},{"$f":"IFERROR(LEFT(INDIRECT(\"'\"&$E56&\"'!c40\"),4),\"\")","v":""},{"$f":"IFERROR(LEFT(INDIRECT(\"'\"&$E56&\"'!c41\"),4),\"\")","v":""},{"$f":"IFERROR(LEFT(INDIRECT(\"'\"&$E56&\"'!c42\"),4),\"\")","v":""},{"$f":"IFERROR(LEFT(INDIRECT(\"'\"&$E56&\"'!c43\"),4),\"\")","v":""},{"$f":"IFERROR(LEFT(INDIRECT(\"'\"&$E56&\"'!c44\"),4),\"\")","v":""},{"$f":"IFERROR(LEFT(INDIRECT(\"'\"&$E56&\"'!c45\"),4),\"\")","v":""},{"$f":"IFERROR(LEFT(INDIRECT(\"'\"&$E56&\"'!c46\"),4),\"\")","v":""},{"$f":"IFERROR(LEFT(INDIRECT(\"'\"&$E56&\"'!c47\"),4),\"\")","v":""}]
[null,"",{"$f":"IFERROR(INDEX(MID(SheetNames,FIND(\"]\",SheetNames)+1,100),ROW(C51),1),\"\")","v":""},{"$f":"IFERROR(IF(AND(INDIRECT(\"'\"&$C57&\"'!c4\")='Data Set'!$D$4,INDIRECT(\"'\"&$C57&\"'!f5\")=\"Sea\"),C57,\"\"),\"\")","v":""},{"$f":"IFERROR(INDEX($D$8:$D$57,MATCH(0,COUNTIF($E$7:E56,$D$8:$D$57&\"\")+IF($D$8:$D$57=\"\",1,0), 0)),\"\")","v":""},"",{"$f":"IFERROR(IF(INDIRECT(\"'\"&$F57&\"'!c7\")=\"\",\"\",INDIRECT(\"'\"&$F57&\"'!c7\")),\"\")","v":""},{"$f":"IFERROR(IF(INDIRECT(\"'\"&$F57&\"'!e7\")=\"\",\"\",INDIRECT(\"'\"&$F57&\"'!e7\")),\"\")","v":""},{"$f":"IFERROR(IF(INDIRECT(\"'\"&$F57&\"'!f7\")=\"\",\"\",INDIRECT(\"'\"&$F57&\"'!f7\")),\"\")","v":""},{"$f":"IFERROR(IF(INDIRECT(\"'\"&$F57&\"'!h5\")=\"\",\"\",INDIRECT(\"'\"&$F57&\"'!h5\")),\"\")","v":""},{"$f":"IFERROR(LEFT(INDIRECT(\"'\"&$E57&\"'!c38\"),4),\"\")","v":""},{"$f":"IFERROR(LEFT(INDIRECT(\"'\"&$E57&\"'!c39\"),4),\"\")","v":""},{"$f":"IFERROR(LEFT(INDIRECT(\"'\"&$E57&\"'!c40\"),4),\"\")","v":""},{"$f":"IFERROR(LEFT(INDIRECT(\"'\"&$E57&\"'!c41\"),4),\"\")","v":""},{"$f":"IFERROR(LEFT(INDIRECT(\"'\"&$E57&\"'!c42\"),4),\"\")","v":""},{"$f":"IFERROR(LEFT(INDIRECT(\"'\"&$E57&\"'!c43\"),4),\"\")","v":""},{"$f":"IFERROR(LEFT(INDIRECT(\"'\"&$E57&\"'!c44\"),4),\"\")","v":""},{"$f":"IFERROR(LEFT(INDIRECT(\"'\"&$E57&\"'!c45\"),4),\"\")","v":""},{"$f":"IFERROR(LEFT(INDIRECT(\"'\"&$E57&\"'!c46\"),4),\"\")","v":""},{"$f":"IFERROR(LEFT(INDIRECT(\"'\"&$E57&\"'!c47\"),4),\"\")","v":""}]

{"sheet":"Sonraí Ranga","index":1,"n_rows":24,"n_cols":19,"rows_kept":24,"cut":false,"hidden":false,"merged":[[11,2,11,6],[11,18,11,19],[18,10,18,15],[11,10,11,15],[12,10,12,15],[8,7,17,8],[13,3,13,5],[15,2,15,6],[5,2,5,6],[1,0,1,1],[7,7,7,8],[1,2,1,5],[6,2,6,6],[1,6,2,9],[5,7,6,15],[1,10,1,13],[1,14,1,17],[7,2,10,6],[7,9,7,15],[1,18,1,21],[19,7,19,9],[20,7,20,9],[18,7,18,9],[13,10,13,15],[14,10,14,15],[15,10,15,15],[16,10,16,15],[17,10,17,15],[19,10,19,15],[20,10,20,15],[8,10,8,15],[9,10,9,15],[10,10,10,15],[7,18,7,19]]}
[]
["Cliceáil:",null,"Innéacs",null,null,null,"Sonraí Ranga",null,null,null,"Uirlis Phleanála,\nRéasúnaíoch & Aidhm",null,null,null,"Rannpháirtíocht i dtorthaí foghlama",null,null,null,"Treoracha"]
[]
[]
[]
[null,null,null,null,null,null,null,"Bileog sonraí ranga:\nComhlánaigh an tábla thíos. Beidh an t-eolas sa tábla seo réamh-líonta i mbileoga eile. Beidh ainmneacha na múinteoirí ar fáil i roghchlár anuas i ngach aonad den bhileog fhoghlama nuair a bheas na hainmneacha líonta isteach anseo."]
[]
[null,null,{"$f":"'Data Set'!D4","v":"Teicneolaíocht Fheidhmeach"},null,null,null,null,"Scoil:",null,"Iontráil i mbileog sonraí an ranga",null,null,null,null,null,null,null,"Dáta Reatha:",{"$f":"NOW()","v":"2022-04-06T15:48:07.650"}]
[null,null,null,null,null,null,null,"Múinteoirí ábhair sa scoil:",null,1,"Iontráil i mbileog sonraí an ranga"]
[null,null,null,null,null,null,null,null,null,2]
[null,null,null,null,null,null,null,null,null,3]
[null,null,"Uirlis Phleanála Dhigiteach",null,null,null,null,null,null,4]
[null,null,null,null,null,null,null,null,null,5]
[null,null,null,null,null,null,null,null,null,6]
[null,null,null,null,null,null,null,null,null,7]
[null,null,null,null,null,null,null,null,null,8]
[null,null,null,null,null,null,null,null,null,9]
[null,null,null,null,null,null,null,null,null,10]
[null,null,null,null,null,null,null,"Bliain tosaigh na Sraithe Sóisearaí:",null,null,"Iontráil i mbileog sonraí an ranga"]
[null,null,null,null,null,null,null,"Bliain deiridh na Sraithe Sóisearaí",null,null,"Iontráil i mbileog sonraí an ranga"]
[null,null,null,null,null,null,null,"Bliainghrúpa (cód / ainm)",null,null,"Iontráil i mbileog sonraí an ranga"]
[]
[]
[null,null,null,null,"Nótaí:"]

{"sheet":"Aonad 1","index":2,"n_rows":50,"n_cols":8,"rows_kept":50,"cut":false,"hidden":false,"merged":[[1,0,1,1],[1,6,1,7],[8,3,24,3],[8,4,24,4],[4,3,4,4],[37,7,42,7],[37,5,46,5],[31,5,35,5],[26,5,29,5],[9,7,35,7],[8,5,24,5],[49,2,49,3],[37,4,46,4],[26,3,35,3],[26,4,35,4],[3,2,4,2],[8,2,24,2],[26,2,28,2],[30,2,32,2],[34,2,35,2]]}
[]
["Cliceáil:",null,"Innéacs","Sonraí Ranga","Uirlis Phleanála,\nRéasúnaíoch & Aidhm","Rannpháirtíocht i dtorthaí foghlama","Treoracha"]
[]
[null,null,{"$f":"'Data Set'!D4","v":"Teicneolaíocht Fheidhmeach"},"Teideal an aonaid",null,"Le cur ar bhileog innéacs: Roghnaigh Sea / Ní hea",null,"Múinteoir"]
[null,null,null,{"$f":"MID(CELL(\"filename\",A1),FIND(\"]\",CELL(\"filename\",A1))+1,1000)","v":"Aonad 1"},null,"Ní hea"]
[null,null,"Bliainghrúpa","Grúpa Ranga:","Dáta Tosaigh: ","Fad:",null,"Scoil:"]
[null,null,null,{"$f":"IF('Sonraí Ranga'!K21=\"\",\"\",'Sonraí Ranga'!K21)","v":"Iontráil i mbileog sonraí an ranga"},"dd/mm/yyyy","Líon na seachtainaí/ranganna",null,{"$f":"IF('Sonraí Ranga'!J8=\"\",\"\",'Sonraí Ranga'!J8)","v":"Iontráil i mbileog sonraí an ranga"}]
[]
[null,null,null,null,null,null,null,"Nótaí / Íomhánna / Eile"]
[]
[]
[]
[]
[]
[]
[]
[]
[]
[]
[]
[]
[]
[]
[]
[]
[null,null,"RÉAMHFHOGHLAIM:","PRÍOMHFHOGHLAIM","CAD É AN TAITHÍ A BHEIDH AG SCOLÁIRÍ \nAR AN BHFOGHLAIM SEO?","ACMHAINNÍ:"]
[]
[]
[]
[null,null,"FÓCAS NA FOGHLAMA:"]
[null,null,null,null,null,"MODHEOLAÍOCHTAÍ:"]
[]
[]
[null,null,"SNÁITHEANNA AGUS GNÉITHE A FHIOSRÚ:"]
[]
[]
[null,null,"TORTHAÍ FOGHLAMA ","BRIATHRA GNÍMH","MEASÚNÚ LEANÚNACH:","CONAS A BHRAITHFIDH SCOLÁIRÍ NA TORTHAÍ FOGHLAMA?",null,"Machnamh / Na Chéad Chéimeanna Eile"]
[null,null,null,{"$f":"IF(ISERROR(VLOOKUP(C38,'Data Set'!D$8:E$55,2,FALSE)),\"\",(VLOOKUP(C38,'Data Set'!D$8:E$55,2,FALSE)))","v":""}]
[null,null,null,{"$f":"IF(ISERROR(VLOOKUP(C39,'Data Set'!D$8:E$55,2,FALSE)),\"\",(VLOOKUP(C39,'Data Set'!D$8:E$55,2,FALSE)))","v":""}]
[null,null,null,{"$f":"IF(ISERROR(VLOOKUP(C40,'Data Set'!D$8:E$55,2,FALSE)),\"\",(VLOOKUP(C40,'Data Set'!D$8:E$55,2,FALSE)))","v":""}]
[null,null,null,{"$f":"IF(ISERROR(VLOOKUP(C41,'Data Set'!D$8:E$55,2,FALSE)),\"\",(VLOOKUP(C41,'Data Set'!D$8:E$55,2,FALSE)))","v":""}]
[null,null,null,{"$f":"IF(ISERROR(VLOOKUP(C42,'Data Set'!D$8:E$55,2,FALSE)),\"\",(VLOOKUP(C42,'Data Set'!D$8:E$55,2,FALSE)))","v":""}]
[null,null,null,{"$f":"IF(ISERROR(VLOOKUP(C43,'Data Set'!D$8:E$55,2,FALSE)),\"\",(VLOOKUP(C43,'Data Set'!D$8:E$55,2,FALSE)))","v":""}]
[null,null,null,{"$f":"IF(ISERROR(VLOOKUP(C44,'Data Set'!D$8:E$55,2,FALSE)),\"\",(VLOOKUP(C44,'Data Set'!D$8:E$55,2,FALSE)))","v":""}]
[null,null,null,{"$f":"IF(ISERROR(VLOOKUP(C45,'Data Set'!D$8:E$55,2,FALSE)),\"\",(VLOOKUP(C45,'Data Set'!D$8:E$55,2,FALSE)))","v":""}]
[null,null,null,{"$f":"IF(ISERROR(VLOOKUP(C46,'Data Set'!D$8:E$55,2,FALSE)),\"\",(VLOOKUP(C46,'Data Set'!D$8:E$55,2,FALSE)))","v":""}]
[null,null,null,{"$f":"IF(ISERROR(VLOOKUP(C47,'Data Set'!D$8:E$55,2,FALSE)),\"\",(VLOOKUP(C47,'Data Set'!D$8:E$55,2,FALSE)))","v":""}]
[null,null,null,null,null,null,null,"Deartha ag JCt4"]
[]
[null,null,"Nótaí / hipearnaisc le hacmhainní / eile"]

{"sheet":"Aonad 2","index":3,"n_rows":50,"n_cols":8,"rows_kept":50,"cut":false,"hidden":false,"merged":[[37,4,46,4],[37,5,46,5],[37,7,42,7],[49,2,49,3],[26,3,35,3],[26,4,35,4],[26,5,29,5],[30,2,32,2],[31,5,35,5],[34,2,35,2],[1,0,1,1],[1,6,1,7],[3,2,4,2],[4,3,4,4],[8,2,24,2],[8,3,24,3],[8,4,24,4],[8,5,24,5],[9,7,35,7],[26,2,28,2]]}
[]
["Cliceáil:",null,"Innéacs","Sonraí Ranga","Uirlis Phleanála,\nRéasúnaíoch & Aidhm","Rannpháirtíocht i dtorthaí foghlama","Treoracha"]
[]
[null,null,{"$f":"'Data Set'!D4","v":"Teicneolaíocht Fheidhmeach"},"Teideal an aonaid",null,"Le cur ar bhileog innéacs: Roghnaigh Sea / Ní hea",null,"Múinteoir"]
[null,null,null,{"$f":"MID(CELL(\"filename\",A1),FIND(\"]\",CELL(\"filename\",A1))+1,1000)","v":"Aonad 2"},null,"Ní hea"]
[null,null,"Bliainghrúpa","Grúpa Ranga:","Dáta Tosaigh: ","Fad:",null,"Scoil:"]
[null,null,null,{"$f":"IF('Sonraí Ranga'!K21=\"\",\"\",'Sonraí Ranga'!K21)","v":"Iontráil i mbileog sonraí an ranga"},"dd/mm/yyyy","Líon na seachtainaí/ranganna",null,{"$f":"IF('Sonraí Ranga'!J8=\"\",\"\",'Sonraí Ranga'!J8)","v":"Iontráil i mbileog sonraí an ranga"}]
[]
[null,null,null,null,null,null,null,"Nótaí / Íomhánna / Eile"]
[]
[]
[]
[]
[]
[]
[]
[]
[]
[]
[]
[]
[]
[]
[]
[]
[null,null,"RÉAMHFHOGHLAIM:","PRÍOMHFHOGHLAIM","CAD É AN TAITHÍ A BHEIDH AG SCOLÁIRÍ \nAR AN BHFOGHLAIM SEO?","ACMHAINNÍ:"]
[]
[]
[]
[null,null,"FÓCAS NA FOGHLAMA:"]
[null,null,null,null,null,"MODHEOLAÍOCHTAÍ:"]
[]
[]
[null,null,"SNÁITHEANNA AGUS GNÉITHE A FHIOSRÚ:"]
[]
[]
[null,null,"TORTHAÍ FOGHLAMA ","BRIATHRA GNÍMH","MEASÚNÚ LEANÚNACH:","CONAS A BHRAITHFIDH SCOLÁIRÍ NA TORTHAÍ FOGHLAMA?",null,"Machnamh / Na Chéad Chéimeanna Eile"]
[null,null,null,{"$f":"IF(ISERROR(VLOOKUP(C38,'Data Set'!D$8:E$55,2,FALSE)),\"\",(VLOOKUP(C38,'Data Set'!D$8:E$55,2,FALSE)))","v":""}]
[null,null,null,{"$f":"IF(ISERROR(VLOOKUP(C39,'Data Set'!D$8:E$55,2,FALSE)),\"\",(VLOOKUP(C39,'Data Set'!D$8:E$55,2,FALSE)))","v":""}]
[null,null,null,{"$f":"IF(ISERROR(VLOOKUP(C40,'Data Set'!D$8:E$55,2,FALSE)),\"\",(VLOOKUP(C40,'Data Set'!D$8:E$55,2,FALSE)))","v":""}]
[null,null,null,{"$f":"IF(ISERROR(VLOOKUP(C41,'Data Set'!D$8:E$55,2,FALSE)),\"\",(VLOOKUP(C41,'Data Set'!D$8:E$55,2,FALSE)))","v":""}]
[null,null,null,{"$f":"IF(ISERROR(VLOOKUP(C42,'Data Set'!D$8:E$55,2,FALSE)),\"\",(VLOOKUP(C42,'Data Set'!D$8:E$55,2,FALSE)))","v":""}]
[null,null,null,{"$f":"IF(ISERROR(VLOOKUP(C43,'Data Set'!D$8:E$55,2,FALSE)),\"\",(VLOOKUP(C43,'Data Set'!D$8:E$55,2,FALSE)))","v":""}]
[null,null,null,{"$f":"IF(ISERROR(VLOOKUP(C44,'Data Set'!D$8:E$55,2,FALSE)),\"\",(VLOOKUP(C44,'Data Set'!D$8:E$55,2,FALSE)))","v":""}]
[null,null,null,{"$f":"IF(ISERROR(VLOOKUP(C45,'Data Set'!D$8:E$55,2,FALSE)),\"\",(VLOOKUP(C45,'Data Set'!D$8:E$55,2,FALSE)))","v":""}]
[null,null,null,{"$f":"IF(ISERROR(VLOOKUP(C46,'Data Set'!D$8:E$55,2,FALSE)),\"\",(VLOOKUP(C46,'Data Set'!D$8:E$55,2,FALSE)))","v":""}]
[null,null,null,{"$f":"IF(ISERROR(VLOOKUP(C47,'Data Set'!D$8:E$55,2,FALSE)),\"\",(VLOOKUP(C47,'Data Set'!D$8:E$55,2,FALSE)))","v":""}]
[null,null,null,null,null,null,null,"Deartha ag JCt4"]
[]
[null,null,"Nótaí / hipearnaisc le hacmhainní / eile"]

{"sheet":"Aonad 3","index":4,"n_rows":50,"n_cols":8,"rows_kept":50,"cut":false,"hidden":false,"merged":[[37,4,46,4],[37,5,46,5],[37,7,42,7],[49,2,49,3],[26,3,35,3],[26,4,35,4],[26,5,29,5],[30,2,32,2],[31,5,35,5],[34,2,35,2],[1,0,1,1],[1,6,1,7],[3,2,4,2],[4,3,4,4],[8,2,24,2],[8,3,24,3],[8,4,24,4],[8,5,24,5],[9,7,35,7],[26,2,28,2]]}
[]
["Cliceáil:",null,"Innéacs","Sonraí Ranga","Uirlis Phleanála,\nRéasúnaíoch & Aidhm","Rannpháirtíocht i dtorthaí foghlama","Treoracha"]
[]
[null,null,{"$f":"'Data Set'!D4","v":"Teicneolaíocht Fheidhmeach"},"Teideal an aonaid",null,"Le cur ar bhileog innéacs: Roghnaigh Sea / Ní hea",null,"Múinteoir"]
[null,null,null,{"$f":"MID(CELL(\"filename\",A1),FIND(\"]\",CELL(\"filename\",A1))+1,1000)","v":"Aonad 3"},null,"Ní hea"]
[null,null,"Bliainghrúpa","Grúpa Ranga:","Dáta Tosaigh: ","Fad:",null,"Scoil:"]
[null,null,null,{"$f":"IF('Sonraí Ranga'!K21=\"\",\"\",'Sonraí Ranga'!K21)","v":"Iontráil i mbileog sonraí an ranga"},"dd/mm/yyyy","Líon na seachtainaí/ranganna",null,{"$f":"IF('Sonraí Ranga'!J8=\"\",\"\",'Sonraí Ranga'!J8)","v":"Iontráil i mbileog sonraí an ranga"}]
[]
[null,null,null,null,null,null,null,"Nótaí / Íomhánna / Eile"]
[]
[]
[]
[]
[]
[]
[]
[]
[]
[]
[]
[]
[]
[]
[]
[]
[null,null,"RÉAMHFHOGHLAIM:","PRÍOMHFHOGHLAIM","CAD É AN TAITHÍ A BHEIDH AG SCOLÁIRÍ \nAR AN BHFOGHLAIM SEO?","ACMHAINNÍ:"]
[]
[]
[]
[null,null,"FÓCAS NA FOGHLAMA:"]
[null,null,null,null,null,"MODHEOLAÍOCHTAÍ:"]
[]
[]
[null,null,"SNÁITHEANNA AGUS GNÉITHE A FHIOSRÚ:"]
[]
[]
[null,null,"TORTHAÍ FOGHLAMA ","BRIATHRA GNÍMH","MEASÚNÚ LEANÚNACH:","CONAS A BHRAITHFIDH SCOLÁIRÍ NA TORTHAÍ FOGHLAMA?",null,"Machnamh / Na Chéad Chéimeanna Eile"]
[null,null,null,{"$f":"IF(ISERROR(VLOOKUP(C38,'Data Set'!D$8:E$55,2,FALSE)),\"\",(VLOOKUP(C38,'Data Set'!D$8:E$55,2,FALSE)))","v":""}]
[null,null,null,{"$f":"IF(ISERROR(VLOOKUP(C39,'Data Set'!D$8:E$55,2,FALSE)),\"\",(VLOOKUP(C39,'Data Set'!D$8:E$55,2,FALSE)))","v":""}]
[null,null,null,{"$f":"IF(ISERROR(VLOOKUP(C40,'Data Set'!D$8:E$55,2,FALSE)),\"\",(VLOOKUP(C40,'Data Set'!D$8:E$55,2,FALSE)))","v":""}]
[null,null,null,{"$f":"IF(ISERROR(VLOOKUP(C41,'Data Set'!D$8:E$55,2,FALSE)),\"\",(VLOOKUP(C41,'Data Set'!D$8:E$55,2,FALSE)))","v":""}]
[null,null,null,{"$f":"IF(ISERROR(VLOOKUP(C42,'Data Set'!D$8:E$55,2,FALSE)),\"\",(VLOOKUP(C42,'Data Set'!D$8:E$55,2,FALSE)))","v":""}]
[null,null,null,{"$f":"IF(ISERROR(VLOOKUP(C43,'Data Set'!D$8:E$55,2,FALSE)),\"\",(VLOOKUP(C43,'Data Set'!D$8:E$55,2,FALSE)))","v":""}]
[null,null,null,{"$f":"IF(ISERROR(VLOOKUP(C44,'Data Set'!D$8:E$55,2,FALSE)),\"\",(VLOOKUP(C44,'Data Set'!D$8:E$55,2,FALSE)))","v":""}]
[null,null,null,{"$f":"IF(ISERROR(VLOOKUP(C45,'Data Set'!D$8:E$55,2,FALSE)),\"\",(VLOOKUP(C45,'Data Set'!D$8:E$55,2,FALSE)))","v":""}]
[null,null,null,{"$f":"IF(ISERROR(VLOOKUP(C46,'Data Set'!D$8:E$55,2,FALSE)),\"\",(VLOOKUP(C46,'Data Set'!D$8:E$55,2,FALSE)))","v":""}]
[null,null,null,{"$f":"IF(ISERROR(VLOOKUP(C47,'Data Set'!D$8:E$55,2,FALSE)),\"\",(VLOOKUP(C47,'Data Set'!D$8:E$55,2,FALSE)))","v":""}]
[null,null,null,null,null,null,null,"Deartha ag JCt4"]
[]
[null,null,"Nótaí / hipearnaisc le hacmhainní / eile"]

{"sheet":"Aonad 4","index":5,"n_rows":50,"n_cols":8,"rows_kept":50,"cut":false,"hidden":false,"merged":[[37,4,46,4],[37,5,46,5],[37,7,42,7],[49,2,49,3],[26,3,35,3],[26,4,35,4],[26,5,29,5],[30,2,32,2],[31,5,35,5],[34,2,35,2],[1,0,1,1],[1,6,1,7],[3,2,4,2],[4,3,4,4],[8,2,24,2],[8,3,24,3],[8,4,24,4],[8,5,24,5],[9,7,35,7],[26,2,28,2]]}
[]
["Cliceáil:",null,"Innéacs","Sonraí Ranga","Uirlis Phleanála,\nRéasúnaíoch & Aidhm","Rannpháirtíocht i dtorthaí foghlama","Treoracha"]
[]
[null,null,{"$f":"'Data Set'!D4","v":"Teicneolaíocht Fheidhmeach"},"Teideal an aonaid",null,"Le cur ar bhileog innéacs: Roghnaigh Sea / Ní hea",null,"Múinteoir"]
[null,null,null,{"$f":"MID(CELL(\"filename\",A1),FIND(\"]\",CELL(\"filename\",A1))+1,1000)","v":"Aonad 4"},null,"Ní hea"]
[null,null,"Bliainghrúpa","Grúpa Ranga:","Dáta Tosaigh: ","Fad:",null,"Scoil:"]
[null,null,null,{"$f":"IF('Sonraí Ranga'!K21=\"\",\"\",'Sonraí Ranga'!K21)","v":"Iontráil i mbileog sonraí an ranga"},"dd/mm/yyyy","Líon na seachtainaí/ranganna",null,{"$f":"IF('Sonraí Ranga'!J8=\"\",\"\",'Sonraí Ranga'!J8)","v":"Iontráil i mbileog sonraí an ranga"}]
[]
[null,null,null,null,null,null,null,"Nótaí / Íomhánna / Eile"]
[]
[]
[]
[]
[]
[]
[]
[]
[]
[]
[]
[]
[]
[]
[]
[]
[null,null,"RÉAMHFHOGHLAIM:","PRÍOMHFHOGHLAIM","CAD É AN TAITHÍ A BHEIDH AG SCOLÁIRÍ \nAR AN BHFOGHLAIM SEO?","ACMHAINNÍ:"]
[]
[]
[]
[null,null,"FÓCAS NA FOGHLAMA:"]
[null,null,null,null,null,"MODHEOLAÍOCHTAÍ:"]
[]
[]
[null,null,"SNÁITHEANNA AGUS GNÉITHE A FHIOSRÚ:"]
[]
[]
[null,null,"TORTHAÍ FOGHLAMA ","BRIATHRA GNÍMH","MEASÚNÚ LEANÚNACH:","CONAS A BHRAITHFIDH SCOLÁIRÍ NA TORTHAÍ FOGHLAMA?",null,"Machnamh / Na Chéad Chéimeanna Eile"]
[null,null,null,{"$f":"IF(ISERROR(VLOOKUP(C38,'Data Set'!D$8:E$55,2,FALSE)),\"\",(VLOOKUP(C38,'Data Set'!D$8:E$55,2,FALSE)))","v":""}]
[null,null,null,{"$f":"IF(ISERROR(VLOOKUP(C39,'Data Set'!D$8:E$55,2,FALSE)),\"\",(VLOOKUP(C39,'Data Set'!D$8:E$55,2,FALSE)))","v":""}]
[null,null,null,{"$f":"IF(ISERROR(VLOOKUP(C40,'Data Set'!D$8:E$55,2,FALSE)),\"\",(VLOOKUP(C40,'Data Set'!D$8:E$55,2,FALSE)))","v":""}]
[null,null,null,{"$f":"IF(ISERROR(VLOOKUP(C41,'Data Set'!D$8:E$55,2,FALSE)),\"\",(VLOOKUP(C41,'Data Set'!D$8:E$55,2,FALSE)))","v":""}]
[null,null,null,{"$f":"IF(ISERROR(VLOOKUP(C42,'Data Set'!D$8:E$55,2,FALSE)),\"\",(VLOOKUP(C42,'Data Set'!D$8:E$55,2,FALSE)))","v":""}]
[null,null,null,{"$f":"IF(ISERROR(VLOOKUP(C43,'Data Set'!D$8:E$55,2,FALSE)),\"\",(VLOOKUP(C43,'Data Set'!D$8:E$55,2,FALSE)))","v":""}]
[null,null,null,{"$f":"IF(ISERROR(VLOOKUP(C44,'Data Set'!D$8:E$55,2,FALSE)),\"\",(VLOOKUP(C44,'Data Set'!D$8:E$55,2,FALSE)))","v":""}]
[null,null,null,{"$f":"IF(ISERROR(VLOOKUP(C45,'Data Set'!D$8:E$55,2,FALSE)),\"\",(VLOOKUP(C45,'Data Set'!D$8:E$55,2,FALSE)))","v":""}]
[null,null,null,{"$f":"IF(ISERROR(VLOOKUP(C46,'Data Set'!D$8:E$55,2,FALSE)),\"\",(VLOOKUP(C46,'Data Set'!D$8:E$55,2,FALSE)))","v":""}]
[null,null,null,{"$f":"IF(ISERROR(VLOOKUP(C47,'Data Set'!D$8:E$55,2,FALSE)),\"\",(VLOOKUP(C47,'Data Set'!D$8:E$55,2,FALSE)))","v":""}]
[null,null,null,null,null,null,null,"Deartha ag JCt4"]
[]
[null,null,"Nótaí / hipearnaisc le hacmhainní / eile"]

{"sheet":"Aonad 5","index":6,"n_rows":50,"n_cols":8,"rows_kept":50,"cut":false,"hidden":false,"merged":[[37,4,46,4],[37,5,46,5],[37,7,42,7],[49,2,49,3],[26,3,35,3],[26,4,35,4],[26,5,29,5],[30,2,32,2],[31,5,35,5],[34,2,35,2],[1,0,1,1],[1,6,1,7],[3,2,4,2],[4,3,4,4],[8,2,24,2],[8,3,24,3],[8,4,24,4],[8,5,24,5],[9,7,35,7],[26,2,28,2]]}
[]
["Cliceáil:",null,"Innéacs","Sonraí Ranga","Uirlis Phleanála,\nRéasúnaíoch & Aidhm","Rannpháirtíocht i dtorthaí foghlama","Treoracha"]
[]
[null,null,{"$f":"'Data Set'!D4","v":"Teicneolaíocht Fheidhmeach"},"Teideal an aonaid",null,"Le cur ar bhileog innéacs: Roghnaigh Sea / Ní hea",null,"Múinteoir"]
[null,null,null,{"$f":"MID(CELL(\"filename\",A1),FIND(\"]\",CELL(\"filename\",A1))+1,1000)","v":"Aonad 5"},null,"Ní hea"]
[null,null,"Bliainghrúpa","Grúpa Ranga:","Dáta Tosaigh: ","Fad:",null,"Scoil:"]
[null,null,null,{"$f":"IF('Sonraí Ranga'!K21=\"\",\"\",'Sonraí Ranga'!K21)","v":"Iontráil i mbileog sonraí an ranga"},"dd/mm/yyyy","Líon na seachtainaí/ranganna",null,{"$f":"IF('Sonraí Ranga'!J8=\"\",\"\",'Sonraí Ranga'!J8)","v":"Iontráil i mbileog sonraí an ranga"}]
[]
[null,null,null,null,null,null,null,"Nótaí / Íomhánna / Eile"]
[]
[]
[]
[]
[]
[]
[]
[]
[]
[]
[]
[]
[]
[]
[]
[]
[null,null,"RÉAMHFHOGHLAIM:","PRÍOMHFHOGHLAIM","CAD É AN TAITHÍ A BHEIDH AG SCOLÁIRÍ \nAR AN BHFOGHLAIM SEO?","ACMHAINNÍ:"]
[]
[]
[]
[null,null,"FÓCAS NA FOGHLAMA:"]
[null,null,null,null,null,"MODHEOLAÍOCHTAÍ:"]
[]
[]
[null,null,"SNÁITHEANNA AGUS GNÉITHE A FHIOSRÚ:"]
[]
[]
[null,null,"TORTHAÍ FOGHLAMA ","BRIATHRA GNÍMH","MEASÚNÚ LEANÚNACH:","CONAS A BHRAITHFIDH SCOLÁIRÍ NA TORTHAÍ FOGHLAMA?",null,"Machnamh / Na Chéad Chéimeanna Eile"]
[null,null,null,{"$f":"IF(ISERROR(VLOOKUP(C38,'Data Set'!D$8:E$55,2,FALSE)),\"\",(VLOOKUP(C38,'Data Set'!D$8:E$55,2,FALSE)))","v":""}]
[null,null,null,{"$f":"IF(ISERROR(VLOOKUP(C39,'Data Set'!D$8:E$55,2,FALSE)),\"\",(VLOOKUP(C39,'Data Set'!D$8:E$55,2,FALSE)))","v":""}]
[null,null,null,{"$f":"IF(ISERROR(VLOOKUP(C40,'Data Set'!D$8:E$55,2,FALSE)),\"\",(VLOOKUP(C40,'Data Set'!D$8:E$55,2,FALSE)))","v":""}]
[null,null,null,{"$f":"IF(ISERROR(VLOOKUP(C41,'Data Set'!D$8:E$55,2,FALSE)),\"\",(VLOOKUP(C41,'Data Set'!D$8:E$55,2,FALSE)))","v":""}]
[null,null,null,{"$f":"IF(ISERROR(VLOOKUP(C42,'Data Set'!D$8:E$55,2,FALSE)),\"\",(VLOOKUP(C42,'Data Set'!D$8:E$55,2,FALSE)))","v":""}]
[null,null,null,{"$f":"IF(ISERROR(VLOOKUP(C43,'Data Set'!D$8:E$55,2,FALSE)),\"\",(VLOOKUP(C43,'Data Set'!D$8:E$55,2,FALSE)))","v":""}]
[null,null,null,{"$f":"IF(ISERROR(VLOOKUP(C44,'Data Set'!D$8:E$55,2,FALSE)),\"\",(VLOOKUP(C44,'Data Set'!D$8:E$55,2,FALSE)))","v":""}]
[null,null,null,{"$f":"IF(ISERROR(VLOOKUP(C45,'Data Set'!D$8:E$55,2,FALSE)),\"\",(VLOOKUP(C45,'Data Set'!D$8:E$55,2,FALSE)))","v":""}]
[null,null,null,{"$f":"IF(ISERROR(VLOOKUP(C46,'Data Set'!D$8:E$55,2,FALSE)),\"\",(VLOOKUP(C46,'Data Set'!D$8:E$55,2,FALSE)))","v":""}]
[null,null,null,{"$f":"IF(ISERROR(VLOOKUP(C47,'Data Set'!D$8:E$55,2,FALSE)),\"\",(VLOOKUP(C47,'Data Set'!D$8:E$55,2,FALSE)))","v":""}]
[null,null,null,null,null,null,null,"Deartha ag JCt4"]
[]
[null,null,"Nótaí / hipearnaisc le hacmhainní / eile"]

{"sheet":"Aonad 6","index":7,"n_rows":50,"n_cols":8,"rows_kept":50,"cut":false,"hidden":true,"merged":[[37,4,46,4],[37,5,46,5],[37,7,42,7],[49,2,49,3],[26,3,35,3],[26,4,35,4],[26,5,29,5],[30,2,32,2],[31,5,35,5],[34,2,35,2],[1,0,1,1],[1,6,1,7],[3,2,4,2],[4,3,4,4],[8,2,24,2],[8,3,24,3],[8,4,24,4],[8,5,24,5],[9,7,35,7],[26,2,28,2]]}
[]
["Cliceáil:",null,"Innéacs","Sonraí Ranga","Uirlis Phleanála,\nRéasúnaíoch & Aidhm","Rannpháirtíocht i dtorthaí foghlama","Treoracha"]
[]
[null,null,{"$f":"'Data Set'!D4","v":"Teicneolaíocht Fheidhmeach"},"Teideal an aonaid",null,"Le cur ar bhileog innéacs: Roghnaigh Sea / Ní hea",null,"Múinteoir"]
[null,null,null,{"$f":"MID(CELL(\"filename\",A1),FIND(\"]\",CELL(\"filename\",A1))+1,1000)","v":"Aonad 6"},null,"Ní hea"]
[null,null,"Bliainghrúpa","Grúpa Ranga:","Dáta Tosaigh: ","Fad:",null,"Scoil:"]
[null,null,null,{"$f":"IF('Sonraí Ranga'!K21=\"\",\"\",'Sonraí Ranga'!K21)","v":"Iontráil i mbileog sonraí an ranga"},"dd/mm/yyyy","Líon na seachtainaí/ranganna",null,{"$f":"IF('Sonraí Ranga'!J8=\"\",\"\",'Sonraí Ranga'!J8)","v":"Iontráil i mbileog sonraí an ranga"}]
[]
[null,null,null,null,null,null,null,"Nótaí / Íomhánna / Eile"]
[]
[]
[]
[]
[]
[]
[]
[]
[]
[]
[]
[]
[]
[]
[]
[]
[null,null,"RÉAMHFHOGHLAIM:","PRÍOMHFHOGHLAIM","CAD É AN TAITHÍ A BHEIDH AG SCOLÁIRÍ \nAR AN BHFOGHLAIM SEO?","ACMHAINNÍ:"]
[]
[]
[]
[null,null,"FÓCAS NA FOGHLAMA:"]
[null,null,null,null,null,"MODHEOLAÍOCHTAÍ:"]
[]
[]
[null,null,"SNÁITHEANNA AGUS GNÉITHE A FHIOSRÚ:"]
[]
[]
[null,null,"TORTHAÍ FOGHLAMA ","BRIATHRA GNÍMH","MEASÚNÚ LEANÚNACH:","CONAS A BHRAITHFIDH SCOLÁIRÍ NA TORTHAÍ FOGHLAMA?",null,"Machnamh / Na Chéad Chéimeanna Eile"]
[null,null,null,{"$f":"IF(ISERROR(VLOOKUP(C38,'Data Set'!D$8:E$55,2,FALSE)),\"\",(VLOOKUP(C38,'Data Set'!D$8:E$55,2,FALSE)))","v":""}]
[null,null,null,{"$f":"IF(ISERROR(VLOOKUP(C39,'Data Set'!D$8:E$55,2,FALSE)),\"\",(VLOOKUP(C39,'Data Set'!D$8:E$55,2,FALSE)))","v":""}]
[null,null,null,{"$f":"IF(ISERROR(VLOOKUP(C40,'Data Set'!D$8:E$55,2,FALSE)),\"\",(VLOOKUP(C40,'Data Set'!D$8:E$55,2,FALSE)))","v":""}]
[null,null,null,{"$f":"IF(ISERROR(VLOOKUP(C41,'Data Set'!D$8:E$55,2,FALSE)),\"\",(VLOOKUP(C41,'Data Set'!D$8:E$55,2,FALSE)))","v":""}]
[null,null,null,{"$f":"IF(ISERROR(VLOOKUP(C42,'Data Set'!D$8:E$55,2,FALSE)),\"\",(VLOOKUP(C42,'Data Set'!D$8:E$55,2,FALSE)))","v":""}]
[null,null,null,{"$f":"IF(ISERROR(VLOOKUP(C43,'Data Set'!D$8:E$55,2,FALSE)),\"\",(VLOOKUP(C43,'Data Set'!D$8:E$55,2,FALSE)))","v":""}]
[null,null,null,{"$f":"IF(ISERROR(VLOOKUP(C44,'Data Set'!D$8:E$55,2,FALSE)),\"\",(VLOOKUP(C44,'Data Set'!D$8:E$55,2,FALSE)))","v":""}]
[null,null,null,{"$f":"IF(ISERROR(VLOOKUP(C45,'Data Set'!D$8:E$55,2,FALSE)),\"\",(VLOOKUP(C45,'Data Set'!D$8:E$55,2,FALSE)))","v":""}]
[null,null,null,{"$f":"IF(ISERROR(VLOOKUP(C46,'Data Set'!D$8:E$55,2,FALSE)),\"\",(VLOOKUP(C46,'Data Set'!D$8:E$55,2,FALSE)))","v":""}]
[null,null,null,{"$f":"IF(ISERROR(VLOOKUP(C47,'Data Set'!D$8:E$55,2,FALSE)),\"\",(VLOOKUP(C47,'Data Set'!D$8:E$55,2,FALSE)))","v":""}]
[null,null,null,null,null,null,null,"Deartha ag JCt4"]
[]
[null,null,"Nótaí / hipearnaisc le hacmhainní / eile"]

{"sheet":"Aonad 7","index":8,"n_rows":50,"n_cols":8,"rows_kept":50,"cut":false,"hidden":true,"merged":[[37,4,46,4],[37,5,46,5],[37,7,42,7],[49,2,49,3],[26,3,35,3],[26,4,35,4],[26,5,29,5],[30,2,32,2],[31,5,35,5],[34,2,35,2],[1,0,1,1],[1,6,1,7],[3,2,4,2],[4,3,4,4],[8,2,24,2],[8,3,24,3],[8,4,24,4],[8,5,24,5],[9,7,35,7],[26,2,28,2]]}
[]
["Cliceáil:",null,"Innéacs","Sonraí Ranga","Uirlis Phleanála,\nRéasúnaíoch & Aidhm","Rannpháirtíocht i dtorthaí foghlama","Treoracha"]
[]
[null,null,{"$f":"'Data Set'!D4","v":"Teicneolaíocht Fheidhmeach"},"Teideal an aonaid",null,"Le cur ar bhileog innéacs: Roghnaigh Sea / Ní hea",null,"Múinteoir"]
[null,null,null,{"$f":"MID(CELL(\"filename\",A1),FIND(\"]\",CELL(\"filename\",A1))+1,1000)","v":"Aonad 7"},null,"Ní hea"]
[null,null,"Bliainghrúpa","Grúpa Ranga:","Dáta Tosaigh: ","Fad:",null,"Scoil:"]
[null,null,null,{"$f":"IF('Sonraí Ranga'!K21=\"\",\"\",'Sonraí Ranga'!K21)","v":"Iontráil i mbileog sonraí an ranga"},"dd/mm/yyyy","Líon na seachtainaí/ranganna",null,{"$f":"IF('Sonraí Ranga'!J8=\"\",\"\",'Sonraí Ranga'!J8)","v":"Iontráil i mbileog sonraí an ranga"}]
[]
[null,null,null,null,null,null,null,"Nótaí / Íomhánna / Eile"]
[]
[]
[]
[]
[]
[]
[]
[]
[]
[]
[]
[]
[]
[]
[]
[]
[null,null,"RÉAMHFHOGHLAIM:","PRÍOMHFHOGHLAIM","CAD É AN TAITHÍ A BHEIDH AG SCOLÁIRÍ \nAR AN BHFOGHLAIM SEO?","ACMHAINNÍ:"]
[]
[]
[]
[null,null,"FÓCAS NA FOGHLAMA:"]
[null,null,null,null,null,"MODHEOLAÍOCHTAÍ:"]
[]
[]
[null,null,"SNÁITHEANNA AGUS GNÉITHE A FHIOSRÚ:"]
[]
[]
[null,null,"TORTHAÍ FOGHLAMA ","BRIATHRA GNÍMH","MEASÚNÚ LEANÚNACH:","CONAS A BHRAITHFIDH SCOLÁIRÍ NA TORTHAÍ FOGHLAMA?",null,"Machnamh / Na Chéad Chéimeanna Eile"]
[null,null,null,{"$f":"IF(ISERROR(VLOOKUP(C38,'Data Set'!D$8:E$55,2,FALSE)),\"\",(VLOOKUP(C38,'Data Set'!D$8:E$55,2,FALSE)))","v":""}]
[null,null,null,{"$f":"IF(ISERROR(VLOOKUP(C39,'Data Set'!D$8:E$55,2,FALSE)),\"\",(VLOOKUP(C39,'Data Set'!D$8:E$55,2,FALSE)))","v":""}]
[null,null,null,{"$f":"IF(ISERROR(VLOOKUP(C40,'Data Set'!D$8:E$55,2,FALSE)),\"\",(VLOOKUP(C40,'Data Set'!D$8:E$55,2,FALSE)))","v":""}]
[null,null,null,{"$f":"IF(ISERROR(VLOOKUP(C41,'Data Set'!D$8:E$55,2,FALSE)),\"\",(VLOOKUP(C41,'Data Set'!D$8:E$55,2,FALSE)))","v":""}]
[null,null,null,{"$f":"IF(ISERROR(VLOOKUP(C42,'Data Set'!D$8:E$55,2,FALSE)),\"\",(VLOOKUP(C42,'Data Set'!D$8:E$55,2,FALSE)))","v":""}]
[null,null,null,{"$f":"IF(ISERROR(VLOOKUP(C43,'Data Set'!D$8:E$55,2,FALSE)),\"\",(VLOOKUP(C43,'Data Set'!D$8:E$55,2,FALSE)))","v":""}]
[null,null,null,{"$f":"IF(ISERROR(VLOOKUP(C44,'Data Set'!D$8:E$55,2,FALSE)),\"\",(VLOOKUP(C44,'Data Set'!D$8:E$55,2,FALSE)))","v":""}]
[null,null,null,{"$f":"IF(ISERROR(VLOOKUP(C45,'Data Set'!D$8:E$55,2,FALSE)),\"\",(VLOOKUP(C45,'Data Set'!D$8:E$55,2,FALSE)))","v":""}]
[null,null,null,{"$f":"IF(ISERROR(VLOOKUP(C46,'Data Set'!D$8:E$55,2,FALSE)),\"\",(VLOOKUP(C46,'Data Set'!D$8:E$55,2,FALSE)))","v":""}]
[null,null,null,{"$f":"IF(ISERROR(VLOOKUP(C47,'Data Set'!D$8:E$55,2,FALSE)),\"\",(VLOOKUP(C47,'Data Set'!D$8:E$55,2,FALSE)))","v":""}]
[null,null,null,null,null,null,null,"Deartha ag JCt4"]
[]
[null,null,"Nótaí / hipearnaisc le hacmhainní / eile"]

{"sheet":"Aonad 8","index":9,"n_rows":50,"n_cols":8,"rows_kept":50,"cut":false,"hidden":true,"merged":[[37,4,46,4],[37,5,46,5],[37,7,42,7],[49,2,49,3],[26,3,35,3],[26,4,35,4],[26,5,29,5],[30,2,32,2],[31,5,35,5],[34,2,35,2],[1,0,1,1],[1,6,1,7],[3,2,4,2],[4,3,4,4],[8,2,24,2],[8,3,24,3],[8,4,24,4],[8,5,24,5],[9,7,35,7],[26,2,28,2]]}
[]
["Cliceáil:",null,"Innéacs","Sonraí Ranga","Uirlis Phleanála,\nRéasúnaíoch & Aidhm","Rannpháirtíocht i dtorthaí foghlama","Treoracha"]
[]
[null,null,{"$f":"'Data Set'!D4","v":"Teicneolaíocht Fheidhmeach"},"Teideal an aonaid",null,"Le cur ar bhileog innéacs: Roghnaigh Sea / Ní hea",null,"Múinteoir"]
[null,null,null,{"$f":"MID(CELL(\"filename\",A1),FIND(\"]\",CELL(\"filename\",A1))+1,1000)","v":"Aonad 8"},null,"Ní hea"]
[null,null,"Bliainghrúpa","Grúpa Ranga:","Dáta Tosaigh: ","Fad:",null,"Scoil:"]
[null,null,null,{"$f":"IF('Sonraí Ranga'!K21=\"\",\"\",'Sonraí Ranga'!K21)","v":"Iontráil i mbileog sonraí an ranga"},"dd/mm/yyyy","Líon na seachtainaí/ranganna",null,{"$f":"IF('Sonraí Ranga'!J8=\"\",\"\",'Sonraí Ranga'!J8)","v":"Iontráil i mbileog sonraí an ranga"}]
[]
[null,null,null,null,null,null,null,"Nótaí / Íomhánna / Eile"]
[]
[]
[]
[]
[]
[]
[]
[]
[]
[]
[]
[]
[]
[]
[]
[]
[null,null,"RÉAMHFHOGHLAIM:","PRÍOMHFHOGHLAIM","CAD É AN TAITHÍ A BHEIDH AG SCOLÁIRÍ \nAR AN BHFOGHLAIM SEO?","ACMHAINNÍ:"]
[]
[]
[]
[null,null,"FÓCAS NA FOGHLAMA:"]
[null,null,null,null,null,"MODHEOLAÍOCHTAÍ:"]
[]
[]
[null,null,"SNÁITHEANNA AGUS GNÉITHE A FHIOSRÚ:"]
[]
[]
[null,null,"TORTHAÍ FOGHLAMA ","BRIATHRA GNÍMH","MEASÚNÚ LEANÚNACH:","CONAS A BHRAITHFIDH SCOLÁIRÍ NA TORTHAÍ FOGHLAMA?",null,"Machnamh / Na Chéad Chéimeanna Eile"]
[null,null,null,{"$f":"IF(ISERROR(VLOOKUP(C38,'Data Set'!D$8:E$55,2,FALSE)),\"\",(VLOOKUP(C38,'Data Set'!D$8:E$55,2,FALSE)))","v":""}]
[null,null,null,{"$f":"IF(ISERROR(VLOOKUP(C39,'Data Set'!D$8:E$55,2,FALSE)),\"\",(VLOOKUP(C39,'Data Set'!D$8:E$55,2,FALSE)))","v":""}]
[null,null,null,{"$f":"IF(ISERROR(VLOOKUP(C40,'Data Set'!D$8:E$55,2,FALSE)),\"\",(VLOOKUP(C40,'Data Set'!D$8:E$55,2,FALSE)))","v":""}]
[null,null,null,{"$f":"IF(ISERROR(VLOOKUP(C41,'Data Set'!D$8:E$55,2,FALSE)),\"\",(VLOOKUP(C41,'Data Set'!D$8:E$55,2,FALSE)))","v":""}]
[null,null,null,{"$f":"IF(ISERROR(VLOOKUP(C42,'Data Set'!D$8:E$55,2,FALSE)),\"\",(VLOOKUP(C42,'Data Set'!D$8:E$55,2,FALSE)))","v":""}]
[null,null,null,{"$f":"IF(ISERROR(VLOOKUP(C43,'Data Set'!D$8:E$55,2,FALSE)),\"\",(VLOOKUP(C43,'Data Set'!D$8:E$55,2,FALSE)))","v":""}]
[null,null,null,{"$f":"IF(ISERROR(VLOOKUP(C44,'Data Set'!D$8:E$55,2,FALSE)),\"\",(VLOOKUP(C44,'Data Set'!D$8:E$55,2,FALSE)))","v":""}]
[null,null,null,{"$f":"IF(ISERROR(VLOOKUP(C45,'Data Set'!D$8:E$55,2,FALSE)),\"\",(VLOOKUP(C45,'Data Set'!D$8:E$55,2,FALSE)))","v":""}]
[null,null,null,{"$f":"IF(ISERROR(VLOOKUP(C46,'Data Set'!D$8:E$55,2,FALSE)),\"\",(VLOOKUP(C46,'Data Set'!D$8:E$55,2,FALSE)))","v":""}]
[null,null,null,{"$f":"IF(ISERROR(VLOOKUP(C47,'Data Set'!D$8:E$55,2,FALSE)),\"\",(VLOOKUP(C47,'Data Set'!D$8:E$55,2,FALSE)))","v":""}]
[null,null,null,null,null,null,null,"Deartha ag JCt4"]
[]
[null,null,"Nótaí / hipearnaisc le hacmhainní / eile"]

{"sheet":"Aonad 9","index":10,"n_rows":50,"n_cols":8,"rows_kept":50,"cut":false,"hidden":true,"merged":[[37,4,46,4],[37,5,46,5],[37,7,42,7],[49,2,49,3],[26,3,35,3],[26,4,35,4],[26,5,29,5],[30,2,32,2],[31,5,35,5],[34,2,35,2],[1,0,1,1],[1,6,1,7],[3,2,4,2],[4,3,4,4],[8,2,24,2],[8,3,24,3],[8,4,24,4],[8,5,24,5],[9,7,35,7],[26,2,28,2]]}
[]
["Cliceáil:",null,"Innéacs","Sonraí Ranga","Uirlis Phleanála,\nRéasúnaíoch & Aidhm","Rannpháirtíocht i dtorthaí foghlama","Treoracha"]
[]
[null,null,{"$f":"'Data Set'!D4","v":"Teicneolaíocht Fheidhmeach"},"Teideal an aonaid",null,"Le cur ar bhileog innéacs: Roghnaigh Sea / Ní hea",null,"Múinteoir"]
[null,null,null,{"$f":"MID(CELL(\"filename\",A1),FIND(\"]\",CELL(\"filename\",A1))+1,1000)","v":"Aonad 9"},null,"Ní hea"]
[null,null,"Bliainghrúpa","Grúpa Ranga:","Dáta Tosaigh: ","Fad:",null,"Scoil:"]
[null,null,null,{"$f":"IF('Sonraí Ranga'!K21=\"\",\"\",'Sonraí Ranga'!K21)","v":"Iontráil i mbileog sonraí an ranga"},"dd/mm/yyyy","Líon na seachtainaí/ranganna",null,{"$f":"IF('Sonraí Ranga'!J8=\"\",\"\",'Sonraí Ranga'!J8)","v":"Iontráil i mbileog sonraí an ranga"}]
[]
[null,null,null,null,null,null,null,"Nótaí / Íomhánna / Eile"]
[]
[]
[]
[]
[]
[]
[]
[]
[]
[]
[]
[]
[]
[]
[]
[]
[null,null,"RÉAMHFHOGHLAIM:","PRÍOMHFHOGHLAIM","CAD É AN TAITHÍ A BHEIDH AG SCOLÁIRÍ \nAR AN BHFOGHLAIM SEO?","ACMHAINNÍ:"]
[]
[]
[]
[null,null,"FÓCAS NA FOGHLAMA:"]
[null,null,null,null,null,"MODHEOLAÍOCHTAÍ:"]
[]
[]
[null,null,"SNÁITHEANNA AGUS GNÉITHE A FHIOSRÚ:"]
[]
[]
[null,null,"TORTHAÍ FOGHLAMA ","BRIATHRA GNÍMH","MEASÚNÚ LEANÚNACH:","CONAS A BHRAITHFIDH SCOLÁIRÍ NA TORTHAÍ FOGHLAMA?",null,"Machnamh / Na Chéad Chéimeanna Eile"]
[null,null,null,{"$f":"IF(ISERROR(VLOOKUP(C38,'Data Set'!D$8:E$55,2,FALSE)),\"\",(VLOOKUP(C38,'Data Set'!D$8:E$55,2,FALSE)))","v":""}]
[null,null,null,{"$f":"IF(ISERROR(VLOOKUP(C39,'Data Set'!D$8:E$55,2,FALSE)),\"\",(VLOOKUP(C39,'Data Set'!D$8:E$55,2,FALSE)))","v":""}]
[null,null,null,{"$f":"IF(ISERROR(VLOOKUP(C40,'Data Set'!D$8:E$55,2,FALSE)),\"\",(VLOOKUP(C40,'Data Set'!D$8:E$55,2,FALSE)))","v":""}]
[null,null,null,{"$f":"IF(ISERROR(VLOOKUP(C41,'Data Set'!D$8:E$55,2,FALSE)),\"\",(VLOOKUP(C41,'Data Set'!D$8:E$55,2,FALSE)))","v":""}]
[null,null,null,{"$f":"IF(ISERROR(VLOOKUP(C42,'Data Set'!D$8:E$55,2,FALSE)),\"\",(VLOOKUP(C42,'Data Set'!D$8:E$55,2,FALSE)))","v":""}]
[null,null,null,{"$f":"IF(ISERROR(VLOOKUP(C43,'Data Set'!D$8:E$55,2,FALSE)),\"\",(VLOOKUP(C43,'Data Set'!D$8:E$55,2,FALSE)))","v":""}]
[null,null,null,{"$f":"IF(ISERROR(VLOOKUP(C44,'Data Set'!D$8:E$55,2,FALSE)),\"\",(VLOOKUP(C44,'Data Set'!D$8:E$55,2,FALSE)))","v":""}]
[null,null,null,{"$f":"IF(ISERROR(VLOOKUP(C45,'Data Set'!D$8:E$55,2,FALSE)),\"\",(VLOOKUP(C45,'Data Set'!D$8:E$55,2,FALSE)))","v":""}]
[null,null,null,{"$f":"IF(ISERROR(VLOOKUP(C46,'Data Set'!D$8:E$55,2,FALSE)),\"\",(VLOOKUP(C46,'Data Set'!D$8:E$55,2,FALSE)))","v":""}]
[null,null,null,{"$f":"IF(ISERROR(VLOOKUP(C47,'Data Set'!D$8:E$55,2,FALSE)),\"\",(VLOOKUP(C47,'Data Set'!D$8:E$55,2,FALSE)))","v":""}]
[null,null,null,null,null,null,null,"Deartha ag JCt4"]
[]
[null,null,"Nótaí / hipearnaisc le hacmhainní / eile"]

{"sheet":"Aonad 10","index":11,"n_rows":50,"n_cols":8,"rows_kept":50,"cut":false,"hidden":true,"merged":[[37,4,46,4],[37,5,46,5],[37,7,42,7],[49,2,49,3],[26,3,35,3],[26,4,35,4],[26,5,29,5],[30,2,32,2],[31,5,35,5],[34,2,35,2],[1,0,1,1],[1,6,1,7],[3,2,4,2],[4,3,4,4],[8,2,24,2],[8,3,24,3],[8,4,24,4],[8,5,24,5],[9,7,35,7],[26,2,28,2]]}
[]
["Cliceáil:",null,"Innéacs","Sonraí Ranga","Uirlis Phleanála,\nRéasúnaíoch & Aidhm","Rannpháirtíocht i dtorthaí foghlama","Treoracha"]
[]
[null,null,{"$f":"'Data Set'!D4","v":"Teicneolaíocht Fheidhmeach"},"Teideal an aonaid",null,"Le cur ar bhileog innéacs: Roghnaigh Sea / Ní hea",null,"Múinteoir"]
[null,null,null,{"$f":"MID(CELL(\"filename\",A1),FIND(\"]\",CELL(\"filename\",A1))+1,1000)","v":"Aonad 10"},null,"Ní hea"]
[null,null,"Bliainghrúpa","Grúpa Ranga:","Dáta Tosaigh: ","Fad:",null,"Scoil:"]
[null,null,null,{"$f":"IF('Sonraí Ranga'!K21=\"\",\"\",'Sonraí Ranga'!K21)","v":"Iontráil i mbileog sonraí an ranga"},"dd/mm/yyyy","Líon na seachtainaí/ranganna",null,{"$f":"IF('Sonraí Ranga'!J8=\"\",\"\",'Sonraí Ranga'!J8)","v":"Iontráil i mbileog sonraí an ranga"}]
[]
[null,null,null,null,null,null,null,"Nótaí / Íomhánna / Eile"]
[]
[]
[]
[]
[]
[]
[]
[]
[]
[]
[]
[]
[]
[]
[]
[]
[null,null,"RÉAMHFHOGHLAIM:","PRÍOMHFHOGHLAIM","CAD É AN TAITHÍ A BHEIDH AG SCOLÁIRÍ \nAR AN BHFOGHLAIM SEO?","ACMHAINNÍ:"]
[]
[]
[]
[null,null,"FÓCAS NA FOGHLAMA:"]
[null,null,null,null,null,"MODHEOLAÍOCHTAÍ:"]
[]
[]
[null,null,"SNÁITHEANNA AGUS GNÉITHE A FHIOSRÚ:"]
[]
[]
[null,null,"TORTHAÍ FOGHLAMA ","BRIATHRA GNÍMH","MEASÚNÚ LEANÚNACH:","CONAS A BHRAITHFIDH SCOLÁIRÍ NA TORTHAÍ FOGHLAMA?",null,"Machnamh / Na Chéad Chéimeanna Eile"]
[null,null,null,{"$f":"IF(ISERROR(VLOOKUP(C38,'Data Set'!D$8:E$55,2,FALSE)),\"\",(VLOOKUP(C38,'Data Set'!D$8:E$55,2,FALSE)))","v":""}]
[null,null,null,{"$f":"IF(ISERROR(VLOOKUP(C39,'Data Set'!D$8:E$55,2,FALSE)),\"\",(VLOOKUP(C39,'Data Set'!D$8:E$55,2,FALSE)))","v":""}]
[null,null,null,{"$f":"IF(ISERROR(VLOOKUP(C40,'Data Set'!D$8:E$55,2,FALSE)),\"\",(VLOOKUP(C40,'Data Set'!D$8:E$55,2,FALSE)))","v":""}]
[null,null,null,{"$f":"IF(ISERROR(VLOOKUP(C41,'Data Set'!D$8:E$55,2,FALSE)),\"\",(VLOOKUP(C41,'Data Set'!D$8:E$55,2,FALSE)))","v":""}]
[null,null,null,{"$f":"IF(ISERROR(VLOOKUP(C42,'Data Set'!D$8:E$55,2,FALSE)),\"\",(VLOOKUP(C42,'Data Set'!D$8:E$55,2,FALSE)))","v":""}]
[null,null,null,{"$f":"IF(ISERROR(VLOOKUP(C43,'Data Set'!D$8:E$55,2,FALSE)),\"\",(VLOOKUP(C43,'Data Set'!D$8:E$55,2,FALSE)))","v":""}]
[null,null,null,{"$f":"IF(ISERROR(VLOOKUP(C44,'Data Set'!D$8:E$55,2,FALSE)),\"\",(VLOOKUP(C44,'Data Set'!D$8:E$55,2,FALSE)))","v":""}]
[null,null,null,{"$f":"IF(ISERROR(VLOOKUP(C45,'Data Set'!D$8:E$55,2,FALSE)),\"\",(VLOOKUP(C45,'Data Set'!D$8:E$55,2,FALSE)))","v":""}]
[null,null,null,{"$f":"IF(ISERROR(VLOOKUP(C46,'Data Set'!D$8:E$55,2,FALSE)),\"\",(VLOOKUP(C46,'Data Set'!D$8:E$55,2,FALSE)))","v":""}]
[null,null,null,{"$f":"IF(ISERROR(VLOOKUP(C47,'Data Set'!D$8:E$55,2,FALSE)),\"\",(VLOOKUP(C47,'Data Set'!D$8:E$55,2,FALSE)))","v":""}]
[null,null,null,null,null,null,null,"Deartha ag JCt4"]
[]
[null,null,"Nótaí / hipearnaisc le hacmhainní / eile"]

{"sheet":"Aonad 11","index":12,"n_rows":50,"n_cols":8,"rows_kept":50,"cut":false,"hidden":true,"merged":[[37,4,46,4],[37,5,46,5],[37,7,42,7],[49,2,49,3],[26,3,35,3],[26,4,35,4],[26,5,29,5],[30,2,32,2],[31,5,35,5],[34,2,35,2],[1,0,1,1],[1,6,1,7],[3,2,4,2],[4,3,4,4],[8,2,24,2],[8,3,24,3],[8,4,24,4],[8,5,24,5],[9,7,35,7],[26,2,28,2]]}
[]
["Cliceáil:",null,"Innéacs","Sonraí Ranga","Uirlis Phleanála,\nRéasúnaíoch & Aidhm","Rannpháirtíocht i dtorthaí foghlama","Treoracha"]
[]
[null,null,{"$f":"'Data Set'!D4","v":"Teicneolaíocht Fheidhmeach"},"Teideal an aonaid",null,"Le cur ar bhileog innéacs: Roghnaigh Sea / Ní hea",null,"Múinteoir"]
[null,null,null,{"$f":"MID(CELL(\"filename\",A1),FIND(\"]\",CELL(\"filename\",A1))+1,1000)","v":"Aonad 11"},null,"Ní hea"]
[null,null,"Bliainghrúpa","Grúpa Ranga:","Dáta Tosaigh: ","Fad:",null,"Scoil:"]
[null,null,null,{"$f":"IF('Sonraí Ranga'!K21=\"\",\"\",'Sonraí Ranga'!K21)","v":"Iontráil i mbileog sonraí an ranga"},"dd/mm/yyyy","Líon na seachtainaí/ranganna",null,{"$f":"IF('Sonraí Ranga'!J8=\"\",\"\",'Sonraí Ranga'!J8)","v":"Iontráil i mbileog sonraí an ranga"}]
[]
[null,null,null,null,null,null,null,"Nótaí / Íomhánna / Eile"]
[]
[]
[]
[]
[]
[]
[]
[]
[]
[]
[]
[]
[]
[]
[]
[]
[null,null,"RÉAMHFHOGHLAIM:","PRÍOMHFHOGHLAIM","CAD É AN TAITHÍ A BHEIDH AG SCOLÁIRÍ \nAR AN BHFOGHLAIM SEO?","ACMHAINNÍ:"]
[]
[]
[]
[null,null,"FÓCAS NA FOGHLAMA:"]
[null,null,null,null,null,"MODHEOLAÍOCHTAÍ:"]
[]
[]
[null,null,"SNÁITHEANNA AGUS GNÉITHE A FHIOSRÚ:"]
[]
[]
[null,null,"TORTHAÍ FOGHLAMA ","BRIATHRA GNÍMH","MEASÚNÚ LEANÚNACH:","CONAS A BHRAITHFIDH SCOLÁIRÍ NA TORTHAÍ FOGHLAMA?",null,"Machnamh / Na Chéad Chéimeanna Eile"]
[null,null,null,{"$f":"IF(ISERROR(VLOOKUP(C38,'Data Set'!D$8:E$55,2,FALSE)),\"\",(VLOOKUP(C38,'Data Set'!D$8:E$55,2,FALSE)))","v":""}]
[null,null,null,{"$f":"IF(ISERROR(VLOOKUP(C39,'Data Set'!D$8:E$55,2,FALSE)),\"\",(VLOOKUP(C39,'Data Set'!D$8:E$55,2,FALSE)))","v":""}]
[null,null,null,{"$f":"IF(ISERROR(VLOOKUP(C40,'Data Set'!D$8:E$55,2,FALSE)),\"\",(VLOOKUP(C40,'Data Set'!D$8:E$55,2,FALSE)))","v":""}]
[null,null,null,{"$f":"IF(ISERROR(VLOOKUP(C41,'Data Set'!D$8:E$55,2,FALSE)),\"\",(VLOOKUP(C41,'Data Set'!D$8:E$55,2,FALSE)))","v":""}]
[null,null,null,{"$f":"IF(ISERROR(VLOOKUP(C42,'Data Set'!D$8:E$55,2,FALSE)),\"\",(VLOOKUP(C42,'Data Set'!D$8:E$55,2,FALSE)))","v":""}]
[null,null,null,{"$f":"IF(ISERROR(VLOOKUP(C43,'Data Set'!D$8:E$55,2,FALSE)),\"\",(VLOOKUP(C43,'Data Set'!D$8:E$55,2,FALSE)))","v":""}]
[null,null,null,{"$f":"IF(ISERROR(VLOOKUP(C44,'Data Set'!D$8:E$55,2,FALSE)),\"\",(VLOOKUP(C44,'Data Set'!D$8:E$55,2,FALSE)))","v":""}]
[null,null,null,{"$f":"IF(ISERROR(VLOOKUP(C45,'Data Set'!D$8:E$55,2,FALSE)),\"\",(VLOOKUP(C45,'Data Set'!D$8:E$55,2,FALSE)))","v":""}]
[null,null,null,{"$f":"IF(ISERROR(VLOOKUP(C46,'Data Set'!D$8:E$55,2,FALSE)),\"\",(VLOOKUP(C46,'Data Set'!D$8:E$55,2,FALSE)))","v":""}]
[null,null,null,{"$f":"IF(ISERROR(VLOOKUP(C47,'Data Set'!D$8:E$55,2,FALSE)),\"\",(VLOOKUP(C47,'Data Set'!D$8:E$55,2,FALSE)))","v":""}]
[null,null,null,null,null,null,null,"Deartha ag JCt4"]
[]
[null,null,"Nótaí / hipearnaisc le hacmhainní / eile"]

{"sheet":"Aonad 12","index":13,"n_rows":50,"n_cols":8,"rows_kept":50,"cut":false,"hidden":true,"merged":[[37,4,46,4],[37,5,46,5],[37,7,42,7],[49,2,49,3],[26,3,35,3],[26,4,35,4],[26,5,29,5],[30,2,32,2],[31,5,35,5],[34,2,35,2],[1,0,1,1],[1,6,1,7],[3,2,4,2],[4,3,4,4],[8,2,24,2],[8,3,24,3],[8,4,24,4],[8,5,24,5],[9,7,35,7],[26,2,28,2]]}
[]
["Cliceáil:",null,"Innéacs","Sonraí Ranga","Uirlis Phleanála,\nRéasúnaíoch & Aidhm","Rannpháirtíocht i dtorthaí foghlama","Treoracha"]
[]
[null,null,{"$f":"'Data Set'!D4","v":"Teicneolaíocht Fheidhmeach"},"Teideal an aonaid",null,"Le cur ar bhileog innéacs: Roghnaigh Sea / Ní hea",null,"Múinteoir"]
[null,null,null,{"$f":"MID(CELL(\"filename\",A1),FIND(\"]\",CELL(\"filename\",A1))+1,1000)","v":"Aonad 12"},null,"Ní hea"]
[null,null,"Bliainghrúpa","Grúpa Ranga:","Dáta Tosaigh: ","Fad:",null,"Scoil:"]
[null,null,null,{"$f":"IF('Sonraí Ranga'!K21=\"\",\"\",'Sonraí Ranga'!K21)","v":"Iontráil i mbileog sonraí an ranga"},"dd/mm/yyyy","Líon na seachtainaí/ranganna",null,{"$f":"IF('Sonraí Ranga'!J8=\"\",\"\",'Sonraí Ranga'!J8)","v":"Iontráil i mbileog sonraí an ranga"}]
[]
[null,null,null,null,null,null,null,"Nótaí / Íomhánna / Eile"]
[]
[]
[]
[]
[]
[]
[]
[]
[]
[]
[]
[]
[]
[]
[]
[]
[null,null,"RÉAMHFHOGHLAIM:","PRÍOMHFHOGHLAIM","CAD É AN TAITHÍ A BHEIDH AG SCOLÁIRÍ \nAR AN BHFOGHLAIM SEO?","ACMHAINNÍ:"]
[]
[]
[]
[null,null,"FÓCAS NA FOGHLAMA:"]
[null,null,null,null,null,"MODHEOLAÍOCHTAÍ:"]
[]
[]
[null,null,"SNÁITHEANNA AGUS GNÉITHE A FHIOSRÚ:"]
[]
[]
[null,null,"TORTHAÍ FOGHLAMA ","BRIATHRA GNÍMH","MEASÚNÚ LEANÚNACH:","CONAS A BHRAITHFIDH SCOLÁIRÍ NA TORTHAÍ FOGHLAMA?",null,"Machnamh / Na Chéad Chéimeanna Eile"]
[null,null,null,{"$f":"IF(ISERROR(VLOOKUP(C38,'Data Set'!D$8:E$55,2,FALSE)),\"\",(VLOOKUP(C38,'Data Set'!D$8:E$55,2,FALSE)))","v":""}]
[null,null,null,{"$f":"IF(ISERROR(VLOOKUP(C39,'Data Set'!D$8:E$55,2,FALSE)),\"\",(VLOOKUP(C39,'Data Set'!D$8:E$55,2,FALSE)))","v":""}]
[null,null,null,{"$f":"IF(ISERROR(VLOOKUP(C40,'Data Set'!D$8:E$55,2,FALSE)),\"\",(VLOOKUP(C40,'Data Set'!D$8:E$55,2,FALSE)))","v":""}]
[null,null,null,{"$f":"IF(ISERROR(VLOOKUP(C41,'Data Set'!D$8:E$55,2,FALSE)),\"\",(VLOOKUP(C41,'Data Set'!D$8:E$55,2,FALSE)))","v":""}]
[null,null,null,{"$f":"IF(ISERROR(VLOOKUP(C42,'Data Set'!D$8:E$55,2,FALSE)),\"\",(VLOOKUP(C42,'Data Set'!D$8:E$55,2,FALSE)))","v":""}]
[null,null,null,{"$f":"IF(ISERROR(VLOOKUP(C43,'Data Set'!D$8:E$55,2,FALSE)),\"\",(VLOOKUP(C43,'Data Set'!D$8:E$55,2,FALSE)))","v":""}]
[null,null,null,{"$f":"IF(ISERROR(VLOOKUP(C44,'Data Set'!D$8:E$55,2,FALSE)),\"\",(VLOOKUP(C44,'Data Set'!D$8:E$55,2,FALSE)))","v":""}]
[null,null,null,{"$f":"IF(ISERROR(VLOOKUP(C45,'Data Set'!D$8:E$55,2,FALSE)),\"\",(VLOOKUP(C45,'Data Set'!D$8:E$55,2,FALSE)))","v":""}]
[null,null,null,{"$f":"IF(ISERROR(VLOOKUP(C46,'Data Set'!D$8:E$55,2,FALSE)),\"\",(VLOOKUP(C46,'Data Set'!D$8:E$55,2,FALSE)))","v":""}]
[null,null,null,{"$f":"IF(ISERROR(VLOOKUP(C47,'Data Set'!D$8:E$55,2,FALSE)),\"\",(VLOOKUP(C47,'Data Set'!D$8:E$55,2,FALSE)))","v":""}]
[null,null,null,null,null,null,null,"Deartha ag JCt4"]
[]
[null,null,"Nótaí / hipearnaisc le hacmhainní / eile"]

{"sheet":"Aonad 13","index":14,"n_rows":50,"n_cols":8,"rows_kept":50,"cut":false,"hidden":true,"merged":[[37,4,46,4],[37,5,46,5],[37,7,42,7],[49,2,49,3],[26,3,35,3],[26,4,35,4],[26,5,29,5],[30,2,32,2],[31,5,35,5],[34,2,35,2],[1,0,1,1],[1,6,1,7],[3,2,4,2],[4,3,4,4],[8,2,24,2],[8,3,24,3],[8,4,24,4],[8,5,24,5],[9,7,35,7],[26,2,28,2]]}
[]
["Cliceáil:",null,"Innéacs","Sonraí Ranga","Uirlis Phleanála,\nRéasúnaíoch & Aidhm","Rannpháirtíocht i dtorthaí foghlama","Treoracha"]
[]
[null,null,{"$f":"'Data Set'!D4","v":"Teicneolaíocht Fheidhmeach"},"Teideal an aonaid",null,"Le cur ar bhileog innéacs: Roghnaigh Sea / Ní hea",null,"Múinteoir"]
[null,null,null,{"$f":"MID(CELL(\"filename\",A1),FIND(\"]\",CELL(\"filename\",A1))+1,1000)","v":"Aonad 13"},null,"Ní hea"]
[null,null,"Bliainghrúpa","Grúpa Ranga:","Dáta Tosaigh: ","Fad:",null,"Scoil:"]
[null,null,null,{"$f":"IF('Sonraí Ranga'!K21=\"\",\"\",'Sonraí Ranga'!K21)","v":"Iontráil i mbileog sonraí an ranga"},"dd/mm/yyyy","Líon na seachtainaí/ranganna",null,{"$f":"IF('Sonraí Ranga'!J8=\"\",\"\",'Sonraí Ranga'!J8)","v":"Iontráil i mbileog sonraí an ranga"}]
[]
[null,null,null,null,null,null,null,"Nótaí / Íomhánna / Eile"]
[]
[]
[]
[]
[]
[]
[]
[]
[]
[]
[]
[]
[]
[]
[]
[]
[null,null,"RÉAMHFHOGHLAIM:","PRÍOMHFHOGHLAIM","CAD É AN TAITHÍ A BHEIDH AG SCOLÁIRÍ \nAR AN BHFOGHLAIM SEO?","ACMHAINNÍ:"]
[]
[]
[]
[null,null,"FÓCAS NA FOGHLAMA:"]
[null,null,null,null,null,"MODHEOLAÍOCHTAÍ:"]
[]
[]
[null,null,"SNÁITHEANNA AGUS GNÉITHE A FHIOSRÚ:"]
[]
[]
[null,null,"TORTHAÍ FOGHLAMA ","BRIATHRA GNÍMH","MEASÚNÚ LEANÚNACH:","CONAS A BHRAITHFIDH SCOLÁIRÍ NA TORTHAÍ FOGHLAMA?",null,"Machnamh / Na Chéad Chéimeanna Eile"]
[null,null,null,{"$f":"IF(ISERROR(VLOOKUP(C38,'Data Set'!D$8:E$55,2,FALSE)),\"\",(VLOOKUP(C38,'Data Set'!D$8:E$55,2,FALSE)))","v":""}]
[null,null,null,{"$f":"IF(ISERROR(VLOOKUP(C39,'Data Set'!D$8:E$55,2,FALSE)),\"\",(VLOOKUP(C39,'Data Set'!D$8:E$55,2,FALSE)))","v":""}]
[null,null,null,{"$f":"IF(ISERROR(VLOOKUP(C40,'Data Set'!D$8:E$55,2,FALSE)),\"\",(VLOOKUP(C40,'Data Set'!D$8:E$55,2,FALSE)))","v":""}]
[null,null,null,{"$f":"IF(ISERROR(VLOOKUP(C41,'Data Set'!D$8:E$55,2,FALSE)),\"\",(VLOOKUP(C41,'Data Set'!D$8:E$55,2,FALSE)))","v":""}]
[null,null,null,{"$f":"IF(ISERROR(VLOOKUP(C42,'Data Set'!D$8:E$55,2,FALSE)),\"\",(VLOOKUP(C42,'Data Set'!D$8:E$55,2,FALSE)))","v":""}]
[null,null,null,{"$f":"IF(ISERROR(VLOOKUP(C43,'Data Set'!D$8:E$55,2,FALSE)),\"\",(VLOOKUP(C43,'Data Set'!D$8:E$55,2,FALSE)))","v":""}]
[null,null,null,{"$f":"IF(ISERROR(VLOOKUP(C44,'Data Set'!D$8:E$55,2,FALSE)),\"\",(VLOOKUP(C44,'Data Set'!D$8:E$55,2,FALSE)))","v":""}]
[null,null,null,{"$f":"IF(ISERROR(VLOOKUP(C45,'Data Set'!D$8:E$55,2,FALSE)),\"\",(VLOOKUP(C45,'Data Set'!D$8:E$55,2,FALSE)))","v":""}]
[null,null,null,{"$f":"IF(ISERROR(VLOOKUP(C46,'Data Set'!D$8:E$55,2,FALSE)),\"\",(VLOOKUP(C46,'Data Set'!D$8:E$55,2,FALSE)))","v":""}]
[null,null,null,{"$f":"IF(ISERROR(VLOOKUP(C47,'Data Set'!D$8:E$55,2,FALSE)),\"\",(VLOOKUP(C47,'Data Set'!D$8:E$55,2,FALSE)))","v":""}]
[null,null,null,null,null,null,null,"Deartha ag JCt4"]
[]
[null,null,"Nótaí / hipearnaisc le hacmhainní / eile"]

{"sheet":"Aonad 14","index":15,"n_rows":50,"n_cols":8,"rows_kept":50,"cut":false,"hidden":true,"merged":[[37,4,46,4],[37,5,46,5],[37,7,42,7],[49,2,49,3],[26,3,35,3],[26,4,35,4],[26,5,29,5],[30,2,32,2],[31,5,35,5],[34,2,35,2],[1,0,1,1],[1,6,1,7],[3,2,4,2],[4,3,4,4],[8,2,24,2],[8,3,24,3],[8,4,24,4],[8,5,24,5],[9,7,35,7],[26,2,28,2]]}
[]
["Cliceáil:",null,"Innéacs","Sonraí Ranga","Uirlis Phleanála,\nRéasúnaíoch & Aidhm","Rannpháirtíocht i dtorthaí foghlama","Treoracha"]
[]
[null,null,{"$f":"'Data Set'!D4","v":"Teicneolaíocht Fheidhmeach"},"Teideal an aonaid",null,"Le cur ar bhileog innéacs: Roghnaigh Sea / Ní hea",null,"Múinteoir"]
[null,null,null,{"$f":"MID(CELL(\"filename\",A1),FIND(\"]\",CELL(\"filename\",A1))+1,1000)","v":"Aonad 14"},null,"Ní hea"]
[null,null,"Bliainghrúpa","Grúpa Ranga:","Dáta Tosaigh: ","Fad:",null,"Scoil:"]
[null,null,null,{"$f":"IF('Sonraí Ranga'!K21=\"\",\"\",'Sonraí Ranga'!K21)","v":"Iontráil i mbileog sonraí an ranga"},"dd/mm/yyyy","Líon na seachtainaí/ranganna",null,{"$f":"IF('Sonraí Ranga'!J8=\"\",\"\",'Sonraí Ranga'!J8)","v":"Iontráil i mbileog sonraí an ranga"}]
[]
[null,null,null,null,null,null,null,"Nótaí / Íomhánna / Eile"]
[]
[]
[]
[]
[]
[]
[]
[]
[]
[]
[]
[]
[]
[]
[]
[]
[null,null,"RÉAMHFHOGHLAIM:","PRÍOMHFHOGHLAIM","CAD É AN TAITHÍ A BHEIDH AG SCOLÁIRÍ \nAR AN BHFOGHLAIM SEO?","ACMHAINNÍ:"]
[]
[]
[]
[null,null,"FÓCAS NA FOGHLAMA:"]
[null,null,null,null,null,"MODHEOLAÍOCHTAÍ:"]
[]
[]
[null,null,"SNÁITHEANNA AGUS GNÉITHE A FHIOSRÚ:"]
[]
[]
[null,null,"TORTHAÍ FOGHLAMA ","BRIATHRA GNÍMH","MEASÚNÚ LEANÚNACH:","CONAS A BHRAITHFIDH SCOLÁIRÍ NA TORTHAÍ FOGHLAMA?",null,"Machnamh / Na Chéad Chéimeanna Eile"]
[null,null,null,{"$f":"IF(ISERROR(VLOOKUP(C38,'Data Set'!D$8:E$55,2,FALSE)),\"\",(VLOOKUP(C38,'Data Set'!D$8:E$55,2,FALSE)))","v":""}]
[null,null,null,{"$f":"IF(ISERROR(VLOOKUP(C39,'Data Set'!D$8:E$55,2,FALSE)),\"\",(VLOOKUP(C39,'Data Set'!D$8:E$55,2,FALSE)))","v":""}]
[null,null,null,{"$f":"IF(ISERROR(VLOOKUP(C40,'Data Set'!D$8:E$55,2,FALSE)),\"\",(VLOOKUP(C40,'Data Set'!D$8:E$55,2,FALSE)))","v":""}]
[null,null,null,{"$f":"IF(ISERROR(VLOOKUP(C41,'Data Set'!D$8:E$55,2,FALSE)),\"\",(VLOOKUP(C41,'Data Set'!D$8:E$55,2,FALSE)))","v":""}]
[null,null,null,{"$f":"IF(ISERROR(VLOOKUP(C42,'Data Set'!D$8:E$55,2,FALSE)),\"\",(VLOOKUP(C42,'Data Set'!D$8:E$55,2,FALSE)))","v":""}]
[null,null,null,{"$f":"IF(ISERROR(VLOOKUP(C43,'Data Set'!D$8:E$55,2,FALSE)),\"\",(VLOOKUP(C43,'Data Set'!D$8:E$55,2,FALSE)))","v":""}]
[null,null,null,{"$f":"IF(ISERROR(VLOOKUP(C44,'Data Set'!D$8:E$55,2,FALSE)),\"\",(VLOOKUP(C44,'Data Set'!D$8:E$55,2,FALSE)))","v":""}]
[null,null,null,{"$f":"IF(ISERROR(VLOOKUP(C45,'Data Set'!D$8:E$55,2,FALSE)),\"\",(VLOOKUP(C45,'Data Set'!D$8:E$55,2,FALSE)))","v":""}]
[null,null,null,{"$f":"IF(ISERROR(VLOOKUP(C46,'Data Set'!D$8:E$55,2,FALSE)),\"\",(VLOOKUP(C46,'Data Set'!D$8:E$55,2,FALSE)))","v":""}]
[null,null,null,{"$f":"IF(ISERROR(VLOOKUP(C47,'Data Set'!D$8:E$55,2,FALSE)),\"\",(VLOOKUP(C47,'Data Set'!D$8:E$55,2,FALSE)))","v":""}]
[null,null,null,null,null,null,null,"Deartha ag JCt4"]
[]
[null,null,"Nótaí / hipearnaisc le hacmhainní / eile"]

{"sheet":"Aonad 15","index":16,"n_rows":50,"n_cols":8,"rows_kept":50,"cut":false,"hidden":true,"merged":[[37,4,46,4],[37,5,46,5],[37,7,42,7],[49,2,49,3],[26,3,35,3],[26,4,35,4],[26,5,29,5],[30,2,32,2],[31,5,35,5],[34,2,35,2],[1,0,1,1],[1,6,1,7],[3,2,4,2],[4,3,4,4],[8,2,24,2],[8,3,24,3],[8,4,24,4],[8,5,24,5],[9,7,35,7],[26,2,28,2]]}
[]
["Cliceáil:",null,"Innéacs","Sonraí Ranga","Uirlis Phleanála,\nRéasúnaíoch & Aidhm","Rannpháirtíocht i dtorthaí foghlama","Treoracha"]
[]
[null,null,{"$f":"'Data Set'!D4","v":"Teicneolaíocht Fheidhmeach"},"Teideal an aonaid",null,"Le cur ar bhileog innéacs: Roghnaigh Sea / Ní hea",null,"Múinteoir"]
[null,null,null,{"$f":"MID(CELL(\"filename\",A1),FIND(\"]\",CELL(\"filename\",A1))+1,1000)","v":"Aonad 15"},null,"Ní hea"]
[null,null,"Bliainghrúpa","Grúpa Ranga:","Dáta Tosaigh: ","Fad:",null,"Scoil:"]
[null,null,null,{"$f":"IF('Sonraí Ranga'!K21=\"\",\"\",'Sonraí Ranga'!K21)","v":"Iontráil i mbileog sonraí an ranga"},"dd/mm/yyyy","Líon na seachtainaí/ranganna",null,{"$f":"IF('Sonraí Ranga'!J8=\"\",\"\",'Sonraí Ranga'!J8)","v":"Iontráil i mbileog sonraí an ranga"}]
[]
[null,null,null,null,null,null,null,"Nótaí / Íomhánna / Eile"]
[]
[]
[]
[]
[]
[]
[]
[]
[]
[]
[]
[]
[]
[]
[]
[]
[null,null,"RÉAMHFHOGHLAIM:","PRÍOMHFHOGHLAIM","CAD É AN TAITHÍ A BHEIDH AG SCOLÁIRÍ \nAR AN BHFOGHLAIM SEO?","ACMHAINNÍ:"]
[]
[]
[]
[null,null,"FÓCAS NA FOGHLAMA:"]
[null,null,null,null,null,"MODHEOLAÍOCHTAÍ:"]
[]
[]
[null,null,"SNÁITHEANNA AGUS GNÉITHE A FHIOSRÚ:"]
[]
[]
[null,null,"TORTHAÍ FOGHLAMA ","BRIATHRA GNÍMH","MEASÚNÚ LEANÚNACH:","CONAS A BHRAITHFIDH SCOLÁIRÍ NA TORTHAÍ FOGHLAMA?",null,"Machnamh / Na Chéad Chéimeanna Eile"]
[null,null,null,{"$f":"IF(ISERROR(VLOOKUP(C38,'Data Set'!D$8:E$55,2,FALSE)),\"\",(VLOOKUP(C38,'Data Set'!D$8:E$55,2,FALSE)))","v":""}]
[null,null,null,{"$f":"IF(ISERROR(VLOOKUP(C39,'Data Set'!D$8:E$55,2,FALSE)),\"\",(VLOOKUP(C39,'Data Set'!D$8:E$55,2,FALSE)))","v":""}]
[null,null,null,{"$f":"IF(ISERROR(VLOOKUP(C40,'Data Set'!D$8:E$55,2,FALSE)),\"\",(VLOOKUP(C40,'Data Set'!D$8:E$55,2,FALSE)))","v":""}]
[null,null,null,{"$f":"IF(ISERROR(VLOOKUP(C41,'Data Set'!D$8:E$55,2,FALSE)),\"\",(VLOOKUP(C41,'Data Set'!D$8:E$55,2,FALSE)))","v":""}]
[null,null,null,{"$f":"IF(ISERROR(VLOOKUP(C42,'Data Set'!D$8:E$55,2,FALSE)),\"\",(VLOOKUP(C42,'Data Set'!D$8:E$55,2,FALSE)))","v":""}]
[null,null,null,{"$f":"IF(ISERROR(VLOOKUP(C43,'Data Set'!D$8:E$55,2,FALSE)),\"\",(VLOOKUP(C43,'Data Set'!D$8:E$55,2,FALSE)))","v":""}]
[null,null,null,{"$f":"IF(ISERROR(VLOOKUP(C44,'Data Set'!D$8:E$55,2,FALSE)),\"\",(VLOOKUP(C44,'Data Set'!D$8:E$55,2,FALSE)))","v":""}]
[null,null,null,{"$f":"IF(ISERROR(VLOOKUP(C45,'Data Set'!D$8:E$55,2,FALSE)),\"\",(VLOOKUP(C45,'Data Set'!D$8:E$55,2,FALSE)))","v":""}]
[null,null,null,{"$f":"IF(ISERROR(VLOOKUP(C46,'Data Set'!D$8:E$55,2,FALSE)),\"\",(VLOOKUP(C46,'Data Set'!D$8:E$55,2,FALSE)))","v":""}]
[null,null,null,{"$f":"IF(ISERROR(VLOOKUP(C47,'Data Set'!D$8:E$55,2,FALSE)),\"\",(VLOOKUP(C47,'Data Set'!D$8:E$55,2,FALSE)))","v":""}]
[null,null,null,null,null,null,null,"Deartha ag JCt4"]
[]
[null,null,"Nótaí / hipearnaisc le hacmhainní / eile"]

{"sheet":"Aonad 16","index":17,"n_rows":50,"n_cols":8,"rows_kept":50,"cut":false,"hidden":true,"merged":[[37,4,46,4],[37,5,46,5],[37,7,42,7],[49,2,49,3],[26,3,35,3],[26,4,35,4],[26,5,29,5],[30,2,32,2],[31,5,35,5],[34,2,35,2],[1,0,1,1],[1,6,1,7],[3,2,4,2],[4,3,4,4],[8,2,24,2],[8,3,24,3],[8,4,24,4],[8,5,24,5],[9,7,35,7],[26,2,28,2]]}
[]
["Cliceáil:",null,"Innéacs","Sonraí Ranga","Uirlis Phleanála,\nRéasúnaíoch & Aidhm","Rannpháirtíocht i dtorthaí foghlama","Treoracha"]
[]
[null,null,{"$f":"'Data Set'!D4","v":"Teicneolaíocht Fheidhmeach"},"Teideal an aonaid",null,"Le cur ar bhileog innéacs: Roghnaigh Sea / Ní hea",null,"Múinteoir"]
[null,null,null,{"$f":"MID(CELL(\"filename\",A1),FIND(\"]\",CELL(\"filename\",A1))+1,1000)","v":"Aonad 16"},null,"Ní hea"]
[null,null,"Bliainghrúpa","Grúpa Ranga:","Dáta Tosaigh: ","Fad:",null,"Scoil:"]
[null,null,null,{"$f":"IF('Sonraí Ranga'!K21=\"\",\"\",'Sonraí Ranga'!K21)","v":"Iontráil i mbileog sonraí an ranga"},"dd/mm/yyyy","Líon na seachtainaí/ranganna",null,{"$f":"IF('Sonraí Ranga'!J8=\"\",\"\",'Sonraí Ranga'!J8)","v":"Iontráil i mbileog sonraí an ranga"}]
[]
[null,null,null,null,null,null,null,"Nótaí / Íomhánna / Eile"]
[]
[]
[]
[]
[]
[]
[]
[]
[]
[]
[]
[]
[]
[]
[]
[]
[null,null,"RÉAMHFHOGHLAIM:","PRÍOMHFHOGHLAIM","CAD É AN TAITHÍ A BHEIDH AG SCOLÁIRÍ \nAR AN BHFOGHLAIM SEO?","ACMHAINNÍ:"]
[]
[]
[]
[null,null,"FÓCAS NA FOGHLAMA:"]
[null,null,null,null,null,"MODHEOLAÍOCHTAÍ:"]
[]
[]
[null,null,"SNÁITHEANNA AGUS GNÉITHE A FHIOSRÚ:"]
[]
[]
[null,null,"TORTHAÍ FOGHLAMA ","BRIATHRA GNÍMH","MEASÚNÚ LEANÚNACH:","CONAS A BHRAITHFIDH SCOLÁIRÍ NA TORTHAÍ FOGHLAMA?",null,"Machnamh / Na Chéad Chéimeanna Eile"]
[null,null,null,{"$f":"IF(ISERROR(VLOOKUP(C38,'Data Set'!D$8:E$55,2,FALSE)),\"\",(VLOOKUP(C38,'Data Set'!D$8:E$55,2,FALSE)))","v":""}]
[null,null,null,{"$f":"IF(ISERROR(VLOOKUP(C39,'Data Set'!D$8:E$55,2,FALSE)),\"\",(VLOOKUP(C39,'Data Set'!D$8:E$55,2,FALSE)))","v":""}]
[null,null,null,{"$f":"IF(ISERROR(VLOOKUP(C40,'Data Set'!D$8:E$55,2,FALSE)),\"\",(VLOOKUP(C40,'Data Set'!D$8:E$55,2,FALSE)))","v":""}]
[null,null,null,{"$f":"IF(ISERROR(VLOOKUP(C41,'Data Set'!D$8:E$55,2,FALSE)),\"\",(VLOOKUP(C41,'Data Set'!D$8:E$55,2,FALSE)))","v":""}]
[null,null,null,{"$f":"IF(ISERROR(VLOOKUP(C42,'Data Set'!D$8:E$55,2,FALSE)),\"\",(VLOOKUP(C42,'Data Set'!D$8:E$55,2,FALSE)))","v":""}]
[null,null,null,{"$f":"IF(ISERROR(VLOOKUP(C43,'Data Set'!D$8:E$55,2,FALSE)),\"\",(VLOOKUP(C43,'Data Set'!D$8:E$55,2,FALSE)))","v":""}]
[null,null,null,{"$f":"IF(ISERROR(VLOOKUP(C44,'Data Set'!D$8:E$55,2,FALSE)),\"\",(VLOOKUP(C44,'Data Set'!D$8:E$55,2,FALSE)))","v":""}]
[null,null,null,{"$f":"IF(ISERROR(VLOOKUP(C45,'Data Set'!D$8:E$55,2,FALSE)),\"\",(VLOOKUP(C45,'Data Set'!D$8:E$55,2,FALSE)))","v":""}]
[null,null,null,{"$f":"IF(ISERROR(VLOOKUP(C46,'Data Set'!D$8:E$55,2,FALSE)),\"\",(VLOOKUP(C46,'Data Set'!D$8:E$55,2,FALSE)))","v":""}]
[null,null,null,{"$f":"IF(ISERROR(VLOOKUP(C47,'Data Set'!D$8:E$55,2,FALSE)),\"\",(VLOOKUP(C47,'Data Set'!D$8:E$55,2,FALSE)))","v":""}]
[null,null,null,null,null,null,null,"Deartha ag JCt4"]
[]
[null,null,"Nótaí / hipearnaisc le hacmhainní / eile"]

{"sheet":"Aonad 17","index":18,"n_rows":50,"n_cols":8,"rows_kept":50,"cut":false,"hidden":true,"merged":[[37,4,46,4],[37,5,46,5],[37,7,42,7],[49,2,49,3],[26,3,35,3],[26,4,35,4],[26,5,29,5],[30,2,32,2],[31,5,35,5],[34,2,35,2],[1,0,1,1],[1,6,1,7],[3,2,4,2],[4,3,4,4],[8,2,24,2],[8,3,24,3],[8,4,24,4],[8,5,24,5],[9,7,35,7],[26,2,28,2]]}
[]
["Cliceáil:",null,"Innéacs","Sonraí Ranga","Uirlis Phleanála,\nRéasúnaíoch & Aidhm","Rannpháirtíocht i dtorthaí foghlama","Treoracha"]
[]
[null,null,{"$f":"'Data Set'!D4","v":"Teicneolaíocht Fheidhmeach"},"Teideal an aonaid",null,"Le cur ar bhileog innéacs: Roghnaigh Sea / Ní hea",null,"Múinteoir"]
[null,null,null,{"$f":"MID(CELL(\"filename\",A1),FIND(\"]\",CELL(\"filename\",A1))+1,1000)","v":"Aonad 17"},null,"Ní hea"]
[null,null,"Bliainghrúpa","Grúpa Ranga:","Dáta Tosaigh: ","Fad:",null,"Scoil:"]
[null,null,null,{"$f":"IF('Sonraí Ranga'!K21=\"\",\"\",'Sonraí Ranga'!K21)","v":"Iontráil i mbileog sonraí an ranga"},"dd/mm/yyyy","Líon na seachtainaí/ranganna",null,{"$f":"IF('Sonraí Ranga'!J8=\"\",\"\",'Sonraí Ranga'!J8)","v":"Iontráil i mbileog sonraí an ranga"}]
[]
[null,null,null,null,null,null,null,"Nótaí / Íomhánna / Eile"]
[]
[]
[]
[]
[]
[]
[]
[]
[]
[]
[]
[]
[]
[]
[]
[]
[null,null,"RÉAMHFHOGHLAIM:","PRÍOMHFHOGHLAIM","CAD É AN TAITHÍ A BHEIDH AG SCOLÁIRÍ \nAR AN BHFOGHLAIM SEO?","ACMHAINNÍ:"]
[]
[]
[]
[null,null,"FÓCAS NA FOGHLAMA:"]
[null,null,null,null,null,"MODHEOLAÍOCHTAÍ:"]
[]
[]
[null,null,"SNÁITHEANNA AGUS GNÉITHE A FHIOSRÚ:"]
[]
[]
[null,null,"TORTHAÍ FOGHLAMA ","BRIATHRA GNÍMH","MEASÚNÚ LEANÚNACH:","CONAS A BHRAITHFIDH SCOLÁIRÍ NA TORTHAÍ FOGHLAMA?",null,"Machnamh / Na Chéad Chéimeanna Eile"]
[null,null,null,{"$f":"IF(ISERROR(VLOOKUP(C38,'Data Set'!D$8:E$55,2,FALSE)),\"\",(VLOOKUP(C38,'Data Set'!D$8:E$55,2,FALSE)))","v":""}]
[null,null,null,{"$f":"IF(ISERROR(VLOOKUP(C39,'Data Set'!D$8:E$55,2,FALSE)),\"\",(VLOOKUP(C39,'Data Set'!D$8:E$55,2,FALSE)))","v":""}]
[null,null,null,{"$f":"IF(ISERROR(VLOOKUP(C40,'Data Set'!D$8:E$55,2,FALSE)),\"\",(VLOOKUP(C40,'Data Set'!D$8:E$55,2,FALSE)))","v":""}]
[null,null,null,{"$f":"IF(ISERROR(VLOOKUP(C41,'Data Set'!D$8:E$55,2,FALSE)),\"\",(VLOOKUP(C41,'Data Set'!D$8:E$55,2,FALSE)))","v":""}]
[null,null,null,{"$f":"IF(ISERROR(VLOOKUP(C42,'Data Set'!D$8:E$55,2,FALSE)),\"\",(VLOOKUP(C42,'Data Set'!D$8:E$55,2,FALSE)))","v":""}]
[null,null,null,{"$f":"IF(ISERROR(VLOOKUP(C43,'Data Set'!D$8:E$55,2,FALSE)),\"\",(VLOOKUP(C43,'Data Set'!D$8:E$55,2,FALSE)))","v":""}]
[null,null,null,{"$f":"IF(ISERROR(VLOOKUP(C44,'Data Set'!D$8:E$55,2,FALSE)),\"\",(VLOOKUP(C44,'Data Set'!D$8:E$55,2,FALSE)))","v":""}]
[null,null,null,{"$f":"IF(ISERROR(VLOOKUP(C45,'Data Set'!D$8:E$55,2,FALSE)),\"\",(VLOOKUP(C45,'Data Set'!D$8:E$55,2,FALSE)))","v":""}]
[null,null,null,{"$f":"IF(ISERROR(VLOOKUP(C46,'Data Set'!D$8:E$55,2,FALSE)),\"\",(VLOOKUP(C46,'Data Set'!D$8:E$55,2,FALSE)))","v":""}]
[null,null,null,{"$f":"IF(ISERROR(VLOOKUP(C47,'Data Set'!D$8:E$55,2,FALSE)),\"\",(VLOOKUP(C47,'Data Set'!D$8:E$55,2,FALSE)))","v":""}]
[null,null,null,null,null,null,null,"Deartha ag JCt4"]
[]
[null,null,"Nótaí / hipearnaisc le hacmhainní / eile"]

{"sheet":"Aonad 18","index":19,"n_rows":50,"n_cols":8,"rows_kept":50,"cut":false,"hidden":true,"merged":[[37,4,46,4],[37,5,46,5],[37,7,42,7],[49,2,49,3],[26,3,35,3],[26,4,35,4],[26,5,29,5],[30,2,32,2],[31,5,35,5],[34,2,35,2],[1,0,1,1],[1,6,1,7],[3,2,4,2],[4,3,4,4],[8,2,24,2],[8,3,24,3],[8,4,24,4],[8,5,24,5],[9,7,35,7],[26,2,28,2]]}
[]
["Cliceáil:",null,"Innéacs","Sonraí Ranga","Uirlis Phleanála,\nRéasúnaíoch & Aidhm","Rannpháirtíocht i dtorthaí foghlama","Treoracha"]
[]
[null,null,{"$f":"'Data Set'!D4","v":"Teicneolaíocht Fheidhmeach"},"Teideal an aonaid",null,"Le cur ar bhileog innéacs: Roghnaigh Sea / Ní hea",null,"Múinteoir"]
[null,null,null,{"$f":"MID(CELL(\"filename\",A1),FIND(\"]\",CELL(\"filename\",A1))+1,1000)","v":"Aonad 18"},null,"Ní hea"]
[null,null,"Bliainghrúpa","Grúpa Ranga:","Dáta Tosaigh: ","Fad:",null,"Scoil:"]
[null,null,null,{"$f":"IF('Sonraí Ranga'!K21=\"\",\"\",'Sonraí Ranga'!K21)","v":"Iontráil i mbileog sonraí an ranga"},"dd/mm/yyyy","Líon na seachtainaí/ranganna",null,{"$f":"IF('Sonraí Ranga'!J8=\"\",\"\",'Sonraí Ranga'!J8)","v":"Iontráil i mbileog sonraí an ranga"}]
[]
[null,null,null,null,null,null,null,"Nótaí / Íomhánna / Eile"]
[]
[]
[]
[]
[]
[]
[]
[]
[]
[]
[]
[]
[]
[]
[]
[]
[null,null,"RÉAMHFHOGHLAIM:","PRÍOMHFHOGHLAIM","CAD É AN TAITHÍ A BHEIDH AG SCOLÁIRÍ \nAR AN BHFOGHLAIM SEO?","ACMHAINNÍ:"]
[]
[]
[]
[null,null,"FÓCAS NA FOGHLAMA:"]
[null,null,null,null,null,"MODHEOLAÍOCHTAÍ:"]
[]
[]
[null,null,"SNÁITHEANNA AGUS GNÉITHE A FHIOSRÚ:"]
[]
[]
[null,null,"TORTHAÍ FOGHLAMA ","BRIATHRA GNÍMH","MEASÚNÚ LEANÚNACH:","CONAS A BHRAITHFIDH SCOLÁIRÍ NA TORTHAÍ FOGHLAMA?",null,"Machnamh / Na Chéad Chéimeanna Eile"]
[null,null,null,{"$f":"IF(ISERROR(VLOOKUP(C38,'Data Set'!D$8:E$55,2,FALSE)),\"\",(VLOOKUP(C38,'Data Set'!D$8:E$55,2,FALSE)))","v":""}]
[null,null,null,{"$f":"IF(ISERROR(VLOOKUP(C39,'Data Set'!D$8:E$55,2,FALSE)),\"\",(VLOOKUP(C39,'Data Set'!D$8:E$55,2,FALSE)))","v":""}]
[null,null,null,{"$f":"IF(ISERROR(VLOOKUP(C40,'Data Set'!D$8:E$55,2,FALSE)),\"\",(VLOOKUP(C40,'Data Set'!D$8:E$55,2,FALSE)))","v":""}]
[null,null,null,{"$f":"IF(ISERROR(VLOOKUP(C41,'Data Set'!D$8:E$55,2,FALSE)),\"\",(VLOOKUP(C41,'Data Set'!D$8:E$55,2,FALSE)))","v":""}]
[null,null,null,{"$f":"IF(ISERROR(VLOOKUP(C42,'Data Set'!D$8:E$55,2,FALSE)),\"\",(VLOOKUP(C42,'Data Set'!D$8:E$55,2,FALSE)))","v":""}]
[null,null,null,{"$f":"IF(ISERROR(VLOOKUP(C43,'Data Set'!D$8:E$55,2,FALSE)),\"\",(VLOOKUP(C43,'Data Set'!D$8:E$55,2,FALSE)))","v":""}]
[null,null,null,{"$f":"IF(ISERROR(VLOOKUP(C44,'Data Set'!D$8:E$55,2,FALSE)),\"\",(VLOOKUP(C44,'Data Set'!D$8:E$55,2,FALSE)))","v":""}]
[null,null,null,{"$f":"IF(ISERROR(VLOOKUP(C45,'Data Set'!D$8:E$55,2,FALSE)),\"\",(VLOOKUP(C45,'Data Set'!D$8:E$55,2,FALSE)))","v":""}]
[null,null,null,{"$f":"IF(ISERROR(VLOOKUP(C46,'Data Set'!D$8:E$55,2,FALSE)),\"\",(VLOOKUP(C46,'Data Set'!D$8:E$55,2,FALSE)))","v":""}]
[null,null,null,{"$f":"IF(ISERROR(VLOOKUP(C47,'Data Set'!D$8:E$55,2,FALSE)),\"\",(VLOOKUP(C47,'Data Set'!D$8:E$55,2,FALSE)))","v":""}]
[null,null,null,null,null,null,null,"Deartha ag JCt4"]
[]
[null,null,"Nótaí / hipearnaisc le hacmhainní / eile"]

{"sheet":"Aonad 19","index":20,"n_rows":50,"n_cols":8,"rows_kept":50,"cut":false,"hidden":true,"merged":[[37,4,46,4],[37,5,46,5],[37,7,42,7],[49,2,49,3],[26,3,35,3],[26,4,35,4],[26,5,29,5],[30,2,32,2],[31,5,35,5],[34,2,35,2],[1,0,1,1],[1,6,1,7],[3,2,4,2],[4,3,4,4],[8,2,24,2],[8,3,24,3],[8,4,24,4],[8,5,24,5],[9,7,35,7],[26,2,28,2]]}
[]
["Cliceáil:",null,"Innéacs","Sonraí Ranga","Uirlis Phleanála,\nRéasúnaíoch & Aidhm","Rannpháirtíocht i dtorthaí foghlama","Treoracha"]
[]
[null,null,{"$f":"'Data Set'!D4","v":"Teicneolaíocht Fheidhmeach"},"Teideal an aonaid",null,"Le cur ar bhileog innéacs: Roghnaigh Sea / Ní hea",null,"Múinteoir"]
[null,null,null,{"$f":"MID(CELL(\"filename\",A1),FIND(\"]\",CELL(\"filename\",A1))+1,1000)","v":"Aonad 19"},null,"Ní hea"]
[null,null,"Bliainghrúpa","Grúpa Ranga:","Dáta Tosaigh: ","Fad:",null,"Scoil:"]
[null,null,null,{"$f":"IF('Sonraí Ranga'!K21=\"\",\"\",'Sonraí Ranga'!K21)","v":"Iontráil i mbileog sonraí an ranga"},"dd/mm/yyyy","Líon na seachtainaí/ranganna",null,{"$f":"IF('Sonraí Ranga'!J8=\"\",\"\",'Sonraí Ranga'!J8)","v":"Iontráil i mbileog sonraí an ranga"}]
[]
[null,null,null,null,null,null,null,"Nótaí / Íomhánna / Eile"]
[]
[]
[]
[]
[]
[]
[]
[]
[]
[]
[]
[]
[]
[]
[]
[]
[null,null,"RÉAMHFHOGHLAIM:","PRÍOMHFHOGHLAIM","CAD É AN TAITHÍ A BHEIDH AG SCOLÁIRÍ \nAR AN BHFOGHLAIM SEO?","ACMHAINNÍ:"]
[]
[]
[]
[null,null,"FÓCAS NA FOGHLAMA:"]
[null,null,null,null,null,"MODHEOLAÍOCHTAÍ:"]
[]
[]
[null,null,"SNÁITHEANNA AGUS GNÉITHE A FHIOSRÚ:"]
[]
[]
[null,null,"TORTHAÍ FOGHLAMA ","BRIATHRA GNÍMH","MEASÚNÚ LEANÚNACH:","CONAS A BHRAITHFIDH SCOLÁIRÍ NA TORTHAÍ FOGHLAMA?",null,"Machnamh / Na Chéad Chéimeanna Eile"]
[null,null,null,{"$f":"IF(ISERROR(VLOOKUP(C38,'Data Set'!D$8:E$55,2,FALSE)),\"\",(VLOOKUP(C38,'Data Set'!D$8:E$55,2,FALSE)))","v":""}]
[null,null,null,{"$f":"IF(ISERROR(VLOOKUP(C39,'Data Set'!D$8:E$55,2,FALSE)),\"\",(VLOOKUP(C39,'Data Set'!D$8:E$55,2,FALSE)))","v":""}]
[null,null,null,{"$f":"IF(ISERROR(VLOOKUP(C40,'Data Set'!D$8:E$55,2,FALSE)),\"\",(VLOOKUP(C40,'Data Set'!D$8:E$55,2,FALSE)))","v":""}]
[null,null,null,{"$f":"IF(ISERROR(VLOOKUP(C41,'Data Set'!D$8:E$55,2,FALSE)),\"\",(VLOOKUP(C41,'Data Set'!D$8:E$55,2,FALSE)))","v":""}]
[null,null,null,{"$f":"IF(ISERROR(VLOOKUP(C42,'Data Set'!D$8:E$55,2,FALSE)),\"\",(VLOOKUP(C42,'Data Set'!D$8:E$55,2,FALSE)))","v":""}]
[null,null,null,{"$f":"IF(ISERROR(VLOOKUP(C43,'Data Set'!D$8:E$55,2,FALSE)),\"\",(VLOOKUP(C43,'Data Set'!D$8:E$55,2,FALSE)))","v":""}]
[null,null,null,{"$f":"IF(ISERROR(VLOOKUP(C44,'Data Set'!D$8:E$55,2,FALSE)),\"\",(VLOOKUP(C44,'Data Set'!D$8:E$55,2,FALSE)))","v":""}]
[null,null,null,{"$f":"IF(ISERROR(VLOOKUP(C45,'Data Set'!D$8:E$55,2,FALSE)),\"\",(VLOOKUP(C45,'Data Set'!D$8:E$55,2,FALSE)))","v":""}]
[null,null,null,{"$f":"IF(ISERROR(VLOOKUP(C46,'Data Set'!D$8:E$55,2,FALSE)),\"\",(VLOOKUP(C46,'Data Set'!D$8:E$55,2,FALSE)))","v":""}]
[null,null,null,{"$f":"IF(ISERROR(VLOOKUP(C47,'Data Set'!D$8:E$55,2,FALSE)),\"\",(VLOOKUP(C47,'Data Set'!D$8:E$55,2,FALSE)))","v":""}]
[null,null,null,null,null,null,null,"Deartha ag JCt4"]
[]
[null,null,"Nótaí / hipearnaisc le hacmhainní / eile"]

{"sheet":"Aonad 20","index":21,"n_rows":50,"n_cols":8,"rows_kept":50,"cut":false,"hidden":true,"merged":[[37,4,46,4],[37,5,46,5],[37,7,42,7],[49,2,49,3],[26,3,35,3],[26,4,35,4],[26,5,29,5],[30,2,32,2],[31,5,35,5],[34,2,35,2],[1,0,1,1],[1,6,1,7],[3,2,4,2],[4,3,4,4],[8,2,24,2],[8,3,24,3],[8,4,24,4],[8,5,24,5],[9,7,35,7],[26,2,28,2]]}
[]
["Cliceáil:",null,"Innéacs","Sonraí Ranga","Uirlis Phleanála,\nRéasúnaíoch & Aidhm","Rannpháirtíocht i dtorthaí foghlama","Treoracha"]
[]
[null,null,{"$f":"'Data Set'!D4","v":"Teicneolaíocht Fheidhmeach"},"Teideal an aonaid",null,"Le cur ar bhileog innéacs: Roghnaigh Sea / Ní hea",null,"Múinteoir"]
[null,null,null,{"$f":"MID(CELL(\"filename\",A1),FIND(\"]\",CELL(\"filename\",A1))+1,1000)","v":"Aonad 20"},null,"Ní hea"]
[null,null,"Bliainghrúpa","Grúpa Ranga:","Dáta Tosaigh: ","Fad:",null,"Scoil:"]
[null,null,null,{"$f":"IF('Sonraí Ranga'!K21=\"\",\"\",'Sonraí Ranga'!K21)","v":"Iontráil i mbileog sonraí an ranga"},"dd/mm/yyyy","Líon na seachtainaí/ranganna",null,{"$f":"IF('Sonraí Ranga'!J8=\"\",\"\",'Sonraí Ranga'!J8)","v":"Iontráil i mbileog sonraí an ranga"}]
[]
[null,null,null,null,null,null,null,"Nótaí / Íomhánna / Eile"]
[]
[]
[]
[]
[]
[]
[]
[]
[]
[]
[]
[]
[]
[]
[]
[]
[null,null,"RÉAMHFHOGHLAIM:","PRÍOMHFHOGHLAIM","CAD É AN TAITHÍ A BHEIDH AG SCOLÁIRÍ \nAR AN BHFOGHLAIM SEO?","ACMHAINNÍ:"]
[]
[]
[]
[null,null,"FÓCAS NA FOGHLAMA:"]
[null,null,null,null,null,"MODHEOLAÍOCHTAÍ:"]
[]
[]
[null,null,"SNÁITHEANNA AGUS GNÉITHE A FHIOSRÚ:"]
[]
[]
[null,null,"TORTHAÍ FOGHLAMA ","BRIATHRA GNÍMH","MEASÚNÚ LEANÚNACH:","CONAS A BHRAITHFIDH SCOLÁIRÍ NA TORTHAÍ FOGHLAMA?",null,"Machnamh / Na Chéad Chéimeanna Eile"]
[null,null,null,{"$f":"IF(ISERROR(VLOOKUP(C38,'Data Set'!D$8:E$55,2,FALSE)),\"\",(VLOOKUP(C38,'Data Set'!D$8:E$55,2,FALSE)))","v":""}]
[null,null,null,{"$f":"IF(ISERROR(VLOOKUP(C39,'Data Set'!D$8:E$55,2,FALSE)),\"\",(VLOOKUP(C39,'Data Set'!D$8:E$55,2,FALSE)))","v":""}]
[null,null,null,{"$f":"IF(ISERROR(VLOOKUP(C40,'Data Set'!D$8:E$55,2,FALSE)),\"\",(VLOOKUP(C40,'Data Set'!D$8:E$55,2,FALSE)))","v":""}]
[null,null,null,{"$f":"IF(ISERROR(VLOOKUP(C41,'Data Set'!D$8:E$55,2,FALSE)),\"\",(VLOOKUP(C41,'Data Set'!D$8:E$55,2,FALSE)))","v":""}]
[null,null,null,{"$f":"IF(ISERROR(VLOOKUP(C42,'Data Set'!D$8:E$55,2,FALSE)),\"\",(VLOOKUP(C42,'Data Set'!D$8:E$55,2,FALSE)))","v":""}]
[null,null,null,{"$f":"IF(ISERROR(VLOOKUP(C43,'Data Set'!D$8:E$55,2,FALSE)),\"\",(VLOOKUP(C43,'Data Set'!D$8:E$55,2,FALSE)))","v":""}]
[null,null,null,{"$f":"IF(ISERROR(VLOOKUP(C44,'Data Set'!D$8:E$55,2,FALSE)),\"\",(VLOOKUP(C44,'Data Set'!D$8:E$55,2,FALSE)))","v":""}]
[null,null,null,{"$f":"IF(ISERROR(VLOOKUP(C45,'Data Set'!D$8:E$55,2,FALSE)),\"\",(VLOOKUP(C45,'Data Set'!D$8:E$55,2,FALSE)))","v":""}]
[null,null,null,{"$f":"IF(ISERROR(VLOOKUP(C46,'Data Set'!D$8:E$55,2,FALSE)),\"\",(VLOOKUP(C46,'Data Set'!D$8:E$55,2,FALSE)))","v":""}]
[null,null,null,{"$f":"IF(ISERROR(VLOOKUP(C47,'Data Set'!D$8:E$55,2,FALSE)),\"\",(VLOOKUP(C47,'Data Set'!D$8:E$55,2,FALSE)))","v":""}]
[null,null,null,null,null,null,null,"Deartha ag JCt4"]
[]
[null,null,"Nótaí / hipearnaisc le hacmhainní / eile"]

{"sheet":"Aonad 21","index":22,"n_rows":50,"n_cols":8,"rows_kept":50,"cut":false,"hidden":true,"merged":[[37,4,46,4],[37,5,46,5],[37,7,42,7],[49,2,49,3],[26,3,35,3],[26,4,35,4],[26,5,29,5],[30,2,32,2],[31,5,35,5],[34,2,35,2],[1,0,1,1],[1,6,1,7],[3,2,4,2],[4,3,4,4],[8,2,24,2],[8,3,24,3],[8,4,24,4],[8,5,24,5],[9,7,35,7],[26,2,28,2]]}
[]
["Cliceáil:",null,"Innéacs","Sonraí Ranga","Uirlis Phleanála,\nRéasúnaíoch & Aidhm","Rannpháirtíocht i dtorthaí foghlama","Treoracha"]
[]
[null,null,{"$f":"'Data Set'!D4","v":"Teicneolaíocht Fheidhmeach"},"Teideal an aonaid",null,"Le cur ar bhileog innéacs: Roghnaigh Sea / Ní hea",null,"Múinteoir"]
[null,null,null,{"$f":"MID(CELL(\"filename\",A1),FIND(\"]\",CELL(\"filename\",A1))+1,1000)","v":"Aonad 21"},null,"Ní hea"]
[null,null,"Bliainghrúpa","Grúpa Ranga:","Dáta Tosaigh: ","Fad:",null,"Scoil:"]
[null,null,null,{"$f":"IF('Sonraí Ranga'!K21=\"\",\"\",'Sonraí Ranga'!K21)","v":"Iontráil i mbileog sonraí an ranga"},"dd/mm/yyyy","Líon na seachtainaí/ranganna",null,{"$f":"IF('Sonraí Ranga'!J8=\"\",\"\",'Sonraí Ranga'!J8)","v":"Iontráil i mbileog sonraí an ranga"}]
[]
[null,null,null,null,null,null,null,"Nótaí / Íomhánna / Eile"]
[]
[]
[]
[]
[]
[]
[]
[]
[]
[]
[]
[]
[]
[]
[]
[]
[null,null,"RÉAMHFHOGHLAIM:","PRÍOMHFHOGHLAIM","CAD É AN TAITHÍ A BHEIDH AG SCOLÁIRÍ \nAR AN BHFOGHLAIM SEO?","ACMHAINNÍ:"]
[]
[]
[]
[null,null,"FÓCAS NA FOGHLAMA:"]
[null,null,null,null,null,"MODHEOLAÍOCHTAÍ:"]
[]
[]
[null,null,"SNÁITHEANNA AGUS GNÉITHE A FHIOSRÚ:"]
[]
[]
[null,null,"TORTHAÍ FOGHLAMA ","BRIATHRA GNÍMH","MEASÚNÚ LEANÚNACH:","CONAS A BHRAITHFIDH SCOLÁIRÍ NA TORTHAÍ FOGHLAMA?",null,"Machnamh / Na Chéad Chéimeanna Eile"]
[null,null,null,{"$f":"IF(ISERROR(VLOOKUP(C38,'Data Set'!D$8:E$55,2,FALSE)),\"\",(VLOOKUP(C38,'Data Set'!D$8:E$55,2,FALSE)))","v":""}]
[null,null,null,{"$f":"IF(ISERROR(VLOOKUP(C39,'Data Set'!D$8:E$55,2,FALSE)),\"\",(VLOOKUP(C39,'Data Set'!D$8:E$55,2,FALSE)))","v":""}]
[null,null,null,{"$f":"IF(ISERROR(VLOOKUP(C40,'Data Set'!D$8:E$55,2,FALSE)),\"\",(VLOOKUP(C40,'Data Set'!D$8:E$55,2,FALSE)))","v":""}]
[null,null,null,{"$f":"IF(ISERROR(VLOOKUP(C41,'Data Set'!D$8:E$55,2,FALSE)),\"\",(VLOOKUP(C41,'Data Set'!D$8:E$55,2,FALSE)))","v":""}]
[null,null,null,{"$f":"IF(ISERROR(VLOOKUP(C42,'Data Set'!D$8:E$55,2,FALSE)),\"\",(VLOOKUP(C42,'Data Set'!D$8:E$55,2,FALSE)))","v":""}]
[null,null,null,{"$f":"IF(ISERROR(VLOOKUP(C43,'Data Set'!D$8:E$55,2,FALSE)),\"\",(VLOOKUP(C43,'Data Set'!D$8:E$55,2,FALSE)))","v":""}]
[null,null,null,{"$f":"IF(ISERROR(VLOOKUP(C44,'Data Set'!D$8:E$55,2,FALSE)),\"\",(VLOOKUP(C44,'Data Set'!D$8:E$55,2,FALSE)))","v":""}]
[null,null,null,{"$f":"IF(ISERROR(VLOOKUP(C45,'Data Set'!D$8:E$55,2,FALSE)),\"\",(VLOOKUP(C45,'Data Set'!D$8:E$55,2,FALSE)))","v":""}]
[null,null,null,{"$f":"IF(ISERROR(VLOOKUP(C46,'Data Set'!D$8:E$55,2,FALSE)),\"\",(VLOOKUP(C46,'Data Set'!D$8:E$55,2,FALSE)))","v":""}]
[null,null,null,{"$f":"IF(ISERROR(VLOOKUP(C47,'Data Set'!D$8:E$55,2,FALSE)),\"\",(VLOOKUP(C47,'Data Set'!D$8:E$55,2,FALSE)))","v":""}]
[null,null,null,null,null,null,null,"Deartha ag JCt4"]
[]
[null,null,"Nótaí / hipearnaisc le hacmhainní / eile"]

{"sheet":"Aonad 22","index":23,"n_rows":50,"n_cols":8,"rows_kept":50,"cut":false,"hidden":true,"merged":[[37,4,46,4],[37,5,46,5],[37,7,42,7],[49,2,49,3],[26,3,35,3],[26,4,35,4],[26,5,29,5],[30,2,32,2],[31,5,35,5],[34,2,35,2],[1,0,1,1],[1,6,1,7],[3,2,4,2],[4,3,4,4],[8,2,24,2],[8,3,24,3],[8,4,24,4],[8,5,24,5],[9,7,35,7],[26,2,28,2]]}
[]
["Cliceáil:",null,"Innéacs","Sonraí Ranga","Uirlis Phleanála,\nRéasúnaíoch & Aidhm","Rannpháirtíocht i dtorthaí foghlama","Treoracha"]
[]
[null,null,{"$f":"'Data Set'!D4","v":"Teicneolaíocht Fheidhmeach"},"Teideal an aonaid",null,"Le cur ar bhileog innéacs: Roghnaigh Sea / Ní hea",null,"Múinteoir"]
[null,null,null,{"$f":"MID(CELL(\"filename\",A1),FIND(\"]\",CELL(\"filename\",A1))+1,1000)","v":"Aonad 22"},null,"Ní hea"]
[null,null,"Bliainghrúpa","Grúpa Ranga:","Dáta Tosaigh: ","Fad:",null,"Scoil:"]
[null,null,null,{"$f":"IF('Sonraí Ranga'!K21=\"\",\"\",'Sonraí Ranga'!K21)","v":"Iontráil i mbileog sonraí an ranga"},"dd/mm/yyyy","Líon na seachtainaí/ranganna",null,{"$f":"IF('Sonraí Ranga'!J8=\"\",\"\",'Sonraí Ranga'!J8)","v":"Iontráil i mbileog sonraí an ranga"}]
[]
[null,null,null,null,null,null,null,"Nótaí / Íomhánna / Eile"]
[]
[]
[]
[]
[]
[]
[]
[]
[]
[]
[]
[]
[]
[]
[]
[]
[null,null,"RÉAMHFHOGHLAIM:","PRÍOMHFHOGHLAIM","CAD É AN TAITHÍ A BHEIDH AG SCOLÁIRÍ \nAR AN BHFOGHLAIM SEO?","ACMHAINNÍ:"]
[]
[]
[]
[null,null,"FÓCAS NA FOGHLAMA:"]
[null,null,null,null,null,"MODHEOLAÍOCHTAÍ:"]
[]
[]
[null,null,"SNÁITHEANNA AGUS GNÉITHE A FHIOSRÚ:"]
[]
[]
[null,null,"TORTHAÍ FOGHLAMA ","BRIATHRA GNÍMH","MEASÚNÚ LEANÚNACH:","CONAS A BHRAITHFIDH SCOLÁIRÍ NA TORTHAÍ FOGHLAMA?",null,"Machnamh / Na Chéad Chéimeanna Eile"]
[null,null,null,{"$f":"IF(ISERROR(VLOOKUP(C38,'Data Set'!D$8:E$55,2,FALSE)),\"\",(VLOOKUP(C38,'Data Set'!D$8:E$55,2,FALSE)))","v":""}]
[null,null,null,{"$f":"IF(ISERROR(VLOOKUP(C39,'Data Set'!D$8:E$55,2,FALSE)),\"\",(VLOOKUP(C39,'Data Set'!D$8:E$55,2,FALSE)))","v":""}]
[null,null,null,{"$f":"IF(ISERROR(VLOOKUP(C40,'Data Set'!D$8:E$55,2,FALSE)),\"\",(VLOOKUP(C40,'Data Set'!D$8:E$55,2,FALSE)))","v":""}]
[null,null,null,{"$f":"IF(ISERROR(VLOOKUP(C41,'Data Set'!D$8:E$55,2,FALSE)),\"\",(VLOOKUP(C41,'Data Set'!D$8:E$55,2,FALSE)))","v":""}]
[null,null,null,{"$f":"IF(ISERROR(VLOOKUP(C42,'Data Set'!D$8:E$55,2,FALSE)),\"\",(VLOOKUP(C42,'Data Set'!D$8:E$55,2,FALSE)))","v":""}]
[null,null,null,{"$f":"IF(ISERROR(VLOOKUP(C43,'Data Set'!D$8:E$55,2,FALSE)),\"\",(VLOOKUP(C43,'Data Set'!D$8:E$55,2,FALSE)))","v":""}]
[null,null,null,{"$f":"IF(ISERROR(VLOOKUP(C44,'Data Set'!D$8:E$55,2,FALSE)),\"\",(VLOOKUP(C44,'Data Set'!D$8:E$55,2,FALSE)))","v":""}]
[null,null,null,{"$f":"IF(ISERROR(VLOOKUP(C45,'Data Set'!D$8:E$55,2,FALSE)),\"\",(VLOOKUP(C45,'Data Set'!D$8:E$55,2,FALSE)))","v":""}]
[null,null,null,{"$f":"IF(ISERROR(VLOOKUP(C46,'Data Set'!D$8:E$55,2,FALSE)),\"\",(VLOOKUP(C46,'Data Set'!D$8:E$55,2,FALSE)))","v":""}]
[null,null,null,{"$f":"IF(ISERROR(VLOOKUP(C47,'Data Set'!D$8:E$55,2,FALSE)),\"\",(VLOOKUP(C47,'Data Set'!D$8:E$55,2,FALSE)))","v":""}]
[null,null,null,null,null,null,null,"Deartha ag JCt4"]
[]
[null,null,"Nótaí / hipearnaisc le hacmhainní / eile"]

{"sheet":"Aonad 23","index":24,"n_rows":50,"n_cols":8,"rows_kept":50,"cut":false,"hidden":true,"merged":[[37,4,46,4],[37,5,46,5],[37,7,42,7],[49,2,49,3],[26,3,35,3],[26,4,35,4],[26,5,29,5],[30,2,32,2],[31,5,35,5],[34,2,35,2],[1,0,1,1],[1,6,1,7],[3,2,4,2],[4,3,4,4],[8,2,24,2],[8,3,24,3],[8,4,24,4],[8,5,24,5],[9,7,35,7],[26,2,28,2]]}
[]
["Cliceáil:",null,"Innéacs","Sonraí Ranga","Uirlis Phleanála,\nRéasúnaíoch & Aidhm","Rannpháirtíocht i dtorthaí foghlama","Treoracha"]
[]
[null,null,{"$f":"'Data Set'!D4","v":"Teicneolaíocht Fheidhmeach"},"Teideal an aonaid",null,"Le cur ar bhileog innéacs: Roghnaigh Sea / Ní hea",null,"Múinteoir"]
[null,null,null,{"$f":"MID(CELL(\"filename\",A1),FIND(\"]\",CELL(\"filename\",A1))+1,1000)","v":"Aonad 23"},null,"Ní hea"]
[null,null,"Bliainghrúpa","Grúpa Ranga:","Dáta Tosaigh: ","Fad:",null,"Scoil:"]
[null,null,null,{"$f":"IF('Sonraí Ranga'!K21=\"\",\"\",'Sonraí Ranga'!K21)","v":"Iontráil i mbileog sonraí an ranga"},"dd/mm/yyyy","Líon na seachtainaí/ranganna",null,{"$f":"IF('Sonraí Ranga'!J8=\"\",\"\",'Sonraí Ranga'!J8)","v":"Iontráil i mbileog sonraí an ranga"}]
[]
[null,null,null,null,null,null,null,"Nótaí / Íomhánna / Eile"]
[]
[]
[]
[]
[]
[]
[]
[]
[]
[]
[]
[]
[]
[]
[]
[]
[null,null,"RÉAMHFHOGHLAIM:","PRÍOMHFHOGHLAIM","CAD É AN TAITHÍ A BHEIDH AG SCOLÁIRÍ \nAR AN BHFOGHLAIM SEO?","ACMHAINNÍ:"]
[]
[]
[]
[null,null,"FÓCAS NA FOGHLAMA:"]
[null,null,null,null,null,"MODHEOLAÍOCHTAÍ:"]
[]
[]
[null,null,"SNÁITHEANNA AGUS GNÉITHE A FHIOSRÚ:"]
[]
[]
[null,null,"TORTHAÍ FOGHLAMA ","BRIATHRA GNÍMH","MEASÚNÚ LEANÚNACH:","CONAS A BHRAITHFIDH SCOLÁIRÍ NA TORTHAÍ FOGHLAMA?",null,"Machnamh / Na Chéad Chéimeanna Eile"]
[null,null,null,{"$f":"IF(ISERROR(VLOOKUP(C38,'Data Set'!D$8:E$55,2,FALSE)),\"\",(VLOOKUP(C38,'Data Set'!D$8:E$55,2,FALSE)))","v":""}]
[null,null,null,{"$f":"IF(ISERROR(VLOOKUP(C39,'Data Set'!D$8:E$55,2,FALSE)),\"\",(VLOOKUP(C39,'Data Set'!D$8:E$55,2,FALSE)))","v":""}]
[null,null,null,{"$f":"IF(ISERROR(VLOOKUP(C40,'Data Set'!D$8:E$55,2,FALSE)),\"\",(VLOOKUP(C40,'Data Set'!D$8:E$55,2,FALSE)))","v":""}]
[null,null,null,{"$f":"IF(ISERROR(VLOOKUP(C41,'Data Set'!D$8:E$55,2,FALSE)),\"\",(VLOOKUP(C41,'Data Set'!D$8:E$55,2,FALSE)))","v":""}]
[null,null,null,{"$f":"IF(ISERROR(VLOOKUP(C42,'Data Set'!D$8:E$55,2,FALSE)),\"\",(VLOOKUP(C42,'Data Set'!D$8:E$55,2,FALSE)))","v":""}]
[null,null,null,{"$f":"IF(ISERROR(VLOOKUP(C43,'Data Set'!D$8:E$55,2,FALSE)),\"\",(VLOOKUP(C43,'Data Set'!D$8:E$55,2,FALSE)))","v":""}]
[null,null,null,{"$f":"IF(ISERROR(VLOOKUP(C44,'Data Set'!D$8:E$55,2,FALSE)),\"\",(VLOOKUP(C44,'Data Set'!D$8:E$55,2,FALSE)))","v":""}]
[null,null,null,{"$f":"IF(ISERROR(VLOOKUP(C45,'Data Set'!D$8:E$55,2,FALSE)),\"\",(VLOOKUP(C45,'Data Set'!D$8:E$55,2,FALSE)))","v":""}]
[null,null,null,{"$f":"IF(ISERROR(VLOOKUP(C46,'Data Set'!D$8:E$55,2,FALSE)),\"\",(VLOOKUP(C46,'Data Set'!D$8:E$55,2,FALSE)))","v":""}]
[null,null,null,{"$f":"IF(ISERROR(VLOOKUP(C47,'Data Set'!D$8:E$55,2,FALSE)),\"\",(VLOOKUP(C47,'Data Set'!D$8:E$55,2,FALSE)))","v":""}]
[null,null,null,null,null,null,null,"Deartha ag JCt4"]
[]
[null,null,"Nótaí / hipearnaisc le hacmhainní / eile"]

{"sheet":"Aonad 24","index":25,"n_rows":50,"n_cols":8,"rows_kept":50,"cut":false,"hidden":true,"merged":[[37,4,46,4],[37,5,46,5],[37,7,42,7],[49,2,49,3],[26,3,35,3],[26,4,35,4],[26,5,29,5],[30,2,32,2],[31,5,35,5],[34,2,35,2],[1,0,1,1],[1,6,1,7],[3,2,4,2],[4,3,4,4],[8,2,24,2],[8,3,24,3],[8,4,24,4],[8,5,24,5],[9,7,35,7],[26,2,28,2]]}
[]
["Cliceáil:",null,"Innéacs","Sonraí Ranga","Uirlis Phleanála,\nRéasúnaíoch & Aidhm","Rannpháirtíocht i dtorthaí foghlama","Treoracha"]
[]
[null,null,{"$f":"'Data Set'!D4","v":"Teicneolaíocht Fheidhmeach"},"Teideal an aonaid",null,"Le cur ar bhileog innéacs: Roghnaigh Sea / Ní hea",null,"Múinteoir"]
[null,null,null,{"$f":"MID(CELL(\"filename\",A1),FIND(\"]\",CELL(\"filename\",A1))+1,1000)","v":"Aonad 24"},null,"Ní hea"]
[null,null,"Bliainghrúpa","Grúpa Ranga:","Dáta Tosaigh: ","Fad:",null,"Scoil:"]
[null,null,null,{"$f":"IF('Sonraí Ranga'!K21=\"\",\"\",'Sonraí Ranga'!K21)","v":"Iontráil i mbileog sonraí an ranga"},"dd/mm/yyyy","Líon na seachtainaí/ranganna",null,{"$f":"IF('Sonraí Ranga'!J8=\"\",\"\",'Sonraí Ranga'!J8)","v":"Iontráil i mbileog sonraí an ranga"}]
[]
[null,null,null,null,null,null,null,"Nótaí / Íomhánna / Eile"]
[]
[]
[]
[]
[]
[]
[]
[]
[]
[]
[]
[]
[]
[]
[]
[]
[null,null,"RÉAMHFHOGHLAIM:","PRÍOMHFHOGHLAIM","CAD É AN TAITHÍ A BHEIDH AG SCOLÁIRÍ \nAR AN BHFOGHLAIM SEO?","ACMHAINNÍ:"]
[]
[]
[]
[null,null,"FÓCAS NA FOGHLAMA:"]
[null,null,null,null,null,"MODHEOLAÍOCHTAÍ:"]
[]
[]
[null,null,"SNÁITHEANNA AGUS GNÉITHE A FHIOSRÚ:"]
[]
[]
[null,null,"TORTHAÍ FOGHLAMA ","BRIATHRA GNÍMH","MEASÚNÚ LEANÚNACH:","CONAS A BHRAITHFIDH SCOLÁIRÍ NA TORTHAÍ FOGHLAMA?",null,"Machnamh / Na Chéad Chéimeanna Eile"]
[null,null,null,{"$f":"IF(ISERROR(VLOOKUP(C38,'Data Set'!D$8:E$55,2,FALSE)),\"\",(VLOOKUP(C38,'Data Set'!D$8:E$55,2,FALSE)))","v":""}]
[null,null,null,{"$f":"IF(ISERROR(VLOOKUP(C39,'Data Set'!D$8:E$55,2,FALSE)),\"\",(VLOOKUP(C39,'Data Set'!D$8:E$55,2,FALSE)))","v":""}]
[null,null,null,{"$f":"IF(ISERROR(VLOOKUP(C40,'Data Set'!D$8:E$55,2,FALSE)),\"\",(VLOOKUP(C40,'Data Set'!D$8:E$55,2,FALSE)))","v":""}]
[null,null,null,{"$f":"IF(ISERROR(VLOOKUP(C41,'Data Set'!D$8:E$55,2,FALSE)),\"\",(VLOOKUP(C41,'Data Set'!D$8:E$55,2,FALSE)))","v":""}]
[null,null,null,{"$f":"IF(ISERROR(VLOOKUP(C42,'Data Set'!D$8:E$55,2,FALSE)),\"\",(VLOOKUP(C42,'Data Set'!D$8:E$55,2,FALSE)))","v":""}]
[null,null,null,{"$f":"IF(ISERROR(VLOOKUP(C43,'Data Set'!D$8:E$55,2,FALSE)),\"\",(VLOOKUP(C43,'Data Set'!D$8:E$55,2,FALSE)))","v":""}]
[null,null,null,{"$f":"IF(ISERROR(VLOOKUP(C44,'Data Set'!D$8:E$55,2,FALSE)),\"\",(VLOOKUP(C44,'Data Set'!D$8:E$55,2,FALSE)))","v":""}]
[null,null,null,{"$f":"IF(ISERROR(VLOOKUP(C45,'Data Set'!D$8:E$55,2,FALSE)),\"\",(VLOOKUP(C45,'Data Set'!D$8:E$55,2,FALSE)))","v":""}]
[null,null,null,{"$f":"IF(ISERROR(VLOOKUP(C46,'Data Set'!D$8:E$55,2,FALSE)),\"\",(VLOOKUP(C46,'Data Set'!D$8:E$55,2,FALSE)))","v":""}]
[null,null,null,{"$f":"IF(ISERROR(VLOOKUP(C47,'Data Set'!D$8:E$55,2,FALSE)),\"\",(VLOOKUP(C47,'Data Set'!D$8:E$55,2,FALSE)))","v":""}]
[null,null,null,null,null,null,null,"Deartha ag JCt4"]
[]
[null,null,"Nótaí / hipearnaisc le hacmhainní / eile"]

{"sheet":"Aonad 25","index":26,"n_rows":50,"n_cols":8,"rows_kept":50,"cut":false,"hidden":true,"merged":[[37,4,46,4],[37,5,46,5],[37,7,42,7],[49,2,49,3],[26,3,35,3],[26,4,35,4],[26,5,29,5],[30,2,32,2],[31,5,35,5],[34,2,35,2],[1,0,1,1],[1,6,1,7],[3,2,4,2],[4,3,4,4],[8,2,24,2],[8,3,24,3],[8,4,24,4],[8,5,24,5],[9,7,35,7],[26,2,28,2]]}
[]
["Cliceáil:",null,"Innéacs","Sonraí Ranga","Uirlis Phleanála,\nRéasúnaíoch & Aidhm","Rannpháirtíocht i dtorthaí foghlama","Treoracha"]
[]
[null,null,{"$f":"'Data Set'!D4","v":"Teicneolaíocht Fheidhmeach"},"Teideal an aonaid",null,"Le cur ar bhileog innéacs: Roghnaigh Sea / Ní hea",null,"Múinteoir"]
[null,null,null,{"$f":"MID(CELL(\"filename\",A1),FIND(\"]\",CELL(\"filename\",A1))+1,1000)","v":"Aonad 25"},null,"Ní hea"]
[null,null,"Bliainghrúpa","Grúpa Ranga:","Dáta Tosaigh: ","Fad:",null,"Scoil:"]
[null,null,null,{"$f":"IF('Sonraí Ranga'!K21=\"\",\"\",'Sonraí Ranga'!K21)","v":"Iontráil i mbileog sonraí an ranga"},"dd/mm/yyyy","Líon na seachtainaí/ranganna",null,{"$f":"IF('Sonraí Ranga'!J8=\"\",\"\",'Sonraí Ranga'!J8)","v":"Iontráil i mbileog sonraí an ranga"}]
[]
[null,null,null,null,null,null,null,"Nótaí / Íomhánna / Eile"]
[]
[]
[]
[]
[]
[]
[]
[]
[]
[]
[]
[]
[]
[]
[]
[]
[null,null,"RÉAMHFHOGHLAIM:","PRÍOMHFHOGHLAIM","CAD É AN TAITHÍ A BHEIDH AG SCOLÁIRÍ \nAR AN BHFOGHLAIM SEO?","ACMHAINNÍ:"]
[]
[]
[]
[null,null,"FÓCAS NA FOGHLAMA:"]
[null,null,null,null,null,"MODHEOLAÍOCHTAÍ:"]
[]
[]
[null,null,"SNÁITHEANNA AGUS GNÉITHE A FHIOSRÚ:"]
[]
[]
[null,null,"TORTHAÍ FOGHLAMA ","BRIATHRA GNÍMH","MEASÚNÚ LEANÚNACH:","CONAS A BHRAITHFIDH SCOLÁIRÍ NA TORTHAÍ FOGHLAMA?",null,"Machnamh / Na Chéad Chéimeanna Eile"]
[null,null,null,{"$f":"IF(ISERROR(VLOOKUP(C38,'Data Set'!D$8:E$55,2,FALSE)),\"\",(VLOOKUP(C38,'Data Set'!D$8:E$55,2,FALSE)))","v":""}]
[null,null,null,{"$f":"IF(ISERROR(VLOOKUP(C39,'Data Set'!D$8:E$55,2,FALSE)),\"\",(VLOOKUP(C39,'Data Set'!D$8:E$55,2,FALSE)))","v":""}]
[null,null,null,{"$f":"IF(ISERROR(VLOOKUP(C40,'Data Set'!D$8:E$55,2,FALSE)),\"\",(VLOOKUP(C40,'Data Set'!D$8:E$55,2,FALSE)))","v":""}]
[null,null,null,{"$f":"IF(ISERROR(VLOOKUP(C41,'Data Set'!D$8:E$55,2,FALSE)),\"\",(VLOOKUP(C41,'Data Set'!D$8:E$55,2,FALSE)))","v":""}]
[null,null,null,{"$f":"IF(ISERROR(VLOOKUP(C42,'Data Set'!D$8:E$55,2,FALSE)),\"\",(VLOOKUP(C42,'Data Set'!D$8:E$55,2,FALSE)))","v":""}]
[null,null,null,{"$f":"IF(ISERROR(VLOOKUP(C43,'Data Set'!D$8:E$55,2,FALSE)),\"\",(VLOOKUP(C43,'Data Set'!D$8:E$55,2,FALSE)))","v":""}]
[null,null,null,{"$f":"IF(ISERROR(VLOOKUP(C44,'Data Set'!D$8:E$55,2,FALSE)),\"\",(VLOOKUP(C44,'Data Set'!D$8:E$55,2,FALSE)))","v":""}]
[null,null,null,{"$f":"IF(ISERROR(VLOOKUP(C45,'Data Set'!D$8:E$55,2,FALSE)),\"\",(VLOOKUP(C45,'Data Set'!D$8:E$55,2,FALSE)))","v":""}]
[null,null,null,{"$f":"IF(ISERROR(VLOOKUP(C46,'Data Set'!D$8:E$55,2,FALSE)),\"\",(VLOOKUP(C46,'Data Set'!D$8:E$55,2,FALSE)))","v":""}]
[null,null,null,{"$f":"IF(ISERROR(VLOOKUP(C47,'Data Set'!D$8:E$55,2,FALSE)),\"\",(VLOOKUP(C47,'Data Set'!D$8:E$55,2,FALSE)))","v":""}]
[null,null,null,null,null,null,null,"Deartha ag JCt4"]
[]
[null,null,"Nótaí / hipearnaisc le hacmhainní / eile"]

{"sheet":"Aonad 26","index":27,"n_rows":50,"n_cols":8,"rows_kept":50,"cut":false,"hidden":true,"merged":[[37,4,46,4],[37,5,46,5],[37,7,42,7],[49,2,49,3],[26,3,35,3],[26,4,35,4],[26,5,29,5],[30,2,32,2],[31,5,35,5],[34,2,35,2],[1,0,1,1],[1,6,1,7],[3,2,4,2],[4,3,4,4],[8,2,24,2],[8,3,24,3],[8,4,24,4],[8,5,24,5],[9,7,35,7],[26,2,28,2]]}
[]
["Cliceáil:",null,"Innéacs","Sonraí Ranga","Uirlis Phleanála,\nRéasúnaíoch & Aidhm","Rannpháirtíocht i dtorthaí foghlama","Treoracha"]
[]
[null,null,{"$f":"'Data Set'!D4","v":"Teicneolaíocht Fheidhmeach"},"Teideal an aonaid",null,"Le cur ar bhileog innéacs: Roghnaigh Sea / Ní hea",null,"Múinteoir"]
[null,null,null,{"$f":"MID(CELL(\"filename\",A1),FIND(\"]\",CELL(\"filename\",A1))+1,1000)","v":"Aonad 26"},null,"Ní hea"]
[null,null,"Bliainghrúpa","Grúpa Ranga:","Dáta Tosaigh: ","Fad:",null,"Scoil:"]
[null,null,null,{"$f":"IF('Sonraí Ranga'!K21=\"\",\"\",'Sonraí Ranga'!K21)","v":"Iontráil i mbileog sonraí an ranga"},"dd/mm/yyyy","Líon na seachtainaí/ranganna",null,{"$f":"IF('Sonraí Ranga'!J8=\"\",\"\",'Sonraí Ranga'!J8)","v":"Iontráil i mbileog sonraí an ranga"}]
[]
[null,null,null,null,null,null,null,"Nótaí / Íomhánna / Eile"]
[]
[]
[]
[]
[]
[]
[]
[]
[]
[]
[]
[]
[]
[]
[]
[]
[null,null,"RÉAMHFHOGHLAIM:","PRÍOMHFHOGHLAIM","CAD É AN TAITHÍ A BHEIDH AG SCOLÁIRÍ \nAR AN BHFOGHLAIM SEO?","ACMHAINNÍ:"]
[]
[]
[]
[null,null,"FÓCAS NA FOGHLAMA:"]
[null,null,null,null,null,"MODHEOLAÍOCHTAÍ:"]
[]
[]
[null,null,"SNÁITHEANNA AGUS GNÉITHE A FHIOSRÚ:"]
[]
[]
[null,null,"TORTHAÍ FOGHLAMA ","BRIATHRA GNÍMH","MEASÚNÚ LEANÚNACH:","CONAS A BHRAITHFIDH SCOLÁIRÍ NA TORTHAÍ FOGHLAMA?",null,"Machnamh / Na Chéad Chéimeanna Eile"]
[null,null,null,{"$f":"IF(ISERROR(VLOOKUP(C38,'Data Set'!D$8:E$55,2,FALSE)),\"\",(VLOOKUP(C38,'Data Set'!D$8:E$55,2,FALSE)))","v":""}]
[null,null,null,{"$f":"IF(ISERROR(VLOOKUP(C39,'Data Set'!D$8:E$55,2,FALSE)),\"\",(VLOOKUP(C39,'Data Set'!D$8:E$55,2,FALSE)))","v":""}]
[null,null,null,{"$f":"IF(ISERROR(VLOOKUP(C40,'Data Set'!D$8:E$55,2,FALSE)),\"\",(VLOOKUP(C40,'Data Set'!D$8:E$55,2,FALSE)))","v":""}]
[null,null,null,{"$f":"IF(ISERROR(VLOOKUP(C41,'Data Set'!D$8:E$55,2,FALSE)),\"\",(VLOOKUP(C41,'Data Set'!D$8:E$55,2,FALSE)))","v":""}]
[null,null,null,{"$f":"IF(ISERROR(VLOOKUP(C42,'Data Set'!D$8:E$55,2,FALSE)),\"\",(VLOOKUP(C42,'Data Set'!D$8:E$55,2,FALSE)))","v":""}]
[null,null,null,{"$f":"IF(ISERROR(VLOOKUP(C43,'Data Set'!D$8:E$55,2,FALSE)),\"\",(VLOOKUP(C43,'Data Set'!D$8:E$55,2,FALSE)))","v":""}]
[null,null,null,{"$f":"IF(ISERROR(VLOOKUP(C44,'Data Set'!D$8:E$55,2,FALSE)),\"\",(VLOOKUP(C44,'Data Set'!D$8:E$55,2,FALSE)))","v":""}]
[null,null,null,{"$f":"IF(ISERROR(VLOOKUP(C45,'Data Set'!D$8:E$55,2,FALSE)),\"\",(VLOOKUP(C45,'Data Set'!D$8:E$55,2,FALSE)))","v":""}]
[null,null,null,{"$f":"IF(ISERROR(VLOOKUP(C46,'Data Set'!D$8:E$55,2,FALSE)),\"\",(VLOOKUP(C46,'Data Set'!D$8:E$55,2,FALSE)))","v":""}]
[null,null,null,{"$f":"IF(ISERROR(VLOOKUP(C47,'Data Set'!D$8:E$55,2,FALSE)),\"\",(VLOOKUP(C47,'Data Set'!D$8:E$55,2,FALSE)))","v":""}]
[null,null,null,null,null,null,null,"Deartha ag JCt4"]
[]
[null,null,"Nótaí / hipearnaisc le hacmhainní / eile"]

{"sheet":"Aonad 27","index":28,"n_rows":50,"n_cols":8,"rows_kept":50,"cut":false,"hidden":true,"merged":[[37,4,46,4],[37,5,46,5],[37,7,42,7],[49,2,49,3],[26,3,35,3],[26,4,35,4],[26,5,29,5],[30,2,32,2],[31,5,35,5],[34,2,35,2],[1,0,1,1],[1,6,1,7],[3,2,4,2],[4,3,4,4],[8,2,24,2],[8,3,24,3],[8,4,24,4],[8,5,24,5],[9,7,35,7],[26,2,28,2]]}
[]
["Cliceáil:",null,"Innéacs","Sonraí Ranga","Uirlis Phleanála,\nRéasúnaíoch & Aidhm","Rannpháirtíocht i dtorthaí foghlama","Treoracha"]
[]
[null,null,{"$f":"'Data Set'!D4","v":"Teicneolaíocht Fheidhmeach"},"Teideal an aonaid",null,"Le cur ar bhileog innéacs: Roghnaigh Sea / Ní hea",null,"Múinteoir"]
[null,null,null,{"$f":"MID(CELL(\"filename\",A1),FIND(\"]\",CELL(\"filename\",A1))+1,1000)","v":"Aonad 27"},null,"Ní hea"]
[null,null,"Bliainghrúpa","Grúpa Ranga:","Dáta Tosaigh: ","Fad:",null,"Scoil:"]
[null,null,null,{"$f":"IF('Sonraí Ranga'!K21=\"\",\"\",'Sonraí Ranga'!K21)","v":"Iontráil i mbileog sonraí an ranga"},"dd/mm/yyyy","Líon na seachtainaí/ranganna",null,{"$f":"IF('Sonraí Ranga'!J8=\"\",\"\",'Sonraí Ranga'!J8)","v":"Iontráil i mbileog sonraí an ranga"}]
[]
[null,null,null,null,null,null,null,"Nótaí / Íomhánna / Eile"]
[]
[]
[]
[]
[]
[]
[]
[]
[]
[]
[]
[]
[]
[]
[]
[]
[null,null,"RÉAMHFHOGHLAIM:","PRÍOMHFHOGHLAIM","CAD É AN TAITHÍ A BHEIDH AG SCOLÁIRÍ \nAR AN BHFOGHLAIM SEO?","ACMHAINNÍ:"]
[]
[]
[]
[null,null,"FÓCAS NA FOGHLAMA:"]
[null,null,null,null,null,"MODHEOLAÍOCHTAÍ:"]
[]
[]
[null,null,"SNÁITHEANNA AGUS GNÉITHE A FHIOSRÚ:"]
[]
[]
[null,null,"TORTHAÍ FOGHLAMA ","BRIATHRA GNÍMH","MEASÚNÚ LEANÚNACH:","CONAS A BHRAITHFIDH SCOLÁIRÍ NA TORTHAÍ FOGHLAMA?",null,"Machnamh / Na Chéad Chéimeanna Eile"]
[null,null,null,{"$f":"IF(ISERROR(VLOOKUP(C38,'Data Set'!D$8:E$55,2,FALSE)),\"\",(VLOOKUP(C38,'Data Set'!D$8:E$55,2,FALSE)))","v":""}]
[null,null,null,{"$f":"IF(ISERROR(VLOOKUP(C39,'Data Set'!D$8:E$55,2,FALSE)),\"\",(VLOOKUP(C39,'Data Set'!D$8:E$55,2,FALSE)))","v":""}]
[null,null,null,{"$f":"IF(ISERROR(VLOOKUP(C40,'Data Set'!D$8:E$55,2,FALSE)),\"\",(VLOOKUP(C40,'Data Set'!D$8:E$55,2,FALSE)))","v":""}]
[null,null,null,{"$f":"IF(ISERROR(VLOOKUP(C41,'Data Set'!D$8:E$55,2,FALSE)),\"\",(VLOOKUP(C41,'Data Set'!D$8:E$55,2,FALSE)))","v":""}]
[null,null,null,{"$f":"IF(ISERROR(VLOOKUP(C42,'Data Set'!D$8:E$55,2,FALSE)),\"\",(VLOOKUP(C42,'Data Set'!D$8:E$55,2,FALSE)))","v":""}]
[null,null,null,{"$f":"IF(ISERROR(VLOOKUP(C43,'Data Set'!D$8:E$55,2,FALSE)),\"\",(VLOOKUP(C43,'Data Set'!D$8:E$55,2,FALSE)))","v":""}]
[null,null,null,{"$f":"IF(ISERROR(VLOOKUP(C44,'Data Set'!D$8:E$55,2,FALSE)),\"\",(VLOOKUP(C44,'Data Set'!D$8:E$55,2,FALSE)))","v":""}]
[null,null,null,{"$f":"IF(ISERROR(VLOOKUP(C45,'Data Set'!D$8:E$55,2,FALSE)),\"\",(VLOOKUP(C45,'Data Set'!D$8:E$55,2,FALSE)))","v":""}]
[null,null,null,{"$f":"IF(ISERROR(VLOOKUP(C46,'Data Set'!D$8:E$55,2,FALSE)),\"\",(VLOOKUP(C46,'Data Set'!D$8:E$55,2,FALSE)))","v":""}]
[null,null,null,{"$f":"IF(ISERROR(VLOOKUP(C47,'Data Set'!D$8:E$55,2,FALSE)),\"\",(VLOOKUP(C47,'Data Set'!D$8:E$55,2,FALSE)))","v":""}]
[null,null,null,null,null,null,null,"Deartha ag JCt4"]
[]
[null,null,"Nótaí / hipearnaisc le hacmhainní / eile"]

{"sheet":"Aonad 28","index":29,"n_rows":50,"n_cols":8,"rows_kept":50,"cut":false,"hidden":true,"merged":[[37,4,46,4],[37,5,46,5],[37,7,42,7],[49,2,49,3],[26,3,35,3],[26,4,35,4],[26,5,29,5],[30,2,32,2],[31,5,35,5],[34,2,35,2],[1,0,1,1],[1,6,1,7],[3,2,4,2],[4,3,4,4],[8,2,24,2],[8,3,24,3],[8,4,24,4],[8,5,24,5],[9,7,35,7],[26,2,28,2]]}
[]
["Cliceáil:",null,"Innéacs","Sonraí Ranga","Uirlis Phleanála,\nRéasúnaíoch & Aidhm","Rannpháirtíocht i dtorthaí foghlama","Treoracha"]
[]
[null,null,{"$f":"'Data Set'!D4","v":"Teicneolaíocht Fheidhmeach"},"Teideal an aonaid",null,"Le cur ar bhileog innéacs: Roghnaigh Sea / Ní hea",null,"Múinteoir"]
[null,null,null,{"$f":"MID(CELL(\"filename\",A1),FIND(\"]\",CELL(\"filename\",A1))+1,1000)","v":"Aonad 28"},null,"Ní hea"]
[null,null,"Bliainghrúpa","Grúpa Ranga:","Dáta Tosaigh: ","Fad:",null,"Scoil:"]
[null,null,null,{"$f":"IF('Sonraí Ranga'!K21=\"\",\"\",'Sonraí Ranga'!K21)","v":"Iontráil i mbileog sonraí an ranga"},"dd/mm/yyyy","Líon na seachtainaí/ranganna",null,{"$f":"IF('Sonraí Ranga'!J8=\"\",\"\",'Sonraí Ranga'!J8)","v":"Iontráil i mbileog sonraí an ranga"}]
[]
[null,null,null,null,null,null,null,"Nótaí / Íomhánna / Eile"]
[]
[]
[]
[]
[]
[]
[]
[]
[]
[]
[]
[]
[]
[]
[]
[]
[null,null,"RÉAMHFHOGHLAIM:","PRÍOMHFHOGHLAIM","CAD É AN TAITHÍ A BHEIDH AG SCOLÁIRÍ \nAR AN BHFOGHLAIM SEO?","ACMHAINNÍ:"]
[]
[]
[]
[null,null,"FÓCAS NA FOGHLAMA:"]
[null,null,null,null,null,"MODHEOLAÍOCHTAÍ:"]
[]
[]
[null,null,"SNÁITHEANNA AGUS GNÉITHE A FHIOSRÚ:"]
[]
[]
[null,null,"TORTHAÍ FOGHLAMA ","BRIATHRA GNÍMH","MEASÚNÚ LEANÚNACH:","CONAS A BHRAITHFIDH SCOLÁIRÍ NA TORTHAÍ FOGHLAMA?",null,"Machnamh / Na Chéad Chéimeanna Eile"]
[null,null,null,{"$f":"IF(ISERROR(VLOOKUP(C38,'Data Set'!D$8:E$55,2,FALSE)),\"\",(VLOOKUP(C38,'Data Set'!D$8:E$55,2,FALSE)))","v":""}]
[null,null,null,{"$f":"IF(ISERROR(VLOOKUP(C39,'Data Set'!D$8:E$55,2,FALSE)),\"\",(VLOOKUP(C39,'Data Set'!D$8:E$55,2,FALSE)))","v":""}]
[null,null,null,{"$f":"IF(ISERROR(VLOOKUP(C40,'Data Set'!D$8:E$55,2,FALSE)),\"\",(VLOOKUP(C40,'Data Set'!D$8:E$55,2,FALSE)))","v":""}]
[null,null,null,{"$f":"IF(ISERROR(VLOOKUP(C41,'Data Set'!D$8:E$55,2,FALSE)),\"\",(VLOOKUP(C41,'Data Set'!D$8:E$55,2,FALSE)))","v":""}]
[null,null,null,{"$f":"IF(ISERROR(VLOOKUP(C42,'Data Set'!D$8:E$55,2,FALSE)),\"\",(VLOOKUP(C42,'Data Set'!D$8:E$55,2,FALSE)))","v":""}]
[null,null,null,{"$f":"IF(ISERROR(VLOOKUP(C43,'Data Set'!D$8:E$55,2,FALSE)),\"\",(VLOOKUP(C43,'Data Set'!D$8:E$55,2,FALSE)))","v":""}]
[null,null,null,{"$f":"IF(ISERROR(VLOOKUP(C44,'Data Set'!D$8:E$55,2,FALSE)),\"\",(VLOOKUP(C44,'Data Set'!D$8:E$55,2,FALSE)))","v":""}]
[null,null,null,{"$f":"IF(ISERROR(VLOOKUP(C45,'Data Set'!D$8:E$55,2,FALSE)),\"\",(VLOOKUP(C45,'Data Set'!D$8:E$55,2,FALSE)))","v":""}]
[null,null,null,{"$f":"IF(ISERROR(VLOOKUP(C46,'Data Set'!D$8:E$55,2,FALSE)),\"\",(VLOOKUP(C46,'Data Set'!D$8:E$55,2,FALSE)))","v":""}]
[null,null,null,{"$f":"IF(ISERROR(VLOOKUP(C47,'Data Set'!D$8:E$55,2,FALSE)),\"\",(VLOOKUP(C47,'Data Set'!D$8:E$55,2,FALSE)))","v":""}]
[null,null,null,null,null,null,null,"Deartha ag JCt4"]
[]
[null,null,"Nótaí / hipearnaisc le hacmhainní / eile"]

{"sheet":"Aonad 29","index":30,"n_rows":50,"n_cols":8,"rows_kept":50,"cut":false,"hidden":true,"merged":[[37,4,46,4],[37,5,46,5],[37,7,42,7],[49,2,49,3],[26,3,35,3],[26,4,35,4],[26,5,29,5],[30,2,32,2],[31,5,35,5],[34,2,35,2],[1,0,1,1],[1,6,1,7],[3,2,4,2],[4,3,4,4],[8,2,24,2],[8,3,24,3],[8,4,24,4],[8,5,24,5],[9,7,35,7],[26,2,28,2]]}
[]
["Cliceáil:",null,"Innéacs","Sonraí Ranga","Uirlis Phleanála,\nRéasúnaíoch & Aidhm","Rannpháirtíocht i dtorthaí foghlama","Treoracha"]
[]
[null,null,{"$f":"'Data Set'!D4","v":"Teicneolaíocht Fheidhmeach"},"Teideal an aonaid",null,"Le cur ar bhileog innéacs: Roghnaigh Sea / Ní hea",null,"Múinteoir"]
[null,null,null,{"$f":"MID(CELL(\"filename\",A1),FIND(\"]\",CELL(\"filename\",A1))+1,1000)","v":"Aonad 29"},null,"Ní hea"]
[null,null,"Bliainghrúpa","Grúpa Ranga:","Dáta Tosaigh: ","Fad:",null,"Scoil:"]
[null,null,null,{"$f":"IF('Sonraí Ranga'!K21=\"\",\"\",'Sonraí Ranga'!K21)","v":"Iontráil i mbileog sonraí an ranga"},"dd/mm/yyyy","Líon na seachtainaí/ranganna",null,{"$f":"IF('Sonraí Ranga'!J8=\"\",\"\",'Sonraí Ranga'!J8)","v":"Iontráil i mbileog sonraí an ranga"}]
[]
[null,null,null,null,null,null,null,"Nótaí / Íomhánna / Eile"]
[]
[]
[]
[]
[]
[]
[]
[]
[]
[]
[]
[]
[]
[]
[]
[]
[null,null,"RÉAMHFHOGHLAIM:","PRÍOMHFHOGHLAIM","CAD É AN TAITHÍ A BHEIDH AG SCOLÁIRÍ \nAR AN BHFOGHLAIM SEO?","ACMHAINNÍ:"]
[]
[]
[]
[null,null,"FÓCAS NA FOGHLAMA:"]
[null,null,null,null,null,"MODHEOLAÍOCHTAÍ:"]
[]
[]
[null,null,"SNÁITHEANNA AGUS GNÉITHE A FHIOSRÚ:"]
[]
[]
[null,null,"TORTHAÍ FOGHLAMA ","BRIATHRA GNÍMH","MEASÚNÚ LEANÚNACH:","CONAS A BHRAITHFIDH SCOLÁIRÍ NA TORTHAÍ FOGHLAMA?",null,"Machnamh / Na Chéad Chéimeanna Eile"]
[null,null,null,{"$f":"IF(ISERROR(VLOOKUP(C38,'Data Set'!D$8:E$55,2,FALSE)),\"\",(VLOOKUP(C38,'Data Set'!D$8:E$55,2,FALSE)))","v":""}]
[null,null,null,{"$f":"IF(ISERROR(VLOOKUP(C39,'Data Set'!D$8:E$55,2,FALSE)),\"\",(VLOOKUP(C39,'Data Set'!D$8:E$55,2,FALSE)))","v":""}]
[null,null,null,{"$f":"IF(ISERROR(VLOOKUP(C40,'Data Set'!D$8:E$55,2,FALSE)),\"\",(VLOOKUP(C40,'Data Set'!D$8:E$55,2,FALSE)))","v":""}]
[null,null,null,{"$f":"IF(ISERROR(VLOOKUP(C41,'Data Set'!D$8:E$55,2,FALSE)),\"\",(VLOOKUP(C41,'Data Set'!D$8:E$55,2,FALSE)))","v":""}]
[null,null,null,{"$f":"IF(ISERROR(VLOOKUP(C42,'Data Set'!D$8:E$55,2,FALSE)),\"\",(VLOOKUP(C42,'Data Set'!D$8:E$55,2,FALSE)))","v":""}]
[null,null,null,{"$f":"IF(ISERROR(VLOOKUP(C43,'Data Set'!D$8:E$55,2,FALSE)),\"\",(VLOOKUP(C43,'Data Set'!D$8:E$55,2,FALSE)))","v":""}]
[null,null,null,{"$f":"IF(ISERROR(VLOOKUP(C44,'Data Set'!D$8:E$55,2,FALSE)),\"\",(VLOOKUP(C44,'Data Set'!D$8:E$55,2,FALSE)))","v":""}]
[null,null,null,{"$f":"IF(ISERROR(VLOOKUP(C45,'Data Set'!D$8:E$55,2,FALSE)),\"\",(VLOOKUP(C45,'Data Set'!D$8:E$55,2,FALSE)))","v":""}]
[null,null,null,{"$f":"IF(ISERROR(VLOOKUP(C46,'Data Set'!D$8:E$55,2,FALSE)),\"\",(VLOOKUP(C46,'Data Set'!D$8:E$55,2,FALSE)))","v":""}]
[null,null,null,{"$f":"IF(ISERROR(VLOOKUP(C47,'Data Set'!D$8:E$55,2,FALSE)),\"\",(VLOOKUP(C47,'Data Set'!D$8:E$55,2,FALSE)))","v":""}]
[null,null,null,null,null,null,null,"Deartha ag JCt4"]
[]
[null,null,"Nótaí / hipearnaisc le hacmhainní / eile"]

{"sheet":"Aonad 30","index":31,"n_rows":50,"n_cols":8,"rows_kept":50,"cut":false,"hidden":true,"merged":[[37,4,46,4],[37,5,46,5],[37,7,42,7],[49,2,49,3],[26,3,35,3],[26,4,35,4],[26,5,29,5],[30,2,32,2],[31,5,35,5],[34,2,35,2],[1,0,1,1],[1,6,1,7],[3,2,4,2],[4,3,4,4],[8,2,24,2],[8,3,24,3],[8,4,24,4],[8,5,24,5],[9,7,35,7],[26,2,28,2]]}
[]
["Cliceáil:",null,"Innéacs","Sonraí Ranga","Uirlis Phleanála,\nRéasúnaíoch & Aidhm","Rannpháirtíocht i dtorthaí foghlama","Treoracha"]
[]
[null,null,{"$f":"'Data Set'!D4","v":"Teicneolaíocht Fheidhmeach"},"Teideal an aonaid",null,"Le cur ar bhileog innéacs: Roghnaigh Sea / Ní hea",null,"Múinteoir"]
[null,null,null,{"$f":"MID(CELL(\"filename\",A1),FIND(\"]\",CELL(\"filename\",A1))+1,1000)","v":"Aonad 30"},null,"Ní hea"]
[null,null,"Bliainghrúpa","Grúpa Ranga:","Dáta Tosaigh: ","Fad:",null,"Scoil:"]
[null,null,null,{"$f":"IF('Sonraí Ranga'!K21=\"\",\"\",'Sonraí Ranga'!K21)","v":"Iontráil i mbileog sonraí an ranga"},"dd/mm/yyyy","Líon na seachtainaí/ranganna",null,{"$f":"IF('Sonraí Ranga'!J8=\"\",\"\",'Sonraí Ranga'!J8)","v":"Iontráil i mbileog sonraí an ranga"}]
[]
[null,null,null,null,null,null,null,"Nótaí / Íomhánna / Eile"]
[]
[]
[]
[]
[]
[]
[]
[]
[]
[]
[]
[]
[]
[]
[]
[]
[null,null,"RÉAMHFHOGHLAIM:","PRÍOMHFHOGHLAIM","CAD É AN TAITHÍ A BHEIDH AG SCOLÁIRÍ \nAR AN BHFOGHLAIM SEO?","ACMHAINNÍ:"]
[]
[]
[]
[null,null,"FÓCAS NA FOGHLAMA:"]
[null,null,null,null,null,"MODHEOLAÍOCHTAÍ:"]
[]
[]
[null,null,"SNÁITHEANNA AGUS GNÉITHE A FHIOSRÚ:"]
[]
[]
[null,null,"TORTHAÍ FOGHLAMA ","BRIATHRA GNÍMH","MEASÚNÚ LEANÚNACH:","CONAS A BHRAITHFIDH SCOLÁIRÍ NA TORTHAÍ FOGHLAMA?",null,"Machnamh / Na Chéad Chéimeanna Eile"]
[null,null,null,{"$f":"IF(ISERROR(VLOOKUP(C38,'Data Set'!D$8:E$55,2,FALSE)),\"\",(VLOOKUP(C38,'Data Set'!D$8:E$55,2,FALSE)))","v":""}]
[null,null,null,{"$f":"IF(ISERROR(VLOOKUP(C39,'Data Set'!D$8:E$55,2,FALSE)),\"\",(VLOOKUP(C39,'Data Set'!D$8:E$55,2,FALSE)))","v":""}]
[null,null,null,{"$f":"IF(ISERROR(VLOOKUP(C40,'Data Set'!D$8:E$55,2,FALSE)),\"\",(VLOOKUP(C40,'Data Set'!D$8:E$55,2,FALSE)))","v":""}]
[null,null,null,{"$f":"IF(ISERROR(VLOOKUP(C41,'Data Set'!D$8:E$55,2,FALSE)),\"\",(VLOOKUP(C41,'Data Set'!D$8:E$55,2,FALSE)))","v":""}]
[null,null,null,{"$f":"IF(ISERROR(VLOOKUP(C42,'Data Set'!D$8:E$55,2,FALSE)),\"\",(VLOOKUP(C42,'Data Set'!D$8:E$55,2,FALSE)))","v":""}]
[null,null,null,{"$f":"IF(ISERROR(VLOOKUP(C43,'Data Set'!D$8:E$55,2,FALSE)),\"\",(VLOOKUP(C43,'Data Set'!D$8:E$55,2,FALSE)))","v":""}]
[null,null,null,{"$f":"IF(ISERROR(VLOOKUP(C44,'Data Set'!D$8:E$55,2,FALSE)),\"\",(VLOOKUP(C44,'Data Set'!D$8:E$55,2,FALSE)))","v":""}]
[null,null,null,{"$f":"IF(ISERROR(VLOOKUP(C45,'Data Set'!D$8:E$55,2,FALSE)),\"\",(VLOOKUP(C45,'Data Set'!D$8:E$55,2,FALSE)))","v":""}]
[null,null,null,{"$f":"IF(ISERROR(VLOOKUP(C46,'Data Set'!D$8:E$55,2,FALSE)),\"\",(VLOOKUP(C46,'Data Set'!D$8:E$55,2,FALSE)))","v":""}]
[null,null,null,{"$f":"IF(ISERROR(VLOOKUP(C47,'Data Set'!D$8:E$55,2,FALSE)),\"\",(VLOOKUP(C47,'Data Set'!D$8:E$55,2,FALSE)))","v":""}]
[null,null,null,null,null,null,null,"Deartha ag JCt4"]
[]
[null,null,"Nótaí / hipearnaisc le hacmhainní / eile"]

{"sheet":"Aonad 31","index":32,"n_rows":50,"n_cols":8,"rows_kept":50,"cut":false,"hidden":true,"merged":[[37,4,46,4],[37,5,46,5],[37,7,42,7],[49,2,49,3],[26,3,35,3],[26,4,35,4],[26,5,29,5],[30,2,32,2],[31,5,35,5],[34,2,35,2],[1,0,1,1],[1,6,1,7],[3,2,4,2],[4,3,4,4],[8,2,24,2],[8,3,24,3],[8,4,24,4],[8,5,24,5],[9,7,35,7],[26,2,28,2]]}
[]
["Cliceáil:",null,"Innéacs","Sonraí Ranga","Uirlis Phleanála,\nRéasúnaíoch & Aidhm","Rannpháirtíocht i dtorthaí foghlama","Treoracha"]
[]
[null,null,{"$f":"'Data Set'!D4","v":"Teicneolaíocht Fheidhmeach"},"Teideal an aonaid",null,"Le cur ar bhileog innéacs: Roghnaigh Sea / Ní hea",null,"Múinteoir"]
[null,null,null,{"$f":"MID(CELL(\"filename\",A1),FIND(\"]\",CELL(\"filename\",A1))+1,1000)","v":"Aonad 31"},null,"Ní hea"]
[null,null,"Bliainghrúpa","Grúpa Ranga:","Dáta Tosaigh: ","Fad:",null,"Scoil:"]
[null,null,null,{"$f":"IF('Sonraí Ranga'!K21=\"\",\"\",'Sonraí Ranga'!K21)","v":"Iontráil i mbileog sonraí an ranga"},"dd/mm/yyyy","Líon na seachtainaí/ranganna",null,{"$f":"IF('Sonraí Ranga'!J8=\"\",\"\",'Sonraí Ranga'!J8)","v":"Iontráil i mbileog sonraí an ranga"}]
[]
[null,null,null,null,null,null,null,"Nótaí / Íomhánna / Eile"]
[]
[]
[]
[]
[]
[]
[]
[]
[]
[]
[]
[]
[]
[]
[]
[]
[null,null,"RÉAMHFHOGHLAIM:","PRÍOMHFHOGHLAIM","CAD É AN TAITHÍ A BHEIDH AG SCOLÁIRÍ \nAR AN BHFOGHLAIM SEO?","ACMHAINNÍ:"]
[]
[]
[]
[null,null,"FÓCAS NA FOGHLAMA:"]
[null,null,null,null,null,"MODHEOLAÍOCHTAÍ:"]
[]
[]
[null,null,"SNÁITHEANNA AGUS GNÉITHE A FHIOSRÚ:"]
[]
[]
[null,null,"TORTHAÍ FOGHLAMA ","BRIATHRA GNÍMH","MEASÚNÚ LEANÚNACH:","CONAS A BHRAITHFIDH SCOLÁIRÍ NA TORTHAÍ FOGHLAMA?",null,"Machnamh / Na Chéad Chéimeanna Eile"]
[null,null,null,{"$f":"IF(ISERROR(VLOOKUP(C38,'Data Set'!D$8:E$55,2,FALSE)),\"\",(VLOOKUP(C38,'Data Set'!D$8:E$55,2,FALSE)))","v":""}]
[null,null,null,{"$f":"IF(ISERROR(VLOOKUP(C39,'Data Set'!D$8:E$55,2,FALSE)),\"\",(VLOOKUP(C39,'Data Set'!D$8:E$55,2,FALSE)))","v":""}]
[null,null,null,{"$f":"IF(ISERROR(VLOOKUP(C40,'Data Set'!D$8:E$55,2,FALSE)),\"\",(VLOOKUP(C40,'Data Set'!D$8:E$55,2,FALSE)))","v":""}]
[null,null,null,{"$f":"IF(ISERROR(VLOOKUP(C41,'Data Set'!D$8:E$55,2,FALSE)),\"\",(VLOOKUP(C41,'Data Set'!D$8:E$55,2,FALSE)))","v":""}]
[null,null,null,{"$f":"IF(ISERROR(VLOOKUP(C42,'Data Set'!D$8:E$55,2,FALSE)),\"\",(VLOOKUP(C42,'Data Set'!D$8:E$55,2,FALSE)))","v":""}]
[null,null,null,{"$f":"IF(ISERROR(VLOOKUP(C43,'Data Set'!D$8:E$55,2,FALSE)),\"\",(VLOOKUP(C43,'Data Set'!D$8:E$55,2,FALSE)))","v":""}]
[null,null,null,{"$f":"IF(ISERROR(VLOOKUP(C44,'Data Set'!D$8:E$55,2,FALSE)),\"\",(VLOOKUP(C44,'Data Set'!D$8:E$55,2,FALSE)))","v":""}]
[null,null,null,{"$f":"IF(ISERROR(VLOOKUP(C45,'Data Set'!D$8:E$55,2,FALSE)),\"\",(VLOOKUP(C45,'Data Set'!D$8:E$55,2,FALSE)))","v":""}]
[null,null,null,{"$f":"IF(ISERROR(VLOOKUP(C46,'Data Set'!D$8:E$55,2,FALSE)),\"\",(VLOOKUP(C46,'Data Set'!D$8:E$55,2,FALSE)))","v":""}]
[null,null,null,{"$f":"IF(ISERROR(VLOOKUP(C47,'Data Set'!D$8:E$55,2,FALSE)),\"\",(VLOOKUP(C47,'Data Set'!D$8:E$55,2,FALSE)))","v":""}]
[null,null,null,null,null,null,null,"Deartha ag JCt4"]
[]
[null,null,"Nótaí / hipearnaisc le hacmhainní / eile"]

{"sheet":"Aonad 32","index":33,"n_rows":50,"n_cols":8,"rows_kept":50,"cut":false,"hidden":true,"merged":[[37,4,46,4],[37,5,46,5],[37,7,42,7],[49,2,49,3],[26,3,35,3],[26,4,35,4],[26,5,29,5],[30,2,32,2],[31,5,35,5],[34,2,35,2],[1,0,1,1],[1,6,1,7],[3,2,4,2],[4,3,4,4],[8,2,24,2],[8,3,24,3],[8,4,24,4],[8,5,24,5],[9,7,35,7],[26,2,28,2]]}
[]
["Cliceáil:",null,"Innéacs","Sonraí Ranga","Uirlis Phleanála,\nRéasúnaíoch & Aidhm","Rannpháirtíocht i dtorthaí foghlama","Treoracha"]
[]
[null,null,{"$f":"'Data Set'!D4","v":"Teicneolaíocht Fheidhmeach"},"Teideal an aonaid",null,"Le cur ar bhileog innéacs: Roghnaigh Sea / Ní hea",null,"Múinteoir"]
[null,null,null,{"$f":"MID(CELL(\"filename\",A1),FIND(\"]\",CELL(\"filename\",A1))+1,1000)","v":"Aonad 32"},null,"Ní hea"]
[null,null,"Bliainghrúpa","Grúpa Ranga:","Dáta Tosaigh: ","Fad:",null,"Scoil:"]
[null,null,null,{"$f":"IF('Sonraí Ranga'!K21=\"\",\"\",'Sonraí Ranga'!K21)","v":"Iontráil i mbileog sonraí an ranga"},"dd/mm/yyyy","Líon na seachtainaí/ranganna",null,{"$f":"IF('Sonraí Ranga'!J8=\"\",\"\",'Sonraí Ranga'!J8)","v":"Iontráil i mbileog sonraí an ranga"}]
[]
[null,null,null,null,null,null,null,"Nótaí / Íomhánna / Eile"]
[]
[]
[]
[]
[]
[]
[]
[]
[]
[]
[]
[]
[]
[]
[]
[]
[null,null,"RÉAMHFHOGHLAIM:","PRÍOMHFHOGHLAIM","CAD É AN TAITHÍ A BHEIDH AG SCOLÁIRÍ \nAR AN BHFOGHLAIM SEO?","ACMHAINNÍ:"]
[]
[]
[]
[null,null,"FÓCAS NA FOGHLAMA:"]
[null,null,null,null,null,"MODHEOLAÍOCHTAÍ:"]
[]
[]
[null,null,"SNÁITHEANNA AGUS GNÉITHE A FHIOSRÚ:"]
[]
[]
[null,null,"TORTHAÍ FOGHLAMA ","BRIATHRA GNÍMH","MEASÚNÚ LEANÚNACH:","CONAS A BHRAITHFIDH SCOLÁIRÍ NA TORTHAÍ FOGHLAMA?",null,"Machnamh / Na Chéad Chéimeanna Eile"]
[null,null,null,{"$f":"IF(ISERROR(VLOOKUP(C38,'Data Set'!D$8:E$55,2,FALSE)),\"\",(VLOOKUP(C38,'Data Set'!D$8:E$55,2,FALSE)))","v":""}]
[null,null,null,{"$f":"IF(ISERROR(VLOOKUP(C39,'Data Set'!D$8:E$55,2,FALSE)),\"\",(VLOOKUP(C39,'Data Set'!D$8:E$55,2,FALSE)))","v":""}]
[null,null,null,{"$f":"IF(ISERROR(VLOOKUP(C40,'Data Set'!D$8:E$55,2,FALSE)),\"\",(VLOOKUP(C40,'Data Set'!D$8:E$55,2,FALSE)))","v":""}]
[null,null,null,{"$f":"IF(ISERROR(VLOOKUP(C41,'Data Set'!D$8:E$55,2,FALSE)),\"\",(VLOOKUP(C41,'Data Set'!D$8:E$55,2,FALSE)))","v":""}]
[null,null,null,{"$f":"IF(ISERROR(VLOOKUP(C42,'Data Set'!D$8:E$55,2,FALSE)),\"\",(VLOOKUP(C42,'Data Set'!D$8:E$55,2,FALSE)))","v":""}]
[null,null,null,{"$f":"IF(ISERROR(VLOOKUP(C43,'Data Set'!D$8:E$55,2,FALSE)),\"\",(VLOOKUP(C43,'Data Set'!D$8:E$55,2,FALSE)))","v":""}]
[null,null,null,{"$f":"IF(ISERROR(VLOOKUP(C44,'Data Set'!D$8:E$55,2,FALSE)),\"\",(VLOOKUP(C44,'Data Set'!D$8:E$55,2,FALSE)))","v":""}]
[null,null,null,{"$f":"IF(ISERROR(VLOOKUP(C45,'Data Set'!D$8:E$55,2,FALSE)),\"\",(VLOOKUP(C45,'Data Set'!D$8:E$55,2,FALSE)))","v":""}]
[null,null,null,{"$f":"IF(ISERROR(VLOOKUP(C46,'Data Set'!D$8:E$55,2,FALSE)),\"\",(VLOOKUP(C46,'Data Set'!D$8:E$55,2,FALSE)))","v":""}]
[null,null,null,{"$f":"IF(ISERROR(VLOOKUP(C47,'Data Set'!D$8:E$55,2,FALSE)),\"\",(VLOOKUP(C47,'Data Set'!D$8:E$55,2,FALSE)))","v":""}]
[null,null,null,null,null,null,null,"Deartha ag JCt4"]
[]
[null,null,"Nótaí / hipearnaisc le hacmhainní / eile"]

{"sheet":"Aonad 33","index":34,"n_rows":50,"n_cols":8,"rows_kept":50,"cut":false,"hidden":true,"merged":[[37,4,46,4],[37,5,46,5],[37,7,42,7],[49,2,49,3],[26,3,35,3],[26,4,35,4],[26,5,29,5],[30,2,32,2],[31,5,35,5],[34,2,35,2],[1,0,1,1],[1,6,1,7],[3,2,4,2],[4,3,4,4],[8,2,24,2],[8,3,24,3],[8,4,24,4],[8,5,24,5],[9,7,35,7],[26,2,28,2]]}
[]
["Cliceáil:",null,"Innéacs","Sonraí Ranga","Uirlis Phleanála,\nRéasúnaíoch & Aidhm","Rannpháirtíocht i dtorthaí foghlama","Treoracha"]
[]
[null,null,{"$f":"'Data Set'!D4","v":"Teicneolaíocht Fheidhmeach"},"Teideal an aonaid",null,"Le cur ar bhileog innéacs: Roghnaigh Sea / Ní hea",null,"Múinteoir"]
[null,null,null,{"$f":"MID(CELL(\"filename\",A1),FIND(\"]\",CELL(\"filename\",A1))+1,1000)","v":"Aonad 33"},null,"Ní hea"]
[null,null,"Bliainghrúpa","Grúpa Ranga:","Dáta Tosaigh: ","Fad:",null,"Scoil:"]
[null,null,null,{"$f":"IF('Sonraí Ranga'!K21=\"\",\"\",'Sonraí Ranga'!K21)","v":"Iontráil i mbileog sonraí an ranga"},"dd/mm/yyyy","Líon na seachtainaí/ranganna",null,{"$f":"IF('Sonraí Ranga'!J8=\"\",\"\",'Sonraí Ranga'!J8)","v":"Iontráil i mbileog sonraí an ranga"}]
[]
[null,null,null,null,null,null,null,"Nótaí / Íomhánna / Eile"]
[]
[]
[]
[]
[]
[]
[]
[]
[]
[]
[]
[]
[]
[]
[]
[]
[null,null,"RÉAMHFHOGHLAIM:","PRÍOMHFHOGHLAIM","CAD É AN TAITHÍ A BHEIDH AG SCOLÁIRÍ \nAR AN BHFOGHLAIM SEO?","ACMHAINNÍ:"]
[]
[]
[]
[null,null,"FÓCAS NA FOGHLAMA:"]
[null,null,null,null,null,"MODHEOLAÍOCHTAÍ:"]
[]
[]
[null,null,"SNÁITHEANNA AGUS GNÉITHE A FHIOSRÚ:"]
[]
[]
[null,null,"TORTHAÍ FOGHLAMA ","BRIATHRA GNÍMH","MEASÚNÚ LEANÚNACH:","CONAS A BHRAITHFIDH SCOLÁIRÍ NA TORTHAÍ FOGHLAMA?",null,"Machnamh / Na Chéad Chéimeanna Eile"]
[null,null,null,{"$f":"IF(ISERROR(VLOOKUP(C38,'Data Set'!D$8:E$55,2,FALSE)),\"\",(VLOOKUP(C38,'Data Set'!D$8:E$55,2,FALSE)))","v":""}]
[null,null,null,{"$f":"IF(ISERROR(VLOOKUP(C39,'Data Set'!D$8:E$55,2,FALSE)),\"\",(VLOOKUP(C39,'Data Set'!D$8:E$55,2,FALSE)))","v":""}]
[null,null,null,{"$f":"IF(ISERROR(VLOOKUP(C40,'Data Set'!D$8:E$55,2,FALSE)),\"\",(VLOOKUP(C40,'Data Set'!D$8:E$55,2,FALSE)))","v":""}]
[null,null,null,{"$f":"IF(ISERROR(VLOOKUP(C41,'Data Set'!D$8:E$55,2,FALSE)),\"\",(VLOOKUP(C41,'Data Set'!D$8:E$55,2,FALSE)))","v":""}]
[null,null,null,{"$f":"IF(ISERROR(VLOOKUP(C42,'Data Set'!D$8:E$55,2,FALSE)),\"\",(VLOOKUP(C42,'Data Set'!D$8:E$55,2,FALSE)))","v":""}]
[null,null,null,{"$f":"IF(ISERROR(VLOOKUP(C43,'Data Set'!D$8:E$55,2,FALSE)),\"\",(VLOOKUP(C43,'Data Set'!D$8:E$55,2,FALSE)))","v":""}]
[null,null,null,{"$f":"IF(ISERROR(VLOOKUP(C44,'Data Set'!D$8:E$55,2,FALSE)),\"\",(VLOOKUP(C44,'Data Set'!D$8:E$55,2,FALSE)))","v":""}]
[null,null,null,{"$f":"IF(ISERROR(VLOOKUP(C45,'Data Set'!D$8:E$55,2,FALSE)),\"\",(VLOOKUP(C45,'Data Set'!D$8:E$55,2,FALSE)))","v":""}]
[null,null,null,{"$f":"IF(ISERROR(VLOOKUP(C46,'Data Set'!D$8:E$55,2,FALSE)),\"\",(VLOOKUP(C46,'Data Set'!D$8:E$55,2,FALSE)))","v":""}]
[null,null,null,{"$f":"IF(ISERROR(VLOOKUP(C47,'Data Set'!D$8:E$55,2,FALSE)),\"\",(VLOOKUP(C47,'Data Set'!D$8:E$55,2,FALSE)))","v":""}]
[null,null,null,null,null,null,null,"Deartha ag JCt4"]
[]
[null,null,"Nótaí / hipearnaisc le hacmhainní / eile"]

{"sheet":"Aonad 34","index":35,"n_rows":50,"n_cols":8,"rows_kept":50,"cut":false,"hidden":true,"merged":[[37,4,46,4],[37,5,46,5],[37,7,42,7],[49,2,49,3],[26,3,35,3],[26,4,35,4],[26,5,29,5],[30,2,32,2],[31,5,35,5],[34,2,35,2],[1,0,1,1],[1,6,1,7],[3,2,4,2],[4,3,4,4],[8,2,24,2],[8,3,24,3],[8,4,24,4],[8,5,24,5],[9,7,35,7],[26,2,28,2]]}
[]
["Cliceáil:",null,"Innéacs","Sonraí Ranga","Uirlis Phleanála,\nRéasúnaíoch & Aidhm","Rannpháirtíocht i dtorthaí foghlama","Treoracha"]
[]
[null,null,{"$f":"'Data Set'!D4","v":"Teicneolaíocht Fheidhmeach"},"Teideal an aonaid",null,"Le cur ar bhileog innéacs: Roghnaigh Sea / Ní hea",null,"Múinteoir"]
[null,null,null,{"$f":"MID(CELL(\"filename\",A1),FIND(\"]\",CELL(\"filename\",A1))+1,1000)","v":"Aonad 34"},null,"Ní hea"]
[null,null,"Bliainghrúpa","Grúpa Ranga:","Dáta Tosaigh: ","Fad:",null,"Scoil:"]
[null,null,null,{"$f":"IF('Sonraí Ranga'!K21=\"\",\"\",'Sonraí Ranga'!K21)","v":"Iontráil i mbileog sonraí an ranga"},"dd/mm/yyyy","Líon na seachtainaí/ranganna",null,{"$f":"IF('Sonraí Ranga'!J8=\"\",\"\",'Sonraí Ranga'!J8)","v":"Iontráil i mbileog sonraí an ranga"}]
[]
[null,null,null,null,null,null,null,"Nótaí / Íomhánna / Eile"]
[]
[]
[]
[]
[]
[]
[]
[]
[]
[]
[]
[]
[]
[]
[]
[]
[null,null,"RÉAMHFHOGHLAIM:","PRÍOMHFHOGHLAIM","CAD É AN TAITHÍ A BHEIDH AG SCOLÁIRÍ \nAR AN BHFOGHLAIM SEO?","ACMHAINNÍ:"]
[]
[]
[]
[null,null,"FÓCAS NA FOGHLAMA:"]
[null,null,null,null,null,"MODHEOLAÍOCHTAÍ:"]
[]
[]
[null,null,"SNÁITHEANNA AGUS GNÉITHE A FHIOSRÚ:"]
[]
[]
[null,null,"TORTHAÍ FOGHLAMA ","BRIATHRA GNÍMH","MEASÚNÚ LEANÚNACH:","CONAS A BHRAITHFIDH SCOLÁIRÍ NA TORTHAÍ FOGHLAMA?",null,"Machnamh / Na Chéad Chéimeanna Eile"]
[null,null,null,{"$f":"IF(ISERROR(VLOOKUP(C38,'Data Set'!D$8:E$55,2,FALSE)),\"\",(VLOOKUP(C38,'Data Set'!D$8:E$55,2,FALSE)))","v":""}]
[null,null,null,{"$f":"IF(ISERROR(VLOOKUP(C39,'Data Set'!D$8:E$55,2,FALSE)),\"\",(VLOOKUP(C39,'Data Set'!D$8:E$55,2,FALSE)))","v":""}]
[null,null,null,{"$f":"IF(ISERROR(VLOOKUP(C40,'Data Set'!D$8:E$55,2,FALSE)),\"\",(VLOOKUP(C40,'Data Set'!D$8:E$55,2,FALSE)))","v":""}]
[null,null,null,{"$f":"IF(ISERROR(VLOOKUP(C41,'Data Set'!D$8:E$55,2,FALSE)),\"\",(VLOOKUP(C41,'Data Set'!D$8:E$55,2,FALSE)))","v":""}]
[null,null,null,{"$f":"IF(ISERROR(VLOOKUP(C42,'Data Set'!D$8:E$55,2,FALSE)),\"\",(VLOOKUP(C42,'Data Set'!D$8:E$55,2,FALSE)))","v":""}]
[null,null,null,{"$f":"IF(ISERROR(VLOOKUP(C43,'Data Set'!D$8:E$55,2,FALSE)),\"\",(VLOOKUP(C43,'Data Set'!D$8:E$55,2,FALSE)))","v":""}]
[null,null,null,{"$f":"IF(ISERROR(VLOOKUP(C44,'Data Set'!D$8:E$55,2,FALSE)),\"\",(VLOOKUP(C44,'Data Set'!D$8:E$55,2,FALSE)))","v":""}]
[null,null,null,{"$f":"IF(ISERROR(VLOOKUP(C45,'Data Set'!D$8:E$55,2,FALSE)),\"\",(VLOOKUP(C45,'Data Set'!D$8:E$55,2,FALSE)))","v":""}]
[null,null,null,{"$f":"IF(ISERROR(VLOOKUP(C46,'Data Set'!D$8:E$55,2,FALSE)),\"\",(VLOOKUP(C46,'Data Set'!D$8:E$55,2,FALSE)))","v":""}]
[null,null,null,{"$f":"IF(ISERROR(VLOOKUP(C47,'Data Set'!D$8:E$55,2,FALSE)),\"\",(VLOOKUP(C47,'Data Set'!D$8:E$55,2,FALSE)))","v":""}]
[null,null,null,null,null,null,null,"Deartha ag JCt4"]
[]
[null,null,"Nótaí / hipearnaisc le hacmhainní / eile"]

{"sheet":"Aonad 35","index":36,"n_rows":50,"n_cols":8,"rows_kept":50,"cut":false,"hidden":true,"merged":[[37,4,46,4],[37,5,46,5],[37,7,42,7],[49,2,49,3],[26,3,35,3],[26,4,35,4],[26,5,29,5],[30,2,32,2],[31,5,35,5],[34,2,35,2],[1,0,1,1],[1,6,1,7],[3,2,4,2],[4,3,4,4],[8,2,24,2],[8,3,24,3],[8,4,24,4],[8,5,24,5],[9,7,35,7],[26,2,28,2]]}
[]
["Cliceáil:",null,"Innéacs","Sonraí Ranga","Uirlis Phleanála,\nRéasúnaíoch & Aidhm","Rannpháirtíocht i dtorthaí foghlama","Treoracha"]
[]
[null,null,{"$f":"'Data Set'!D4","v":"Teicneolaíocht Fheidhmeach"},"Teideal an aonaid",null,"Le cur ar bhileog innéacs: Roghnaigh Sea / Ní hea",null,"Múinteoir"]
[null,null,null,{"$f":"MID(CELL(\"filename\",A1),FIND(\"]\",CELL(\"filename\",A1))+1,1000)","v":"Aonad 35"},null,"Ní hea"]
[null,null,"Bliainghrúpa","Grúpa Ranga:","Dáta Tosaigh: ","Fad:",null,"Scoil:"]
[null,null,null,{"$f":"IF('Sonraí Ranga'!K21=\"\",\"\",'Sonraí Ranga'!K21)","v":"Iontráil i mbileog sonraí an ranga"},"dd/mm/yyyy","Líon na seachtainaí/ranganna",null,{"$f":"IF('Sonraí Ranga'!J8=\"\",\"\",'Sonraí Ranga'!J8)","v":"Iontráil i mbileog sonraí an ranga"}]
[]
[null,null,null,null,null,null,null,"Nótaí / Íomhánna / Eile"]
[]
[]
[]
[]
[]
[]
[]
[]
[]
[]
[]
[]
[]
[]
[]
[]
[null,null,"RÉAMHFHOGHLAIM:","PRÍOMHFHOGHLAIM","CAD É AN TAITHÍ A BHEIDH AG SCOLÁIRÍ \nAR AN BHFOGHLAIM SEO?","ACMHAINNÍ:"]
[]
[]
[]
[null,null,"FÓCAS NA FOGHLAMA:"]
[null,null,null,null,null,"MODHEOLAÍOCHTAÍ:"]
[]
[]
[null,null,"SNÁITHEANNA AGUS GNÉITHE A FHIOSRÚ:"]
[]
[]
[null,null,"TORTHAÍ FOGHLAMA ","BRIATHRA GNÍMH","MEASÚNÚ LEANÚNACH:","CONAS A BHRAITHFIDH SCOLÁIRÍ NA TORTHAÍ FOGHLAMA?",null,"Machnamh / Na Chéad Chéimeanna Eile"]
[null,null,null,{"$f":"IF(ISERROR(VLOOKUP(C38,'Data Set'!D$8:E$55,2,FALSE)),\"\",(VLOOKUP(C38,'Data Set'!D$8:E$55,2,FALSE)))","v":""}]
[null,null,null,{"$f":"IF(ISERROR(VLOOKUP(C39,'Data Set'!D$8:E$55,2,FALSE)),\"\",(VLOOKUP(C39,'Data Set'!D$8:E$55,2,FALSE)))","v":""}]
[null,null,null,{"$f":"IF(ISERROR(VLOOKUP(C40,'Data Set'!D$8:E$55,2,FALSE)),\"\",(VLOOKUP(C40,'Data Set'!D$8:E$55,2,FALSE)))","v":""}]
[null,null,null,{"$f":"IF(ISERROR(VLOOKUP(C41,'Data Set'!D$8:E$55,2,FALSE)),\"\",(VLOOKUP(C41,'Data Set'!D$8:E$55,2,FALSE)))","v":""}]
[null,null,null,{"$f":"IF(ISERROR(VLOOKUP(C42,'Data Set'!D$8:E$55,2,FALSE)),\"\",(VLOOKUP(C42,'Data Set'!D$8:E$55,2,FALSE)))","v":""}]
[null,null,null,{"$f":"IF(ISERROR(VLOOKUP(C43,'Data Set'!D$8:E$55,2,FALSE)),\"\",(VLOOKUP(C43,'Data Set'!D$8:E$55,2,FALSE)))","v":""}]
[null,null,null,{"$f":"IF(ISERROR(VLOOKUP(C44,'Data Set'!D$8:E$55,2,FALSE)),\"\",(VLOOKUP(C44,'Data Set'!D$8:E$55,2,FALSE)))","v":""}]
[null,null,null,{"$f":"IF(ISERROR(VLOOKUP(C45,'Data Set'!D$8:E$55,2,FALSE)),\"\",(VLOOKUP(C45,'Data Set'!D$8:E$55,2,FALSE)))","v":""}]
[null,null,null,{"$f":"IF(ISERROR(VLOOKUP(C46,'Data Set'!D$8:E$55,2,FALSE)),\"\",(VLOOKUP(C46,'Data Set'!D$8:E$55,2,FALSE)))","v":""}]
[null,null,null,{"$f":"IF(ISERROR(VLOOKUP(C47,'Data Set'!D$8:E$55,2,FALSE)),\"\",(VLOOKUP(C47,'Data Set'!D$8:E$55,2,FALSE)))","v":""}]
[null,null,null,null,null,null,null,"Deartha ag JCt4"]
[]
[null,null,"Nótaí / hipearnaisc le hacmhainní / eile"]

{"sheet":"Aonad 36","index":37,"n_rows":50,"n_cols":8,"rows_kept":50,"cut":false,"hidden":true,"merged":[[37,4,46,4],[37,5,46,5],[37,7,42,7],[49,2,49,3],[26,3,35,3],[26,4,35,4],[26,5,29,5],[30,2,32,2],[31,5,35,5],[34,2,35,2],[1,0,1,1],[1,6,1,7],[3,2,4,2],[4,3,4,4],[8,2,24,2],[8,3,24,3],[8,4,24,4],[8,5,24,5],[9,7,35,7],[26,2,28,2]]}
[]
["Cliceáil:",null,"Innéacs","Sonraí Ranga","Uirlis Phleanála,\nRéasúnaíoch & Aidhm","Rannpháirtíocht i dtorthaí foghlama","Treoracha"]
[]
[null,null,{"$f":"'Data Set'!D4","v":"Teicneolaíocht Fheidhmeach"},"Teideal an aonaid",null,"Le cur ar bhileog innéacs: Roghnaigh Sea / Ní hea",null,"Múinteoir"]
[null,null,null,{"$f":"MID(CELL(\"filename\",A1),FIND(\"]\",CELL(\"filename\",A1))+1,1000)","v":"Aonad 36"},null,"Ní hea"]
[null,null,"Bliainghrúpa","Grúpa Ranga:","Dáta Tosaigh: ","Fad:",null,"Scoil:"]
[null,null,null,{"$f":"IF('Sonraí Ranga'!K21=\"\",\"\",'Sonraí Ranga'!K21)","v":"Iontráil i mbileog sonraí an ranga"},"dd/mm/yyyy","Líon na seachtainaí/ranganna",null,{"$f":"IF('Sonraí Ranga'!J8=\"\",\"\",'Sonraí Ranga'!J8)","v":"Iontráil i mbileog sonraí an ranga"}]
[]
[null,null,null,null,null,null,null,"Nótaí / Íomhánna / Eile"]
[]
[]
[]
[]
[]
[]
[]
[]
[]
[]
[]
[]
[]
[]
[]
[]
[null,null,"RÉAMHFHOGHLAIM:","PRÍOMHFHOGHLAIM","CAD É AN TAITHÍ A BHEIDH AG SCOLÁIRÍ \nAR AN BHFOGHLAIM SEO?","ACMHAINNÍ:"]
[]
[]
[]
[null,null,"FÓCAS NA FOGHLAMA:"]
[null,null,null,null,null,"MODHEOLAÍOCHTAÍ:"]
[]
[]
[null,null,"SNÁITHEANNA AGUS GNÉITHE A FHIOSRÚ:"]
[]
[]
[null,null,"TORTHAÍ FOGHLAMA ","BRIATHRA GNÍMH","MEASÚNÚ LEANÚNACH:","CONAS A BHRAITHFIDH SCOLÁIRÍ NA TORTHAÍ FOGHLAMA?",null,"Machnamh / Na Chéad Chéimeanna Eile"]
[null,null,null,{"$f":"IF(ISERROR(VLOOKUP(C38,'Data Set'!D$8:E$55,2,FALSE)),\"\",(VLOOKUP(C38,'Data Set'!D$8:E$55,2,FALSE)))","v":""}]
[null,null,null,{"$f":"IF(ISERROR(VLOOKUP(C39,'Data Set'!D$8:E$55,2,FALSE)),\"\",(VLOOKUP(C39,'Data Set'!D$8:E$55,2,FALSE)))","v":""}]
[null,null,null,{"$f":"IF(ISERROR(VLOOKUP(C40,'Data Set'!D$8:E$55,2,FALSE)),\"\",(VLOOKUP(C40,'Data Set'!D$8:E$55,2,FALSE)))","v":""}]
[null,null,null,{"$f":"IF(ISERROR(VLOOKUP(C41,'Data Set'!D$8:E$55,2,FALSE)),\"\",(VLOOKUP(C41,'Data Set'!D$8:E$55,2,FALSE)))","v":""}]
[null,null,null,{"$f":"IF(ISERROR(VLOOKUP(C42,'Data Set'!D$8:E$55,2,FALSE)),\"\",(VLOOKUP(C42,'Data Set'!D$8:E$55,2,FALSE)))","v":""}]
[null,null,null,{"$f":"IF(ISERROR(VLOOKUP(C43,'Data Set'!D$8:E$55,2,FALSE)),\"\",(VLOOKUP(C43,'Data Set'!D$8:E$55,2,FALSE)))","v":""}]
[null,null,null,{"$f":"IF(ISERROR(VLOOKUP(C44,'Data Set'!D$8:E$55,2,FALSE)),\"\",(VLOOKUP(C44,'Data Set'!D$8:E$55,2,FALSE)))","v":""}]
[null,null,null,{"$f":"IF(ISERROR(VLOOKUP(C45,'Data Set'!D$8:E$55,2,FALSE)),\"\",(VLOOKUP(C45,'Data Set'!D$8:E$55,2,FALSE)))","v":""}]
[null,null,null,{"$f":"IF(ISERROR(VLOOKUP(C46,'Data Set'!D$8:E$55,2,FALSE)),\"\",(VLOOKUP(C46,'Data Set'!D$8:E$55,2,FALSE)))","v":""}]
[null,null,null,{"$f":"IF(ISERROR(VLOOKUP(C47,'Data Set'!D$8:E$55,2,FALSE)),\"\",(VLOOKUP(C47,'Data Set'!D$8:E$55,2,FALSE)))","v":""}]
[null,null,null,null,null,null,null,"Deartha ag JCt4"]
[]
[null,null,"Nótaí / hipearnaisc le hacmhainní / eile"]

{"sheet":"Aonad 37","index":38,"n_rows":50,"n_cols":8,"rows_kept":50,"cut":false,"hidden":true,"merged":[[37,4,46,4],[37,5,46,5],[37,7,42,7],[49,2,49,3],[26,3,35,3],[26,4,35,4],[26,5,29,5],[30,2,32,2],[31,5,35,5],[34,2,35,2],[1,0,1,1],[1,6,1,7],[3,2,4,2],[4,3,4,4],[8,2,24,2],[8,3,24,3],[8,4,24,4],[8,5,24,5],[9,7,35,7],[26,2,28,2]]}
[]
["Cliceáil:",null,"Innéacs","Sonraí Ranga","Uirlis Phleanála,\nRéasúnaíoch & Aidhm","Rannpháirtíocht i dtorthaí foghlama","Treoracha"]
[]
[null,null,{"$f":"'Data Set'!D4","v":"Teicneolaíocht Fheidhmeach"},"Teideal an aonaid",null,"Le cur ar bhileog innéacs: Roghnaigh Sea / Ní hea",null,"Múinteoir"]
[null,null,null,{"$f":"MID(CELL(\"filename\",A1),FIND(\"]\",CELL(\"filename\",A1))+1,1000)","v":"Aonad 37"},null,"Ní hea"]
[null,null,"Bliainghrúpa","Grúpa Ranga:","Dáta Tosaigh: ","Fad:",null,"Scoil:"]
[null,null,null,{"$f":"IF('Sonraí Ranga'!K21=\"\",\"\",'Sonraí Ranga'!K21)","v":"Iontráil i mbileog sonraí an ranga"},"dd/mm/yyyy","Líon na seachtainaí/ranganna",null,{"$f":"IF('Sonraí Ranga'!J8=\"\",\"\",'Sonraí Ranga'!J8)","v":"Iontráil i mbileog sonraí an ranga"}]
[]
[null,null,null,null,null,null,null,"Nótaí / Íomhánna / Eile"]
[]
[]
[]
[]
[]
[]
[]
[]
[]
[]
[]
[]
[]
[]
[]
[]
[null,null,"RÉAMHFHOGHLAIM:","PRÍOMHFHOGHLAIM","CAD É AN TAITHÍ A BHEIDH AG SCOLÁIRÍ \nAR AN BHFOGHLAIM SEO?","ACMHAINNÍ:"]
[]
[]
[]
[null,null,"FÓCAS NA FOGHLAMA:"]
[null,null,null,null,null,"MODHEOLAÍOCHTAÍ:"]
[]
[]
[null,null,"SNÁITHEANNA AGUS GNÉITHE A FHIOSRÚ:"]
[]
[]
[null,null,"TORTHAÍ FOGHLAMA ","BRIATHRA GNÍMH","MEASÚNÚ LEANÚNACH:","CONAS A BHRAITHFIDH SCOLÁIRÍ NA TORTHAÍ FOGHLAMA?",null,"Machnamh / Na Chéad Chéimeanna Eile"]
[null,null,null,{"$f":"IF(ISERROR(VLOOKUP(C38,'Data Set'!D$8:E$55,2,FALSE)),\"\",(VLOOKUP(C38,'Data Set'!D$8:E$55,2,FALSE)))","v":""}]
[null,null,null,{"$f":"IF(ISERROR(VLOOKUP(C39,'Data Set'!D$8:E$55,2,FALSE)),\"\",(VLOOKUP(C39,'Data Set'!D$8:E$55,2,FALSE)))","v":""}]
[null,null,null,{"$f":"IF(ISERROR(VLOOKUP(C40,'Data Set'!D$8:E$55,2,FALSE)),\"\",(VLOOKUP(C40,'Data Set'!D$8:E$55,2,FALSE)))","v":""}]
[null,null,null,{"$f":"IF(ISERROR(VLOOKUP(C41,'Data Set'!D$8:E$55,2,FALSE)),\"\",(VLOOKUP(C41,'Data Set'!D$8:E$55,2,FALSE)))","v":""}]
[null,null,null,{"$f":"IF(ISERROR(VLOOKUP(C42,'Data Set'!D$8:E$55,2,FALSE)),\"\",(VLOOKUP(C42,'Data Set'!D$8:E$55,2,FALSE)))","v":""}]
[null,null,null,{"$f":"IF(ISERROR(VLOOKUP(C43,'Data Set'!D$8:E$55,2,FALSE)),\"\",(VLOOKUP(C43,'Data Set'!D$8:E$55,2,FALSE)))","v":""}]
[null,null,null,{"$f":"IF(ISERROR(VLOOKUP(C44,'Data Set'!D$8:E$55,2,FALSE)),\"\",(VLOOKUP(C44,'Data Set'!D$8:E$55,2,FALSE)))","v":""}]
[null,null,null,{"$f":"IF(ISERROR(VLOOKUP(C45,'Data Set'!D$8:E$55,2,FALSE)),\"\",(VLOOKUP(C45,'Data Set'!D$8:E$55,2,FALSE)))","v":""}]
[null,null,null,{"$f":"IF(ISERROR(VLOOKUP(C46,'Data Set'!D$8:E$55,2,FALSE)),\"\",(VLOOKUP(C46,'Data Set'!D$8:E$55,2,FALSE)))","v":""}]
[null,null,null,{"$f":"IF(ISERROR(VLOOKUP(C47,'Data Set'!D$8:E$55,2,FALSE)),\"\",(VLOOKUP(C47,'Data Set'!D$8:E$55,2,FALSE)))","v":""}]
[null,null,null,null,null,null,null,"Deartha ag JCt4"]
[]
[null,null,"Nótaí / hipearnaisc le hacmhainní / eile"]

{"sheet":"Aonad 38","index":39,"n_rows":50,"n_cols":8,"rows_kept":50,"cut":false,"hidden":true,"merged":[[37,4,46,4],[37,5,46,5],[37,7,42,7],[49,2,49,3],[26,3,35,3],[26,4,35,4],[26,5,29,5],[30,2,32,2],[31,5,35,5],[34,2,35,2],[1,0,1,1],[1,6,1,7],[3,2,4,2],[4,3,4,4],[8,2,24,2],[8,3,24,3],[8,4,24,4],[8,5,24,5],[9,7,35,7],[26,2,28,2]]}
[]
["Cliceáil:",null,"Innéacs","Sonraí Ranga","Uirlis Phleanála,\nRéasúnaíoch & Aidhm","Rannpháirtíocht i dtorthaí foghlama","Treoracha"]
[]
[null,null,{"$f":"'Data Set'!D4","v":"Teicneolaíocht Fheidhmeach"},"Teideal an aonaid",null,"Le cur ar bhileog innéacs: Roghnaigh Sea / Ní hea",null,"Múinteoir"]
[null,null,null,{"$f":"MID(CELL(\"filename\",A1),FIND(\"]\",CELL(\"filename\",A1))+1,1000)","v":"Aonad 38"},null,"Ní hea"]
[null,null,"Bliainghrúpa","Grúpa Ranga:","Dáta Tosaigh: ","Fad:",null,"Scoil:"]
[null,null,null,{"$f":"IF('Sonraí Ranga'!K21=\"\",\"\",'Sonraí Ranga'!K21)","v":"Iontráil i mbileog sonraí an ranga"},"dd/mm/yyyy","Líon na seachtainaí/ranganna",null,{"$f":"IF('Sonraí Ranga'!J8=\"\",\"\",'Sonraí Ranga'!J8)","v":"Iontráil i mbileog sonraí an ranga"}]
[]
[null,null,null,null,null,null,null,"Nótaí / Íomhánna / Eile"]
[]
[]
[]
[]
[]
[]
[]
[]
[]
[]
[]
[]
[]
[]
[]
[]
[null,null,"RÉAMHFHOGHLAIM:","PRÍOMHFHOGHLAIM","CAD É AN TAITHÍ A BHEIDH AG SCOLÁIRÍ \nAR AN BHFOGHLAIM SEO?","ACMHAINNÍ:"]
[]
[]
[]
[null,null,"FÓCAS NA FOGHLAMA:"]
[null,null,null,null,null,"MODHEOLAÍOCHTAÍ:"]
[]
[]
[null,null,"SNÁITHEANNA AGUS GNÉITHE A FHIOSRÚ:"]
[]
[]
[null,null,"TORTHAÍ FOGHLAMA ","BRIATHRA GNÍMH","MEASÚNÚ LEANÚNACH:","CONAS A BHRAITHFIDH SCOLÁIRÍ NA TORTHAÍ FOGHLAMA?",null,"Machnamh / Na Chéad Chéimeanna Eile"]
[null,null,null,{"$f":"IF(ISERROR(VLOOKUP(C38,'Data Set'!D$8:E$55,2,FALSE)),\"\",(VLOOKUP(C38,'Data Set'!D$8:E$55,2,FALSE)))","v":""}]
[null,null,null,{"$f":"IF(ISERROR(VLOOKUP(C39,'Data Set'!D$8:E$55,2,FALSE)),\"\",(VLOOKUP(C39,'Data Set'!D$8:E$55,2,FALSE)))","v":""}]
[null,null,null,{"$f":"IF(ISERROR(VLOOKUP(C40,'Data Set'!D$8:E$55,2,FALSE)),\"\",(VLOOKUP(C40,'Data Set'!D$8:E$55,2,FALSE)))","v":""}]
[null,null,null,{"$f":"IF(ISERROR(VLOOKUP(C41,'Data Set'!D$8:E$55,2,FALSE)),\"\",(VLOOKUP(C41,'Data Set'!D$8:E$55,2,FALSE)))","v":""}]
[null,null,null,{"$f":"IF(ISERROR(VLOOKUP(C42,'Data Set'!D$8:E$55,2,FALSE)),\"\",(VLOOKUP(C42,'Data Set'!D$8:E$55,2,FALSE)))","v":""}]
[null,null,null,{"$f":"IF(ISERROR(VLOOKUP(C43,'Data Set'!D$8:E$55,2,FALSE)),\"\",(VLOOKUP(C43,'Data Set'!D$8:E$55,2,FALSE)))","v":""}]
[null,null,null,{"$f":"IF(ISERROR(VLOOKUP(C44,'Data Set'!D$8:E$55,2,FALSE)),\"\",(VLOOKUP(C44,'Data Set'!D$8:E$55,2,FALSE)))","v":""}]
[null,null,null,{"$f":"IF(ISERROR(VLOOKUP(C45,'Data Set'!D$8:E$55,2,FALSE)),\"\",(VLOOKUP(C45,'Data Set'!D$8:E$55,2,FALSE)))","v":""}]
[null,null,null,{"$f":"IF(ISERROR(VLOOKUP(C46,'Data Set'!D$8:E$55,2,FALSE)),\"\",(VLOOKUP(C46,'Data Set'!D$8:E$55,2,FALSE)))","v":""}]
[null,null,null,{"$f":"IF(ISERROR(VLOOKUP(C47,'Data Set'!D$8:E$55,2,FALSE)),\"\",(VLOOKUP(C47,'Data Set'!D$8:E$55,2,FALSE)))","v":""}]
[null,null,null,null,null,null,null,"Deartha ag JCt4"]
[]
[null,null,"Nótaí / hipearnaisc le hacmhainní / eile"]

{"sheet":"Uirlis Phleanála,","index":40,"n_rows":2,"n_cols":19,"rows_kept":2,"cut":false,"hidden":false,"merged":[[1,18,1,21],[1,0,1,1],[1,2,1,5],[1,6,1,9],[1,14,1,17],[1,10,2,13]]}
[]
["Cliceáil",null,"Innéacs",null,null,null,"Sonraí Ranga",null,null,null,"Uirlis Phleanála,\nRéasúnaíoch & Aidhm",null,null,null,"Rannpháirtíocht i dtorthaí foghlama",null,null,null,"Treoracha"]

{"sheet":"Rannpháirtíocht i dtorthaí fogh","index":41,"n_rows":66,"n_cols":18,"rows_kept":66,"cut":false,"hidden":false,"merged":[[1,1,1,2],[1,14,1,17],[50,10,65,10],[5,10,5,17],[50,11,53,11],[54,11,57,11],[58,11,61,11],[48,12,49,13],[48,14,49,15],[48,16,49,17],[28,14,29,15],[28,16,29,17],[30,11,33,11],[34,11,37,11],[5,1,5,7],[28,1,28,7],[8,16,9,17],[8,12,9,13],[8,14,9,15],[10,11,13,11],[14,11,17,11],[62,11,65,11],[22,11,25,11],[22,1,25,1],[8,1,9,1],[38,11,41,11],[30,10,45,10],[28,11,29,11],[48,11,49,11],[8,2,9,3],[8,4,9,5],[8,6,9,7],[10,1,13,1],[14,1,17,1],[18,1,21,1],[10,10,25,10],[18,11,21,11],[1,6,1,10],[1,3,1,5],[1,11,2,13],[8,11,9,11],[42,11,45,11],[28,12,29,13]]}
[]
["Cliceáil","Innéacs",null,"Sonraí Ranga",null,null,"Uirlis Phleanála,\nRéasúnaíoch & Aidhm",null,null,null,null,"Rannpháirtíocht i dtorthaí foghlama",null,null,"Treoracha"]
[]
[]
[]
[null,"Rannpháirtíocht sna torthaí foghlama thar 3 bliana na Sraithe Sóisearaí:\nSa tábla thíos tugtar léiriú amhairc den rannpháirtíocht ar fud na dtorthaí foghlama agus ní léiríonn sé go bhfuil na torthaí foghlama críochnaithe ach léiríonn sé leibhéal na rannpháirtíochta thar thrí bliana na Sraithe Sóisearaí.",null,null,null,null,null,null,null,null,"Rannpháirtíocht sna torthaí foghlama gach bliain den tSraith Shóisearach:\nIs féidir na táblaí thíos a úsáid chun rannpháirtíocht le torthaí foghlama a aithint i ngach bliain den tSraith Shóisearach. Chun na táblaí thíos a líonadh, cinntigh go roghnaítear an bliainghrúpa ag barr phlean gach aonaid foghlama."]
[]
[]
[null,{"$f":"'Data Set'!D4","v":"Teicneolaíocht Fheidhmeach"},{"$f":"'Data Set'!A8","v":"Prionsabail agus cleachtais"},null,{"$f":"'Data Set'!A24","v":"Fuinneamh agus rialú"},null,{"$f":"'Data Set'!A40","v":"An teicneolaíocht agus an tsochaí"},null,null,null,null,{"$f":"'Data Set'!D4","v":"Teicneolaíocht Fheidhmeach"},{"$f":"C9","v":"Prionsabail agus cleachtais"},null,{"$f":"E9","v":"Fuinneamh agus rialú"},null,{"$f":"G9","v":"An teicneolaíocht agus an tsochaí"}]
[]
[null,{"$f":"'Data Set'!B8","v":"Anailís a dhéanamh agus fadhbanna a réiteach"},{"$f":"IF('Data Set'!$C8=\"\",\"\", 'Data Set'!$C8)","v":"1.1"},{"$f":"IF(C11=\"\",\"\",IF('Data Set'!$AR8=0,\"\",'Data Set'!$AR8))","v":""},{"$f":"IF('Data Set'!$C24=\"\",\"\", 'Data Set'!$C24)","v":"2.1"},{"$f":"IF(E11=\"\",\"\",IF('Data Set'!$AR24=0,\"\",'Data Set'!$AR24))","v":""},{"$f":"IF('Data Set'!$C40=\"\",\"\", 'Data Set'!$C40)","v":"3.1"},{"$f":"IF(G11=\"\",\"\",IF('Data Set'!$AR40=0,\"\",'Data Set'!$AR40))","v":""},null,null,"Bhlian 1",{"$f":"B11","v":"Anailís a dhéanamh agus fadhbanna a réiteach"},{"$f":"IF('Data Set'!$C8=\"\",\"\", 'Data Set'!$C8)","v":"1.1"},{"$f":"IF(M11=\"\",\"\",IF('Data Set'!$CF8=0,\"\",'Data Set'!$CF8))","v":""},{"$f":"IF('Data Set'!$C24=\"\",\"\", 'Data Set'!$C24)","v":"2.1"},{"$f":"IF(O11=\"\",\"\",IF('Data Set'!$CF24=0,\"\",'Data Set'!$CF24))","v":""},{"$f":"IF('Data Set'!$C40=\"\",\"\", 'Data Set'!$C40)","v":"3.1"},{"$f":"IF(Q11=\"\",\"\",IF('Data Set'!$CF40=0,\"\",'Data Set'!$CF40))","v":""}]
[null,null,{"$f":"IF('Data Set'!$C9=\"\",\"\", 'Data Set'!$C9)","v":"1.2"},{"$f":"IF(C12=\"\",\"\",IF('Data Set'!$AR9=0,\"\",'Data Set'!$AR9))","v":""},{"$f":"IF('Data Set'!$C25=\"\",\"\", 'Data Set'!$C25)","v":"2.2"},{"$f":"IF(E12=\"\",\"\",IF('Data Set'!$AR25=0,\"\",'Data Set'!$AR25))","v":""},{"$f":"IF('Data Set'!$C41=\"\",\"\", 'Data Set'!$C41)","v":"3.2"},{"$f":"IF(G12=\"\",\"\",IF('Data Set'!$AR41=0,\"\",'Data Set'!$AR41))","v":""},null,null,null,null,{"$f":"IF('Data Set'!$C9=\"\",\"\", 'Data Set'!$C9)","v":"1.2"},{"$f":"IF(M12=\"\",\"\",IF('Data Set'!$CF9=0,\"\",'Data Set'!$CF9))","v":""},{"$f":"IF('Data Set'!$C25=\"\",\"\", 'Data Set'!$C25)","v":"2.2"},{"$f":"IF(O12=\"\",\"\",IF('Data Set'!$CF25=0,\"\",'Data Set'!$CF25))","v":""},{"$f":"IF('Data Set'!$C41=\"\",\"\", 'Data Set'!$C41)","v":"3.2"},{"$f":"IF(Q12=\"\",\"\",IF('Data Set'!$CF41=0,\"\",'Data Set'!$CF41))","v":""}]
[null,null,{"$f":"IF('Data Set'!$C10=\"\",\"\", 'Data Set'!$C10)","v":"1.3"},{"$f":"IF(C13=\"\",\"\",IF('Data Set'!$AR10=0,\"\",'Data Set'!$AR10))","v":""},{"$f":"IF('Data Set'!$C26=\"\",\"\", 'Data Set'!$C26)","v":""},{"$f":"IF(E13=\"\",\"\",IF('Data Set'!$AR26=0,\"\",'Data Set'!$AR26))","v":""},{"$f":"IF('Data Set'!$C42=\"\",\"\", 'Data Set'!$C42)","v":""},{"$f":"IF(G13=\"\",\"\",IF('Data Set'!$AR42=0,\"\",'Data Set'!$AR42))","v":""},null,null,null,null,{"$f":"IF('Data Set'!$C10=\"\",\"\", 'Data Set'!$C10)","v":"1.3"},{"$f":"IF(M13=\"\",\"\",IF('Data Set'!$CF10=0,\"\",'Data Set'!$CF10))","v":""},{"$f":"IF('Data Set'!$C26=\"\",\"\", 'Data Set'!$C26)","v":""},{"$f":"IF(O13=\"\",\"\",IF('Data Set'!$CF26=0,\"\",'Data Set'!$CF26))","v":""},{"$f":"IF('Data Set'!$C42=\"\",\"\", 'Data Set'!$C42)","v":""},{"$f":"IF(Q13=\"\",\"\",IF('Data Set'!$CF42=0,\"\",'Data Set'!$CF42))","v":""}]
[null,null,{"$f":"IF('Data Set'!$C11=\"\",\"\", 'Data Set'!$C11)","v":"1.4"},{"$f":"IF(C14=\"\",\"\",IF('Data Set'!$AR11=0,\"\",'Data Set'!$AR11))","v":""},{"$f":"IF('Data Set'!$C27=\"\",\"\", 'Data Set'!$C27)","v":""},{"$f":"IF(E14=\"\",\"\",IF('Data Set'!$AR27=0,\"\",'Data Set'!$AR27))","v":""},{"$f":"IF('Data Set'!$C43=\"\",\"\", 'Data Set'!$C43)","v":""},{"$f":"IF(G14=\"\",\"\",IF('Data Set'!$AR43=0,\"\",'Data Set'!$AR43))","v":""},null,null,null,null,{"$f":"IF('Data Set'!$C11=\"\",\"\", 'Data Set'!$C11)","v":"1.4"},{"$f":"IF(M14=\"\",\"\",IF('Data Set'!$CF11=0,\"\",'Data Set'!$CF11))","v":""},{"$f":"IF('Data Set'!$C27=\"\",\"\", 'Data Set'!$C27)","v":""},{"$f":"IF(O14=\"\",\"\",IF('Data Set'!$CF27=0,\"\",'Data Set'!$CF27))","v":""},{"$f":"IF('Data Set'!$C43=\"\",\"\", 'Data Set'!$C43)","v":""},{"$f":"IF(Q14=\"\",\"\",IF('Data Set'!$CF43=0,\"\",'Data Set'!$CF43))","v":""}]
[null,{"$f":"'Data Set'!B12","v":"Dearadh agus nuálaíocht"},{"$f":"IF('Data Set'!$C12=\"\",\"\", 'Data Set'!$C12)","v":"1.5"},{"$f":"IF(C15=\"\",\"\",IF('Data Set'!$AR12=0,\"\",'Data Set'!$AR12))","v":""},{"$f":"IF('Data Set'!$C28=\"\",\"\", 'Data Set'!$C28)","v":"2.3"},{"$f":"IF(E15=\"\",\"\",IF('Data Set'!$AR28=0,\"\",'Data Set'!$AR28))","v":""},{"$f":"IF('Data Set'!$C44=\"\",\"\", 'Data Set'!$C44)","v":"3.3"},{"$f":"IF(G15=\"\",\"\",IF('Data Set'!$AR44=0,\"\",'Data Set'!$AR44))","v":""},null,null,null,{"$f":"B15","v":"Dearadh agus nuálaíocht"},{"$f":"IF('Data Set'!$C12=\"\",\"\", 'Data Set'!$C12)","v":"1.5"},{"$f":"IF(M15=\"\",\"\",IF('Data Set'!$CF12=0,\"\",'Data Set'!$CF12))","v":""},{"$f":"IF('Data Set'!$C28=\"\",\"\", 'Data Set'!$C28)","v":"2.3"},{"$f":"IF(O15=\"\",\"\",IF('Data Set'!$CF28=0,\"\",'Data Set'!$CF28))","v":""},{"$f":"IF('Data Set'!$C44=\"\",\"\", 'Data Set'!$C44)","v":"3.3"},{"$f":"IF(Q15=\"\",\"\",IF('Data Set'!$CF44=0,\"\",'Data Set'!$CF44))","v":""}]
[null,null,{"$f":"IF('Data Set'!$C13=\"\",\"\", 'Data Set'!$C13)","v":"1.6"},{"$f":"IF(C16=\"\",\"\",IF('Data Set'!$AR13=0,\"\",'Data Set'!$AR13))","v":""},{"$f":"IF('Data Set'!$C29=\"\",\"\", 'Data Set'!$C29)","v":"2.4"},{"$f":"IF(E16=\"\",\"\",IF('Data Set'!$AR29=0,\"\",'Data Set'!$AR29))","v":""},{"$f":"IF('Data Set'!$C45=\"\",\"\", 'Data Set'!$C45)","v":"3.4"},{"$f":"IF(G16=\"\",\"\",IF('Data Set'!$AR45=0,\"\",'Data Set'!$AR45))","v":""},null,null,null,null,{"$f":"IF('Data Set'!$C13=\"\",\"\", 'Data Set'!$C13)","v":"1.6"},{"$f":"IF(M16=\"\",\"\",IF('Data Set'!$CF13=0,\"\",'Data Set'!$CF13))","v":""},{"$f":"IF('Data Set'!$C29=\"\",\"\", 'Data Set'!$C29)","v":"2.4"},{"$f":"IF(O16=\"\",\"\",IF('Data Set'!$CF29=0,\"\",'Data Set'!$CF29))","v":""},{"$f":"IF('Data Set'!$C45=\"\",\"\", 'Data Set'!$C45)","v":"3.4"},{"$f":"IF(Q16=\"\",\"\",IF('Data Set'!$CF45=0,\"\",'Data Set'!$CF45))","v":""}]
[null,null,{"$f":"IF('Data Set'!$C14=\"\",\"\", 'Data Set'!$C14)","v":"1.7"},{"$f":"IF(C17=\"\",\"\",IF('Data Set'!$AR14=0,\"\",'Data Set'!$AR14))","v":""},{"$f":"IF('Data Set'!$C30=\"\",\"\", 'Data Set'!$C30)","v":"2.5"},{"$f":"IF(E17=\"\",\"\",IF('Data Set'!$AR30=0,\"\",'Data Set'!$AR30))","v":""},{"$f":"IF('Data Set'!$C46=\"\",\"\", 'Data Set'!$C46)","v":""},{"$f":"IF(G17=\"\",\"\",IF('Data Set'!$AR46=0,\"\",'Data Set'!$AR46))","v":""},null,null,null,null,{"$f":"IF('Data Set'!$C14=\"\",\"\", 'Data Set'!$C14)","v":"1.7"},{"$f":"IF(M17=\"\",\"\",IF('Data Set'!$CF14=0,\"\",'Data Set'!$CF14))","v":""},{"$f":"IF('Data Set'!$C30=\"\",\"\", 'Data Set'!$C30)","v":"2.5"},{"$f":"IF(O17=\"\",\"\",IF('Data Set'!$CF30=0,\"\",'Data Set'!$CF30))","v":""},{"$f":"IF('Data Set'!$C46=\"\",\"\", 'Data Set'!$C46)","v":""},{"$f":"IF(Q17=\"\",\"\",IF('Data Set'!$CF46=0,\"\",'Data Set'!$CF46))","v":""}]
[null,null,{"$f":"IF('Data Set'!$C15=\"\",\"\", 'Data Set'!$C15)","v":""},{"$f":"IF(C18=\"\",\"\",IF('Data Set'!$AR15=0,\"\",'Data Set'!$AR15))","v":""},{"$f":"IF('Data Set'!$C31=\"\",\"\", 'Data Set'!$C31)","v":""},{"$f":"IF(E18=\"\",\"\",IF('Data Set'!$AR31=0,\"\",'Data Set'!$AR31))","v":""},{"$f":"IF('Data Set'!$C47=\"\",\"\", 'Data Set'!$C47)","v":""},{"$f":"IF(G18=\"\",\"\",IF('Data Set'!$AR47=0,\"\",'Data Set'!$AR47))","v":""},null,null,null,null,{"$f":"IF('Data Set'!$C15=\"\",\"\", 'Data Set'!$C15)","v":""},{"$f":"IF(M18=\"\",\"\",IF('Data Set'!$CF15=0,\"\",'Data Set'!$CF15))","v":""},{"$f":"IF('Data Set'!$C31=\"\",\"\", 'Data Set'!$C31)","v":""},{"$f":"IF(O18=\"\",\"\",IF('Data Set'!$CF31=0,\"\",'Data Set'!$CF31))","v":""},{"$f":"IF('Data Set'!$C47=\"\",\"\", 'Data Set'!$C47)","v":""},{"$f":"IF(Q18=\"\",\"\",IF('Data Set'!$CF47=0,\"\",'Data Set'!$CF47))","v":""}]
[null,{"$f":"'Data Set'!B16","v":"Pleanáil, bainistiú agus cruthú"},{"$f":"IF('Data Set'!$C16=\"\",\"\", 'Data Set'!$C16)","v":"1.8"},{"$f":"IF(C19=\"\",\"\",IF('Data Set'!$AR16=0,\"\",'Data Set'!$AR16))","v":""},{"$f":"IF('Data Set'!$C32=\"\",\"\", 'Data Set'!$C32)","v":"2.6"},{"$f":"IF(E19=\"\",\"\",IF('Data Set'!$AR32=0,\"\",'Data Set'!$AR32))","v":""},{"$f":"IF('Data Set'!$C48=\"\",\"\", 'Data Set'!$C48)","v":"3.5"},{"$f":"IF(G19=\"\",\"\",IF('Data Set'!$AR48=0,\"\",'Data Set'!$AR48))","v":""},null,null,null,{"$f":"B19","v":"Pleanáil, bainistiú agus cruthú"},{"$f":"IF('Data Set'!$C16=\"\",\"\", 'Data Set'!$C16)","v":"1.8"},{"$f":"IF(M19=\"\",\"\",IF('Data Set'!$CF16=0,\"\",'Data Set'!$CF16))","v":""},{"$f":"IF('Data Set'!$C32=\"\",\"\", 'Data Set'!$C32)","v":"2.6"},{"$f":"IF(O19=\"\",\"\",IF('Data Set'!$CF32=0,\"\",'Data Set'!$CF32))","v":""},{"$f":"IF('Data Set'!$C48=\"\",\"\", 'Data Set'!$C48)","v":"3.5"},{"$f":"IF(Q19=\"\",\"\",IF('Data Set'!$CF48=0,\"\",'Data Set'!$CF48))","v":""}]
[null,null,{"$f":"IF('Data Set'!$C17=\"\",\"\", 'Data Set'!$C17)","v":"1.9"},{"$f":"IF(C20=\"\",\"\",IF('Data Set'!$AR17=0,\"\",'Data Set'!$AR17))","v":""},{"$f":"IF('Data Set'!$C33=\"\",\"\", 'Data Set'!$C33)","v":"2.7"},{"$f":"IF(E20=\"\",\"\",IF('Data Set'!$AR33=0,\"\",'Data Set'!$AR33))","v":""},{"$f":"IF('Data Set'!$C49=\"\",\"\", 'Data Set'!$C49)","v":"3.6"},{"$f":"IF(G20=\"\",\"\",IF('Data Set'!$AR49=0,\"\",'Data Set'!$AR49))","v":""},null,null,null,null,{"$f":"IF('Data Set'!$C17=\"\",\"\", 'Data Set'!$C17)","v":"1.9"},{"$f":"IF(M20=\"\",\"\",IF('Data Set'!$CF17=0,\"\",'Data Set'!$CF17))","v":""},{"$f":"IF('Data Set'!$C33=\"\",\"\", 'Data Set'!$C33)","v":"2.7"},{"$f":"IF(O20=\"\",\"\",IF('Data Set'!$CF33=0,\"\",'Data Set'!$CF33))","v":""},{"$f":"IF('Data Set'!$C49=\"\",\"\", 'Data Set'!$C49)","v":"3.6"},{"$f":"IF(Q20=\"\",\"\",IF('Data Set'!$CF49=0,\"\",'Data Set'!$CF49))","v":""}]
[null,null,{"$f":"IF('Data Set'!$C18=\"\",\"\", 'Data Set'!$C18)","v":"1.10"},{"$f":"IF(C21=\"\",\"\",IF('Data Set'!$AR18=0,\"\",'Data Set'!$AR18))","v":""},{"$f":"IF('Data Set'!$C34=\"\",\"\", 'Data Set'!$C34)","v":"2.8"},{"$f":"IF(E21=\"\",\"\",IF('Data Set'!$AR34=0,\"\",'Data Set'!$AR34))","v":""},{"$f":"IF('Data Set'!$C50=\"\",\"\", 'Data Set'!$C50)","v":"3.7"},{"$f":"IF(G21=\"\",\"\",IF('Data Set'!$AR50=0,\"\",'Data Set'!$AR50))","v":""},null,null,null,null,{"$f":"IF('Data Set'!$C18=\"\",\"\", 'Data Set'!$C18)","v":"1.10"},{"$f":"IF(M21=\"\",\"\",IF('Data Set'!$CF18=0,\"\",'Data Set'!$CF18))","v":""},{"$f":"IF('Data Set'!$C34=\"\",\"\", 'Data Set'!$C34)","v":"2.8"},{"$f":"IF(O21=\"\",\"\",IF('Data Set'!$CF34=0,\"\",'Data Set'!$CF34))","v":""},{"$f":"IF('Data Set'!$C50=\"\",\"\", 'Data Set'!$C50)","v":"3.7"},{"$f":"IF(Q21=\"\",\"\",IF('Data Set'!$CF50=0,\"\",'Data Set'!$CF50))","v":""}]
[null,null,{"$f":"IF('Data Set'!$C19=\"\",\"\", 'Data Set'!$C19)","v":"1.11"},{"$f":"IF(C22=\"\",\"\",IF('Data Set'!$AR19=0,\"\",'Data Set'!$AR19))","v":""},{"$f":"IF('Data Set'!$C35=\"\",\"\", 'Data Set'!$C35)","v":""},{"$f":"IF(E22=\"\",\"\",IF('Data Set'!$AR35=0,\"\",'Data Set'!$AR35))","v":""},{"$f":"IF('Data Set'!$C51=\"\",\"\", 'Data Set'!$C51)","v":""},{"$f":"IF(G22=\"\",\"\",IF('Data Set'!$AR51=0,\"\",'Data Set'!$AR51))","v":""},null,null,null,null,{"$f":"IF('Data Set'!$C19=\"\",\"\", 'Data Set'!$C19)","v":"1.11"},{"$f":"IF(M22=\"\",\"\",IF('Data Set'!$CF19=0,\"\",'Data Set'!$CF19))","v":""},{"$f":"IF('Data Set'!$C35=\"\",\"\", 'Data Set'!$C35)","v":""},{"$f":"IF(O22=\"\",\"\",IF('Data Set'!$CF35=0,\"\",'Data Set'!$CF35))","v":""},{"$f":"IF('Data Set'!$C51=\"\",\"\", 'Data Set'!$C51)","v":""},{"$f":"IF(Q22=\"\",\"\",IF('Data Set'!$CF51=0,\"\",'Data Set'!$CF51))","v":""}]
[null,{"$f":"'Data Set'!B20","v":"Cumarsáid"},{"$f":"IF('Data Set'!$C20=\"\",\"\", 'Data Set'!$C20)","v":"1.12"},{"$f":"IF(C23=\"\",\"\",IF('Data Set'!$AR20=0,\"\",'Data Set'!$AR20))","v":""},{"$f":"IF('Data Set'!$C36=\"\",\"\", 'Data Set'!$C36)","v":"2.9"},{"$f":"IF(E23=\"\",\"\",IF('Data Set'!$AR36=0,\"\",'Data Set'!$AR36))","v":""},{"$f":"IF('Data Set'!$C52=\"\",\"\", 'Data Set'!$C52)","v":"3.8"},{"$f":"IF(G23=\"\",\"\",IF('Data Set'!$AR52=0,\"\",'Data Set'!$AR52))","v":""},null,null,null,{"$f":"B23","v":"Cumarsáid"},{"$f":"IF('Data Set'!$C20=\"\",\"\", 'Data Set'!$C20)","v":"1.12"},{"$f":"IF(M23=\"\",\"\",IF('Data Set'!$CF20=0,\"\",'Data Set'!$CF20))","v":""},{"$f":"IF('Data Set'!$C36=\"\",\"\", 'Data Set'!$C36)","v":"2.9"},{"$f":"IF(O23=\"\",\"\",IF('Data Set'!$CF36=0,\"\",'Data Set'!$CF36))","v":""},{"$f":"IF('Data Set'!$C52=\"\",\"\", 'Data Set'!$C52)","v":"3.8"},{"$f":"IF(Q23=\"\",\"\",IF('Data Set'!$CF52=0,\"\",'Data Set'!$CF52))","v":""}]
[null,null,{"$f":"IF('Data Set'!$C21=\"\",\"\", 'Data Set'!$C21)","v":"1.13"},{"$f":"IF(C24=\"\",\"\",IF('Data Set'!$AR21=0,\"\",'Data Set'!$AR21))","v":""},{"$f":"IF('Data Set'!$C37=\"\",\"\", 'Data Set'!$C37)","v":"2.10"},{"$f":"IF(E24=\"\",\"\",IF('Data Set'!$AR37=0,\"\",'Data Set'!$AR37))","v":""},{"$f":"IF('Data Set'!$C53=\"\",\"\", 'Data Set'!$C53)","v":"3.9"},{"$f":"IF(G24=\"\",\"\",IF('Data Set'!$AR53=0,\"\",'Data Set'!$AR53))","v":""},null,null,null,null,{"$f":"IF('Data Set'!$C21=\"\",\"\", 'Data Set'!$C21)","v":"1.13"},{"$f":"IF(M24=\"\",\"\",IF('Data Set'!$CF21=0,\"\",'Data Set'!$CF21))","v":""},{"$f":"IF('Data Set'!$C37=\"\",\"\", 'Data Set'!$C37)","v":"2.10"},{"$f":"IF(O24=\"\",\"\",IF('Data Set'!$CF37=0,\"\",'Data Set'!$CF37))","v":""},{"$f":"IF('Data Set'!$C53=\"\",\"\", 'Data Set'!$C53)","v":"3.9"},{"$f":"IF(Q24=\"\",\"\",IF('Data Set'!$CF53=0,\"\",'Data Set'!$CF53))","v":""}]
[null,null,{"$f":"IF('Data Set'!$C22=\"\",\"\", 'Data Set'!$C22)","v":""},{"$f":"IF(C25=\"\",\"\",IF('Data Set'!$AR22=0,\"\",'Data Set'!$AR22))","v":""},{"$f":"IF('Data Set'!$C38=\"\",\"\", 'Data Set'!$C38)","v":""},{"$f":"IF(E25=\"\",\"\",IF('Data Set'!$AR38=0,\"\",'Data Set'!$AR38))","v":""},{"$f":"IF('Data Set'!$C54=\"\",\"\", 'Data Set'!$C54)","v":""},{"$f":"IF(G25=\"\",\"\",IF('Data Set'!$AR54=0,\"\",'Data Set'!$AR54))","v":""},null,null,null,null,{"$f":"IF('Data Set'!$C22=\"\",\"\", 'Data Set'!$C22)","v":""},{"$f":"IF(M25=\"\",\"\",IF('Data Set'!$CF22=0,\"\",'Data Set'!$CF22))","v":""},{"$f":"IF('Data Set'!$C38=\"\",\"\", 'Data Set'!$C38)","v":""},{"$f":"IF(O25=\"\",\"\",IF('Data Set'!$CF38=0,\"\",'Data Set'!$CF38))","v":""},{"$f":"IF('Data Set'!$C54=\"\",\"\", 'Data Set'!$C54)","v":""},{"$f":"IF(Q25=\"\",\"\",IF('Data Set'!$CF54=0,\"\",'Data Set'!$CF54))","v":""}]
[null,null,{"$f":"IF('Data Set'!$C23=\"\",\"\", 'Data Set'!$C23)","v":""},{"$f":"IF(C26=\"\",\"\",IF('Data Set'!$AR23=0,\"\",'Data Set'!$AR23))","v":""},{"$f":"IF('Data Set'!$C39=\"\",\"\", 'Data Set'!$C39)","v":""},{"$f":"IF(E26=\"\",\"\",IF('Data Set'!$AR39=0,\"\",'Data Set'!$AR39))","v":""},{"$f":"IF('Data Set'!$C55=\"\",\"\", 'Data Set'!$C55)","v":""},{"$f":"IF(G26=\"\",\"\",IF('Data Set'!$AR55=0,\"\",'Data Set'!$AR55))","v":""},null,null,null,null,{"$f":"IF('Data Set'!$C23=\"\",\"\", 'Data Set'!$C23)","v":""},{"$f":"IF(M26=\"\",\"\",IF('Data Set'!$CF23=0,\"\",'Data Set'!$CF23))","v":""},{"$f":"IF('Data Set'!$C39=\"\",\"\", 'Data Set'!$C39)","v":""},{"$f":"IF(O26=\"\",\"\",IF('Data Set'!$CF39=0,\"\",'Data Set'!$CF39))","v":""},{"$f":"IF('Data Set'!$C55=\"\",\"\", 'Data Set'!$C55)","v":""},{"$f":"IF(Q26=\"\",\"\",IF('Data Set'!$CF55=0,\"\",'Data Set'!$CF55))","v":""}]
[]
[]
[null,"Bítear ag plé leis na torthaí foghlama thar na trí bliana.",null,null,null,null,null,null,null,null,null,{"$f":"'Data Set'!D4","v":"Teicneolaíocht Fheidhmeach"},{"$f":"C9","v":"Prionsabail agus cleachtais"},null,{"$f":"E9","v":"Fuinneamh agus rialú"},null,{"$f":"G9","v":"An teicneolaíocht agus an tsochaí"}]
[]
[null,null,null,null,null,null,null,null,null,null,"Bhlian 2",{"$f":"B11","v":"Anailís a dhéanamh agus fadhbanna a réiteach"},{"$f":"IF('Data Set'!$C8=\"\",\"\", 'Data Set'!$C8)","v":"1.1"},{"$f":"IF(M31=\"\",\"\",IF('Data Set'!$DT8=0,\"\",'Data Set'!$DT8))","v":""},{"$f":"IF('Data Set'!$C24=\"\",\"\", 'Data Set'!$C24)","v":"2.1"},{"$f":"IF(O31=\"\",\"\",IF('Data Set'!$DT24=0,\"\",'Data Set'!$DT24))","v":""},{"$f":"IF('Data Set'!$C40=\"\",\"\", 'Data Set'!$C40)","v":"3.1"},{"$f":"IF(Q31=\"\",\"\",IF('Data Set'!$DT40=0,\"\",'Data Set'!$DT40))","v":""}]
[null,null,null,null,null,null,null,null,null,null,null,null,{"$f":"IF('Data Set'!$C9=\"\",\"\", 'Data Set'!$C9)","v":"1.2"},{"$f":"IF(M32=\"\",\"\",IF('Data Set'!$DT9=0,\"\",'Data Set'!$DT9))","v":""},{"$f":"IF('Data Set'!$C25=\"\",\"\", 'Data Set'!$C25)","v":"2.2"},{"$f":"IF(O32=\"\",\"\",IF('Data Set'!$DT25=0,\"\",'Data Set'!$DT25))","v":""},{"$f":"IF('Data Set'!$C41=\"\",\"\", 'Data Set'!$C41)","v":"3.2"},{"$f":"IF(Q32=\"\",\"\",IF('Data Set'!$DT41=0,\"\",'Data Set'!$DT41))","v":""}]
[null,null,null,null,null,null,null,null,null,null,null,null,{"$f":"IF('Data Set'!$C10=\"\",\"\", 'Data Set'!$C10)","v":"1.3"},{"$f":"IF(M33=\"\",\"\",IF('Data Set'!$DT10=0,\"\",'Data Set'!$DT10))","v":""},{"$f":"IF('Data Set'!$C26=\"\",\"\", 'Data Set'!$C26)","v":""},{"$f":"IF(O33=\"\",\"\",IF('Data Set'!$DT26=0,\"\",'Data Set'!$DT26))","v":""},{"$f":"IF('Data Set'!$C42=\"\",\"\", 'Data Set'!$C42)","v":""},{"$f":"IF(Q33=\"\",\"\",IF('Data Set'!$DT42=0,\"\",'Data Set'!$DT42))","v":""}]
[null,null,null,null,null,null,null,null,null,null,null,null,{"$f":"IF('Data Set'!$C11=\"\",\"\", 'Data Set'!$C11)","v":"1.4"},{"$f":"IF(M34=\"\",\"\",IF('Data Set'!$DT11=0,\"\",'Data Set'!$DT11))","v":""},{"$f":"IF('Data Set'!$C27=\"\",\"\", 'Data Set'!$C27)","v":""},{"$f":"IF(O34=\"\",\"\",IF('Data Set'!$DT27=0,\"\",'Data Set'!$DT27))","v":""},{"$f":"IF('Data Set'!$C43=\"\",\"\", 'Data Set'!$C43)","v":""},{"$f":"IF(Q34=\"\",\"\",IF('Data Set'!$DT43=0,\"\",'Data Set'!$DT43))","v":""}]
[null,null,null,null,null,null,null,null,null,null,null,{"$f":"B15","v":"Dearadh agus nuálaíocht"},{"$f":"IF('Data Set'!$C12=\"\",\"\", 'Data Set'!$C12)","v":"1.5"},{"$f":"IF(M35=\"\",\"\",IF('Data Set'!$DT12=0,\"\",'Data Set'!$DT12))","v":""},{"$f":"IF('Data Set'!$C28=\"\",\"\", 'Data Set'!$C28)","v":"2.3"},{"$f":"IF(O35=\"\",\"\",IF('Data Set'!$DT28=0,\"\",'Data Set'!$DT28))","v":""},{"$f":"IF('Data Set'!$C44=\"\",\"\", 'Data Set'!$C44)","v":"3.3"},{"$f":"IF(Q35=\"\",\"\",IF('Data Set'!$DT44=0,\"\",'Data Set'!$DT44))","v":""}]
[null,null,null,null,null,null,null,null,null,null,null,null,{"$f":"IF('Data Set'!$C13=\"\",\"\", 'Data Set'!$C13)","v":"1.6"},{"$f":"IF(M36=\"\",\"\",IF('Data Set'!$DT13=0,\"\",'Data Set'!$DT13))","v":""},{"$f":"IF('Data Set'!$C29=\"\",\"\", 'Data Set'!$C29)","v":"2.4"},{"$f":"IF(O36=\"\",\"\",IF('Data Set'!$DT29=0,\"\",'Data Set'!$DT29))","v":""},{"$f":"IF('Data Set'!$C45=\"\",\"\", 'Data Set'!$C45)","v":"3.4"},{"$f":"IF(Q36=\"\",\"\",IF('Data Set'!$DT45=0,\"\",'Data Set'!$DT45))","v":""}]
[null,null,null,null,null,null,null,null,null,null,null,null,{"$f":"IF('Data Set'!$C14=\"\",\"\", 'Data Set'!$C14)","v":"1.7"},{"$f":"IF(M37=\"\",\"\",IF('Data Set'!$DT14=0,\"\",'Data Set'!$DT14))","v":""},{"$f":"IF('Data Set'!$C30=\"\",\"\", 'Data Set'!$C30)","v":"2.5"},{"$f":"IF(O37=\"\",\"\",IF('Data Set'!$DT30=0,\"\",'Data Set'!$DT30))","v":""},{"$f":"IF('Data Set'!$C46=\"\",\"\", 'Data Set'!$C46)","v":""},{"$f":"IF(Q37=\"\",\"\",IF('Data Set'!$DT46=0,\"\",'Data Set'!$DT46))","v":""}]
[null,null,null,null,null,null,null,null,null,null,null,null,{"$f":"IF('Data Set'!$C15=\"\",\"\", 'Data Set'!$C15)","v":""},{"$f":"IF(M38=\"\",\"\",IF('Data Set'!$DT15=0,\"\",'Data Set'!$DT15))","v":""},{"$f":"IF('Data Set'!$C31=\"\",\"\", 'Data Set'!$C31)","v":""},{"$f":"IF(O38=\"\",\"\",IF('Data Set'!$DT31=0,\"\",'Data Set'!$DT31))","v":""},{"$f":"IF('Data Set'!$C47=\"\",\"\", 'Data Set'!$C47)","v":""},{"$f":"IF(Q38=\"\",\"\",IF('Data Set'!$DT47=0,\"\",'Data Set'!$DT47))","v":""}]
[null,null,null,null,null,null,null,null,null,null,null,{"$f":"B19","v":"Pleanáil, bainistiú agus cruthú"},{"$f":"IF('Data Set'!$C16=\"\",\"\", 'Data Set'!$C16)","v":"1.8"},{"$f":"IF(M39=\"\",\"\",IF('Data Set'!$DT16=0,\"\",'Data Set'!$DT16))","v":""},{"$f":"IF('Data Set'!$C32=\"\",\"\", 'Data Set'!$C32)","v":"2.6"},{"$f":"IF(O39=\"\",\"\",IF('Data Set'!$DT32=0,\"\",'Data Set'!$DT32))","v":""},{"$f":"IF('Data Set'!$C48=\"\",\"\", 'Data Set'!$C48)","v":"3.5"},{"$f":"IF(Q39=\"\",\"\",IF('Data Set'!$DT48=0,\"\",'Data Set'!$DT48))","v":""}]
[null,null,null,null,null,null,null,null,null,null,null,null,{"$f":"IF('Data Set'!$C17=\"\",\"\", 'Data Set'!$C17)","v":"1.9"},{"$f":"IF(M40=\"\",\"\",IF('Data Set'!$DT17=0,\"\",'Data Set'!$DT17))","v":""},{"$f":"IF('Data Set'!$C33=\"\",\"\", 'Data Set'!$C33)","v":"2.7"},{"$f":"IF(O40=\"\",\"\",IF('Data Set'!$DT33=0,\"\",'Data Set'!$DT33))","v":""},{"$f":"IF('Data Set'!$C49=\"\",\"\", 'Data Set'!$C49)","v":"3.6"},{"$f":"IF(Q40=\"\",\"\",IF('Data Set'!$DT49=0,\"\",'Data Set'!$DT49))","v":""}]
[null,null,null,null,null,null,null,null,null,null,null,null,{"$f":"IF('Data Set'!$C18=\"\",\"\", 'Data Set'!$C18)","v":"1.10"},{"$f":"IF(M41=\"\",\"\",IF('Data Set'!$DT18=0,\"\",'Data Set'!$DT18))","v":""},{"$f":"IF('Data Set'!$C34=\"\",\"\", 'Data Set'!$C34)","v":"2.8"},{"$f":"IF(O41=\"\",\"\",IF('Data Set'!$DT34=0,\"\",'Data Set'!$DT34))","v":""},{"$f":"IF('Data Set'!$C50=\"\",\"\", 'Data Set'!$C50)","v":"3.7"},{"$f":"IF(Q41=\"\",\"\",IF('Data Set'!$DT50=0,\"\",'Data Set'!$DT50))","v":""}]
[null,null,null,null,null,null,null,null,null,null,null,null,{"$f":"IF('Data Set'!$C19=\"\",\"\", 'Data Set'!$C19)","v":"1.11"},{"$f":"IF(M42=\"\",\"\",IF('Data Set'!$DT19=0,\"\",'Data Set'!$DT19))","v":""},{"$f":"IF('Data Set'!$C35=\"\",\"\", 'Data Set'!$C35)","v":""},{"$f":"IF(O42=\"\",\"\",IF('Data Set'!$DT35=0,\"\",'Data Set'!$DT35))","v":""},{"$f":"IF('Data Set'!$C51=\"\",\"\", 'Data Set'!$C51)","v":""},{"$f":"IF(Q42=\"\",\"\",IF('Data Set'!$DT51=0,\"\",'Data Set'!$DT51))","v":""}]
[null,null,null,null,null,null,null,null,null,null,null,{"$f":"B23","v":"Cumarsáid"},{"$f":"IF('Data Set'!$C20=\"\",\"\", 'Data Set'!$C20)","v":"1.12"},{"$f":"IF(M43=\"\",\"\",IF('Data Set'!$DT20=0,\"\",'Data Set'!$DT20))","v":""},{"$f":"IF('Data Set'!$C36=\"\",\"\", 'Data Set'!$C36)","v":"2.9"},{"$f":"IF(O43=\"\",\"\",IF('Data Set'!$DT36=0,\"\",'Data Set'!$DT36))","v":""},{"$f":"IF('Data Set'!$C52=\"\",\"\", 'Data Set'!$C52)","v":"3.8"},{"$f":"IF(Q43=\"\",\"\",IF('Data Set'!$DT52=0,\"\",'Data Set'!$DT52))","v":""}]
[null,null,null,null,null,null,null,null,null,null,null,null,{"$f":"IF('Data Set'!$C21=\"\",\"\", 'Data Set'!$C21)","v":"1.13"},{"$f":"IF(M44=\"\",\"\",IF('Data Set'!$DT21=0,\"\",'Data Set'!$DT21))","v":""},{"$f":"IF('Data Set'!$C37=\"\",\"\", 'Data Set'!$C37)","v":"2.10"},{"$f":"IF(O44=\"\",\"\",IF('Data Set'!$DT37=0,\"\",'Data Set'!$DT37))","v":""},{"$f":"IF('Data Set'!$C53=\"\",\"\", 'Data Set'!$C53)","v":"3.9"},{"$f":"IF(Q44=\"\",\"\",IF('Data Set'!$DT53=0,\"\",'Data Set'!$DT53))","v":""}]
[null,null,null,null,null,null,null,null,null,null,null,null,{"$f":"IF('Data Set'!$C22=\"\",\"\", 'Data Set'!$C22)","v":""},{"$f":"IF(M45=\"\",\"\",IF('Data Set'!$DT22=0,\"\",'Data Set'!$DT22))","v":""},{"$f":"IF('Data Set'!$C38=\"\",\"\", 'Data Set'!$C38)","v":""},{"$f":"IF(O45=\"\",\"\",IF('Data Set'!$DT38=0,\"\",'Data Set'!$DT38))","v":""},{"$f":"IF('Data Set'!$C54=\"\",\"\", 'Data Set'!$C54)","v":""},{"$f":"IF(Q45=\"\",\"\",IF('Data Set'!$DT54=0,\"\",'Data Set'!$DT54))","v":""}]
[null,null,null,null,null,null,null,null,null,null,null,null,{"$f":"IF('Data Set'!$C23=\"\",\"\", 'Data Set'!$C23)","v":""},{"$f":"IF(M46=\"\",\"\",IF('Data Set'!$DT23=0,\"\",'Data Set'!$DT23))","v":""},{"$f":"IF('Data Set'!$C39=\"\",\"\", 'Data Set'!$C39)","v":""},{"$f":"IF(O46=\"\",\"\",IF('Data Set'!$DT39=0,\"\",'Data Set'!$DT39))","v":""},{"$f":"IF('Data Set'!$C55=\"\",\"\", 'Data Set'!$C55)","v":""},{"$f":"IF(Q46=\"\",\"\",IF('Data Set'!$DT55=0,\"\",'Data Set'!$DT55))","v":""}]
[]
[]
[null,null,null,null,null,null,null,null,null,null,null,{"$f":"'Data Set'!D4","v":"Teicneolaíocht Fheidhmeach"},{"$f":"C9","v":"Prionsabail agus cleachtais"},null,{"$f":"E9","v":"Fuinneamh agus rialú"},null,{"$f":"G9","v":"An teicneolaíocht agus an tsochaí"}]
[]
[null,null,null,null,null,null,null,null,null,null,"Bhlian 3",{"$f":"B11","v":"Anailís a dhéanamh agus fadhbanna a réiteach"},{"$f":"IF('Data Set'!$C8=\"\",\"\", 'Data Set'!$C8)","v":"1.1"},{"$f":"IF(M51=\"\",\"\",IF('Data Set'!$FH8=0,\"\",'Data Set'!$FH8))","v":""},{"$f":"IF('Data Set'!$C24=\"\",\"\", 'Data Set'!$C24)","v":"2.1"},{"$f":"IF(O51=\"\",\"\",IF('Data Set'!$FH24=0,\"\",'Data Set'!$FH24))","v":""},{"$f":"IF('Data Set'!$C40=\"\",\"\", 'Data Set'!$C40)","v":"3.1"},{"$f":"IF(Q51=\"\",\"\",IF('Data Set'!$FH40=0,\"\",'Data Set'!$FH40))","v":""}]
[null,null,null,null,null,null,null,null,null,null,null,null,{"$f":"IF('Data Set'!$C9=\"\",\"\", 'Data Set'!$C9)","v":"1.2"},{"$f":"IF(M52=\"\",\"\",IF('Data Set'!$FH9=0,\"\",'Data Set'!$FH9))","v":""},{"$f":"IF('Data Set'!$C25=\"\",\"\", 'Data Set'!$C25)","v":"2.2"},{"$f":"IF(O52=\"\",\"\",IF('Data Set'!$FH25=0,\"\",'Data Set'!$FH25))","v":""},{"$f":"IF('Data Set'!$C41=\"\",\"\", 'Data Set'!$C41)","v":"3.2"},{"$f":"IF(Q52=\"\",\"\",IF('Data Set'!$FH41=0,\"\",'Data Set'!$FH41))","v":""}]
[null,null,null,null,null,null,null,null,null,null,null,null,{"$f":"IF('Data Set'!$C10=\"\",\"\", 'Data Set'!$C10)","v":"1.3"},{"$f":"IF(M53=\"\",\"\",IF('Data Set'!$FH10=0,\"\",'Data Set'!$FH10))","v":""},{"$f":"IF('Data Set'!$C26=\"\",\"\", 'Data Set'!$C26)","v":""},{"$f":"IF(O53=\"\",\"\",IF('Data Set'!$FH26=0,\"\",'Data Set'!$FH26))","v":""},{"$f":"IF('Data Set'!$C42=\"\",\"\", 'Data Set'!$C42)","v":""},{"$f":"IF(Q53=\"\",\"\",IF('Data Set'!$FH42=0,\"\",'Data Set'!$FH42))","v":""}]
[null,null,null,null,null,null,null,null,null,null,null,null,{"$f":"IF('Data Set'!$C11=\"\",\"\", 'Data Set'!$C11)","v":"1.4"},{"$f":"IF(M54=\"\",\"\",IF('Data Set'!$FH11=0,\"\",'Data Set'!$FH11))","v":""},{"$f":"IF('Data Set'!$C27=\"\",\"\", 'Data Set'!$C27)","v":""},{"$f":"IF(O54=\"\",\"\",IF('Data Set'!$FH27=0,\"\",'Data Set'!$FH27))","v":""},{"$f":"IF('Data Set'!$C43=\"\",\"\", 'Data Set'!$C43)","v":""},{"$f":"IF(Q54=\"\",\"\",IF('Data Set'!$FH43=0,\"\",'Data Set'!$FH43))","v":""}]
[null,null,null,null,null,null,null,null,null,null,null,{"$f":"B15","v":"Dearadh agus nuálaíocht"},{"$f":"IF('Data Set'!$C12=\"\",\"\", 'Data Set'!$C12)","v":"1.5"},{"$f":"IF(M55=\"\",\"\",IF('Data Set'!$FH12=0,\"\",'Data Set'!$FH12))","v":""},{"$f":"IF('Data Set'!$C28=\"\",\"\", 'Data Set'!$C28)","v":"2.3"},{"$f":"IF(O55=\"\",\"\",IF('Data Set'!$FH28=0,\"\",'Data Set'!$FH28))","v":""},{"$f":"IF('Data Set'!$C44=\"\",\"\", 'Data Set'!$C44)","v":"3.3"},{"$f":"IF(Q55=\"\",\"\",IF('Data Set'!$FH44=0,\"\",'Data Set'!$FH44))","v":""}]
[null,null,null,null,null,null,null,null,null,null,null,null,{"$f":"IF('Data Set'!$C13=\"\",\"\", 'Data Set'!$C13)","v":"1.6"},{"$f":"IF(M56=\"\",\"\",IF('Data Set'!$FH13=0,\"\",'Data Set'!$FH13))","v":""},{"$f":"IF('Data Set'!$C29=\"\",\"\", 'Data Set'!$C29)","v":"2.4"},{"$f":"IF(O56=\"\",\"\",IF('Data Set'!$FH29=0,\"\",'Data Set'!$FH29))","v":""},{"$f":"IF('Data Set'!$C45=\"\",\"\", 'Data Set'!$C45)","v":"3.4"},{"$f":"IF(Q56=\"\",\"\",IF('Data Set'!$FH45=0,\"\",'Data Set'!$FH45))","v":""}]
[null,null,null,null,null,null,null,null,null,null,null,null,{"$f":"IF('Data Set'!$C14=\"\",\"\", 'Data Set'!$C14)","v":"1.7"},{"$f":"IF(M57=\"\",\"\",IF('Data Set'!$FH14=0,\"\",'Data Set'!$FH14))","v":""},{"$f":"IF('Data Set'!$C30=\"\",\"\", 'Data Set'!$C30)","v":"2.5"},{"$f":"IF(O57=\"\",\"\",IF('Data Set'!$FH30=0,\"\",'Data Set'!$FH30))","v":""},{"$f":"IF('Data Set'!$C46=\"\",\"\", 'Data Set'!$C46)","v":""},{"$f":"IF(Q57=\"\",\"\",IF('Data Set'!$FH46=0,\"\",'Data Set'!$FH46))","v":""}]
[null,null,null,null,null,null,null,null,null,null,null,null,{"$f":"IF('Data Set'!$C15=\"\",\"\", 'Data Set'!$C15)","v":""},{"$f":"IF(M58=\"\",\"\",IF('Data Set'!$FH15=0,\"\",'Data Set'!$FH15))","v":""},{"$f":"IF('Data Set'!$C31=\"\",\"\", 'Data Set'!$C31)","v":""},{"$f":"IF(O58=\"\",\"\",IF('Data Set'!$FH31=0,\"\",'Data Set'!$FH31))","v":""},{"$f":"IF('Data Set'!$C47=\"\",\"\", 'Data Set'!$C47)","v":""},{"$f":"IF(Q58=\"\",\"\",IF('Data Set'!$FH47=0,\"\",'Data Set'!$FH47))","v":""}]
[null,null,null,null,null,null,null,null,null,null,null,{"$f":"B19","v":"Pleanáil, bainistiú agus cruthú"},{"$f":"IF('Data Set'!$C16=\"\",\"\", 'Data Set'!$C16)","v":"1.8"},{"$f":"IF(M59=\"\",\"\",IF('Data Set'!$FH16=0,\"\",'Data Set'!$FH16))","v":""},{"$f":"IF('Data Set'!$C32=\"\",\"\", 'Data Set'!$C32)","v":"2.6"},{"$f":"IF(O59=\"\",\"\",IF('Data Set'!$FH32=0,\"\",'Data Set'!$FH32))","v":""},{"$f":"IF('Data Set'!$C48=\"\",\"\", 'Data Set'!$C48)","v":"3.5"},{"$f":"IF(Q59=\"\",\"\",IF('Data Set'!$FH48=0,\"\",'Data Set'!$FH48))","v":""}]
[null,null,null,null,null,null,null,null,null,null,null,null,{"$f":"IF('Data Set'!$C17=\"\",\"\", 'Data Set'!$C17)","v":"1.9"},{"$f":"IF(M60=\"\",\"\",IF('Data Set'!$FH17=0,\"\",'Data Set'!$FH17))","v":""},{"$f":"IF('Data Set'!$C33=\"\",\"\", 'Data Set'!$C33)","v":"2.7"},{"$f":"IF(O60=\"\",\"\",IF('Data Set'!$FH33=0,\"\",'Data Set'!$FH33))","v":""},{"$f":"IF('Data Set'!$C49=\"\",\"\", 'Data Set'!$C49)","v":"3.6"},{"$f":"IF(Q60=\"\",\"\",IF('Data Set'!$FH49=0,\"\",'Data Set'!$FH49))","v":""}]
[null,null,null,null,null,null,null,null,null,null,null,null,{"$f":"IF('Data Set'!$C18=\"\",\"\", 'Data Set'!$C18)","v":"1.10"},{"$f":"IF(M61=\"\",\"\",IF('Data Set'!$FH18=0,\"\",'Data Set'!$FH18))","v":""},{"$f":"IF('Data Set'!$C34=\"\",\"\", 'Data Set'!$C34)","v":"2.8"},{"$f":"IF(O61=\"\",\"\",IF('Data Set'!$FH34=0,\"\",'Data Set'!$FH34))","v":""},{"$f":"IF('Data Set'!$C50=\"\",\"\", 'Data Set'!$C50)","v":"3.7"},{"$f":"IF(Q61=\"\",\"\",IF('Data Set'!$FH50=0,\"\",'Data Set'!$FH50))","v":""}]
[null,null,null,null,null,null,null,null,null,null,null,null,{"$f":"IF('Data Set'!$C19=\"\",\"\", 'Data Set'!$C19)","v":"1.11"},{"$f":"IF(M62=\"\",\"\",IF('Data Set'!$FH19=0,\"\",'Data Set'!$FH19))","v":""},{"$f":"IF('Data Set'!$C35=\"\",\"\", 'Data Set'!$C35)","v":""},{"$f":"IF(O62=\"\",\"\",IF('Data Set'!$FH35=0,\"\",'Data Set'!$FH35))","v":""},{"$f":"IF('Data Set'!$C51=\"\",\"\", 'Data Set'!$C51)","v":""},{"$f":"IF(Q62=\"\",\"\",IF('Data Set'!$FH51=0,\"\",'Data Set'!$FH51))","v":""}]
[null,null,null,null,null,null,null,null,null,null,null,{"$f":"B23","v":"Cumarsáid"},{"$f":"IF('Data Set'!$C20=\"\",\"\", 'Data Set'!$C20)","v":"1.12"},{"$f":"IF(M63=\"\",\"\",IF('Data Set'!$FH20=0,\"\",'Data Set'!$FH20))","v":""},{"$f":"IF('Data Set'!$C36=\"\",\"\", 'Data Set'!$C36)","v":"2.9"},{"$f":"IF(O63=\"\",\"\",IF('Data Set'!$FH36=0,\"\",'Data Set'!$FH36))","v":""},{"$f":"IF('Data Set'!$C52=\"\",\"\", 'Data Set'!$C52)","v":"3.8"},{"$f":"IF(Q63=\"\",\"\",IF('Data Set'!$FH52=0,\"\",'Data Set'!$FH52))","v":""}]
[null,null,null,null,null,null,null,null,null,null,null,null,{"$f":"IF('Data Set'!$C21=\"\",\"\", 'Data Set'!$C21)","v":"1.13"},{"$f":"IF(M64=\"\",\"\",IF('Data Set'!$FH21=0,\"\",'Data Set'!$FH21))","v":""},{"$f":"IF('Data Set'!$C37=\"\",\"\", 'Data Set'!$C37)","v":"2.10"},{"$f":"IF(O64=\"\",\"\",IF('Data Set'!$FH37=0,\"\",'Data Set'!$FH37))","v":""},{"$f":"IF('Data Set'!$C53=\"\",\"\", 'Data Set'!$C53)","v":"3.9"},{"$f":"IF(Q64=\"\",\"\",IF('Data Set'!$FH53=0,\"\",'Data Set'!$FH53))","v":""}]
[null,null,null,null,null,null,null,null,null,null,null,null,{"$f":"IF('Data Set'!$C22=\"\",\"\", 'Data Set'!$C22)","v":""},{"$f":"IF(M65=\"\",\"\",IF('Data Set'!$FH22=0,\"\",'Data Set'!$FH22))","v":""},{"$f":"IF('Data Set'!$C38=\"\",\"\", 'Data Set'!$C38)","v":""},{"$f":"IF(O65=\"\",\"\",IF('Data Set'!$FH38=0,\"\",'Data Set'!$FH38))","v":""},{"$f":"IF('Data Set'!$C54=\"\",\"\", 'Data Set'!$C54)","v":""},{"$f":"IF(Q65=\"\",\"\",IF('Data Set'!$FH54=0,\"\",'Data Set'!$FH54))","v":""}]
[null,null,null,null,null,null,null,null,null,null,null,null,{"$f":"IF('Data Set'!$C23=\"\",\"\", 'Data Set'!$C23)","v":""},{"$f":"IF(M66=\"\",\"\",IF('Data Set'!$FH23=0,\"\",'Data Set'!$FH23))","v":""},{"$f":"IF('Data Set'!$C39=\"\",\"\", 'Data Set'!$C39)","v":""},{"$f":"IF(O66=\"\",\"\",IF('Data Set'!$FH39=0,\"\",'Data Set'!$FH39))","v":""},{"$f":"IF('Data Set'!$C55=\"\",\"\", 'Data Set'!$C55)","v":""},{"$f":"IF(Q66=\"\",\"\",IF('Data Set'!$FH55=0,\"\",'Data Set'!$FH55))","v":""}]

{"sheet":"Leathanach Treoracha","index":42,"n_rows":27,"n_cols":22,"rows_kept":27,"cut":false,"hidden":false,"merged":[[22,7,22,10],[22,1,22,6],[26,1,26,10],[23,1,23,10],[25,7,25,10],[25,1,25,6],[20,1,20,10],[16,7,16,10],[16,1,16,6],[19,7,19,10],[14,1,14,10],[19,1,19,6],[1,11,1,15],[1,16,1,20],[1,21,2,25],[17,1,17,10],[6,1,6,10],[13,7,13,10],[13,1,13,6],[7,1,7,10],[11,1,11,10],[10,7,10,10],[10,1,10,6],[5,1,5,10],[1,1,1,5],[1,6,1,10]]}
[]
["Cliceáil","Innéacs",null,null,null,null,"Sonraí Ranga",null,null,null,null,"Uirlis Phleanála,\nRéasúnaíoch & Aidhm",null,null,null,null,"Rannpháirtíocht i dtorthaí foghlama",null,null,null,null,"Treoracha"]
[]
[]
[]
[null,"Nótaí: "]
[null,"Is é cuspóir an leathanaigh seo díriú ar  phríomhfheidhmíocht an doiciméid."]
[null,"Taispeántar gach feidhm thíos i bhfísghabháil scáileán is féidir a fháil anseo."]
[]
[]
[null,"Téacs a thimfhilleadh",null,null,null,null,null,"Tagairt 1"]
[null,"Gné úsáideach eile is ea timfhilleadh téacs. De réir an réamhshocraithe, roghnaítear timfhilleadh téacs i ngach cill laistigh de na haonaid. Coinníonn timfhilleadh téacs do chlóscríobh laistigh de leithead an cholúin a bhfuil tú ag clóscríobh isteach ann. De réir mar a chlóscríobhann tú sa bhosca, tosaíonn sé a líonadh an bhosca síos. \n"]
[]
[null,"Airde Sraithe a Uathoiriúniú",null,null,null,null,null,"Tagairt 2"]
[null,"Is féidir airde na sraithe a chur in oiriúint de láimh trí airde na gceall a tharraingt suas agus anuas.\nIs modh níos simplí é an chill / na cealla a roghnú agus formáid roghchlár anuas a roghnú mar atá le feiceáil ar an íomhá anseo agus Uathoiriúnaigh airde sraithe a roghnú. De réir an réamhshocraithe, roghnaítear an fheidhm seo. Nóta: De réir mar a scriosann tú inneachar cille b'fhéidir go gcaithfeá an fheidhm seo a athroghnú."]
[]
[null,"Líne nua a fháil in Excel",null,null,null,null,null,"ALT+Enter"]
[null,"Uaireanta nuair a bhíonn tú i gcill b'fhéidir gur mhaith leat spás a fhágáil idir abairtí. Chun líne nua a fháil sa chill chéanna ina bhfuil tú ag clóscríobh, ní mór duit ALT + Enter a bhrú.\nFanfaidh an cúrsóir laistigh den chill atá á cur in eagar agat ach beidh sé ag titim go dtí an chéad líne eile."]
[]
[null,"Ailíniú laistigh de chealla a choigeartú",null,null,null,null,null,"Tagairt 3"]
[null,"De réir réamhshocraithe, socraítear an t-ailíniú do na cealla ar bharr an bhosca. Tá roinnt gnéithe anseo is féidir a roghnú ón gcluaisín ailínithe. "]
[]
[null,"Leathanach á athainmniú",null,null,null,null,null,"cliceáil ar chlé faoi dhó"]
[null,"Chun teideal an leathanaigh a athainmniú cliceáil faoi dhó ar an leathanach agus athainmnigh é dá réir sin."]
[]
[null,"Leathanach a nochtadh",null,null,null,null,null,"cliceáil ar dheis agus roghnaigh unhide"]
[null,"Más gá duit leathanach breise a chur leis, ní mór duit cluaisín a nochtadh trí chliceáil ar dheis ar na cluaisíní ag an mbun agus roghnaigh an rogha ‘nocht’."]

{"sheet":"Data Set","index":43,"n_rows":108,"n_cols":164,"rows_kept":108,"cut":false,"hidden":true,"merged":[[5,85,5,123],[5,0,6,1],[5,125,5,163],[39,0,54,0],[39,1,42,1],[43,1,46,1],[47,1,50,1],[51,1,54,1],[5,45,5,83],[23,0,38,0],[35,1,38,1],[31,1,34,1],[27,1,30,1],[1,0,1,2],[3,0,3,2],[5,2,6,2],[23,1,26,1],[5,5,5,43],[5,3,6,3],[5,4,6,4],[7,0,22,0],[7,1,10,1],[11,1,14,1],[15,1,18,1],[19,1,22,1]]}
[]
["Click Link:",null,null," Innéacs","Cliceáil ar an nasc ar chlé chun filleadh ar an mbileog Innéacs ina bhfuil liosta d'aonaid foghlama."]
[]
["Subject:",null,null,"Teicneolaíocht Fheidhmeach","NÓTA: Tá téacs agus sonraí sa bhileog seo a ndéantar tagairt dóibh i mbileoga eile. NÁ scriostar an bhileog seo ná a bhfuil ann."]
[]
["Snáithe & \nGné:",null,"L.O. No.:","TORTHAÍ FOGHLAMA :","BRIATHRA GNÍMH:","An tSraith Shóisearach: (Rannpháirtíocht le torthaí foghlama ar fud na Sraithe Sóisearaí)",null,null,null,null,null,null,null,null,null,null,null,null,null,null,null,null,null,null,null,null,null,null,null,null,null,null,null,null,null,null,null,null,null,null,null,null,null,null,null,"Year 1: (Engagement with learning outcomes in Year 1)",null,null,null,null,null,null,null,null,null,null,null,null,null,null,null,null,null,null,null,null,null,null,null,null,null,null,null,null,null,null,null,null,null,null,null,null,null,null,null,"Year 2: (Engagement with learning outcomes in Year 2)",null,null,null,null,null,null,null,null,null,null,null,null,null,null,null,null,null,null,null,null,null,null,null,null,null,null,null,null,null,null,null,null,null,null,null,null,null,null,null,"Year 3: (Engagement with learning outcomes in Year 3)"]
[null,null,null,null,null,"Unit 1","Unit 2","Unit 3","Unit 4","Unit 5","Unit 6","Unit 7","Unit 8","Unit 9","Unit 10","Unit 11","Unit 12","Unit 13","Unit 14","Unit 15","Unit 16","Unit 17","Unit 18","Unit 19","Unit 20","Unit 21","Unit 22","Unit 23","Unit 24","Unit 25","Unit 26","Unit 27","Unit 28","Unit 29","Unit 30","Unit 31","Unit 32","Unit 33","Unit 34","Unit 35","Unit 36","Unit 37","Unit 38","Total",null,"Unit 1 ","Unit 2","Unit 3","Unit 4","Unit 5","Unit 6","Unit 7","Unit 8","Unit 9","Unit 10","Unit 11","Unit 12","Unit 13","Unit 14","Unit 15","Unit 16","Unit 17","Unit 18","Unit 19","Unit 20","Unit 21","Unit 22","Unit 23","Unit 24","Unit 25","Unit 26","Unit 27","Unit 28","Unit 29","Unit 30","Unit 31","Unit 32","Unit 33","Unit 34","Unit 35","Unit 36","Unit 37","Unit 38","Total",null,"Unit 1 ","Unit 2","Unit 3","Unit 4","Unit 5","Unit 6","Unit 7","Unit 8","Unit 9","Unit 10","Unit 11","Unit 12","Unit 13","Unit 14","Unit 15","Unit 16","Unit 17","Unit 18","Unit 19","Unit 20","Unit 21","Unit 22","Unit 23","Unit 24","Unit 25","Unit 26","Unit 27","Unit 28","Unit 29","Unit 30","Unit 31","Unit 32","Unit 33","Unit 34","Unit 35","Unit 36","Unit 37","Unit 38","Total",null,"Unit 1 ","Unit 2","Unit 3","Unit 4","Unit 5","Unit 6","Unit 7","Unit 8","Unit 9","Unit 10","Unit 11","Unit 12","Unit 13","Unit 14","Unit 15","Unit 16","Unit 17","Unit 18","Unit 19","Unit 20","Unit 21","Unit 22","Unit 23","Unit 24","Unit 25","Unit 26","Unit 27","Unit 28","Unit 29","Unit 30","Unit 31","Unit 32","Unit 33","Unit 34","Unit 35","Unit 36","Unit 37","Unit 38","Total"]
["Prionsabail agus cleachtais","Anailís a dhéanamh agus fadhbanna a réiteach","1.1","1.1 réiteach dearaidh a fhorbairt bunaithe ar thaithí agus úsáid á baint as fianaise, as réasúnaíocht agus as cinnteoireacht","Forbair: píosa oibre nó smaoineamh a fhorbairt ón staid tosaigh go dtí staid níos faide ar aghaidh",{"$f":"COUNTIF('Aonad 1'!$C:$C,$D8)","v":0},{"$f":"COUNTIF('Aonad 2'!$C:$C,$D8)","v":0},{"$f":"COUNTIF('Aonad 3'!$C:$C,$D8)","v":0},{"$f":"COUNTIF('Aonad 4'!$C:$C,$D8)","v":0},{"$f":"COUNTIF('Aonad 5'!$C:$C,$D8)","v":0},{"$f":"COUNTIF('Aonad 6'!$C:$C,$D8)","v":0},{"$f":"COUNTIF('Aonad 7'!$C:$C,$D8)","v":0},{"$f":"COUNTIF('Aonad 8'!$C:$C,$D8)","v":0},{"$f":"COUNTIF('Aonad 9'!$C:$C,$D8)","v":0},{"$f":"COUNTIF('Aonad 10'!$C:$C,$D8)","v":0},{"$f":"COUNTIF('Aonad 11'!$C:$C,$D8)","v":0},{"$f":"COUNTIF('Aonad 12'!$C:$C,$D8)","v":0},{"$f":"COUNTIF('Aonad 13'!$C:$C,$D8)","v":0},{"$f":"COUNTIF('Aonad 14'!$C:$C,$D8)","v":0},{"$f":"COUNTIF('Aonad 15'!$C:$C,$D8)","v":0},{"$f":"COUNTIF('Aonad 16'!$C:$C,$D8)","v":0},{"$f":"COUNTIF('Aonad 17'!$C:$C,$D8)","v":0},{"$f":"COUNTIF('Aonad 18'!$C:$C,$D8)","v":0},{"$f":"COUNTIF('Aonad 19'!$C:$C,$D8)","v":0},{"$f":"COUNTIF('Aonad 20'!$C:$C,$D8)","v":0},{"$f":"COUNTIF('Aonad 21'!$C:$C,$D8)","v":0},{"$f":"COUNTIF('Aonad 22'!$C:$C,$D8)","v":0},{"$f":"COUNTIF('Aonad 23'!$C:$C,$D8)","v":0},{"$f":"COUNTIF('Aonad 24'!$C:$C,$D8)","v":0},{"$f":"COUNTIF('Aonad 25'!$C:$C,$D8)","v":0},{"$f":"COUNTIF('Aonad 26'!$C:$C,$D8)","v":0},{"$f":"COUNTIF('Aonad 27'!$C:$C,$D8)","v":0},{"$f":"COUNTIF('Aonad 28'!$C:$C,$D8)","v":0},{"$f":"COUNTIF('Aonad 29'!$C:$C,$D8)","v":0},{"$f":"COUNTIF('Aonad 30'!$C:$C,$D8)","v":0},{"$f":"COUNTIF('Aonad 31'!$C:$C,$D8)","v":0},{"$f":"COUNTIF('Aonad 32'!$C:$C,$D8)","v":0},{"$f":"COUNTIF('Aonad 33'!$C:$C,$D8)","v":0},{"$f":"COUNTIF('Aonad 34'!$C:$C,$D8)","v":0},{"$f":"COUNTIF('Aonad 35'!$C:$C,$D8)","v":0},{"$f":"COUNTIF('Aonad 36'!$C:$C,$D8)","v":0},{"$f":"COUNTIF('Aonad 37'!$C:$C,$D8)","v":0},{"$f":"COUNTIF('Aonad 38'!$C:$C,$D8)","v":0},{"$f":"SUM(F8:AQ8)","v":0},null,{"$f":"IF('Aonad 1'!$C$7=$D$58,COUNTIF('Aonad 1'!$C:$C,$D8),\"0\")","v":"0"},{"$f":"IF('Aonad 2'!$C$7=$D$58,COUNTIF('Aonad 2'!$C:$C,$D8),\"0\")","v":"0"},{"$f":"IF('Aonad 3'!$C$7=$D$58,COUNTIF('Aonad 3'!$C:$C,$D8),\"0\")","v":"0"},{"$f":"IF('Aonad 4'!$C$7=$D$58,COUNTIF('Aonad 4'!$C:$C,$D8),\"0\")","v":"0"},{"$f":"IF('Aonad 5'!$C$7=$D$58,COUNTIF('Aonad 5'!$C:$C,$D8),\"0\")","v":"0"},{"$f":"IF('Aonad 6'!$C$7=$D$58,COUNTIF('Aonad 6'!$C:$C,$D8),\"0\")","v":"0"},{"$f":"IF('Aonad 7'!$C$7=$D$58,COUNTIF('Aonad 7'!$C:$C,$D8),\"0\")","v":"0"},{"$f":"IF('Aonad 8'!$C$7=$D$58,COUNTIF('Aonad 8'!$C:$C,$D8),\"0\")","v":"0"},{"$f":"IF('Aonad 9'!$C$7=$D$58,COUNTIF('Aonad 9'!$C:$C,$D8),\"0\")","v":"0"},{"$f":"IF('Aonad 10'!$C$7=$D$58,COUNTIF('Aonad 10'!$C:$C,$D8),\"0\")","v":"0"},{"$f":"IF('Aonad 11'!$C$7=$D$58,COUNTIF('Aonad 11'!$C:$C,$D8),\"0\")","v":"0"},{"$f":"IF('Aonad 12'!$C$7=$D$58,COUNTIF('Aonad 12'!$C:$C,$D8),\"0\")","v":"0"},{"$f":"IF('Aonad 13'!$C$7=$D$58,COUNTIF('Aonad 13'!$C:$C,$D8),\"0\")","v":"0"},{"$f":"IF('Aonad 14'!$C$7=$D$58,COUNTIF('Aonad 14'!$C:$C,$D8),\"0\")","v":"0"},{"$f":"IF('Aonad 15'!$C$7=$D$58,COUNTIF('Aonad 15'!$C:$C,$D8),\"0\")","v":"0"},{"$f":"IF('Aonad 16'!$C$7=$D$58,COUNTIF('Aonad 16'!$C:$C,$D8),\"0\")","v":"0"},{"$f":"IF('Aonad 17'!$C$7=$D$58,COUNTIF('Aonad 17'!$C:$C,$D8),\"0\")","v":"0"},{"$f":"IF('Aonad 18'!$C$7=$D$58,COUNTIF('Aonad 18'!$C:$C,$D8),\"0\")","v":"0"},{"$f":"IF('Aonad 19'!$C$7=$D$58,COUNTIF('Aonad 19'!$C:$C,$D8),\"0\")","v":"0"},{"$f":"IF('Aonad 20'!$C$7=$D$58,COUNTIF('Aonad 20'!$C:$C,$D8),\"0\")","v":"0"},{"$f":"IF('Aonad 21'!$C$7=$D$58,COUNTIF('Aonad 21'!$C:$C,$D8),\"0\")","v":"0"},{"$f":"IF('Aonad 22'!$C$7=$D$58,COUNTIF('Aonad 22'!$C:$C,$D8),\"0\")","v":"0"},{"$f":"IF('Aonad 23'!$C$7=$D$58,COUNTIF('Aonad 23'!$C:$C,$D8),\"0\")","v":"0"},{"$f":"IF('Aonad 24'!$C$7=$D$58,COUNTIF('Aonad 24'!$C:$C,$D8),\"0\")","v":"0"},{"$f":"IF('Aonad 25'!$C$7=$D$58,COUNTIF('Aonad 25'!$C:$C,$D8),\"0\")","v":"0"},{"$f":"IF('Aonad 26'!$C$7=$D$58,COUNTIF('Aonad 26'!$C:$C,$D8),\"0\")","v":"0"},{"$f":"IF('Aonad 27'!$C$7=$D$58,COUNTIF('Aonad 27'!$C:$C,$D8),\"0\")","v":"0"},{"$f":"IF('Aonad 28'!$C$7=$D$58,COUNTIF('Aonad 28'!$C:$C,$D8),\"0\")","v":"0"},{"$f":"IF('Aonad 29'!$C$7=$D$58,COUNTIF('Aonad 29'!$C:$C,$D8),\"0\")","v":"0"},{"$f":"IF('Aonad 30'!$C$7=$D$58,COUNTIF('Aonad 30'!$C:$C,$D8),\"0\")","v":"0"},{"$f":"IF('Aonad 31'!$C$7=$D$58,COUNTIF('Aonad 31'!$C:$C,$D8),\"0\")","v":"0"},{"$f":"IF('Aonad 32'!$C$7=$D$58,COUNTIF('Aonad 32'!$C:$C,$D8),\"0\")","v":"0"},{"$f":"IF('Aonad 33'!$C$7=$D$58,COUNTIF('Aonad 33'!$C:$C,$D8),\"0\")","v":"0"},{"$f":"IF('Aonad 34'!$C$7=$D$58,COUNTIF('Aonad 34'!$C:$C,$D8),\"0\")","v":"0"},{"$f":"IF('Aonad 35'!$C$7=$D$58,COUNTIF('Aonad 35'!$C:$C,$D8),\"0\")","v":"0"},{"$f":"IF('Aonad 36'!$C$7=$D$58,COUNTIF('Aonad 36'!$C:$C,$D8),\"0\")","v":"0"},{"$f":"IF('Aonad 37'!$C$7=$D$58,COUNTIF('Aonad 37'!$C:$C,$D8),\"0\")","v":"0"},{"$f":"IF('Aonad 38'!$C$7=$D$58,COUNTIF('Aonad 38'!$C:$C,$D8),\"0\")","v":"0"},{"$f":"SUM(AT8:CE8)","v":0},null,{"$f":"IF('Aonad 1'!$C$7=$D$59,COUNTIF('Aonad 1'!$C:$C,$D8),\"0\")","v":"0"},{"$f":"IF('Aonad 2'!$C$7=$D$59,COUNTIF('Aonad 2'!$C:$C,$D8),\"0\")","v":"0"},{"$f":"IF('Aonad 3'!$C$7=$D$59,COUNTIF('Aonad 3'!$C:$C,$D8),\"0\")","v":"0"},{"$f":"IF('Aonad 4'!$C$7=$D$59,COUNTIF('Aonad 4'!$C:$C,$D8),\"0\")","v":"0"},{"$f":"IF('Aonad 5'!$C$7=$D$59,COUNTIF('Aonad 5'!$C:$C,$D8),\"0\")","v":"0"},{"$f":"IF('Aonad 6'!$C$7=$D$59,COUNTIF('Aonad 6'!$C:$C,$D8),\"0\")","v":"0"},{"$f":"IF('Aonad 7'!$C$7=$D$59,COUNTIF('Aonad 7'!$C:$C,$D8),\"0\")","v":"0"},{"$f":"IF('Aonad 8'!$C$7=$D$59,COUNTIF('Aonad 8'!$C:$C,$D8),\"0\")","v":"0"},{"$f":"IF('Aonad 9'!$C$7=$D$59,COUNTIF('Aonad 9'!$C:$C,$D8),\"0\")","v":"0"},{"$f":"IF('Aonad 10'!$C$7=$D$59,COUNTIF('Aonad 10'!$C:$C,$D8),\"0\")","v":"0"},{"$f":"IF('Aonad 11'!$C$7=$D$59,COUNTIF('Aonad 11'!$C:$C,$D8),\"0\")","v":"0"},{"$f":"IF('Aonad 12'!$C$7=$D$59,COUNTIF('Aonad 12'!$C:$C,$D8),\"0\")","v":"0"},{"$f":"IF('Aonad 13'!$C$7=$D$59,COUNTIF('Aonad 13'!$C:$C,$D8),\"0\")","v":"0"},{"$f":"IF('Aonad 14'!$C$7=$D$59,COUNTIF('Aonad 14'!$C:$C,$D8),\"0\")","v":"0"},{"$f":"IF('Aonad 15'!$C$7=$D$59,COUNTIF('Aonad 15'!$C:$C,$D8),\"0\")","v":"0"},{"$f":"IF('Aonad 16'!$C$7=$D$59,COUNTIF('Aonad 16'!$C:$C,$D8),\"0\")","v":"0"},{"$f":"IF('Aonad 17'!$C$7=$D$59,COUNTIF('Aonad 17'!$C:$C,$D8),\"0\")","v":"0"},{"$f":"IF('Aonad 18'!$C$7=$D$59,COUNTIF('Aonad 18'!$C:$C,$D8),\"0\")","v":"0"},{"$f":"IF('Aonad 19'!$C$7=$D$59,COUNTIF('Aonad 19'!$C:$C,$D8),\"0\")","v":"0"},{"$f":"IF('Aonad 20'!$C$7=$D$59,COUNTIF('Aonad 20'!$C:$C,$D8),\"0\")","v":"0"},{"$f":"IF('Aonad 21'!$C$7=$D$59,COUNTIF('Aonad 21'!$C:$C,$D8),\"0\")","v":"0"},{"$f":"IF('Aonad 22'!$C$7=$D$59,COUNTIF('Aonad 22'!$C:$C,$D8),\"0\")","v":"0"},{"$f":"IF('Aonad 23'!$C$7=$D$59,COUNTIF('Aonad 23'!$C:$C,$D8),\"0\")","v":"0"},{"$f":"IF('Aonad 24'!$C$7=$D$59,COUNTIF('Aonad 24'!$C:$C,$D8),\"0\")","v":"0"},{"$f":"IF('Aonad 25'!$C$7=$D$59,COUNTIF('Aonad 25'!$C:$C,$D8),\"0\")","v":"0"},{"$f":"IF('Aonad 26'!$C$7=$D$59,COUNTIF('Aonad 26'!$C:$C,$D8),\"0\")","v":"0"},{"$f":"IF('Aonad 27'!$C$7=$D$59,COUNTIF('Aonad 27'!$C:$C,$D8),\"0\")","v":"0"},{"$f":"IF('Aonad 28'!$C$7=$D$59,COUNTIF('Aonad 28'!$C:$C,$D8),\"0\")","v":"0"},{"$f":"IF('Aonad 29'!$C$7=$D$59,COUNTIF('Aonad 29'!$C:$C,$D8),\"0\")","v":"0"},{"$f":"IF('Aonad 30'!$C$7=$D$59,COUNTIF('Aonad 30'!$C:$C,$D8),\"0\")","v":"0"},{"$f":"IF('Aonad 31'!$C$7=$D$59,COUNTIF('Aonad 31'!$C:$C,$D8),\"0\")","v":"0"},{"$f":"IF('Aonad 32'!$C$7=$D$59,COUNTIF('Aonad 32'!$C:$C,$D8),\"0\")","v":"0"},{"$f":"IF('Aonad 33'!$C$7=$D$59,COUNTIF('Aonad 33'!$C:$C,$D8),\"0\")","v":"0"},{"$f":"IF('Aonad 34'!$C$7=$D$59,COUNTIF('Aonad 34'!$C:$C,$D8),\"0\")","v":"0"},{"$f":"IF('Aonad 35'!$C$7=$D$59,COUNTIF('Aonad 35'!$C:$C,$D8),\"0\")","v":"0"},{"$f":"IF('Aonad 36'!$C$7=$D$59,COUNTIF('Aonad 36'!$C:$C,$D8),\"0\")","v":"0"},{"$f":"IF('Aonad 37'!$C$7=$D$59,COUNTIF('Aonad 37'!$C:$C,$D8),\"0\")","v":"0"},{"$f":"IF('Aonad 38'!$C$7=$D$59,COUNTIF('Aonad 38'!$C:$C,$D8),\"0\")","v":"0"},{"$f":"SUM(CH8:DS8)","v":0},null,{"$f":"IF('Aonad 1'!$C$7=$D$60,COUNTIF('Aonad 1'!$C:$C,$D8),\"0\")","v":"0"},{"$f":"IF('Aonad 2'!$C$7=$D$60,COUNTIF('Aonad 2'!$C:$C,$D8),\"0\")","v":"0"},{"$f":"IF('Aonad 3'!$C$7=$D$60,COUNTIF('Aonad 3'!$C:$C,$D8),\"0\")","v":"0"},{"$f":"IF('Aonad 4'!$C$7=$D$60,COUNTIF('Aonad 4'!$C:$C,$D8),\"0\")","v":"0"},{"$f":"IF('Aonad 5'!$C$7=$D$60,COUNTIF('Aonad 5'!$C:$C,$D8),\"0\")","v":"0"},{"$f":"IF('Aonad 6'!$C$7=$D$60,COUNTIF('Aonad 6'!$C:$C,$D8),\"0\")","v":"0"},{"$f":"IF('Aonad 7'!$C$7=$D$60,COUNTIF('Aonad 7'!$C:$C,$D8),\"0\")","v":"0"},{"$f":"IF('Aonad 8'!$C$7=$D$60,COUNTIF('Aonad 8'!$C:$C,$D8),\"0\")","v":"0"},{"$f":"IF('Aonad 9'!$C$7=$D$60,COUNTIF('Aonad 9'!$C:$C,$D8),\"0\")","v":"0"},{"$f":"IF('Aonad 10'!$C$7=$D$60,COUNTIF('Aonad 10'!$C:$C,$D8),\"0\")","v":"0"},{"$f":"IF('Aonad 11'!$C$7=$D$60,COUNTIF('Aonad 11'!$C:$C,$D8),\"0\")","v":"0"},{"$f":"IF('Aonad 12'!$C$7=$D$60,COUNTIF('Aonad 12'!$C:$C,$D8),\"0\")","v":"0"},{"$f":"IF('Aonad 13'!$C$7=$D$60,COUNTIF('Aonad 13'!$C:$C,$D8),\"0\")","v":"0"},{"$f":"IF('Aonad 14'!$C$7=$D$60,COUNTIF('Aonad 14'!$C:$C,$D8),\"0\")","v":"0"},{"$f":"IF('Aonad 15'!$C$7=$D$60,COUNTIF('Aonad 15'!$C:$C,$D8),\"0\")","v":"0"},{"$f":"IF('Aonad 16'!$C$7=$D$60,COUNTIF('Aonad 16'!$C:$C,$D8),\"0\")","v":"0"},{"$f":"IF('Aonad 17'!$C$7=$D$60,COUNTIF('Aonad 17'!$C:$C,$D8),\"0\")","v":"0"},{"$f":"IF('Aonad 18'!$C$7=$D$60,COUNTIF('Aonad 18'!$C:$C,$D8),\"0\")","v":"0"},{"$f":"IF('Aonad 19'!$C$7=$D$60,COUNTIF('Aonad 19'!$C:$C,$D8),\"0\")","v":"0"},{"$f":"IF('Aonad 20'!$C$7=$D$60,COUNTIF('Aonad 20'!$C:$C,$D8),\"0\")","v":"0"},{"$f":"IF('Aonad 21'!$C$7=$D$60,COUNTIF('Aonad 21'!$C:$C,$D8),\"0\")","v":"0"},{"$f":"IF('Aonad 22'!$C$7=$D$60,COUNTIF('Aonad 22'!$C:$C,$D8),\"0\")","v":"0"},{"$f":"IF('Aonad 23'!$C$7=$D$60,COUNTIF('Aonad 23'!$C:$C,$D8),\"0\")","v":"0"},{"$f":"IF('Aonad 24'!$C$7=$D$60,COUNTIF('Aonad 24'!$C:$C,$D8),\"0\")","v":"0"},{"$f":"IF('Aonad 25'!$C$7=$D$60,COUNTIF('Aonad 25'!$C:$C,$D8),\"0\")","v":"0"},{"$f":"IF('Aonad 26'!$C$7=$D$60,COUNTIF('Aonad 26'!$C:$C,$D8),\"0\")","v":"0"},{"$f":"IF('Aonad 27'!$C$7=$D$60,COUNTIF('Aonad 27'!$C:$C,$D8),\"0\")","v":"0"},{"$f":"IF('Aonad 28'!$C$7=$D$60,COUNTIF('Aonad 28'!$C:$C,$D8),\"0\")","v":"0"},{"$f":"IF('Aonad 29'!$C$7=$D$60,COUNTIF('Aonad 29'!$C:$C,$D8),\"0\")","v":"0"},{"$f":"IF('Aonad 30'!$C$7=$D$60,COUNTIF('Aonad 30'!$C:$C,$D8),\"0\")","v":"0"},{"$f":"IF('Aonad 31'!$C$7=$D$60,COUNTIF('Aonad 31'!$C:$C,$D8),\"0\")","v":"0"},{"$f":"IF('Aonad 32'!$C$7=$D$60,COUNTIF('Aonad 32'!$C:$C,$D8),\"0\")","v":"0"},{"$f":"IF('Aonad 33'!$C$7=$D$60,COUNTIF('Aonad 33'!$C:$C,$D8),\"0\")","v":"0"},{"$f":"IF('Aonad 34'!$C$7=$D$60,COUNTIF('Aonad 34'!$C:$C,$D8),\"0\")","v":"0"},{"$f":"IF('Aonad 35'!$C$7=$D$60,COUNTIF('Aonad 35'!$C:$C,$D8),\"0\")","v":"0"},{"$f":"IF('Aonad 36'!$C$7=$D$60,COUNTIF('Aonad 36'!$C:$C,$D8),\"0\")","v":"0"},{"$f":"IF('Aonad 37'!$C$7=$D$60,COUNTIF('Aonad 37'!$C:$C,$D8),\"0\")","v":"0"},{"$f":"IF('Aonad 38'!$C$7=$D$60,COUNTIF('Aonad 38'!$C:$C,$D8),\"0\")","v":"0"},{"$f":"SUM(DV8:FG8)","v":0}]
[null,null,"1.2","1.2 anailís a dhéanamh ar fhadhbanna le cur chuige córasach","Anailísigh: staidéar nó scrúdú a dhéanamh ar rud go mion, rud a mhiondealú chun na bunghnéithe nó an bunstruchtúr a nochtadh; codanna agus coibhneasa a shainaithint, agus fianaise a léirmhíniú chun teacht ar chonclúidí",{"$f":"COUNTIF('Aonad 1'!$C:$C,$D9)","v":0},{"$f":"COUNTIF('Aonad 2'!$C:$C,$D9)","v":0},{"$f":"COUNTIF('Aonad 3'!$C:$C,$D9)","v":0},{"$f":"COUNTIF('Aonad 4'!$C:$C,$D9)","v":0},{"$f":"COUNTIF('Aonad 5'!$C:$C,$D9)","v":0},{"$f":"COUNTIF('Aonad 6'!$C:$C,$D9)","v":0},{"$f":"COUNTIF('Aonad 7'!$C:$C,$D9)","v":0},{"$f":"COUNTIF('Aonad 8'!$C:$C,$D9)","v":0},{"$f":"COUNTIF('Aonad 9'!$C:$C,$D9)","v":0},{"$f":"COUNTIF('Aonad 10'!$C:$C,$D9)","v":0},{"$f":"COUNTIF('Aonad 11'!$C:$C,$D9)","v":0},{"$f":"COUNTIF('Aonad 12'!$C:$C,$D9)","v":0},{"$f":"COUNTIF('Aonad 13'!$C:$C,$D9)","v":0},{"$f":"COUNTIF('Aonad 14'!$C:$C,$D9)","v":0},{"$f":"COUNTIF('Aonad 15'!$C:$C,$D9)","v":0},{"$f":"COUNTIF('Aonad 16'!$C:$C,$D9)","v":0},{"$f":"COUNTIF('Aonad 17'!$C:$C,$D9)","v":0},{"$f":"COUNTIF('Aonad 18'!$C:$C,$D9)","v":0},{"$f":"COUNTIF('Aonad 19'!$C:$C,$D9)","v":0},{"$f":"COUNTIF('Aonad 20'!$C:$C,$D9)","v":0},{"$f":"COUNTIF('Aonad 21'!$C:$C,$D9)","v":0},{"$f":"COUNTIF('Aonad 22'!$C:$C,$D9)","v":0},{"$f":"COUNTIF('Aonad 23'!$C:$C,$D9)","v":0},{"$f":"COUNTIF('Aonad 24'!$C:$C,$D9)","v":0},{"$f":"COUNTIF('Aonad 25'!$C:$C,$D9)","v":0},{"$f":"COUNTIF('Aonad 26'!$C:$C,$D9)","v":0},{"$f":"COUNTIF('Aonad 27'!$C:$C,$D9)","v":0},{"$f":"COUNTIF('Aonad 28'!$C:$C,$D9)","v":0},{"$f":"COUNTIF('Aonad 29'!$C:$C,$D9)","v":0},{"$f":"COUNTIF('Aonad 30'!$C:$C,$D9)","v":0},{"$f":"COUNTIF('Aonad 31'!$C:$C,$D9)","v":0},{"$f":"COUNTIF('Aonad 32'!$C:$C,$D9)","v":0},{"$f":"COUNTIF('Aonad 33'!$C:$C,$D9)","v":0},{"$f":"COUNTIF('Aonad 34'!$C:$C,$D9)","v":0},{"$f":"COUNTIF('Aonad 35'!$C:$C,$D9)","v":0},{"$f":"COUNTIF('Aonad 36'!$C:$C,$D9)","v":0},{"$f":"COUNTIF('Aonad 37'!$C:$C,$D9)","v":0},{"$f":"COUNTIF('Aonad 38'!$C:$C,$D9)","v":0},{"$f":"SUM(F9:AQ9)","v":0},null,{"$f":"IF('Aonad 1'!$C$7=$D$58,COUNTIF('Aonad 1'!$C:$C,$D9),\"0\")","v":"0"},{"$f":"IF('Aonad 2'!$C$7=$D$58,COUNTIF('Aonad 2'!$C:$C,$D9),\"0\")","v":"0"},{"$f":"IF('Aonad 3'!$C$7=$D$58,COUNTIF('Aonad 3'!$C:$C,$D9),\"0\")","v":"0"},{"$f":"IF('Aonad 4'!$C$7=$D$58,COUNTIF('Aonad 4'!$C:$C,$D9),\"0\")","v":"0"},{"$f":"IF('Aonad 5'!$C$7=$D$58,COUNTIF('Aonad 5'!$C:$C,$D9),\"0\")","v":"0"},{"$f":"IF('Aonad 6'!$C$7=$D$58,COUNTIF('Aonad 6'!$C:$C,$D9),\"0\")","v":"0"},{"$f":"IF('Aonad 7'!$C$7=$D$58,COUNTIF('Aonad 7'!$C:$C,$D9),\"0\")","v":"0"},{"$f":"IF('Aonad 8'!$C$7=$D$58,COUNTIF('Aonad 8'!$C:$C,$D9),\"0\")","v":"0"},{"$f":"IF('Aonad 9'!$C$7=$D$58,COUNTIF('Aonad 9'!$C:$C,$D9),\"0\")","v":"0"},{"$f":"IF('Aonad 10'!$C$7=$D$58,COUNTIF('Aonad 10'!$C:$C,$D9),\"0\")","v":"0"},{"$f":"IF('Aonad 11'!$C$7=$D$58,COUNTIF('Aonad 11'!$C:$C,$D9),\"0\")","v":"0"},{"$f":"IF('Aonad 12'!$C$7=$D$58,COUNTIF('Aonad 12'!$C:$C,$D9),\"0\")","v":"0"},{"$f":"IF('Aonad 13'!$C$7=$D$58,COUNTIF('Aonad 13'!$C:$C,$D9),\"0\")","v":"0"},{"$f":"IF('Aonad 14'!$C$7=$D$58,COUNTIF('Aonad 14'!$C:$C,$D9),\"0\")","v":"0"},{"$f":"IF('Aonad 15'!$C$7=$D$58,COUNTIF('Aonad 15'!$C:$C,$D9),\"0\")","v":"0"},{"$f":"IF('Aonad 16'!$C$7=$D$58,COUNTIF('Aonad 16'!$C:$C,$D9),\"0\")","v":"0"},{"$f":"IF('Aonad 17'!$C$7=$D$58,COUNTIF('Aonad 17'!$C:$C,$D9),\"0\")","v":"0"},{"$f":"IF('Aonad 18'!$C$7=$D$58,COUNTIF('Aonad 18'!$C:$C,$D9),\"0\")","v":"0"},{"$f":"IF('Aonad 19'!$C$7=$D$58,COUNTIF('Aonad 19'!$C:$C,$D9),\"0\")","v":"0"},{"$f":"IF('Aonad 20'!$C$7=$D$58,COUNTIF('Aonad 20'!$C:$C,$D9),\"0\")","v":"0"},{"$f":"IF('Aonad 21'!$C$7=$D$58,COUNTIF('Aonad 21'!$C:$C,$D9),\"0\")","v":"0"},{"$f":"IF('Aonad 22'!$C$7=$D$58,COUNTIF('Aonad 22'!$C:$C,$D9),\"0\")","v":"0"},{"$f":"IF('Aonad 23'!$C$7=$D$58,COUNTIF('Aonad 23'!$C:$C,$D9),\"0\")","v":"0"},{"$f":"IF('Aonad 24'!$C$7=$D$58,COUNTIF('Aonad 24'!$C:$C,$D9),\"0\")","v":"0"},{"$f":"IF('Aonad 25'!$C$7=$D$58,COUNTIF('Aonad 25'!$C:$C,$D9),\"0\")","v":"0"},{"$f":"IF('Aonad 26'!$C$7=$D$58,COUNTIF('Aonad 26'!$C:$C,$D9),\"0\")","v":"0"},{"$f":"IF('Aonad 27'!$C$7=$D$58,COUNTIF('Aonad 27'!$C:$C,$D9),\"0\")","v":"0"},{"$f":"IF('Aonad 28'!$C$7=$D$58,COUNTIF('Aonad 28'!$C:$C,$D9),\"0\")","v":"0"},{"$f":"IF('Aonad 29'!$C$7=$D$58,COUNTIF('Aonad 29'!$C:$C,$D9),\"0\")","v":"0"},{"$f":"IF('Aonad 30'!$C$7=$D$58,COUNTIF('Aonad 30'!$C:$C,$D9),\"0\")","v":"0"},{"$f":"IF('Aonad 31'!$C$7=$D$58,COUNTIF('Aonad 31'!$C:$C,$D9),\"0\")","v":"0"},{"$f":"IF('Aonad 32'!$C$7=$D$58,COUNTIF('Aonad 32'!$C:$C,$D9),\"0\")","v":"0"},{"$f":"IF('Aonad 33'!$C$7=$D$58,COUNTIF('Aonad 33'!$C:$C,$D9),\"0\")","v":"0"},{"$f":"IF('Aonad 34'!$C$7=$D$58,COUNTIF('Aonad 34'!$C:$C,$D9),\"0\")","v":"0"},{"$f":"IF('Aonad 35'!$C$7=$D$58,COUNTIF('Aonad 35'!$C:$C,$D9),\"0\")","v":"0"},{"$f":"IF('Aonad 36'!$C$7=$D$58,COUNTIF('Aonad 36'!$C:$C,$D9),\"0\")","v":"0"},{"$f":"IF('Aonad 37'!$C$7=$D$58,COUNTIF('Aonad 37'!$C:$C,$D9),\"0\")","v":"0"},{"$f":"IF('Aonad 38'!$C$7=$D$58,COUNTIF('Aonad 38'!$C:$C,$D9),\"0\")","v":"0"},{"$f":"SUM(AT9:CE9)","v":0},null,{"$f":"IF('Aonad 1'!$C$7=$D$59,COUNTIF('Aonad 1'!$C:$C,$D9),\"0\")","v":"0"},{"$f":"IF('Aonad 2'!$C$7=$D$59,COUNTIF('Aonad 2'!$C:$C,$D9),\"0\")","v":"0"},{"$f":"IF('Aonad 3'!$C$7=$D$59,COUNTIF('Aonad 3'!$C:$C,$D9),\"0\")","v":"0"},{"$f":"IF('Aonad 4'!$C$7=$D$59,COUNTIF('Aonad 4'!$C:$C,$D9),\"0\")","v":"0"},{"$f":"IF('Aonad 5'!$C$7=$D$59,COUNTIF('Aonad 5'!$C:$C,$D9),\"0\")","v":"0"},{"$f":"IF('Aonad 6'!$C$7=$D$59,COUNTIF('Aonad 6'!$C:$C,$D9),\"0\")","v":"0"},{"$f":"IF('Aonad 7'!$C$7=$D$59,COUNTIF('Aonad 7'!$C:$C,$D9),\"0\")","v":"0"},{"$f":"IF('Aonad 8'!$C$7=$D$59,COUNTIF('Aonad 8'!$C:$C,$D9),\"0\")","v":"0"},{"$f":"IF('Aonad 9'!$C$7=$D$59,COUNTIF('Aonad 9'!$C:$C,$D9),\"0\")","v":"0"},{"$f":"IF('Aonad 10'!$C$7=$D$59,COUNTIF('Aonad 10'!$C:$C,$D9),\"0\")","v":"0"},{"$f":"IF('Aonad 11'!$C$7=$D$59,COUNTIF('Aonad 11'!$C:$C,$D9),\"0\")","v":"0"},{"$f":"IF('Aonad 12'!$C$7=$D$59,COUNTIF('Aonad 12'!$C:$C,$D9),\"0\")","v":"0"},{"$f":"IF('Aonad 13'!$C$7=$D$59,COUNTIF('Aonad 13'!$C:$C,$D9),\"0\")","v":"0"},{"$f":"IF('Aonad 14'!$C$7=$D$59,COUNTIF('Aonad 14'!$C:$C,$D9),\"0\")","v":"0"},{"$f":"IF('Aonad 15'!$C$7=$D$59,COUNTIF('Aonad 15'!$C:$C,$D9),\"0\")","v":"0"},{"$f":"IF('Aonad 16'!$C$7=$D$59,COUNTIF('Aonad 16'!$C:$C,$D9),\"0\")","v":"0"},{"$f":"IF('Aonad 17'!$C$7=$D$59,COUNTIF('Aonad 17'!$C:$C,$D9),\"0\")","v":"0"},{"$f":"IF('Aonad 18'!$C$7=$D$59,COUNTIF('Aonad 18'!$C:$C,$D9),\"0\")","v":"0"},{"$f":"IF('Aonad 19'!$C$7=$D$59,COUNTIF('Aonad 19'!$C:$C,$D9),\"0\")","v":"0"},{"$f":"IF('Aonad 20'!$C$7=$D$59,COUNTIF('Aonad 20'!$C:$C,$D9),\"0\")","v":"0"},{"$f":"IF('Aonad 21'!$C$7=$D$59,COUNTIF('Aonad 21'!$C:$C,$D9),\"0\")","v":"0"},{"$f":"IF('Aonad 22'!$C$7=$D$59,COUNTIF('Aonad 22'!$C:$C,$D9),\"0\")","v":"0"},{"$f":"IF('Aonad 23'!$C$7=$D$59,COUNTIF('Aonad 23'!$C:$C,$D9),\"0\")","v":"0"},{"$f":"IF('Aonad 24'!$C$7=$D$59,COUNTIF('Aonad 24'!$C:$C,$D9),\"0\")","v":"0"},{"$f":"IF('Aonad 25'!$C$7=$D$59,COUNTIF('Aonad 25'!$C:$C,$D9),\"0\")","v":"0"},{"$f":"IF('Aonad 26'!$C$7=$D$59,COUNTIF('Aonad 26'!$C:$C,$D9),\"0\")","v":"0"},{"$f":"IF('Aonad 27'!$C$7=$D$59,COUNTIF('Aonad 27'!$C:$C,$D9),\"0\")","v":"0"},{"$f":"IF('Aonad 28'!$C$7=$D$59,COUNTIF('Aonad 28'!$C:$C,$D9),\"0\")","v":"0"},{"$f":"IF('Aonad 29'!$C$7=$D$59,COUNTIF('Aonad 29'!$C:$C,$D9),\"0\")","v":"0"},{"$f":"IF('Aonad 30'!$C$7=$D$59,COUNTIF('Aonad 30'!$C:$C,$D9),\"0\")","v":"0"},{"$f":"IF('Aonad 31'!$C$7=$D$59,COUNTIF('Aonad 31'!$C:$C,$D9),\"0\")","v":"0"},{"$f":"IF('Aonad 32'!$C$7=$D$59,COUNTIF('Aonad 32'!$C:$C,$D9),\"0\")","v":"0"},{"$f":"IF('Aonad 33'!$C$7=$D$59,COUNTIF('Aonad 33'!$C:$C,$D9),\"0\")","v":"0"},{"$f":"IF('Aonad 34'!$C$7=$D$59,COUNTIF('Aonad 34'!$C:$C,$D9),\"0\")","v":"0"},{"$f":"IF('Aonad 35'!$C$7=$D$59,COUNTIF('Aonad 35'!$C:$C,$D9),\"0\")","v":"0"},{"$f":"IF('Aonad 36'!$C$7=$D$59,COUNTIF('Aonad 36'!$C:$C,$D9),\"0\")","v":"0"},{"$f":"IF('Aonad 37'!$C$7=$D$59,COUNTIF('Aonad 37'!$C:$C,$D9),\"0\")","v":"0"},{"$f":"IF('Aonad 38'!$C$7=$D$59,COUNTIF('Aonad 38'!$C:$C,$D9),\"0\")","v":"0"},{"$f":"SUM(CH9:DS9)","v":0},null,{"$f":"IF('Aonad 1'!$C$7=$D$60,COUNTIF('Aonad 1'!$C:$C,$D9),\"0\")","v":"0"},{"$f":"IF('Aonad 2'!$C$7=$D$60,COUNTIF('Aonad 2'!$C:$C,$D9),\"0\")","v":"0"},{"$f":"IF('Aonad 3'!$C$7=$D$60,COUNTIF('Aonad 3'!$C:$C,$D9),\"0\")","v":"0"},{"$f":"IF('Aonad 4'!$C$7=$D$60,COUNTIF('Aonad 4'!$C:$C,$D9),\"0\")","v":"0"},{"$f":"IF('Aonad 5'!$C$7=$D$60,COUNTIF('Aonad 5'!$C:$C,$D9),\"0\")","v":"0"},{"$f":"IF('Aonad 6'!$C$7=$D$60,COUNTIF('Aonad 6'!$C:$C,$D9),\"0\")","v":"0"},{"$f":"IF('Aonad 7'!$C$7=$D$60,COUNTIF('Aonad 7'!$C:$C,$D9),\"0\")","v":"0"},{"$f":"IF('Aonad 8'!$C$7=$D$60,COUNTIF('Aonad 8'!$C:$C,$D9),\"0\")","v":"0"},{"$f":"IF('Aonad 9'!$C$7=$D$60,COUNTIF('Aonad 9'!$C:$C,$D9),\"0\")","v":"0"},{"$f":"IF('Aonad 10'!$C$7=$D$60,COUNTIF('Aonad 10'!$C:$C,$D9),\"0\")","v":"0"},{"$f":"IF('Aonad 11'!$C$7=$D$60,COUNTIF('Aonad 11'!$C:$C,$D9),\"0\")","v":"0"},{"$f":"IF('Aonad 12'!$C$7=$D$60,COUNTIF('Aonad 12'!$C:$C,$D9),\"0\")","v":"0"},{"$f":"IF('Aonad 13'!$C$7=$D$60,COUNTIF('Aonad 13'!$C:$C,$D9),\"0\")","v":"0"},{"$f":"IF('Aonad 14'!$C$7=$D$60,COUNTIF('Aonad 14'!$C:$C,$D9),\"0\")","v":"0"},{"$f":"IF('Aonad 15'!$C$7=$D$60,COUNTIF('Aonad 15'!$C:$C,$D9),\"0\")","v":"0"},{"$f":"IF('Aonad 16'!$C$7=$D$60,COUNTIF('Aonad 16'!$C:$C,$D9),\"0\")","v":"0"},{"$f":"IF('Aonad 17'!$C$7=$D$60,COUNTIF('Aonad 17'!$C:$C,$D9),\"0\")","v":"0"},{"$f":"IF('Aonad 18'!$C$7=$D$60,COUNTIF('Aonad 18'!$C:$C,$D9),\"0\")","v":"0"},{"$f":"IF('Aonad 19'!$C$7=$D$60,COUNTIF('Aonad 19'!$C:$C,$D9),\"0\")","v":"0"},{"$f":"IF('Aonad 20'!$C$7=$D$60,COUNTIF('Aonad 20'!$C:$C,$D9),\"0\")","v":"0"},{"$f":"IF('Aonad 21'!$C$7=$D$60,COUNTIF('Aonad 21'!$C:$C,$D9),\"0\")","v":"0"},{"$f":"IF('Aonad 22'!$C$7=$D$60,COUNTIF('Aonad 22'!$C:$C,$D9),\"0\")","v":"0"},{"$f":"IF('Aonad 23'!$C$7=$D$60,COUNTIF('Aonad 23'!$C:$C,$D9),\"0\")","v":"0"},{"$f":"IF('Aonad 24'!$C$7=$D$60,COUNTIF('Aonad 24'!$C:$C,$D9),\"0\")","v":"0"},{"$f":"IF('Aonad 25'!$C$7=$D$60,COUNTIF('Aonad 25'!$C:$C,$D9),\"0\")","v":"0"},{"$f":"IF('Aonad 26'!$C$7=$D$60,COUNTIF('Aonad 26'!$C:$C,$D9),\"0\")","v":"0"},{"$f":"IF('Aonad 27'!$C$7=$D$60,COUNTIF('Aonad 27'!$C:$C,$D9),\"0\")","v":"0"},{"$f":"IF('Aonad 28'!$C$7=$D$60,COUNTIF('Aonad 28'!$C:$C,$D9),\"0\")","v":"0"},{"$f":"IF('Aonad 29'!$C$7=$D$60,COUNTIF('Aonad 29'!$C:$C,$D9),\"0\")","v":"0"},{"$f":"IF('Aonad 30'!$C$7=$D$60,COUNTIF('Aonad 30'!$C:$C,$D9),\"0\")","v":"0"},{"$f":"IF('Aonad 31'!$C$7=$D$60,COUNTIF('Aonad 31'!$C:$C,$D9),\"0\")","v":"0"},{"$f":"IF('Aonad 32'!$C$7=$D$60,COUNTIF('Aonad 32'!$C:$C,$D9),\"0\")","v":"0"},{"$f":"IF('Aonad 33'!$C$7=$D$60,COUNTIF('Aonad 33'!$C:$C,$D9),\"0\")","v":"0"},{"$f":"IF('Aonad 34'!$C$7=$D$60,COUNTIF('Aonad 34'!$C:$C,$D9),\"0\")","v":"0"},{"$f":"IF('Aonad 35'!$C$7=$D$60,COUNTIF('Aonad 35'!$C:$C,$D9),\"0\")","v":"0"},{"$f":"IF('Aonad 36'!$C$7=$D$60,COUNTIF('Aonad 36'!$C:$C,$D9),\"0\")","v":"0"},{"$f":"IF('Aonad 37'!$C$7=$D$60,COUNTIF('Aonad 37'!$C:$C,$D9),\"0\")","v":"0"},{"$f":"IF('Aonad 38'!$C$7=$D$60,COUNTIF('Aonad 38'!$C:$C,$D9),\"0\")","v":"0"},{"$f":"SUM(DV9:FG9)","v":0}]
[null,null,"1.3","1.3 smaointe a bheachtú ach úsáid a bhaint as an bhfréamhshamhaltú","Beachtaigh: mionathruithe chun feabhais nó ar mhaithe le soiléiriú a dhéanamh",{"$f":"COUNTIF('Aonad 1'!$C:$C,$D10)","v":0},{"$f":"COUNTIF('Aonad 2'!$C:$C,$D10)","v":0},{"$f":"COUNTIF('Aonad 3'!$C:$C,$D10)","v":0},{"$f":"COUNTIF('Aonad 4'!$C:$C,$D10)","v":0},{"$f":"COUNTIF('Aonad 5'!$C:$C,$D10)","v":0},{"$f":"COUNTIF('Aonad 6'!$C:$C,$D10)","v":0},{"$f":"COUNTIF('Aonad 7'!$C:$C,$D10)","v":0},{"$f":"COUNTIF('Aonad 8'!$C:$C,$D10)","v":0},{"$f":"COUNTIF('Aonad 9'!$C:$C,$D10)","v":0},{"$f":"COUNTIF('Aonad 10'!$C:$C,$D10)","v":0},{"$f":"COUNTIF('Aonad 11'!$C:$C,$D10)","v":0},{"$f":"COUNTIF('Aonad 12'!$C:$C,$D10)","v":0},{"$f":"COUNTIF('Aonad 13'!$C:$C,$D10)","v":0},{"$f":"COUNTIF('Aonad 14'!$C:$C,$D10)","v":0},{"$f":"COUNTIF('Aonad 15'!$C:$C,$D10)","v":0},{"$f":"COUNTIF('Aonad 16'!$C:$C,$D10)","v":0},{"$f":"COUNTIF('Aonad 17'!$C:$C,$D10)","v":0},{"$f":"COUNTIF('Aonad 18'!$C:$C,$D10)","v":0},{"$f":"COUNTIF('Aonad 19'!$C:$C,$D10)","v":0},{"$f":"COUNTIF('Aonad 20'!$C:$C,$D10)","v":0},{"$f":"COUNTIF('Aonad 21'!$C:$C,$D10)","v":0},{"$f":"COUNTIF('Aonad 22'!$C:$C,$D10)","v":0},{"$f":"COUNTIF('Aonad 23'!$C:$C,$D10)","v":0},{"$f":"COUNTIF('Aonad 24'!$C:$C,$D10)","v":0},{"$f":"COUNTIF('Aonad 25'!$C:$C,$D10)","v":0},{"$f":"COUNTIF('Aonad 26'!$C:$C,$D10)","v":0},{"$f":"COUNTIF('Aonad 27'!$C:$C,$D10)","v":0},{"$f":"COUNTIF('Aonad 28'!$C:$C,$D10)","v":0},{"$f":"COUNTIF('Aonad 29'!$C:$C,$D10)","v":0},{"$f":"COUNTIF('Aonad 30'!$C:$C,$D10)","v":0},{"$f":"COUNTIF('Aonad 31'!$C:$C,$D10)","v":0},{"$f":"COUNTIF('Aonad 32'!$C:$C,$D10)","v":0},{"$f":"COUNTIF('Aonad 33'!$C:$C,$D10)","v":0},{"$f":"COUNTIF('Aonad 34'!$C:$C,$D10)","v":0},{"$f":"COUNTIF('Aonad 35'!$C:$C,$D10)","v":0},{"$f":"COUNTIF('Aonad 36'!$C:$C,$D10)","v":0},{"$f":"COUNTIF('Aonad 37'!$C:$C,$D10)","v":0},{"$f":"COUNTIF('Aonad 38'!$C:$C,$D10)","v":0},0,null,{"$f":"IF('Aonad 1'!$C$7=$D$58,COUNTIF('Aonad 1'!$C:$C,$D10),\"0\")","v":"0"},{"$f":"IF('Aonad 2'!$C$7=$D$58,COUNTIF('Aonad 2'!$C:$C,$D10),\"0\")","v":"0"},{"$f":"IF('Aonad 3'!$C$7=$D$58,COUNTIF('Aonad 3'!$C:$C,$D10),\"0\")","v":"0"},{"$f":"IF('Aonad 4'!$C$7=$D$58,COUNTIF('Aonad 4'!$C:$C,$D10),\"0\")","v":"0"},{"$f":"IF('Aonad 5'!$C$7=$D$58,COUNTIF('Aonad 5'!$C:$C,$D10),\"0\")","v":"0"},{"$f":"IF('Aonad 6'!$C$7=$D$58,COUNTIF('Aonad 6'!$C:$C,$D10),\"0\")","v":"0"},{"$f":"IF('Aonad 7'!$C$7=$D$58,COUNTIF('Aonad 7'!$C:$C,$D10),\"0\")","v":"0"},{"$f":"IF('Aonad 8'!$C$7=$D$58,COUNTIF('Aonad 8'!$C:$C,$D10),\"0\")","v":"0"},{"$f":"IF('Aonad 9'!$C$7=$D$58,COUNTIF('Aonad 9'!$C:$C,$D10),\"0\")","v":"0"},{"$f":"IF('Aonad 10'!$C$7=$D$58,COUNTIF('Aonad 10'!$C:$C,$D10),\"0\")","v":"0"},{"$f":"IF('Aonad 11'!$C$7=$D$58,COUNTIF('Aonad 11'!$C:$C,$D10),\"0\")","v":"0"},{"$f":"IF('Aonad 12'!$C$7=$D$58,COUNTIF('Aonad 12'!$C:$C,$D10),\"0\")","v":"0"},{"$f":"IF('Aonad 13'!$C$7=$D$58,COUNTIF('Aonad 13'!$C:$C,$D10),\"0\")","v":"0"},{"$f":"IF('Aonad 14'!$C$7=$D$58,COUNTIF('Aonad 14'!$C:$C,$D10),\"0\")","v":"0"},{"$f":"IF('Aonad 15'!$C$7=$D$58,COUNTIF('Aonad 15'!$C:$C,$D10),\"0\")","v":"0"},{"$f":"IF('Aonad 16'!$C$7=$D$58,COUNTIF('Aonad 16'!$C:$C,$D10),\"0\")","v":"0"},{"$f":"IF('Aonad 17'!$C$7=$D$58,COUNTIF('Aonad 17'!$C:$C,$D10),\"0\")","v":"0"},{"$f":"IF('Aonad 18'!$C$7=$D$58,COUNTIF('Aonad 18'!$C:$C,$D10),\"0\")","v":"0"},{"$f":"IF('Aonad 19'!$C$7=$D$58,COUNTIF('Aonad 19'!$C:$C,$D10),\"0\")","v":"0"},{"$f":"IF('Aonad 20'!$C$7=$D$58,COUNTIF('Aonad 20'!$C:$C,$D10),\"0\")","v":"0"},{"$f":"IF('Aonad 21'!$C$7=$D$58,COUNTIF('Aonad 21'!$C:$C,$D10),\"0\")","v":"0"},{"$f":"IF('Aonad 22'!$C$7=$D$58,COUNTIF('Aonad 22'!$C:$C,$D10),\"0\")","v":"0"},{"$f":"IF('Aonad 23'!$C$7=$D$58,COUNTIF('Aonad 23'!$C:$C,$D10),\"0\")","v":"0"},{"$f":"IF('Aonad 24'!$C$7=$D$58,COUNTIF('Aonad 24'!$C:$C,$D10),\"0\")","v":"0"},{"$f":"IF('Aonad 25'!$C$7=$D$58,COUNTIF('Aonad 25'!$C:$C,$D10),\"0\")","v":"0"},{"$f":"IF('Aonad 26'!$C$7=$D$58,COUNTIF('Aonad 26'!$C:$C,$D10),\"0\")","v":"0"},{"$f":"IF('Aonad 27'!$C$7=$D$58,COUNTIF('Aonad 27'!$C:$C,$D10),\"0\")","v":"0"},{"$f":"IF('Aonad 28'!$C$7=$D$58,COUNTIF('Aonad 28'!$C:$C,$D10),\"0\")","v":"0"},{"$f":"IF('Aonad 29'!$C$7=$D$58,COUNTIF('Aonad 29'!$C:$C,$D10),\"0\")","v":"0"},{"$f":"IF('Aonad 30'!$C$7=$D$58,COUNTIF('Aonad 30'!$C:$C,$D10),\"0\")","v":"0"},{"$f":"IF('Aonad 31'!$C$7=$D$58,COUNTIF('Aonad 31'!$C:$C,$D10),\"0\")","v":"0"},{"$f":"IF('Aonad 32'!$C$7=$D$58,COUNTIF('Aonad 32'!$C:$C,$D10),\"0\")","v":"0"},{"$f":"IF('Aonad 33'!$C$7=$D$58,COUNTIF('Aonad 33'!$C:$C,$D10),\"0\")","v":"0"},{"$f":"IF('Aonad 34'!$C$7=$D$58,COUNTIF('Aonad 34'!$C:$C,$D10),\"0\")","v":"0"},{"$f":"IF('Aonad 35'!$C$7=$D$58,COUNTIF('Aonad 35'!$C:$C,$D10),\"0\")","v":"0"},{"$f":"IF('Aonad 36'!$C$7=$D$58,COUNTIF('Aonad 36'!$C:$C,$D10),\"0\")","v":"0"},{"$f":"IF('Aonad 37'!$C$7=$D$58,COUNTIF('Aonad 37'!$C:$C,$D10),\"0\")","v":"0"},{"$f":"IF('Aonad 38'!$C$7=$D$58,COUNTIF('Aonad 38'!$C:$C,$D10),\"0\")","v":"0"},0,null,{"$f":"IF('Aonad 1'!$C$7=$D$59,COUNTIF('Aonad 1'!$C:$C,$D10),\"0\")","v":"0"},{"$f":"IF('Aonad 2'!$C$7=$D$59,COUNTIF('Aonad 2'!$C:$C,$D10),\"0\")","v":"0"},{"$f":"IF('Aonad 3'!$C$7=$D$59,COUNTIF('Aonad 3'!$C:$C,$D10),\"0\")","v":"0"},{"$f":"IF('Aonad 4'!$C$7=$D$59,COUNTIF('Aonad 4'!$C:$C,$D10),\"0\")","v":"0"},{"$f":"IF('Aonad 5'!$C$7=$D$59,COUNTIF('Aonad 5'!$C:$C,$D10),\"0\")","v":"0"},{"$f":"IF('Aonad 6'!$C$7=$D$59,COUNTIF('Aonad 6'!$C:$C,$D10),\"0\")","v":"0"},{"$f":"IF('Aonad 7'!$C$7=$D$59,COUNTIF('Aonad 7'!$C:$C,$D10),\"0\")","v":"0"},{"$f":"IF('Aonad 8'!$C$7=$D$59,COUNTIF('Aonad 8'!$C:$C,$D10),\"0\")","v":"0"},{"$f":"IF('Aonad 9'!$C$7=$D$59,COUNTIF('Aonad 9'!$C:$C,$D10),\"0\")","v":"0"},{"$f":"IF('Aonad 10'!$C$7=$D$59,COUNTIF('Aonad 10'!$C:$C,$D10),\"0\")","v":"0"},{"$f":"IF('Aonad 11'!$C$7=$D$59,COUNTIF('Aonad 11'!$C:$C,$D10),\"0\")","v":"0"},{"$f":"IF('Aonad 12'!$C$7=$D$59,COUNTIF('Aonad 12'!$C:$C,$D10),\"0\")","v":"0"},{"$f":"IF('Aonad 13'!$C$7=$D$59,COUNTIF('Aonad 13'!$C:$C,$D10),\"0\")","v":"0"},{"$f":"IF('Aonad 14'!$C$7=$D$59,COUNTIF('Aonad 14'!$C:$C,$D10),\"0\")","v":"0"},{"$f":"IF('Aonad 15'!$C$7=$D$59,COUNTIF('Aonad 15'!$C:$C,$D10),\"0\")","v":"0"},{"$f":"IF('Aonad 16'!$C$7=$D$59,COUNTIF('Aonad 16'!$C:$C,$D10),\"0\")","v":"0"},{"$f":"IF('Aonad 17'!$C$7=$D$59,COUNTIF('Aonad 17'!$C:$C,$D10),\"0\")","v":"0"},{"$f":"IF('Aonad 18'!$C$7=$D$59,COUNTIF('Aonad 18'!$C:$C,$D10),\"0\")","v":"0"},{"$f":"IF('Aonad 19'!$C$7=$D$59,COUNTIF('Aonad 19'!$C:$C,$D10),\"0\")","v":"0"},{"$f":"IF('Aonad 20'!$C$7=$D$59,COUNTIF('Aonad 20'!$C:$C,$D10),\"0\")","v":"0"},{"$f":"IF('Aonad 21'!$C$7=$D$59,COUNTIF('Aonad 21'!$C:$C,$D10),\"0\")","v":"0"},{"$f":"IF('Aonad 22'!$C$7=$D$59,COUNTIF('Aonad 22'!$C:$C,$D10),\"0\")","v":"0"},{"$f":"IF('Aonad 23'!$C$7=$D$59,COUNTIF('Aonad 23'!$C:$C,$D10),\"0\")","v":"0"},{"$f":"IF('Aonad 24'!$C$7=$D$59,COUNTIF('Aonad 24'!$C:$C,$D10),\"0\")","v":"0"},{"$f":"IF('Aonad 25'!$C$7=$D$59,COUNTIF('Aonad 25'!$C:$C,$D10),\"0\")","v":"0"},{"$f":"IF('Aonad 26'!$C$7=$D$59,COUNTIF('Aonad 26'!$C:$C,$D10),\"0\")","v":"0"},{"$f":"IF('Aonad 27'!$C$7=$D$59,COUNTIF('Aonad 27'!$C:$C,$D10),\"0\")","v":"0"},{"$f":"IF('Aonad 28'!$C$7=$D$59,COUNTIF('Aonad 28'!$C:$C,$D10),\"0\")","v":"0"},{"$f":"IF('Aonad 29'!$C$7=$D$59,COUNTIF('Aonad 29'!$C:$C,$D10),\"0\")","v":"0"},{"$f":"IF('Aonad 30'!$C$7=$D$59,COUNTIF('Aonad 30'!$C:$C,$D10),\"0\")","v":"0"},{"$f":"IF('Aonad 31'!$C$7=$D$59,COUNTIF('Aonad 31'!$C:$C,$D10),\"0\")","v":"0"},{"$f":"IF('Aonad 32'!$C$7=$D$59,COUNTIF('Aonad 32'!$C:$C,$D10),\"0\")","v":"0"},{"$f":"IF('Aonad 33'!$C$7=$D$59,COUNTIF('Aonad 33'!$C:$C,$D10),\"0\")","v":"0"},{"$f":"IF('Aonad 34'!$C$7=$D$59,COUNTIF('Aonad 34'!$C:$C,$D10),\"0\")","v":"0"},{"$f":"IF('Aonad 35'!$C$7=$D$59,COUNTIF('Aonad 35'!$C:$C,$D10),\"0\")","v":"0"},{"$f":"IF('Aonad 36'!$C$7=$D$59,COUNTIF('Aonad 36'!$C:$C,$D10),\"0\")","v":"0"},{"$f":"IF('Aonad 37'!$C$7=$D$59,COUNTIF('Aonad 37'!$C:$C,$D10),\"0\")","v":"0"},{"$f":"IF('Aonad 38'!$C$7=$D$59,COUNTIF('Aonad 38'!$C:$C,$D10),\"0\")","v":"0"},0,null,{"$f":"IF('Aonad 1'!$C$7=$D$60,COUNTIF('Aonad 1'!$C:$C,$D10),\"0\")","v":"0"},{"$f":"IF('Aonad 2'!$C$7=$D$60,COUNTIF('Aonad 2'!$C:$C,$D10),\"0\")","v":"0"},{"$f":"IF('Aonad 3'!$C$7=$D$60,COUNTIF('Aonad 3'!$C:$C,$D10),\"0\")","v":"0"},{"$f":"IF('Aonad 4'!$C$7=$D$60,COUNTIF('Aonad 4'!$C:$C,$D10),\"0\")","v":"0"},{"$f":"IF('Aonad 5'!$C$7=$D$60,COUNTIF('Aonad 5'!$C:$C,$D10),\"0\")","v":"0"},{"$f":"IF('Aonad 6'!$C$7=$D$60,COUNTIF('Aonad 6'!$C:$C,$D10),\"0\")","v":"0"},{"$f":"IF('Aonad 7'!$C$7=$D$60,COUNTIF('Aonad 7'!$C:$C,$D10),\"0\")","v":"0"},{"$f":"IF('Aonad 8'!$C$7=$D$60,COUNTIF('Aonad 8'!$C:$C,$D10),\"0\")","v":"0"},{"$f":"IF('Aonad 9'!$C$7=$D$60,COUNTIF('Aonad 9'!$C:$C,$D10),\"0\")","v":"0"},{"$f":"IF('Aonad 10'!$C$7=$D$60,COUNTIF('Aonad 10'!$C:$C,$D10),\"0\")","v":"0"},{"$f":"IF('Aonad 11'!$C$7=$D$60,COUNTIF('Aonad 11'!$C:$C,$D10),\"0\")","v":"0"},{"$f":"IF('Aonad 12'!$C$7=$D$60,COUNTIF('Aonad 12'!$C:$C,$D10),\"0\")","v":"0"},{"$f":"IF('Aonad 13'!$C$7=$D$60,COUNTIF('Aonad 13'!$C:$C,$D10),\"0\")","v":"0"},{"$f":"IF('Aonad 14'!$C$7=$D$60,COUNTIF('Aonad 14'!$C:$C,$D10),\"0\")","v":"0"},{"$f":"IF('Aonad 15'!$C$7=$D$60,COUNTIF('Aonad 15'!$C:$C,$D10),\"0\")","v":"0"},{"$f":"IF('Aonad 16'!$C$7=$D$60,COUNTIF('Aonad 16'!$C:$C,$D10),\"0\")","v":"0"},{"$f":"IF('Aonad 17'!$C$7=$D$60,COUNTIF('Aonad 17'!$C:$C,$D10),\"0\")","v":"0"},{"$f":"IF('Aonad 18'!$C$7=$D$60,COUNTIF('Aonad 18'!$C:$C,$D10),\"0\")","v":"0"},{"$f":"IF('Aonad 19'!$C$7=$D$60,COUNTIF('Aonad 19'!$C:$C,$D10),\"0\")","v":"0"},{"$f":"IF('Aonad 20'!$C$7=$D$60,COUNTIF('Aonad 20'!$C:$C,$D10),\"0\")","v":"0"},{"$f":"IF('Aonad 21'!$C$7=$D$60,COUNTIF('Aonad 21'!$C:$C,$D10),\"0\")","v":"0"},{"$f":"IF('Aonad 22'!$C$7=$D$60,COUNTIF('Aonad 22'!$C:$C,$D10),\"0\")","v":"0"},{"$f":"IF('Aonad 23'!$C$7=$D$60,COUNTIF('Aonad 23'!$C:$C,$D10),\"0\")","v":"0"},{"$f":"IF('Aonad 24'!$C$7=$D$60,COUNTIF('Aonad 24'!$C:$C,$D10),\"0\")","v":"0"},{"$f":"IF('Aonad 25'!$C$7=$D$60,COUNTIF('Aonad 25'!$C:$C,$D10),\"0\")","v":"0"},{"$f":"IF('Aonad 26'!$C$7=$D$60,COUNTIF('Aonad 26'!$C:$C,$D10),\"0\")","v":"0"},{"$f":"IF('Aonad 27'!$C$7=$D$60,COUNTIF('Aonad 27'!$C:$C,$D10),\"0\")","v":"0"},{"$f":"IF('Aonad 28'!$C$7=$D$60,COUNTIF('Aonad 28'!$C:$C,$D10),\"0\")","v":"0"},{"$f":"IF('Aonad 29'!$C$7=$D$60,COUNTIF('Aonad 29'!$C:$C,$D10),\"0\")","v":"0"},{"$f":"IF('Aonad 30'!$C$7=$D$60,COUNTIF('Aonad 30'!$C:$C,$D10),\"0\")","v":"0"},{"$f":"IF('Aonad 31'!$C$7=$D$60,COUNTIF('Aonad 31'!$C:$C,$D10),\"0\")","v":"0"},{"$f":"IF('Aonad 32'!$C$7=$D$60,COUNTIF('Aonad 32'!$C:$C,$D10),\"0\")","v":"0"},{"$f":"IF('Aonad 33'!$C$7=$D$60,COUNTIF('Aonad 33'!$C:$C,$D10),\"0\")","v":"0"},{"$f":"IF('Aonad 34'!$C$7=$D$60,COUNTIF('Aonad 34'!$C:$C,$D10),\"0\")","v":"0"},{"$f":"IF('Aonad 35'!$C$7=$D$60,COUNTIF('Aonad 35'!$C:$C,$D10),\"0\")","v":"0"},{"$f":"IF('Aonad 36'!$C$7=$D$60,COUNTIF('Aonad 36'!$C:$C,$D10),\"0\")","v":"0"},{"$f":"IF('Aonad 37'!$C$7=$D$60,COUNTIF('Aonad 37'!$C:$C,$D10),\"0\")","v":"0"},{"$f":"IF('Aonad 38'!$C$7=$D$60,COUNTIF('Aonad 38'!$C:$C,$D10),\"0\")","v":"0"},0]
[null,null,"1.4","1.4 athbhreithniú a dhéanamh ar chinntí pleanála síos tríd an bpróiseas","Athbhreithnigh: ag féachaint ar ábhar nó ag dul siar ar ábhar d'fhonn é a cheartú, a\nfheabhsú nó a leasú",{"$f":"COUNTIF('Aonad 1'!$C:$C,$D11)","v":0},{"$f":"COUNTIF('Aonad 2'!$C:$C,$D11)","v":0},{"$f":"COUNTIF('Aonad 3'!$C:$C,$D11)","v":0},{"$f":"COUNTIF('Aonad 4'!$C:$C,$D11)","v":0},{"$f":"COUNTIF('Aonad 5'!$C:$C,$D11)","v":0},{"$f":"COUNTIF('Aonad 6'!$C:$C,$D11)","v":0},{"$f":"COUNTIF('Aonad 7'!$C:$C,$D11)","v":0},{"$f":"COUNTIF('Aonad 8'!$C:$C,$D11)","v":0},{"$f":"COUNTIF('Aonad 9'!$C:$C,$D11)","v":0},{"$f":"COUNTIF('Aonad 10'!$C:$C,$D11)","v":0},{"$f":"COUNTIF('Aonad 11'!$C:$C,$D11)","v":0},{"$f":"COUNTIF('Aonad 12'!$C:$C,$D11)","v":0},{"$f":"COUNTIF('Aonad 13'!$C:$C,$D11)","v":0},{"$f":"COUNTIF('Aonad 14'!$C:$C,$D11)","v":0},{"$f":"COUNTIF('Aonad 15'!$C:$C,$D11)","v":0},{"$f":"COUNTIF('Aonad 16'!$C:$C,$D11)","v":0},{"$f":"COUNTIF('Aonad 17'!$C:$C,$D11)","v":0},{"$f":"COUNTIF('Aonad 18'!$C:$C,$D11)","v":0},{"$f":"COUNTIF('Aonad 19'!$C:$C,$D11)","v":0},{"$f":"COUNTIF('Aonad 20'!$C:$C,$D11)","v":0},{"$f":"COUNTIF('Aonad 21'!$C:$C,$D11)","v":0},{"$f":"COUNTIF('Aonad 22'!$C:$C,$D11)","v":0},{"$f":"COUNTIF('Aonad 23'!$C:$C,$D11)","v":0},{"$f":"COUNTIF('Aonad 24'!$C:$C,$D11)","v":0},{"$f":"COUNTIF('Aonad 25'!$C:$C,$D11)","v":0},{"$f":"COUNTIF('Aonad 26'!$C:$C,$D11)","v":0},{"$f":"COUNTIF('Aonad 27'!$C:$C,$D11)","v":0},{"$f":"COUNTIF('Aonad 28'!$C:$C,$D11)","v":0},{"$f":"COUNTIF('Aonad 29'!$C:$C,$D11)","v":0},{"$f":"COUNTIF('Aonad 30'!$C:$C,$D11)","v":0},{"$f":"COUNTIF('Aonad 31'!$C:$C,$D11)","v":0},{"$f":"COUNTIF('Aonad 32'!$C:$C,$D11)","v":0},{"$f":"COUNTIF('Aonad 33'!$C:$C,$D11)","v":0},{"$f":"COUNTIF('Aonad 34'!$C:$C,$D11)","v":0},{"$f":"COUNTIF('Aonad 35'!$C:$C,$D11)","v":0},{"$f":"COUNTIF('Aonad 36'!$C:$C,$D11)","v":0},{"$f":"COUNTIF('Aonad 37'!$C:$C,$D11)","v":0},{"$f":"COUNTIF('Aonad 38'!$C:$C,$D11)","v":0},0,null,{"$f":"IF('Aonad 1'!$C$7=$D$58,COUNTIF('Aonad 1'!$C:$C,$D11),\"0\")","v":"0"},{"$f":"IF('Aonad 2'!$C$7=$D$58,COUNTIF('Aonad 2'!$C:$C,$D11),\"0\")","v":"0"},{"$f":"IF('Aonad 3'!$C$7=$D$58,COUNTIF('Aonad 3'!$C:$C,$D11),\"0\")","v":"0"},{"$f":"IF('Aonad 4'!$C$7=$D$58,COUNTIF('Aonad 4'!$C:$C,$D11),\"0\")","v":"0"},{"$f":"IF('Aonad 5'!$C$7=$D$58,COUNTIF('Aonad 5'!$C:$C,$D11),\"0\")","v":"0"},{"$f":"IF('Aonad 6'!$C$7=$D$58,COUNTIF('Aonad 6'!$C:$C,$D11),\"0\")","v":"0"},{"$f":"IF('Aonad 7'!$C$7=$D$58,COUNTIF('Aonad 7'!$C:$C,$D11),\"0\")","v":"0"},{"$f":"IF('Aonad 8'!$C$7=$D$58,COUNTIF('Aonad 8'!$C:$C,$D11),\"0\")","v":"0"},{"$f":"IF('Aonad 9'!$C$7=$D$58,COUNTIF('Aonad 9'!$C:$C,$D11),\"0\")","v":"0"},{"$f":"IF('Aonad 10'!$C$7=$D$58,COUNTIF('Aonad 10'!$C:$C,$D11),\"0\")","v":"0"},{"$f":"IF('Aonad 11'!$C$7=$D$58,COUNTIF('Aonad 11'!$C:$C,$D11),\"0\")","v":"0"},{"$f":"IF('Aonad 12'!$C$7=$D$58,COUNTIF('Aonad 12'!$C:$C,$D11),\"0\")","v":"0"},{"$f":"IF('Aonad 13'!$C$7=$D$58,COUNTIF('Aonad 13'!$C:$C,$D11),\"0\")","v":"0"},{"$f":"IF('Aonad 14'!$C$7=$D$58,COUNTIF('Aonad 14'!$C:$C,$D11),\"0\")","v":"0"},{"$f":"IF('Aonad 15'!$C$7=$D$58,COUNTIF('Aonad 15'!$C:$C,$D11),\"0\")","v":"0"},{"$f":"IF('Aonad 16'!$C$7=$D$58,COUNTIF('Aonad 16'!$C:$C,$D11),\"0\")","v":"0"},{"$f":"IF('Aonad 17'!$C$7=$D$58,COUNTIF('Aonad 17'!$C:$C,$D11),\"0\")","v":"0"},{"$f":"IF('Aonad 18'!$C$7=$D$58,COUNTIF('Aonad 18'!$C:$C,$D11),\"0\")","v":"0"},{"$f":"IF('Aonad 19'!$C$7=$D$58,COUNTIF('Aonad 19'!$C:$C,$D11),\"0\")","v":"0"},{"$f":"IF('Aonad 20'!$C$7=$D$58,COUNTIF('Aonad 20'!$C:$C,$D11),\"0\")","v":"0"},{"$f":"IF('Aonad 21'!$C$7=$D$58,COUNTIF('Aonad 21'!$C:$C,$D11),\"0\")","v":"0"},{"$f":"IF('Aonad 22'!$C$7=$D$58,COUNTIF('Aonad 22'!$C:$C,$D11),\"0\")","v":"0"},{"$f":"IF('Aonad 23'!$C$7=$D$58,COUNTIF('Aonad 23'!$C:$C,$D11),\"0\")","v":"0"},{"$f":"IF('Aonad 24'!$C$7=$D$58,COUNTIF('Aonad 24'!$C:$C,$D11),\"0\")","v":"0"},{"$f":"IF('Aonad 25'!$C$7=$D$58,COUNTIF('Aonad 25'!$C:$C,$D11),\"0\")","v":"0"},{"$f":"IF('Aonad 26'!$C$7=$D$58,COUNTIF('Aonad 26'!$C:$C,$D11),\"0\")","v":"0"},{"$f":"IF('Aonad 27'!$C$7=$D$58,COUNTIF('Aonad 27'!$C:$C,$D11),\"0\")","v":"0"},{"$f":"IF('Aonad 28'!$C$7=$D$58,COUNTIF('Aonad 28'!$C:$C,$D11),\"0\")","v":"0"},{"$f":"IF('Aonad 29'!$C$7=$D$58,COUNTIF('Aonad 29'!$C:$C,$D11),\"0\")","v":"0"},{"$f":"IF('Aonad 30'!$C$7=$D$58,COUNTIF('Aonad 30'!$C:$C,$D11),\"0\")","v":"0"},{"$f":"IF('Aonad 31'!$C$7=$D$58,COUNTIF('Aonad 31'!$C:$C,$D11),\"0\")","v":"0"},{"$f":"IF('Aonad 32'!$C$7=$D$58,COUNTIF('Aonad 32'!$C:$C,$D11),\"0\")","v":"0"},{"$f":"IF('Aonad 33'!$C$7=$D$58,COUNTIF('Aonad 33'!$C:$C,$D11),\"0\")","v":"0"},{"$f":"IF('Aonad 34'!$C$7=$D$58,COUNTIF('Aonad 34'!$C:$C,$D11),\"0\")","v":"0"},{"$f":"IF('Aonad 35'!$C$7=$D$58,COUNTIF('Aonad 35'!$C:$C,$D11),\"0\")","v":"0"},{"$f":"IF('Aonad 36'!$C$7=$D$58,COUNTIF('Aonad 36'!$C:$C,$D11),\"0\")","v":"0"},{"$f":"IF('Aonad 37'!$C$7=$D$58,COUNTIF('Aonad 37'!$C:$C,$D11),\"0\")","v":"0"},{"$f":"IF('Aonad 38'!$C$7=$D$58,COUNTIF('Aonad 38'!$C:$C,$D11),\"0\")","v":"0"},0,null,{"$f":"IF('Aonad 1'!$C$7=$D$59,COUNTIF('Aonad 1'!$C:$C,$D11),\"0\")","v":"0"},{"$f":"IF('Aonad 2'!$C$7=$D$59,COUNTIF('Aonad 2'!$C:$C,$D11),\"0\")","v":"0"},{"$f":"IF('Aonad 3'!$C$7=$D$59,COUNTIF('Aonad 3'!$C:$C,$D11),\"0\")","v":"0"},{"$f":"IF('Aonad 4'!$C$7=$D$59,COUNTIF('Aonad 4'!$C:$C,$D11),\"0\")","v":"0"},{"$f":"IF('Aonad 5'!$C$7=$D$59,COUNTIF('Aonad 5'!$C:$C,$D11),\"0\")","v":"0"},{"$f":"IF('Aonad 6'!$C$7=$D$59,COUNTIF('Aonad 6'!$C:$C,$D11),\"0\")","v":"0"},{"$f":"IF('Aonad 7'!$C$7=$D$59,COUNTIF('Aonad 7'!$C:$C,$D11),\"0\")","v":"0"},{"$f":"IF('Aonad 8'!$C$7=$D$59,COUNTIF('Aonad 8'!$C:$C,$D11),\"0\")","v":"0"},{"$f":"IF('Aonad 9'!$C$7=$D$59,COUNTIF('Aonad 9'!$C:$C,$D11),\"0\")","v":"0"},{"$f":"IF('Aonad 10'!$C$7=$D$59,COUNTIF('Aonad 10'!$C:$C,$D11),\"0\")","v":"0"},{"$f":"IF('Aonad 11'!$C$7=$D$59,COUNTIF('Aonad 11'!$C:$C,$D11),\"0\")","v":"0"},{"$f":"IF('Aonad 12'!$C$7=$D$59,COUNTIF('Aonad 12'!$C:$C,$D11),\"0\")","v":"0"},{"$f":"IF('Aonad 13'!$C$7=$D$59,COUNTIF('Aonad 13'!$C:$C,$D11),\"0\")","v":"0"},{"$f":"IF('Aonad 14'!$C$7=$D$59,COUNTIF('Aonad 14'!$C:$C,$D11),\"0\")","v":"0"},{"$f":"IF('Aonad 15'!$C$7=$D$59,COUNTIF('Aonad 15'!$C:$C,$D11),\"0\")","v":"0"},{"$f":"IF('Aonad 16'!$C$7=$D$59,COUNTIF('Aonad 16'!$C:$C,$D11),\"0\")","v":"0"},{"$f":"IF('Aonad 17'!$C$7=$D$59,COUNTIF('Aonad 17'!$C:$C,$D11),\"0\")","v":"0"},{"$f":"IF('Aonad 18'!$C$7=$D$59,COUNTIF('Aonad 18'!$C:$C,$D11),\"0\")","v":"0"},{"$f":"IF('Aonad 19'!$C$7=$D$59,COUNTIF('Aonad 19'!$C:$C,$D11),\"0\")","v":"0"},{"$f":"IF('Aonad 20'!$C$7=$D$59,COUNTIF('Aonad 20'!$C:$C,$D11),\"0\")","v":"0"},{"$f":"IF('Aonad 21'!$C$7=$D$59,COUNTIF('Aonad 21'!$C:$C,$D11),\"0\")","v":"0"},{"$f":"IF('Aonad 22'!$C$7=$D$59,COUNTIF('Aonad 22'!$C:$C,$D11),\"0\")","v":"0"},{"$f":"IF('Aonad 23'!$C$7=$D$59,COUNTIF('Aonad 23'!$C:$C,$D11),\"0\")","v":"0"},{"$f":"IF('Aonad 24'!$C$7=$D$59,COUNTIF('Aonad 24'!$C:$C,$D11),\"0\")","v":"0"},{"$f":"IF('Aonad 25'!$C$7=$D$59,COUNTIF('Aonad 25'!$C:$C,$D11),\"0\")","v":"0"},{"$f":"IF('Aonad 26'!$C$7=$D$59,COUNTIF('Aonad 26'!$C:$C,$D11),\"0\")","v":"0"},{"$f":"IF('Aonad 27'!$C$7=$D$59,COUNTIF('Aonad 27'!$C:$C,$D11),\"0\")","v":"0"},{"$f":"IF('Aonad 28'!$C$7=$D$59,COUNTIF('Aonad 28'!$C:$C,$D11),\"0\")","v":"0"},{"$f":"IF('Aonad 29'!$C$7=$D$59,COUNTIF('Aonad 29'!$C:$C,$D11),\"0\")","v":"0"},{"$f":"IF('Aonad 30'!$C$7=$D$59,COUNTIF('Aonad 30'!$C:$C,$D11),\"0\")","v":"0"},{"$f":"IF('Aonad 31'!$C$7=$D$59,COUNTIF('Aonad 31'!$C:$C,$D11),\"0\")","v":"0"},{"$f":"IF('Aonad 32'!$C$7=$D$59,COUNTIF('Aonad 32'!$C:$C,$D11),\"0\")","v":"0"},{"$f":"IF('Aonad 33'!$C$7=$D$59,COUNTIF('Aonad 33'!$C:$C,$D11),\"0\")","v":"0"},{"$f":"IF('Aonad 34'!$C$7=$D$59,COUNTIF('Aonad 34'!$C:$C,$D11),\"0\")","v":"0"},{"$f":"IF('Aonad 35'!$C$7=$D$59,COUNTIF('Aonad 35'!$C:$C,$D11),\"0\")","v":"0"},{"$f":"IF('Aonad 36'!$C$7=$D$59,COUNTIF('Aonad 36'!$C:$C,$D11),\"0\")","v":"0"},{"$f":"IF('Aonad 37'!$C$7=$D$59,COUNTIF('Aonad 37'!$C:$C,$D11),\"0\")","v":"0"},{"$f":"IF('Aonad 38'!$C$7=$D$59,COUNTIF('Aonad 38'!$C:$C,$D11),\"0\")","v":"0"},0,null,{"$f":"IF('Aonad 1'!$C$7=$D$60,COUNTIF('Aonad 1'!$C:$C,$D11),\"0\")","v":"0"},{"$f":"IF('Aonad 2'!$C$7=$D$60,COUNTIF('Aonad 2'!$C:$C,$D11),\"0\")","v":"0"},{"$f":"IF('Aonad 3'!$C$7=$D$60,COUNTIF('Aonad 3'!$C:$C,$D11),\"0\")","v":"0"},{"$f":"IF('Aonad 4'!$C$7=$D$60,COUNTIF('Aonad 4'!$C:$C,$D11),\"0\")","v":"0"},{"$f":"IF('Aonad 5'!$C$7=$D$60,COUNTIF('Aonad 5'!$C:$C,$D11),\"0\")","v":"0"},{"$f":"IF('Aonad 6'!$C$7=$D$60,COUNTIF('Aonad 6'!$C:$C,$D11),\"0\")","v":"0"},{"$f":"IF('Aonad 7'!$C$7=$D$60,COUNTIF('Aonad 7'!$C:$C,$D11),\"0\")","v":"0"},{"$f":"IF('Aonad 8'!$C$7=$D$60,COUNTIF('Aonad 8'!$C:$C,$D11),\"0\")","v":"0"},{"$f":"IF('Aonad 9'!$C$7=$D$60,COUNTIF('Aonad 9'!$C:$C,$D11),\"0\")","v":"0"},{"$f":"IF('Aonad 10'!$C$7=$D$60,COUNTIF('Aonad 10'!$C:$C,$D11),\"0\")","v":"0"},{"$f":"IF('Aonad 11'!$C$7=$D$60,COUNTIF('Aonad 11'!$C:$C,$D11),\"0\")","v":"0"},{"$f":"IF('Aonad 12'!$C$7=$D$60,COUNTIF('Aonad 12'!$C:$C,$D11),\"0\")","v":"0"},{"$f":"IF('Aonad 13'!$C$7=$D$60,COUNTIF('Aonad 13'!$C:$C,$D11),\"0\")","v":"0"},{"$f":"IF('Aonad 14'!$C$7=$D$60,COUNTIF('Aonad 14'!$C:$C,$D11),\"0\")","v":"0"},{"$f":"IF('Aonad 15'!$C$7=$D$60,COUNTIF('Aonad 15'!$C:$C,$D11),\"0\")","v":"0"},{"$f":"IF('Aonad 16'!$C$7=$D$60,COUNTIF('Aonad 16'!$C:$C,$D11),\"0\")","v":"0"},{"$f":"IF('Aonad 17'!$C$7=$D$60,COUNTIF('Aonad 17'!$C:$C,$D11),\"0\")","v":"0"},{"$f":"IF('Aonad 18'!$C$7=$D$60,COUNTIF('Aonad 18'!$C:$C,$D11),\"0\")","v":"0"},{"$f":"IF('Aonad 19'!$C$7=$D$60,COUNTIF('Aonad 19'!$C:$C,$D11),\"0\")","v":"0"},{"$f":"IF('Aonad 20'!$C$7=$D$60,COUNTIF('Aonad 20'!$C:$C,$D11),\"0\")","v":"0"},{"$f":"IF('Aonad 21'!$C$7=$D$60,COUNTIF('Aonad 21'!$C:$C,$D11),\"0\")","v":"0"},{"$f":"IF('Aonad 22'!$C$7=$D$60,COUNTIF('Aonad 22'!$C:$C,$D11),\"0\")","v":"0"},{"$f":"IF('Aonad 23'!$C$7=$D$60,COUNTIF('Aonad 23'!$C:$C,$D11),\"0\")","v":"0"},{"$f":"IF('Aonad 24'!$C$7=$D$60,COUNTIF('Aonad 24'!$C:$C,$D11),\"0\")","v":"0"},{"$f":"IF('Aonad 25'!$C$7=$D$60,COUNTIF('Aonad 25'!$C:$C,$D11),\"0\")","v":"0"},{"$f":"IF('Aonad 26'!$C$7=$D$60,COUNTIF('Aonad 26'!$C:$C,$D11),\"0\")","v":"0"},{"$f":"IF('Aonad 27'!$C$7=$D$60,COUNTIF('Aonad 27'!$C:$C,$D11),\"0\")","v":"0"},{"$f":"IF('Aonad 28'!$C$7=$D$60,COUNTIF('Aonad 28'!$C:$C,$D11),\"0\")","v":"0"},{"$f":"IF('Aonad 29'!$C$7=$D$60,COUNTIF('Aonad 29'!$C:$C,$D11),\"0\")","v":"0"},{"$f":"IF('Aonad 30'!$C$7=$D$60,COUNTIF('Aonad 30'!$C:$C,$D11),\"0\")","v":"0"},{"$f":"IF('Aonad 31'!$C$7=$D$60,COUNTIF('Aonad 31'!$C:$C,$D11),\"0\")","v":"0"},{"$f":"IF('Aonad 32'!$C$7=$D$60,COUNTIF('Aonad 32'!$C:$C,$D11),\"0\")","v":"0"},{"$f":"IF('Aonad 33'!$C$7=$D$60,COUNTIF('Aonad 33'!$C:$C,$D11),\"0\")","v":"0"},{"$f":"IF('Aonad 34'!$C$7=$D$60,COUNTIF('Aonad 34'!$C:$C,$D11),\"0\")","v":"0"},{"$f":"IF('Aonad 35'!$C$7=$D$60,COUNTIF('Aonad 35'!$C:$C,$D11),\"0\")","v":"0"},{"$f":"IF('Aonad 36'!$C$7=$D$60,COUNTIF('Aonad 36'!$C:$C,$D11),\"0\")","v":"0"},{"$f":"IF('Aonad 37'!$C$7=$D$60,COUNTIF('Aonad 37'!$C:$C,$D11),\"0\")","v":"0"},{"$f":"IF('Aonad 38'!$C$7=$D$60,COUNTIF('Aonad 38'!$C:$C,$D11),\"0\")","v":"0"},0]
[null,"Dearadh agus nuálaíocht","1.5","1.5 machnamh a dhéanamh ar eispéireas an úsáideora deiridh ag gach céim den phróiseas deartha","Machnaigh ar: cuimhneamh go cúramach faoi rud éigin, sular ndéanfar cinneadh faoi go hiondúil",{"$f":"COUNTIF('Aonad 1'!$C:$C,$D12)","v":0},{"$f":"COUNTIF('Aonad 2'!$C:$C,$D12)","v":0},{"$f":"COUNTIF('Aonad 3'!$C:$C,$D12)","v":0},{"$f":"COUNTIF('Aonad 4'!$C:$C,$D12)","v":0},{"$f":"COUNTIF('Aonad 5'!$C:$C,$D12)","v":0},{"$f":"COUNTIF('Aonad 6'!$C:$C,$D12)","v":0},{"$f":"COUNTIF('Aonad 7'!$C:$C,$D12)","v":0},{"$f":"COUNTIF('Aonad 8'!$C:$C,$D12)","v":0},{"$f":"COUNTIF('Aonad 9'!$C:$C,$D12)","v":0},{"$f":"COUNTIF('Aonad 10'!$C:$C,$D12)","v":0},{"$f":"COUNTIF('Aonad 11'!$C:$C,$D12)","v":0},{"$f":"COUNTIF('Aonad 12'!$C:$C,$D12)","v":0},{"$f":"COUNTIF('Aonad 13'!$C:$C,$D12)","v":0},{"$f":"COUNTIF('Aonad 14'!$C:$C,$D12)","v":0},{"$f":"COUNTIF('Aonad 15'!$C:$C,$D12)","v":0},{"$f":"COUNTIF('Aonad 16'!$C:$C,$D12)","v":0},{"$f":"COUNTIF('Aonad 17'!$C:$C,$D12)","v":0},{"$f":"COUNTIF('Aonad 18'!$C:$C,$D12)","v":0},{"$f":"COUNTIF('Aonad 19'!$C:$C,$D12)","v":0},{"$f":"COUNTIF('Aonad 20'!$C:$C,$D12)","v":0},{"$f":"COUNTIF('Aonad 21'!$C:$C,$D12)","v":0},{"$f":"COUNTIF('Aonad 22'!$C:$C,$D12)","v":0},{"$f":"COUNTIF('Aonad 23'!$C:$C,$D12)","v":0},{"$f":"COUNTIF('Aonad 24'!$C:$C,$D12)","v":0},{"$f":"COUNTIF('Aonad 25'!$C:$C,$D12)","v":0},{"$f":"COUNTIF('Aonad 26'!$C:$C,$D12)","v":0},{"$f":"COUNTIF('Aonad 27'!$C:$C,$D12)","v":0},{"$f":"COUNTIF('Aonad 28'!$C:$C,$D12)","v":0},{"$f":"COUNTIF('Aonad 29'!$C:$C,$D12)","v":0},{"$f":"COUNTIF('Aonad 30'!$C:$C,$D12)","v":0},{"$f":"COUNTIF('Aonad 31'!$C:$C,$D12)","v":0},{"$f":"COUNTIF('Aonad 32'!$C:$C,$D12)","v":0},{"$f":"COUNTIF('Aonad 33'!$C:$C,$D12)","v":0},{"$f":"COUNTIF('Aonad 34'!$C:$C,$D12)","v":0},{"$f":"COUNTIF('Aonad 35'!$C:$C,$D12)","v":0},{"$f":"COUNTIF('Aonad 36'!$C:$C,$D12)","v":0},{"$f":"COUNTIF('Aonad 37'!$C:$C,$D12)","v":0},{"$f":"COUNTIF('Aonad 38'!$C:$C,$D12)","v":0},0,null,{"$f":"IF('Aonad 1'!$C$7=$D$58,COUNTIF('Aonad 1'!$C:$C,$D12),\"0\")","v":"0"},{"$f":"IF('Aonad 2'!$C$7=$D$58,COUNTIF('Aonad 2'!$C:$C,$D12),\"0\")","v":"0"},{"$f":"IF('Aonad 3'!$C$7=$D$58,COUNTIF('Aonad 3'!$C:$C,$D12),\"0\")","v":"0"},{"$f":"IF('Aonad 4'!$C$7=$D$58,COUNTIF('Aonad 4'!$C:$C,$D12),\"0\")","v":"0"},{"$f":"IF('Aonad 5'!$C$7=$D$58,COUNTIF('Aonad 5'!$C:$C,$D12),\"0\")","v":"0"},{"$f":"IF('Aonad 6'!$C$7=$D$58,COUNTIF('Aonad 6'!$C:$C,$D12),\"0\")","v":"0"},{"$f":"IF('Aonad 7'!$C$7=$D$58,COUNTIF('Aonad 7'!$C:$C,$D12),\"0\")","v":"0"},{"$f":"IF('Aonad 8'!$C$7=$D$58,COUNTIF('Aonad 8'!$C:$C,$D12),\"0\")","v":"0"},{"$f":"IF('Aonad 9'!$C$7=$D$58,COUNTIF('Aonad 9'!$C:$C,$D12),\"0\")","v":"0"},{"$f":"IF('Aonad 10'!$C$7=$D$58,COUNTIF('Aonad 10'!$C:$C,$D12),\"0\")","v":"0"},{"$f":"IF('Aonad 11'!$C$7=$D$58,COUNTIF('Aonad 11'!$C:$C,$D12),\"0\")","v":"0"},{"$f":"IF('Aonad 12'!$C$7=$D$58,COUNTIF('Aonad 12'!$C:$C,$D12),\"0\")","v":"0"},{"$f":"IF('Aonad 13'!$C$7=$D$58,COUNTIF('Aonad 13'!$C:$C,$D12),\"0\")","v":"0"},{"$f":"IF('Aonad 14'!$C$7=$D$58,COUNTIF('Aonad 14'!$C:$C,$D12),\"0\")","v":"0"},{"$f":"IF('Aonad 15'!$C$7=$D$58,COUNTIF('Aonad 15'!$C:$C,$D12),\"0\")","v":"0"},{"$f":"IF('Aonad 16'!$C$7=$D$58,COUNTIF('Aonad 16'!$C:$C,$D12),\"0\")","v":"0"},{"$f":"IF('Aonad 17'!$C$7=$D$58,COUNTIF('Aonad 17'!$C:$C,$D12),\"0\")","v":"0"},{"$f":"IF('Aonad 18'!$C$7=$D$58,COUNTIF('Aonad 18'!$C:$C,$D12),\"0\")","v":"0"},{"$f":"IF('Aonad 19'!$C$7=$D$58,COUNTIF('Aonad 19'!$C:$C,$D12),\"0\")","v":"0"},{"$f":"IF('Aonad 20'!$C$7=$D$58,COUNTIF('Aonad 20'!$C:$C,$D12),\"0\")","v":"0"},{"$f":"IF('Aonad 21'!$C$7=$D$58,COUNTIF('Aonad 21'!$C:$C,$D12),\"0\")","v":"0"},{"$f":"IF('Aonad 22'!$C$7=$D$58,COUNTIF('Aonad 22'!$C:$C,$D12),\"0\")","v":"0"},{"$f":"IF('Aonad 23'!$C$7=$D$58,COUNTIF('Aonad 23'!$C:$C,$D12),\"0\")","v":"0"},{"$f":"IF('Aonad 24'!$C$7=$D$58,COUNTIF('Aonad 24'!$C:$C,$D12),\"0\")","v":"0"},{"$f":"IF('Aonad 25'!$C$7=$D$58,COUNTIF('Aonad 25'!$C:$C,$D12),\"0\")","v":"0"},{"$f":"IF('Aonad 26'!$C$7=$D$58,COUNTIF('Aonad 26'!$C:$C,$D12),\"0\")","v":"0"},{"$f":"IF('Aonad 27'!$C$7=$D$58,COUNTIF('Aonad 27'!$C:$C,$D12),\"0\")","v":"0"},{"$f":"IF('Aonad 28'!$C$7=$D$58,COUNTIF('Aonad 28'!$C:$C,$D12),\"0\")","v":"0"},{"$f":"IF('Aonad 29'!$C$7=$D$58,COUNTIF('Aonad 29'!$C:$C,$D12),\"0\")","v":"0"},{"$f":"IF('Aonad 30'!$C$7=$D$58,COUNTIF('Aonad 30'!$C:$C,$D12),\"0\")","v":"0"},{"$f":"IF('Aonad 31'!$C$7=$D$58,COUNTIF('Aonad 31'!$C:$C,$D12),\"0\")","v":"0"},{"$f":"IF('Aonad 32'!$C$7=$D$58,COUNTIF('Aonad 32'!$C:$C,$D12),\"0\")","v":"0"},{"$f":"IF('Aonad 33'!$C$7=$D$58,COUNTIF('Aonad 33'!$C:$C,$D12),\"0\")","v":"0"},{"$f":"IF('Aonad 34'!$C$7=$D$58,COUNTIF('Aonad 34'!$C:$C,$D12),\"0\")","v":"0"},{"$f":"IF('Aonad 35'!$C$7=$D$58,COUNTIF('Aonad 35'!$C:$C,$D12),\"0\")","v":"0"},{"$f":"IF('Aonad 36'!$C$7=$D$58,COUNTIF('Aonad 36'!$C:$C,$D12),\"0\")","v":"0"},{"$f":"IF('Aonad 37'!$C$7=$D$58,COUNTIF('Aonad 37'!$C:$C,$D12),\"0\")","v":"0"},{"$f":"IF('Aonad 38'!$C$7=$D$58,COUNTIF('Aonad 38'!$C:$C,$D12),\"0\")","v":"0"},0,null,{"$f":"IF('Aonad 1'!$C$7=$D$59,COUNTIF('Aonad 1'!$C:$C,$D12),\"0\")","v":"0"},{"$f":"IF('Aonad 2'!$C$7=$D$59,COUNTIF('Aonad 2'!$C:$C,$D12),\"0\")","v":"0"},{"$f":"IF('Aonad 3'!$C$7=$D$59,COUNTIF('Aonad 3'!$C:$C,$D12),\"0\")","v":"0"},{"$f":"IF('Aonad 4'!$C$7=$D$59,COUNTIF('Aonad 4'!$C:$C,$D12),\"0\")","v":"0"},{"$f":"IF('Aonad 5'!$C$7=$D$59,COUNTIF('Aonad 5'!$C:$C,$D12),\"0\")","v":"0"},{"$f":"IF('Aonad 6'!$C$7=$D$59,COUNTIF('Aonad 6'!$C:$C,$D12),\"0\")","v":"0"},{"$f":"IF('Aonad 7'!$C$7=$D$59,COUNTIF('Aonad 7'!$C:$C,$D12),\"0\")","v":"0"},{"$f":"IF('Aonad 8'!$C$7=$D$59,COUNTIF('Aonad 8'!$C:$C,$D12),\"0\")","v":"0"},{"$f":"IF('Aonad 9'!$C$7=$D$59,COUNTIF('Aonad 9'!$C:$C,$D12),\"0\")","v":"0"},{"$f":"IF('Aonad 10'!$C$7=$D$59,COUNTIF('Aonad 10'!$C:$C,$D12),\"0\")","v":"0"},{"$f":"IF('Aonad 11'!$C$7=$D$59,COUNTIF('Aonad 11'!$C:$C,$D12),\"0\")","v":"0"},{"$f":"IF('Aonad 12'!$C$7=$D$59,COUNTIF('Aonad 12'!$C:$C,$D12),\"0\")","v":"0"},{"$f":"IF('Aonad 13'!$C$7=$D$59,COUNTIF('Aonad 13'!$C:$C,$D12),\"0\")","v":"0"},{"$f":"IF('Aonad 14'!$C$7=$D$59,COUNTIF('Aonad 14'!$C:$C,$D12),\"0\")","v":"0"},{"$f":"IF('Aonad 15'!$C$7=$D$59,COUNTIF('Aonad 15'!$C:$C,$D12),\"0\")","v":"0"},{"$f":"IF('Aonad 16'!$C$7=$D$59,COUNTIF('Aonad 16'!$C:$C,$D12),\"0\")","v":"0"},{"$f":"IF('Aonad 17'!$C$7=$D$59,COUNTIF('Aonad 17'!$C:$C,$D12),\"0\")","v":"0"},{"$f":"IF('Aonad 18'!$C$7=$D$59,COUNTIF('Aonad 18'!$C:$C,$D12),\"0\")","v":"0"},{"$f":"IF('Aonad 19'!$C$7=$D$59,COUNTIF('Aonad 19'!$C:$C,$D12),\"0\")","v":"0"},{"$f":"IF('Aonad 20'!$C$7=$D$59,COUNTIF('Aonad 20'!$C:$C,$D12),\"0\")","v":"0"},{"$f":"IF('Aonad 21'!$C$7=$D$59,COUNTIF('Aonad 21'!$C:$C,$D12),\"0\")","v":"0"},{"$f":"IF('Aonad 22'!$C$7=$D$59,COUNTIF('Aonad 22'!$C:$C,$D12),\"0\")","v":"0"},{"$f":"IF('Aonad 23'!$C$7=$D$59,COUNTIF('Aonad 23'!$C:$C,$D12),\"0\")","v":"0"},{"$f":"IF('Aonad 24'!$C$7=$D$59,COUNTIF('Aonad 24'!$C:$C,$D12),\"0\")","v":"0"},{"$f":"IF('Aonad 25'!$C$7=$D$59,COUNTIF('Aonad 25'!$C:$C,$D12),\"0\")","v":"0"},{"$f":"IF('Aonad 26'!$C$7=$D$59,COUNTIF('Aonad 26'!$C:$C,$D12),\"0\")","v":"0"},{"$f":"IF('Aonad 27'!$C$7=$D$59,COUNTIF('Aonad 27'!$C:$C,$D12),\"0\")","v":"0"},{"$f":"IF('Aonad 28'!$C$7=$D$59,COUNTIF('Aonad 28'!$C:$C,$D12),\"0\")","v":"0"},{"$f":"IF('Aonad 29'!$C$7=$D$59,COUNTIF('Aonad 29'!$C:$C,$D12),\"0\")","v":"0"},{"$f":"IF('Aonad 30'!$C$7=$D$59,COUNTIF('Aonad 30'!$C:$C,$D12),\"0\")","v":"0"},{"$f":"IF('Aonad 31'!$C$7=$D$59,COUNTIF('Aonad 31'!$C:$C,$D12),\"0\")","v":"0"},{"$f":"IF('Aonad 32'!$C$7=$D$59,COUNTIF('Aonad 32'!$C:$C,$D12),\"0\")","v":"0"},{"$f":"IF('Aonad 33'!$C$7=$D$59,COUNTIF('Aonad 33'!$C:$C,$D12),\"0\")","v":"0"},{"$f":"IF('Aonad 34'!$C$7=$D$59,COUNTIF('Aonad 34'!$C:$C,$D12),\"0\")","v":"0"},{"$f":"IF('Aonad 35'!$C$7=$D$59,COUNTIF('Aonad 35'!$C:$C,$D12),\"0\")","v":"0"},{"$f":"IF('Aonad 36'!$C$7=$D$59,COUNTIF('Aonad 36'!$C:$C,$D12),\"0\")","v":"0"},{"$f":"IF('Aonad 37'!$C$7=$D$59,COUNTIF('Aonad 37'!$C:$C,$D12),\"0\")","v":"0"},{"$f":"IF('Aonad 38'!$C$7=$D$59,COUNTIF('Aonad 38'!$C:$C,$D12),\"0\")","v":"0"},0,null,{"$f":"IF('Aonad 1'!$C$7=$D$60,COUNTIF('Aonad 1'!$C:$C,$D12),\"0\")","v":"0"},{"$f":"IF('Aonad 2'!$C$7=$D$60,COUNTIF('Aonad 2'!$C:$C,$D12),\"0\")","v":"0"},{"$f":"IF('Aonad 3'!$C$7=$D$60,COUNTIF('Aonad 3'!$C:$C,$D12),\"0\")","v":"0"},{"$f":"IF('Aonad 4'!$C$7=$D$60,COUNTIF('Aonad 4'!$C:$C,$D12),\"0\")","v":"0"},{"$f":"IF('Aonad 5'!$C$7=$D$60,COUNTIF('Aonad 5'!$C:$C,$D12),\"0\")","v":"0"},{"$f":"IF('Aonad 6'!$C$7=$D$60,COUNTIF('Aonad 6'!$C:$C,$D12),\"0\")","v":"0"},{"$f":"IF('Aonad 7'!$C$7=$D$60,COUNTIF('Aonad 7'!$C:$C,$D12),\"0\")","v":"0"},{"$f":"IF('Aonad 8'!$C$7=$D$60,COUNTIF('Aonad 8'!$C:$C,$D12),\"0\")","v":"0"},{"$f":"IF('Aonad 9'!$C$7=$D$60,COUNTIF('Aonad 9'!$C:$C,$D12),\"0\")","v":"0"},{"$f":"IF('Aonad 10'!$C$7=$D$60,COUNTIF('Aonad 10'!$C:$C,$D12),\"0\")","v":"0"},{"$f":"IF('Aonad 11'!$C$7=$D$60,COUNTIF('Aonad 11'!$C:$C,$D12),\"0\")","v":"0"},{"$f":"IF('Aonad 12'!$C$7=$D$60,COUNTIF('Aonad 12'!$C:$C,$D12),\"0\")","v":"0"},{"$f":"IF('Aonad 13'!$C$7=$D$60,COUNTIF('Aonad 13'!$C:$C,$D12),\"0\")","v":"0"},{"$f":"IF('Aonad 14'!$C$7=$D$60,COUNTIF('Aonad 14'!$C:$C,$D12),\"0\")","v":"0"},{"$f":"IF('Aonad 15'!$C$7=$D$60,COUNTIF('Aonad 15'!$C:$C,$D12),\"0\")","v":"0"},{"$f":"IF('Aonad 16'!$C$7=$D$60,COUNTIF('Aonad 16'!$C:$C,$D12),\"0\")","v":"0"},{"$f":"IF('Aonad 17'!$C$7=$D$60,COUNTIF('Aonad 17'!$C:$C,$D12),\"0\")","v":"0"},{"$f":"IF('Aonad 18'!$C$7=$D$60,COUNTIF('Aonad 18'!$C:$C,$D12),\"0\")","v":"0"},{"$f":"IF('Aonad 19'!$C$7=$D$60,COUNTIF('Aonad 19'!$C:$C,$D12),\"0\")","v":"0"},{"$f":"IF('Aonad 20'!$C$7=$D$60,COUNTIF('Aonad 20'!$C:$C,$D12),\"0\")","v":"0"},{"$f":"IF('Aonad 21'!$C$7=$D$60,COUNTIF('Aonad 21'!$C:$C,$D12),\"0\")","v":"0"},{"$f":"IF('Aonad 22'!$C$7=$D$60,COUNTIF('Aonad 22'!$C:$C,$D12),\"0\")","v":"0"},{"$f":"IF('Aonad 23'!$C$7=$D$60,COUNTIF('Aonad 23'!$C:$C,$D12),\"0\")","v":"0"},{"$f":"IF('Aonad 24'!$C$7=$D$60,COUNTIF('Aonad 24'!$C:$C,$D12),\"0\")","v":"0"},{"$f":"IF('Aonad 25'!$C$7=$D$60,COUNTIF('Aonad 25'!$C:$C,$D12),\"0\")","v":"0"},{"$f":"IF('Aonad 26'!$C$7=$D$60,COUNTIF('Aonad 26'!$C:$C,$D12),\"0\")","v":"0"},{"$f":"IF('Aonad 27'!$C$7=$D$60,COUNTIF('Aonad 27'!$C:$C,$D12),\"0\")","v":"0"},{"$f":"IF('Aonad 28'!$C$7=$D$60,COUNTIF('Aonad 28'!$C:$C,$D12),\"0\")","v":"0"},{"$f":"IF('Aonad 29'!$C$7=$D$60,COUNTIF('Aonad 29'!$C:$C,$D12),\"0\")","v":"0"},{"$f":"IF('Aonad 30'!$C$7=$D$60,COUNTIF('Aonad 30'!$C:$C,$D12),\"0\")","v":"0"},{"$f":"IF('Aonad 31'!$C$7=$D$60,COUNTIF('Aonad 31'!$C:$C,$D12),\"0\")","v":"0"},{"$f":"IF('Aonad 32'!$C$7=$D$60,COUNTIF('Aonad 32'!$C:$C,$D12),\"0\")","v":"0"},{"$f":"IF('Aonad 33'!$C$7=$D$60,COUNTIF('Aonad 33'!$C:$C,$D12),\"0\")","v":"0"},{"$f":"IF('Aonad 34'!$C$7=$D$60,COUNTIF('Aonad 34'!$C:$C,$D12),\"0\")","v":"0"},{"$f":"IF('Aonad 35'!$C$7=$D$60,COUNTIF('Aonad 35'!$C:$C,$D12),\"0\")","v":"0"},{"$f":"IF('Aonad 36'!$C$7=$D$60,COUNTIF('Aonad 36'!$C:$C,$D12),\"0\")","v":"0"},{"$f":"IF('Aonad 37'!$C$7=$D$60,COUNTIF('Aonad 37'!$C:$C,$D12),\"0\")","v":"0"},{"$f":"IF('Aonad 38'!$C$7=$D$60,COUNTIF('Aonad 38'!$C:$C,$D12),\"0\")","v":"0"},0]
[null,null,"1.6","1.6 an ról agus an tionchar a bhíonn ag teicneolaíochtaí atá ann cheana agus ag teicneolaíochtaí atá ag teacht chun cinn a thuiscint, chomh maith leis an úsáid a d’fhéadfaí a bhaint astu","Tuig: corpas dea-eagraithe eolais a bheith aige agus é sin a chur i bhfeidhm",{"$f":"COUNTIF('Aonad 1'!$C:$C,$D13)","v":0},{"$f":"COUNTIF('Aonad 2'!$C:$C,$D13)","v":0},{"$f":"COUNTIF('Aonad 3'!$C:$C,$D13)","v":0},{"$f":"COUNTIF('Aonad 4'!$C:$C,$D13)","v":0},{"$f":"COUNTIF('Aonad 5'!$C:$C,$D13)","v":0},{"$f":"COUNTIF('Aonad 6'!$C:$C,$D13)","v":0},{"$f":"COUNTIF('Aonad 7'!$C:$C,$D13)","v":0},{"$f":"COUNTIF('Aonad 8'!$C:$C,$D13)","v":0},{"$f":"COUNTIF('Aonad 9'!$C:$C,$D13)","v":0},{"$f":"COUNTIF('Aonad 10'!$C:$C,$D13)","v":0},{"$f":"COUNTIF('Aonad 11'!$C:$C,$D13)","v":0},{"$f":"COUNTIF('Aonad 12'!$C:$C,$D13)","v":0},{"$f":"COUNTIF('Aonad 13'!$C:$C,$D13)","v":0},{"$f":"COUNTIF('Aonad 14'!$C:$C,$D13)","v":0},{"$f":"COUNTIF('Aonad 15'!$C:$C,$D13)","v":0},{"$f":"COUNTIF('Aonad 16'!$C:$C,$D13)","v":0},{"$f":"COUNTIF('Aonad 17'!$C:$C,$D13)","v":0},{"$f":"COUNTIF('Aonad 18'!$C:$C,$D13)","v":0},{"$f":"COUNTIF('Aonad 19'!$C:$C,$D13)","v":0},{"$f":"COUNTIF('Aonad 20'!$C:$C,$D13)","v":0},{"$f":"COUNTIF('Aonad 21'!$C:$C,$D13)","v":0},{"$f":"COUNTIF('Aonad 22'!$C:$C,$D13)","v":0},{"$f":"COUNTIF('Aonad 23'!$C:$C,$D13)","v":0},{"$f":"COUNTIF('Aonad 24'!$C:$C,$D13)","v":0},{"$f":"COUNTIF('Aonad 25'!$C:$C,$D13)","v":0},{"$f":"COUNTIF('Aonad 26'!$C:$C,$D13)","v":0},{"$f":"COUNTIF('Aonad 27'!$C:$C,$D13)","v":0},{"$f":"COUNTIF('Aonad 28'!$C:$C,$D13)","v":0},{"$f":"COUNTIF('Aonad 29'!$C:$C,$D13)","v":0},{"$f":"COUNTIF('Aonad 30'!$C:$C,$D13)","v":0},{"$f":"COUNTIF('Aonad 31'!$C:$C,$D13)","v":0},{"$f":"COUNTIF('Aonad 32'!$C:$C,$D13)","v":0},{"$f":"COUNTIF('Aonad 33'!$C:$C,$D13)","v":0},{"$f":"COUNTIF('Aonad 34'!$C:$C,$D13)","v":0},{"$f":"COUNTIF('Aonad 35'!$C:$C,$D13)","v":0},{"$f":"COUNTIF('Aonad 36'!$C:$C,$D13)","v":0},{"$f":"COUNTIF('Aonad 37'!$C:$C,$D13)","v":0},{"$f":"COUNTIF('Aonad 38'!$C:$C,$D13)","v":0},0,null,{"$f":"IF('Aonad 1'!$C$7=$D$58,COUNTIF('Aonad 1'!$C:$C,$D13),\"0\")","v":"0"},{"$f":"IF('Aonad 2'!$C$7=$D$58,COUNTIF('Aonad 2'!$C:$C,$D13),\"0\")","v":"0"},{"$f":"IF('Aonad 3'!$C$7=$D$58,COUNTIF('Aonad 3'!$C:$C,$D13),\"0\")","v":"0"},{"$f":"IF('Aonad 4'!$C$7=$D$58,COUNTIF('Aonad 4'!$C:$C,$D13),\"0\")","v":"0"},{"$f":"IF('Aonad 5'!$C$7=$D$58,COUNTIF('Aonad 5'!$C:$C,$D13),\"0\")","v":"0"},{"$f":"IF('Aonad 6'!$C$7=$D$58,COUNTIF('Aonad 6'!$C:$C,$D13),\"0\")","v":"0"},{"$f":"IF('Aonad 7'!$C$7=$D$58,COUNTIF('Aonad 7'!$C:$C,$D13),\"0\")","v":"0"},{"$f":"IF('Aonad 8'!$C$7=$D$58,COUNTIF('Aonad 8'!$C:$C,$D13),\"0\")","v":"0"},{"$f":"IF('Aonad 9'!$C$7=$D$58,COUNTIF('Aonad 9'!$C:$C,$D13),\"0\")","v":"0"},{"$f":"IF('Aonad 10'!$C$7=$D$58,COUNTIF('Aonad 10'!$C:$C,$D13),\"0\")","v":"0"},{"$f":"IF('Aonad 11'!$C$7=$D$58,COUNTIF('Aonad 11'!$C:$C,$D13),\"0\")","v":"0"},{"$f":"IF('Aonad 12'!$C$7=$D$58,COUNTIF('Aonad 12'!$C:$C,$D13),\"0\")","v":"0"},{"$f":"IF('Aonad 13'!$C$7=$D$58,COUNTIF('Aonad 13'!$C:$C,$D13),\"0\")","v":"0"},{"$f":"IF('Aonad 14'!$C$7=$D$58,COUNTIF('Aonad 14'!$C:$C,$D13),\"0\")","v":"0"},{"$f":"IF('Aonad 15'!$C$7=$D$58,COUNTIF('Aonad 15'!$C:$C,$D13),\"0\")","v":"0"},{"$f":"IF('Aonad 16'!$C$7=$D$58,COUNTIF('Aonad 16'!$C:$C,$D13),\"0\")","v":"0"},{"$f":"IF('Aonad 17'!$C$7=$D$58,COUNTIF('Aonad 17'!$C:$C,$D13),\"0\")","v":"0"},{"$f":"IF('Aonad 18'!$C$7=$D$58,COUNTIF('Aonad 18'!$C:$C,$D13),\"0\")","v":"0"},{"$f":"IF('Aonad 19'!$C$7=$D$58,COUNTIF('Aonad 19'!$C:$C,$D13),\"0\")","v":"0"},{"$f":"IF('Aonad 20'!$C$7=$D$58,COUNTIF('Aonad 20'!$C:$C,$D13),\"0\")","v":"0"},{"$f":"IF('Aonad 21'!$C$7=$D$58,COUNTIF('Aonad 21'!$C:$C,$D13),\"0\")","v":"0"},{"$f":"IF('Aonad 22'!$C$7=$D$58,COUNTIF('Aonad 22'!$C:$C,$D13),\"0\")","v":"0"},{"$f":"IF('Aonad 23'!$C$7=$D$58,COUNTIF('Aonad 23'!$C:$C,$D13),\"0\")","v":"0"},{"$f":"IF('Aonad 24'!$C$7=$D$58,COUNTIF('Aonad 24'!$C:$C,$D13),\"0\")","v":"0"},{"$f":"IF('Aonad 25'!$C$7=$D$58,COUNTIF('Aonad 25'!$C:$C,$D13),\"0\")","v":"0"},{"$f":"IF('Aonad 26'!$C$7=$D$58,COUNTIF('Aonad 26'!$C:$C,$D13),\"0\")","v":"0"},{"$f":"IF('Aonad 27'!$C$7=$D$58,COUNTIF('Aonad 27'!$C:$C,$D13),\"0\")","v":"0"},{"$f":"IF('Aonad 28'!$C$7=$D$58,COUNTIF('Aonad 28'!$C:$C,$D13),\"0\")","v":"0"},{"$f":"IF('Aonad 29'!$C$7=$D$58,COUNTIF('Aonad 29'!$C:$C,$D13),\"0\")","v":"0"},{"$f":"IF('Aonad 30'!$C$7=$D$58,COUNTIF('Aonad 30'!$C:$C,$D13),\"0\")","v":"0"},{"$f":"IF('Aonad 31'!$C$7=$D$58,COUNTIF('Aonad 31'!$C:$C,$D13),\"0\")","v":"0"},{"$f":"IF('Aonad 32'!$C$7=$D$58,COUNTIF('Aonad 32'!$C:$C,$D13),\"0\")","v":"0"},{"$f":"IF('Aonad 33'!$C$7=$D$58,COUNTIF('Aonad 33'!$C:$C,$D13),\"0\")","v":"0"},{"$f":"IF('Aonad 34'!$C$7=$D$58,COUNTIF('Aonad 34'!$C:$C,$D13),\"0\")","v":"0"},{"$f":"IF('Aonad 35'!$C$7=$D$58,COUNTIF('Aonad 35'!$C:$C,$D13),\"0\")","v":"0"},{"$f":"IF('Aonad 36'!$C$7=$D$58,COUNTIF('Aonad 36'!$C:$C,$D13),\"0\")","v":"0"},{"$f":"IF('Aonad 37'!$C$7=$D$58,COUNTIF('Aonad 37'!$C:$C,$D13),\"0\")","v":"0"},{"$f":"IF('Aonad 38'!$C$7=$D$58,COUNTIF('Aonad 38'!$C:$C,$D13),\"0\")","v":"0"},0,null,{"$f":"IF('Aonad 1'!$C$7=$D$59,COUNTIF('Aonad 1'!$C:$C,$D13),\"0\")","v":"0"},{"$f":"IF('Aonad 2'!$C$7=$D$59,COUNTIF('Aonad 2'!$C:$C,$D13),\"0\")","v":"0"},{"$f":"IF('Aonad 3'!$C$7=$D$59,COUNTIF('Aonad 3'!$C:$C,$D13),\"0\")","v":"0"},{"$f":"IF('Aonad 4'!$C$7=$D$59,COUNTIF('Aonad 4'!$C:$C,$D13),\"0\")","v":"0"},{"$f":"IF('Aonad 5'!$C$7=$D$59,COUNTIF('Aonad 5'!$C:$C,$D13),\"0\")","v":"0"},{"$f":"IF('Aonad 6'!$C$7=$D$59,COUNTIF('Aonad 6'!$C:$C,$D13),\"0\")","v":"0"},{"$f":"IF('Aonad 7'!$C$7=$D$59,COUNTIF('Aonad 7'!$C:$C,$D13),\"0\")","v":"0"},{"$f":"IF('Aonad 8'!$C$7=$D$59,COUNTIF('Aonad 8'!$C:$C,$D13),\"0\")","v":"0"},{"$f":"IF('Aonad 9'!$C$7=$D$59,COUNTIF('Aonad 9'!$C:$C,$D13),\"0\")","v":"0"},{"$f":"IF('Aonad 10'!$C$7=$D$59,COUNTIF('Aonad 10'!$C:$C,$D13),\"0\")","v":"0"},{"$f":"IF('Aonad 11'!$C$7=$D$59,COUNTIF('Aonad 11'!$C:$C,$D13),\"0\")","v":"0"},{"$f":"IF('Aonad 12'!$C$7=$D$59,COUNTIF('Aonad 12'!$C:$C,$D13),\"0\")","v":"0"},{"$f":"IF('Aonad 13'!$C$7=$D$59,COUNTIF('Aonad 13'!$C:$C,$D13),\"0\")","v":"0"},{"$f":"IF('Aonad 14'!$C$7=$D$59,COUNTIF('Aonad 14'!$C:$C,$D13),\"0\")","v":"0"},{"$f":"IF('Aonad 15'!$C$7=$D$59,COUNTIF('Aonad 15'!$C:$C,$D13),\"0\")","v":"0"},{"$f":"IF('Aonad 16'!$C$7=$D$59,COUNTIF('Aonad 16'!$C:$C,$D13),\"0\")","v":"0"},{"$f":"IF('Aonad 17'!$C$7=$D$59,COUNTIF('Aonad 17'!$C:$C,$D13),\"0\")","v":"0"},{"$f":"IF('Aonad 18'!$C$7=$D$59,COUNTIF('Aonad 18'!$C:$C,$D13),\"0\")","v":"0"},{"$f":"IF('Aonad 19'!$C$7=$D$59,COUNTIF('Aonad 19'!$C:$C,$D13),\"0\")","v":"0"},{"$f":"IF('Aonad 20'!$C$7=$D$59,COUNTIF('Aonad 20'!$C:$C,$D13),\"0\")","v":"0"},{"$f":"IF('Aonad 21'!$C$7=$D$59,COUNTIF('Aonad 21'!$C:$C,$D13),\"0\")","v":"0"},{"$f":"IF('Aonad 22'!$C$7=$D$59,COUNTIF('Aonad 22'!$C:$C,$D13),\"0\")","v":"0"},{"$f":"IF('Aonad 23'!$C$7=$D$59,COUNTIF('Aonad 23'!$C:$C,$D13),\"0\")","v":"0"},{"$f":"IF('Aonad 24'!$C$7=$D$59,COUNTIF('Aonad 24'!$C:$C,$D13),\"0\")","v":"0"},{"$f":"IF('Aonad 25'!$C$7=$D$59,COUNTIF('Aonad 25'!$C:$C,$D13),\"0\")","v":"0"},{"$f":"IF('Aonad 26'!$C$7=$D$59,COUNTIF('Aonad 26'!$C:$C,$D13),\"0\")","v":"0"},{"$f":"IF('Aonad 27'!$C$7=$D$59,COUNTIF('Aonad 27'!$C:$C,$D13),\"0\")","v":"0"},{"$f":"IF('Aonad 28'!$C$7=$D$59,COUNTIF('Aonad 28'!$C:$C,$D13),\"0\")","v":"0"},{"$f":"IF('Aonad 29'!$C$7=$D$59,COUNTIF('Aonad 29'!$C:$C,$D13),\"0\")","v":"0"},{"$f":"IF('Aonad 30'!$C$7=$D$59,COUNTIF('Aonad 30'!$C:$C,$D13),\"0\")","v":"0"},{"$f":"IF('Aonad 31'!$C$7=$D$59,COUNTIF('Aonad 31'!$C:$C,$D13),\"0\")","v":"0"},{"$f":"IF('Aonad 32'!$C$7=$D$59,COUNTIF('Aonad 32'!$C:$C,$D13),\"0\")","v":"0"},{"$f":"IF('Aonad 33'!$C$7=$D$59,COUNTIF('Aonad 33'!$C:$C,$D13),\"0\")","v":"0"},{"$f":"IF('Aonad 34'!$C$7=$D$59,COUNTIF('Aonad 34'!$C:$C,$D13),\"0\")","v":"0"},{"$f":"IF('Aonad 35'!$C$7=$D$59,COUNTIF('Aonad 35'!$C:$C,$D13),\"0\")","v":"0"},{"$f":"IF('Aonad 36'!$C$7=$D$59,COUNTIF('Aonad 36'!$C:$C,$D13),\"0\")","v":"0"},{"$f":"IF('Aonad 37'!$C$7=$D$59,COUNTIF('Aonad 37'!$C:$C,$D13),\"0\")","v":"0"},{"$f":"IF('Aonad 38'!$C$7=$D$59,COUNTIF('Aonad 38'!$C:$C,$D13),\"0\")","v":"0"},0,null,{"$f":"IF('Aonad 1'!$C$7=$D$60,COUNTIF('Aonad 1'!$C:$C,$D13),\"0\")","v":"0"},{"$f":"IF('Aonad 2'!$C$7=$D$60,COUNTIF('Aonad 2'!$C:$C,$D13),\"0\")","v":"0"},{"$f":"IF('Aonad 3'!$C$7=$D$60,COUNTIF('Aonad 3'!$C:$C,$D13),\"0\")","v":"0"},{"$f":"IF('Aonad 4'!$C$7=$D$60,COUNTIF('Aonad 4'!$C:$C,$D13),\"0\")","v":"0"},{"$f":"IF('Aonad 5'!$C$7=$D$60,COUNTIF('Aonad 5'!$C:$C,$D13),\"0\")","v":"0"},{"$f":"IF('Aonad 6'!$C$7=$D$60,COUNTIF('Aonad 6'!$C:$C,$D13),\"0\")","v":"0"},{"$f":"IF('Aonad 7'!$C$7=$D$60,COUNTIF('Aonad 7'!$C:$C,$D13),\"0\")","v":"0"},{"$f":"IF('Aonad 8'!$C$7=$D$60,COUNTIF('Aonad 8'!$C:$C,$D13),\"0\")","v":"0"},{"$f":"IF('Aonad 9'!$C$7=$D$60,COUNTIF('Aonad 9'!$C:$C,$D13),\"0\")","v":"0"},{"$f":"IF('Aonad 10'!$C$7=$D$60,COUNTIF('Aonad 10'!$C:$C,$D13),\"0\")","v":"0"},{"$f":"IF('Aonad 11'!$C$7=$D$60,COUNTIF('Aonad 11'!$C:$C,$D13),\"0\")","v":"0"},{"$f":"IF('Aonad 12'!$C$7=$D$60,COUNTIF('Aonad 12'!$C:$C,$D13),\"0\")","v":"0"},{"$f":"IF('Aonad 13'!$C$7=$D$60,COUNTIF('Aonad 13'!$C:$C,$D13),\"0\")","v":"0"},{"$f":"IF('Aonad 14'!$C$7=$D$60,COUNTIF('Aonad 14'!$C:$C,$D13),\"0\")","v":"0"},{"$f":"IF('Aonad 15'!$C$7=$D$60,COUNTIF('Aonad 15'!$C:$C,$D13),\"0\")","v":"0"},{"$f":"IF('Aonad 16'!$C$7=$D$60,COUNTIF('Aonad 16'!$C:$C,$D13),\"0\")","v":"0"},{"$f":"IF('Aonad 17'!$C$7=$D$60,COUNTIF('Aonad 17'!$C:$C,$D13),\"0\")","v":"0"},{"$f":"IF('Aonad 18'!$C$7=$D$60,COUNTIF('Aonad 18'!$C:$C,$D13),\"0\")","v":"0"},{"$f":"IF('Aonad 19'!$C$7=$D$60,COUNTIF('Aonad 19'!$C:$C,$D13),\"0\")","v":"0"},{"$f":"IF('Aonad 20'!$C$7=$D$60,COUNTIF('Aonad 20'!$C:$C,$D13),\"0\")","v":"0"},{"$f":"IF('Aonad 21'!$C$7=$D$60,COUNTIF('Aonad 21'!$C:$C,$D13),\"0\")","v":"0"},{"$f":"IF('Aonad 22'!$C$7=$D$60,COUNTIF('Aonad 22'!$C:$C,$D13),\"0\")","v":"0"},{"$f":"IF('Aonad 23'!$C$7=$D$60,COUNTIF('Aonad 23'!$C:$C,$D13),\"0\")","v":"0"},{"$f":"IF('Aonad 24'!$C$7=$D$60,COUNTIF('Aonad 24'!$C:$C,$D13),\"0\")","v":"0"},{"$f":"IF('Aonad 25'!$C$7=$D$60,COUNTIF('Aonad 25'!$C:$C,$D13),\"0\")","v":"0"},{"$f":"IF('Aonad 26'!$C$7=$D$60,COUNTIF('Aonad 26'!$C:$C,$D13),\"0\")","v":"0"},{"$f":"IF('Aonad 27'!$C$7=$D$60,COUNTIF('Aonad 27'!$C:$C,$D13),\"0\")","v":"0"},{"$f":"IF('Aonad 28'!$C$7=$D$60,COUNTIF('Aonad 28'!$C:$C,$D13),\"0\")","v":"0"},{"$f":"IF('Aonad 29'!$C$7=$D$60,COUNTIF('Aonad 29'!$C:$C,$D13),\"0\")","v":"0"},{"$f":"IF('Aonad 30'!$C$7=$D$60,COUNTIF('Aonad 30'!$C:$C,$D13),\"0\")","v":"0"},{"$f":"IF('Aonad 31'!$C$7=$D$60,COUNTIF('Aonad 31'!$C:$C,$D13),\"0\")","v":"0"},{"$f":"IF('Aonad 32'!$C$7=$D$60,COUNTIF('Aonad 32'!$C:$C,$D13),\"0\")","v":"0"},{"$f":"IF('Aonad 33'!$C$7=$D$60,COUNTIF('Aonad 33'!$C:$C,$D13),\"0\")","v":"0"},{"$f":"IF('Aonad 34'!$C$7=$D$60,COUNTIF('Aonad 34'!$C:$C,$D13),\"0\")","v":"0"},{"$f":"IF('Aonad 35'!$C$7=$D$60,COUNTIF('Aonad 35'!$C:$C,$D13),\"0\")","v":"0"},{"$f":"IF('Aonad 36'!$C$7=$D$60,COUNTIF('Aonad 36'!$C:$C,$D13),\"0\")","v":"0"},{"$f":"IF('Aonad 37'!$C$7=$D$60,COUNTIF('Aonad 37'!$C:$C,$D13),\"0\")","v":"0"},{"$f":"IF('Aonad 38'!$C$7=$D$60,COUNTIF('Aonad 38'!$C:$C,$D13),\"0\")","v":"0"},0]
[null,null,"1.7","1.7 cuir chuige nuálacha a chur i bhfeidhm ar réitigh dearaidh","Cuir i bhfeidhm: faisnéis agus/nó eolas agus tuiscint a roghnú agus a úsáid chun cás tugtha nó fíorchúinsí a mhíniú",{"$f":"COUNTIF('Aonad 1'!$C:$C,$D14)","v":0},{"$f":"COUNTIF('Aonad 2'!$C:$C,$D14)","v":0},{"$f":"COUNTIF('Aonad 3'!$C:$C,$D14)","v":0},{"$f":"COUNTIF('Aonad 4'!$C:$C,$D14)","v":0},{"$f":"COUNTIF('Aonad 5'!$C:$C,$D14)","v":0},{"$f":"COUNTIF('Aonad 6'!$C:$C,$D14)","v":0},{"$f":"COUNTIF('Aonad 7'!$C:$C,$D14)","v":0},{"$f":"COUNTIF('Aonad 8'!$C:$C,$D14)","v":0},{"$f":"COUNTIF('Aonad 9'!$C:$C,$D14)","v":0},{"$f":"COUNTIF('Aonad 10'!$C:$C,$D14)","v":0},{"$f":"COUNTIF('Aonad 11'!$C:$C,$D14)","v":0},{"$f":"COUNTIF('Aonad 12'!$C:$C,$D14)","v":0},{"$f":"COUNTIF('Aonad 13'!$C:$C,$D14)","v":0},{"$f":"COUNTIF('Aonad 14'!$C:$C,$D14)","v":0},{"$f":"COUNTIF('Aonad 15'!$C:$C,$D14)","v":0},{"$f":"COUNTIF('Aonad 16'!$C:$C,$D14)","v":0},{"$f":"COUNTIF('Aonad 17'!$C:$C,$D14)","v":0},{"$f":"COUNTIF('Aonad 18'!$C:$C,$D14)","v":0},{"$f":"COUNTIF('Aonad 19'!$C:$C,$D14)","v":0},{"$f":"COUNTIF('Aonad 20'!$C:$C,$D14)","v":0},{"$f":"COUNTIF('Aonad 21'!$C:$C,$D14)","v":0},{"$f":"COUNTIF('Aonad 22'!$C:$C,$D14)","v":0},{"$f":"COUNTIF('Aonad 23'!$C:$C,$D14)","v":0},{"$f":"COUNTIF('Aonad 24'!$C:$C,$D14)","v":0},{"$f":"COUNTIF('Aonad 25'!$C:$C,$D14)","v":0},{"$f":"COUNTIF('Aonad 26'!$C:$C,$D14)","v":0},{"$f":"COUNTIF('Aonad 27'!$C:$C,$D14)","v":0},{"$f":"COUNTIF('Aonad 28'!$C:$C,$D14)","v":0},{"$f":"COUNTIF('Aonad 29'!$C:$C,$D14)","v":0},{"$f":"COUNTIF('Aonad 30'!$C:$C,$D14)","v":0},{"$f":"COUNTIF('Aonad 31'!$C:$C,$D14)","v":0},{"$f":"COUNTIF('Aonad 32'!$C:$C,$D14)","v":0},{"$f":"COUNTIF('Aonad 33'!$C:$C,$D14)","v":0},{"$f":"COUNTIF('Aonad 34'!$C:$C,$D14)","v":0},{"$f":"COUNTIF('Aonad 35'!$C:$C,$D14)","v":0},{"$f":"COUNTIF('Aonad 36'!$C:$C,$D14)","v":0},{"$f":"COUNTIF('Aonad 37'!$C:$C,$D14)","v":0},{"$f":"COUNTIF('Aonad 38'!$C:$C,$D14)","v":0},0,null,{"$f":"IF('Aonad 1'!$C$7=$D$58,COUNTIF('Aonad 1'!$C:$C,$D14),\"0\")","v":"0"},{"$f":"IF('Aonad 2'!$C$7=$D$58,COUNTIF('Aonad 2'!$C:$C,$D14),\"0\")","v":"0"},{"$f":"IF('Aonad 3'!$C$7=$D$58,COUNTIF('Aonad 3'!$C:$C,$D14),\"0\")","v":"0"},{"$f":"IF('Aonad 4'!$C$7=$D$58,COUNTIF('Aonad 4'!$C:$C,$D14),\"0\")","v":"0"},{"$f":"IF('Aonad 5'!$C$7=$D$58,COUNTIF('Aonad 5'!$C:$C,$D14),\"0\")","v":"0"},{"$f":"IF('Aonad 6'!$C$7=$D$58,COUNTIF('Aonad 6'!$C:$C,$D14),\"0\")","v":"0"},{"$f":"IF('Aonad 7'!$C$7=$D$58,COUNTIF('Aonad 7'!$C:$C,$D14),\"0\")","v":"0"},{"$f":"IF('Aonad 8'!$C$7=$D$58,COUNTIF('Aonad 8'!$C:$C,$D14),\"0\")","v":"0"},{"$f":"IF('Aonad 9'!$C$7=$D$58,COUNTIF('Aonad 9'!$C:$C,$D14),\"0\")","v":"0"},{"$f":"IF('Aonad 10'!$C$7=$D$58,COUNTIF('Aonad 10'!$C:$C,$D14),\"0\")","v":"0"},{"$f":"IF('Aonad 11'!$C$7=$D$58,COUNTIF('Aonad 11'!$C:$C,$D14),\"0\")","v":"0"},{"$f":"IF('Aonad 12'!$C$7=$D$58,COUNTIF('Aonad 12'!$C:$C,$D14),\"0\")","v":"0"},{"$f":"IF('Aonad 13'!$C$7=$D$58,COUNTIF('Aonad 13'!$C:$C,$D14),\"0\")","v":"0"},{"$f":"IF('Aonad 14'!$C$7=$D$58,COUNTIF('Aonad 14'!$C:$C,$D14),\"0\")","v":"0"},{"$f":"IF('Aonad 15'!$C$7=$D$58,COUNTIF('Aonad 15'!$C:$C,$D14),\"0\")","v":"0"},{"$f":"IF('Aonad 16'!$C$7=$D$58,COUNTIF('Aonad 16'!$C:$C,$D14),\"0\")","v":"0"},{"$f":"IF('Aonad 17'!$C$7=$D$58,COUNTIF('Aonad 17'!$C:$C,$D14),\"0\")","v":"0"},{"$f":"IF('Aonad 18'!$C$7=$D$58,COUNTIF('Aonad 18'!$C:$C,$D14),\"0\")","v":"0"},{"$f":"IF('Aonad 19'!$C$7=$D$58,COUNTIF('Aonad 19'!$C:$C,$D14),\"0\")","v":"0"},{"$f":"IF('Aonad 20'!$C$7=$D$58,COUNTIF('Aonad 20'!$C:$C,$D14),\"0\")","v":"0"},{"$f":"IF('Aonad 21'!$C$7=$D$58,COUNTIF('Aonad 21'!$C:$C,$D14),\"0\")","v":"0"},{"$f":"IF('Aonad 22'!$C$7=$D$58,COUNTIF('Aonad 22'!$C:$C,$D14),\"0\")","v":"0"},{"$f":"IF('Aonad 23'!$C$7=$D$58,COUNTIF('Aonad 23'!$C:$C,$D14),\"0\")","v":"0"},{"$f":"IF('Aonad 24'!$C$7=$D$58,COUNTIF('Aonad 24'!$C:$C,$D14),\"0\")","v":"0"},{"$f":"IF('Aonad 25'!$C$7=$D$58,COUNTIF('Aonad 25'!$C:$C,$D14),\"0\")","v":"0"},{"$f":"IF('Aonad 26'!$C$7=$D$58,COUNTIF('Aonad 26'!$C:$C,$D14),\"0\")","v":"0"},{"$f":"IF('Aonad 27'!$C$7=$D$58,COUNTIF('Aonad 27'!$C:$C,$D14),\"0\")","v":"0"},{"$f":"IF('Aonad 28'!$C$7=$D$58,COUNTIF('Aonad 28'!$C:$C,$D14),\"0\")","v":"0"},{"$f":"IF('Aonad 29'!$C$7=$D$58,COUNTIF('Aonad 29'!$C:$C,$D14),\"0\")","v":"0"},{"$f":"IF('Aonad 30'!$C$7=$D$58,COUNTIF('Aonad 30'!$C:$C,$D14),\"0\")","v":"0"},{"$f":"IF('Aonad 31'!$C$7=$D$58,COUNTIF('Aonad 31'!$C:$C,$D14),\"0\")","v":"0"},{"$f":"IF('Aonad 32'!$C$7=$D$58,COUNTIF('Aonad 32'!$C:$C,$D14),\"0\")","v":"0"},{"$f":"IF('Aonad 33'!$C$7=$D$58,COUNTIF('Aonad 33'!$C:$C,$D14),\"0\")","v":"0"},{"$f":"IF('Aonad 34'!$C$7=$D$58,COUNTIF('Aonad 34'!$C:$C,$D14),\"0\")","v":"0"},{"$f":"IF('Aonad 35'!$C$7=$D$58,COUNTIF('Aonad 35'!$C:$C,$D14),\"0\")","v":"0"},{"$f":"IF('Aonad 36'!$C$7=$D$58,COUNTIF('Aonad 36'!$C:$C,$D14),\"0\")","v":"0"},{"$f":"IF('Aonad 37'!$C$7=$D$58,COUNTIF('Aonad 37'!$C:$C,$D14),\"0\")","v":"0"},{"$f":"IF('Aonad 38'!$C$7=$D$58,COUNTIF('Aonad 38'!$C:$C,$D14),\"0\")","v":"0"},0,null,{"$f":"IF('Aonad 1'!$C$7=$D$59,COUNTIF('Aonad 1'!$C:$C,$D14),\"0\")","v":"0"},{"$f":"IF('Aonad 2'!$C$7=$D$59,COUNTIF('Aonad 2'!$C:$C,$D14),\"0\")","v":"0"},{"$f":"IF('Aonad 3'!$C$7=$D$59,COUNTIF('Aonad 3'!$C:$C,$D14),\"0\")","v":"0"},{"$f":"IF('Aonad 4'!$C$7=$D$59,COUNTIF('Aonad 4'!$C:$C,$D14),\"0\")","v":"0"},{"$f":"IF('Aonad 5'!$C$7=$D$59,COUNTIF('Aonad 5'!$C:$C,$D14),\"0\")","v":"0"},{"$f":"IF('Aonad 6'!$C$7=$D$59,COUNTIF('Aonad 6'!$C:$C,$D14),\"0\")","v":"0"},{"$f":"IF('Aonad 7'!$C$7=$D$59,COUNTIF('Aonad 7'!$C:$C,$D14),\"0\")","v":"0"},{"$f":"IF('Aonad 8'!$C$7=$D$59,COUNTIF('Aonad 8'!$C:$C,$D14),\"0\")","v":"0"},{"$f":"IF('Aonad 9'!$C$7=$D$59,COUNTIF('Aonad 9'!$C:$C,$D14),\"0\")","v":"0"},{"$f":"IF('Aonad 10'!$C$7=$D$59,COUNTIF('Aonad 10'!$C:$C,$D14),\"0\")","v":"0"},{"$f":"IF('Aonad 11'!$C$7=$D$59,COUNTIF('Aonad 11'!$C:$C,$D14),\"0\")","v":"0"},{"$f":"IF('Aonad 12'!$C$7=$D$59,COUNTIF('Aonad 12'!$C:$C,$D14),\"0\")","v":"0"},{"$f":"IF('Aonad 13'!$C$7=$D$59,COUNTIF('Aonad 13'!$C:$C,$D14),\"0\")","v":"0"},{"$f":"IF('Aonad 14'!$C$7=$D$59,COUNTIF('Aonad 14'!$C:$C,$D14),\"0\")","v":"0"},{"$f":"IF('Aonad 15'!$C$7=$D$59,COUNTIF('Aonad 15'!$C:$C,$D14),\"0\")","v":"0"},{"$f":"IF('Aonad 16'!$C$7=$D$59,COUNTIF('Aonad 16'!$C:$C,$D14),\"0\")","v":"0"},{"$f":"IF('Aonad 17'!$C$7=$D$59,COUNTIF('Aonad 17'!$C:$C,$D14),\"0\")","v":"0"},{"$f":"IF('Aonad 18'!$C$7=$D$59,COUNTIF('Aonad 18'!$C:$C,$D14),\"0\")","v":"0"},{"$f":"IF('Aonad 19'!$C$7=$D$59,COUNTIF('Aonad 19'!$C:$C,$D14),\"0\")","v":"0"},{"$f":"IF('Aonad 20'!$C$7=$D$59,COUNTIF('Aonad 20'!$C:$C,$D14),\"0\")","v":"0"},{"$f":"IF('Aonad 21'!$C$7=$D$59,COUNTIF('Aonad 21'!$C:$C,$D14),\"0\")","v":"0"},{"$f":"IF('Aonad 22'!$C$7=$D$59,COUNTIF('Aonad 22'!$C:$C,$D14),\"0\")","v":"0"},{"$f":"IF('Aonad 23'!$C$7=$D$59,COUNTIF('Aonad 23'!$C:$C,$D14),\"0\")","v":"0"},{"$f":"IF('Aonad 24'!$C$7=$D$59,COUNTIF('Aonad 24'!$C:$C,$D14),\"0\")","v":"0"},{"$f":"IF('Aonad 25'!$C$7=$D$59,COUNTIF('Aonad 25'!$C:$C,$D14),\"0\")","v":"0"},{"$f":"IF('Aonad 26'!$C$7=$D$59,COUNTIF('Aonad 26'!$C:$C,$D14),\"0\")","v":"0"},{"$f":"IF('Aonad 27'!$C$7=$D$59,COUNTIF('Aonad 27'!$C:$C,$D14),\"0\")","v":"0"},{"$f":"IF('Aonad 28'!$C$7=$D$59,COUNTIF('Aonad 28'!$C:$C,$D14),\"0\")","v":"0"},{"$f":"IF('Aonad 29'!$C$7=$D$59,COUNTIF('Aonad 29'!$C:$C,$D14),\"0\")","v":"0"},{"$f":"IF('Aonad 30'!$C$7=$D$59,COUNTIF('Aonad 30'!$C:$C,$D14),\"0\")","v":"0"},{"$f":"IF('Aonad 31'!$C$7=$D$59,COUNTIF('Aonad 31'!$C:$C,$D14),\"0\")","v":"0"},{"$f":"IF('Aonad 32'!$C$7=$D$59,COUNTIF('Aonad 32'!$C:$C,$D14),\"0\")","v":"0"},{"$f":"IF('Aonad 33'!$C$7=$D$59,COUNTIF('Aonad 33'!$C:$C,$D14),\"0\")","v":"0"},{"$f":"IF('Aonad 34'!$C$7=$D$59,COUNTIF('Aonad 34'!$C:$C,$D14),\"0\")","v":"0"},{"$f":"IF('Aonad 35'!$C$7=$D$59,COUNTIF('Aonad 35'!$C:$C,$D14),\"0\")","v":"0"},{"$f":"IF('Aonad 36'!$C$7=$D$59,COUNTIF('Aonad 36'!$C:$C,$D14),\"0\")","v":"0"},{"$f":"IF('Aonad 37'!$C$7=$D$59,COUNTIF('Aonad 37'!$C:$C,$D14),\"0\")","v":"0"},{"$f":"IF('Aonad 38'!$C$7=$D$59,COUNTIF('Aonad 38'!$C:$C,$D14),\"0\")","v":"0"},0,null,{"$f":"IF('Aonad 1'!$C$7=$D$60,COUNTIF('Aonad 1'!$C:$C,$D14),\"0\")","v":"0"},{"$f":"IF('Aonad 2'!$C$7=$D$60,COUNTIF('Aonad 2'!$C:$C,$D14),\"0\")","v":"0"},{"$f":"IF('Aonad 3'!$C$7=$D$60,COUNTIF('Aonad 3'!$C:$C,$D14),\"0\")","v":"0"},{"$f":"IF('Aonad 4'!$C$7=$D$60,COUNTIF('Aonad 4'!$C:$C,$D14),\"0\")","v":"0"},{"$f":"IF('Aonad 5'!$C$7=$D$60,COUNTIF('Aonad 5'!$C:$C,$D14),\"0\")","v":"0"},{"$f":"IF('Aonad 6'!$C$7=$D$60,COUNTIF('Aonad 6'!$C:$C,$D14),\"0\")","v":"0"},{"$f":"IF('Aonad 7'!$C$7=$D$60,COUNTIF('Aonad 7'!$C:$C,$D14),\"0\")","v":"0"},{"$f":"IF('Aonad 8'!$C$7=$D$60,COUNTIF('Aonad 8'!$C:$C,$D14),\"0\")","v":"0"},{"$f":"IF('Aonad 9'!$C$7=$D$60,COUNTIF('Aonad 9'!$C:$C,$D14),\"0\")","v":"0"},{"$f":"IF('Aonad 10'!$C$7=$D$60,COUNTIF('Aonad 10'!$C:$C,$D14),\"0\")","v":"0"},{"$f":"IF('Aonad 11'!$C$7=$D$60,COUNTIF('Aonad 11'!$C:$C,$D14),\"0\")","v":"0"},{"$f":"IF('Aonad 12'!$C$7=$D$60,COUNTIF('Aonad 12'!$C:$C,$D14),\"0\")","v":"0"},{"$f":"IF('Aonad 13'!$C$7=$D$60,COUNTIF('Aonad 13'!$C:$C,$D14),\"0\")","v":"0"},{"$f":"IF('Aonad 14'!$C$7=$D$60,COUNTIF('Aonad 14'!$C:$C,$D14),\"0\")","v":"0"},{"$f":"IF('Aonad 15'!$C$7=$D$60,COUNTIF('Aonad 15'!$C:$C,$D14),\"0\")","v":"0"},{"$f":"IF('Aonad 16'!$C$7=$D$60,COUNTIF('Aonad 16'!$C:$C,$D14),\"0\")","v":"0"},{"$f":"IF('Aonad 17'!$C$7=$D$60,COUNTIF('Aonad 17'!$C:$C,$D14),\"0\")","v":"0"},{"$f":"IF('Aonad 18'!$C$7=$D$60,COUNTIF('Aonad 18'!$C:$C,$D14),\"0\")","v":"0"},{"$f":"IF('Aonad 19'!$C$7=$D$60,COUNTIF('Aonad 19'!$C:$C,$D14),\"0\")","v":"0"},{"$f":"IF('Aonad 20'!$C$7=$D$60,COUNTIF('Aonad 20'!$C:$C,$D14),\"0\")","v":"0"},{"$f":"IF('Aonad 21'!$C$7=$D$60,COUNTIF('Aonad 21'!$C:$C,$D14),\"0\")","v":"0"},{"$f":"IF('Aonad 22'!$C$7=$D$60,COUNTIF('Aonad 22'!$C:$C,$D14),\"0\")","v":"0"},{"$f":"IF('Aonad 23'!$C$7=$D$60,COUNTIF('Aonad 23'!$C:$C,$D14),\"0\")","v":"0"},{"$f":"IF('Aonad 24'!$C$7=$D$60,COUNTIF('Aonad 24'!$C:$C,$D14),\"0\")","v":"0"},{"$f":"IF('Aonad 25'!$C$7=$D$60,COUNTIF('Aonad 25'!$C:$C,$D14),\"0\")","v":"0"},{"$f":"IF('Aonad 26'!$C$7=$D$60,COUNTIF('Aonad 26'!$C:$C,$D14),\"0\")","v":"0"},{"$f":"IF('Aonad 27'!$C$7=$D$60,COUNTIF('Aonad 27'!$C:$C,$D14),\"0\")","v":"0"},{"$f":"IF('Aonad 28'!$C$7=$D$60,COUNTIF('Aonad 28'!$C:$C,$D14),\"0\")","v":"0"},{"$f":"IF('Aonad 29'!$C$7=$D$60,COUNTIF('Aonad 29'!$C:$C,$D14),\"0\")","v":"0"},{"$f":"IF('Aonad 30'!$C$7=$D$60,COUNTIF('Aonad 30'!$C:$C,$D14),\"0\")","v":"0"},{"$f":"IF('Aonad 31'!$C$7=$D$60,COUNTIF('Aonad 31'!$C:$C,$D14),\"0\")","v":"0"},{"$f":"IF('Aonad 32'!$C$7=$D$60,COUNTIF('Aonad 32'!$C:$C,$D14),\"0\")","v":"0"},{"$f":"IF('Aonad 33'!$C$7=$D$60,COUNTIF('Aonad 33'!$C:$C,$D14),\"0\")","v":"0"},{"$f":"IF('Aonad 34'!$C$7=$D$60,COUNTIF('Aonad 34'!$C:$C,$D14),\"0\")","v":"0"},{"$f":"IF('Aonad 35'!$C$7=$D$60,COUNTIF('Aonad 35'!$C:$C,$D14),\"0\")","v":"0"},{"$f":"IF('Aonad 36'!$C$7=$D$60,COUNTIF('Aonad 36'!$C:$C,$D14),\"0\")","v":"0"},{"$f":"IF('Aonad 37'!$C$7=$D$60,COUNTIF('Aonad 37'!$C:$C,$D14),\"0\")","v":"0"},{"$f":"IF('Aonad 38'!$C$7=$D$60,COUNTIF('Aonad 38'!$C:$C,$D14),\"0\")","v":"0"},0]
[null,null,null,null,null,{"$f":"COUNTIF('Aonad 1'!$C:$C,$D15)","v":0},{"$f":"COUNTIF('Aonad 2'!$C:$C,$D15)","v":0},{"$f":"COUNTIF('Aonad 3'!$C:$C,$D15)","v":0},{"$f":"COUNTIF('Aonad 4'!$C:$C,$D15)","v":0},{"$f":"COUNTIF('Aonad 5'!$C:$C,$D15)","v":0},{"$f":"COUNTIF('Aonad 6'!$C:$C,$D15)","v":0},{"$f":"COUNTIF('Aonad 7'!$C:$C,$D15)","v":0},{"$f":"COUNTIF('Aonad 8'!$C:$C,$D15)","v":0},{"$f":"COUNTIF('Aonad 9'!$C:$C,$D15)","v":0},{"$f":"COUNTIF('Aonad 10'!$C:$C,$D15)","v":0},{"$f":"COUNTIF('Aonad 11'!$C:$C,$D15)","v":0},{"$f":"COUNTIF('Aonad 12'!$C:$C,$D15)","v":0},{"$f":"COUNTIF('Aonad 13'!$C:$C,$D15)","v":0},{"$f":"COUNTIF('Aonad 14'!$C:$C,$D15)","v":0},{"$f":"COUNTIF('Aonad 15'!$C:$C,$D15)","v":0},{"$f":"COUNTIF('Aonad 16'!$C:$C,$D15)","v":0},{"$f":"COUNTIF('Aonad 17'!$C:$C,$D15)","v":0},{"$f":"COUNTIF('Aonad 18'!$C:$C,$D15)","v":0},{"$f":"COUNTIF('Aonad 19'!$C:$C,$D15)","v":0},{"$f":"COUNTIF('Aonad 20'!$C:$C,$D15)","v":0},{"$f":"COUNTIF('Aonad 21'!$C:$C,$D15)","v":0},{"$f":"COUNTIF('Aonad 22'!$C:$C,$D15)","v":0},{"$f":"COUNTIF('Aonad 23'!$C:$C,$D15)","v":0},{"$f":"COUNTIF('Aonad 24'!$C:$C,$D15)","v":0},{"$f":"COUNTIF('Aonad 25'!$C:$C,$D15)","v":0},{"$f":"COUNTIF('Aonad 26'!$C:$C,$D15)","v":0},{"$f":"COUNTIF('Aonad 27'!$C:$C,$D15)","v":0},{"$f":"COUNTIF('Aonad 28'!$C:$C,$D15)","v":0},{"$f":"COUNTIF('Aonad 29'!$C:$C,$D15)","v":0},{"$f":"COUNTIF('Aonad 30'!$C:$C,$D15)","v":0},{"$f":"COUNTIF('Aonad 31'!$C:$C,$D15)","v":0},{"$f":"COUNTIF('Aonad 32'!$C:$C,$D15)","v":0},{"$f":"COUNTIF('Aonad 33'!$C:$C,$D15)","v":0},{"$f":"COUNTIF('Aonad 34'!$C:$C,$D15)","v":0},{"$f":"COUNTIF('Aonad 35'!$C:$C,$D15)","v":0},{"$f":"COUNTIF('Aonad 36'!$C:$C,$D15)","v":0},{"$f":"COUNTIF('Aonad 37'!$C:$C,$D15)","v":0},{"$f":"COUNTIF('Aonad 38'!$C:$C,$D15)","v":0},0,null,{"$f":"IF('Aonad 1'!$C$7=$D$58,COUNTIF('Aonad 1'!$C:$C,$D15),\"0\")","v":"0"},{"$f":"IF('Aonad 2'!$C$7=$D$58,COUNTIF('Aonad 2'!$C:$C,$D15),\"0\")","v":"0"},{"$f":"IF('Aonad 3'!$C$7=$D$58,COUNTIF('Aonad 3'!$C:$C,$D15),\"0\")","v":"0"},{"$f":"IF('Aonad 4'!$C$7=$D$58,COUNTIF('Aonad 4'!$C:$C,$D15),\"0\")","v":"0"},{"$f":"IF('Aonad 5'!$C$7=$D$58,COUNTIF('Aonad 5'!$C:$C,$D15),\"0\")","v":"0"},{"$f":"IF('Aonad 6'!$C$7=$D$58,COUNTIF('Aonad 6'!$C:$C,$D15),\"0\")","v":"0"},{"$f":"IF('Aonad 7'!$C$7=$D$58,COUNTIF('Aonad 7'!$C:$C,$D15),\"0\")","v":"0"},{"$f":"IF('Aonad 8'!$C$7=$D$58,COUNTIF('Aonad 8'!$C:$C,$D15),\"0\")","v":"0"},{"$f":"IF('Aonad 9'!$C$7=$D$58,COUNTIF('Aonad 9'!$C:$C,$D15),\"0\")","v":"0"},{"$f":"IF('Aonad 10'!$C$7=$D$58,COUNTIF('Aonad 10'!$C:$C,$D15),\"0\")","v":"0"},{"$f":"IF('Aonad 11'!$C$7=$D$58,COUNTIF('Aonad 11'!$C:$C,$D15),\"0\")","v":"0"},{"$f":"IF('Aonad 12'!$C$7=$D$58,COUNTIF('Aonad 12'!$C:$C,$D15),\"0\")","v":"0"},{"$f":"IF('Aonad 13'!$C$7=$D$58,COUNTIF('Aonad 13'!$C:$C,$D15),\"0\")","v":"0"},{"$f":"IF('Aonad 14'!$C$7=$D$58,COUNTIF('Aonad 14'!$C:$C,$D15),\"0\")","v":"0"},{"$f":"IF('Aonad 15'!$C$7=$D$58,COUNTIF('Aonad 15'!$C:$C,$D15),\"0\")","v":"0"},{"$f":"IF('Aonad 16'!$C$7=$D$58,COUNTIF('Aonad 16'!$C:$C,$D15),\"0\")","v":"0"},{"$f":"IF('Aonad 17'!$C$7=$D$58,COUNTIF('Aonad 17'!$C:$C,$D15),\"0\")","v":"0"},{"$f":"IF('Aonad 18'!$C$7=$D$58,COUNTIF('Aonad 18'!$C:$C,$D15),\"0\")","v":"0"},{"$f":"IF('Aonad 19'!$C$7=$D$58,COUNTIF('Aonad 19'!$C:$C,$D15),\"0\")","v":"0"},{"$f":"IF('Aonad 20'!$C$7=$D$58,COUNTIF('Aonad 20'!$C:$C,$D15),\"0\")","v":"0"},{"$f":"IF('Aonad 21'!$C$7=$D$58,COUNTIF('Aonad 21'!$C:$C,$D15),\"0\")","v":"0"},{"$f":"IF('Aonad 22'!$C$7=$D$58,COUNTIF('Aonad 22'!$C:$C,$D15),\"0\")","v":"0"},{"$f":"IF('Aonad 23'!$C$7=$D$58,COUNTIF('Aonad 23'!$C:$C,$D15),\"0\")","v":"0"},{"$f":"IF('Aonad 24'!$C$7=$D$58,COUNTIF('Aonad 24'!$C:$C,$D15),\"0\")","v":"0"},{"$f":"IF('Aonad 25'!$C$7=$D$58,COUNTIF('Aonad 25'!$C:$C,$D15),\"0\")","v":"0"},{"$f":"IF('Aonad 26'!$C$7=$D$58,COUNTIF('Aonad 26'!$C:$C,$D15),\"0\")","v":"0"},{"$f":"IF('Aonad 27'!$C$7=$D$58,COUNTIF('Aonad 27'!$C:$C,$D15),\"0\")","v":"0"},{"$f":"IF('Aonad 28'!$C$7=$D$58,COUNTIF('Aonad 28'!$C:$C,$D15),\"0\")","v":"0"},{"$f":"IF('Aonad 29'!$C$7=$D$58,COUNTIF('Aonad 29'!$C:$C,$D15),\"0\")","v":"0"},{"$f":"IF('Aonad 30'!$C$7=$D$58,COUNTIF('Aonad 30'!$C:$C,$D15),\"0\")","v":"0"},{"$f":"IF('Aonad 31'!$C$7=$D$58,COUNTIF('Aonad 31'!$C:$C,$D15),\"0\")","v":"0"},{"$f":"IF('Aonad 32'!$C$7=$D$58,COUNTIF('Aonad 32'!$C:$C,$D15),\"0\")","v":"0"},{"$f":"IF('Aonad 33'!$C$7=$D$58,COUNTIF('Aonad 33'!$C:$C,$D15),\"0\")","v":"0"},{"$f":"IF('Aonad 34'!$C$7=$D$58,COUNTIF('Aonad 34'!$C:$C,$D15),\"0\")","v":"0"},{"$f":"IF('Aonad 35'!$C$7=$D$58,COUNTIF('Aonad 35'!$C:$C,$D15),\"0\")","v":"0"},{"$f":"IF('Aonad 36'!$C$7=$D$58,COUNTIF('Aonad 36'!$C:$C,$D15),\"0\")","v":"0"},{"$f":"IF('Aonad 37'!$C$7=$D$58,COUNTIF('Aonad 37'!$C:$C,$D15),\"0\")","v":"0"},{"$f":"IF('Aonad 38'!$C$7=$D$58,COUNTIF('Aonad 38'!$C:$C,$D15),\"0\")","v":"0"},0,null,{"$f":"IF('Aonad 1'!$C$7=$D$59,COUNTIF('Aonad 1'!$C:$C,$D15),\"0\")","v":"0"},{"$f":"IF('Aonad 2'!$C$7=$D$59,COUNTIF('Aonad 2'!$C:$C,$D15),\"0\")","v":"0"},{"$f":"IF('Aonad 3'!$C$7=$D$59,COUNTIF('Aonad 3'!$C:$C,$D15),\"0\")","v":"0"},{"$f":"IF('Aonad 4'!$C$7=$D$59,COUNTIF('Aonad 4'!$C:$C,$D15),\"0\")","v":"0"},{"$f":"IF('Aonad 5'!$C$7=$D$59,COUNTIF('Aonad 5'!$C:$C,$D15),\"0\")","v":"0"},{"$f":"IF('Aonad 6'!$C$7=$D$59,COUNTIF('Aonad 6'!$C:$C,$D15),\"0\")","v":"0"},{"$f":"IF('Aonad 7'!$C$7=$D$59,COUNTIF('Aonad 7'!$C:$C,$D15),\"0\")","v":"0"},{"$f":"IF('Aonad 8'!$C$7=$D$59,COUNTIF('Aonad 8'!$C:$C,$D15),\"0\")","v":"0"},{"$f":"IF('Aonad 9'!$C$7=$D$59,COUNTIF('Aonad 9'!$C:$C,$D15),\"0\")","v":"0"},{"$f":"IF('Aonad 10'!$C$7=$D$59,COUNTIF('Aonad 10'!$C:$C,$D15),\"0\")","v":"0"},{"$f":"IF('Aonad 11'!$C$7=$D$59,COUNTIF('Aonad 11'!$C:$C,$D15),\"0\")","v":"0"},{"$f":"IF('Aonad 12'!$C$7=$D$59,COUNTIF('Aonad 12'!$C:$C,$D15),\"0\")","v":"0"},{"$f":"IF('Aonad 13'!$C$7=$D$59,COUNTIF('Aonad 13'!$C:$C,$D15),\"0\")","v":"0"},{"$f":"IF('Aonad 14'!$C$7=$D$59,COUNTIF('Aonad 14'!$C:$C,$D15),\"0\")","v":"0"},{"$f":"IF('Aonad 15'!$C$7=$D$59,COUNTIF('Aonad 15'!$C:$C,$D15),\"0\")","v":"0"},{"$f":"IF('Aonad 16'!$C$7=$D$59,COUNTIF('Aonad 16'!$C:$C,$D15),\"0\")","v":"0"},{"$f":"IF('Aonad 17'!$C$7=$D$59,COUNTIF('Aonad 17'!$C:$C,$D15),\"0\")","v":"0"},{"$f":"IF('Aonad 18'!$C$7=$D$59,COUNTIF('Aonad 18'!$C:$C,$D15),\"0\")","v":"0"},{"$f":"IF('Aonad 19'!$C$7=$D$59,COUNTIF('Aonad 19'!$C:$C,$D15),\"0\")","v":"0"},{"$f":"IF('Aonad 20'!$C$7=$D$59,COUNTIF('Aonad 20'!$C:$C,$D15),\"0\")","v":"0"},{"$f":"IF('Aonad 21'!$C$7=$D$59,COUNTIF('Aonad 21'!$C:$C,$D15),\"0\")","v":"0"},{"$f":"IF('Aonad 22'!$C$7=$D$59,COUNTIF('Aonad 22'!$C:$C,$D15),\"0\")","v":"0"},{"$f":"IF('Aonad 23'!$C$7=$D$59,COUNTIF('Aonad 23'!$C:$C,$D15),\"0\")","v":"0"},{"$f":"IF('Aonad 24'!$C$7=$D$59,COUNTIF('Aonad 24'!$C:$C,$D15),\"0\")","v":"0"},{"$f":"IF('Aonad 25'!$C$7=$D$59,COUNTIF('Aonad 25'!$C:$C,$D15),\"0\")","v":"0"},{"$f":"IF('Aonad 26'!$C$7=$D$59,COUNTIF('Aonad 26'!$C:$C,$D15),\"0\")","v":"0"},{"$f":"IF('Aonad 27'!$C$7=$D$59,COUNTIF('Aonad 27'!$C:$C,$D15),\"0\")","v":"0"},{"$f":"IF('Aonad 28'!$C$7=$D$59,COUNTIF('Aonad 28'!$C:$C,$D15),\"0\")","v":"0"},{"$f":"IF('Aonad 29'!$C$7=$D$59,COUNTIF('Aonad 29'!$C:$C,$D15),\"0\")","v":"0"},{"$f":"IF('Aonad 30'!$C$7=$D$59,COUNTIF('Aonad 30'!$C:$C,$D15),\"0\")","v":"0"},{"$f":"IF('Aonad 31'!$C$7=$D$59,COUNTIF('Aonad 31'!$C:$C,$D15),\"0\")","v":"0"},{"$f":"IF('Aonad 32'!$C$7=$D$59,COUNTIF('Aonad 32'!$C:$C,$D15),\"0\")","v":"0"},{"$f":"IF('Aonad 33'!$C$7=$D$59,COUNTIF('Aonad 33'!$C:$C,$D15),\"0\")","v":"0"},{"$f":"IF('Aonad 34'!$C$7=$D$59,COUNTIF('Aonad 34'!$C:$C,$D15),\"0\")","v":"0"},{"$f":"IF('Aonad 35'!$C$7=$D$59,COUNTIF('Aonad 35'!$C:$C,$D15),\"0\")","v":"0"},{"$f":"IF('Aonad 36'!$C$7=$D$59,COUNTIF('Aonad 36'!$C:$C,$D15),\"0\")","v":"0"},{"$f":"IF('Aonad 37'!$C$7=$D$59,COUNTIF('Aonad 37'!$C:$C,$D15),\"0\")","v":"0"},{"$f":"IF('Aonad 38'!$C$7=$D$59,COUNTIF('Aonad 38'!$C:$C,$D15),\"0\")","v":"0"},0,null,{"$f":"IF('Aonad 1'!$C$7=$D$60,COUNTIF('Aonad 1'!$C:$C,$D15),\"0\")","v":"0"},{"$f":"IF('Aonad 2'!$C$7=$D$60,COUNTIF('Aonad 2'!$C:$C,$D15),\"0\")","v":"0"},{"$f":"IF('Aonad 3'!$C$7=$D$60,COUNTIF('Aonad 3'!$C:$C,$D15),\"0\")","v":"0"},{"$f":"IF('Aonad 4'!$C$7=$D$60,COUNTIF('Aonad 4'!$C:$C,$D15),\"0\")","v":"0"},{"$f":"IF('Aonad 5'!$C$7=$D$60,COUNTIF('Aonad 5'!$C:$C,$D15),\"0\")","v":"0"},{"$f":"IF('Aonad 6'!$C$7=$D$60,COUNTIF('Aonad 6'!$C:$C,$D15),\"0\")","v":"0"},{"$f":"IF('Aonad 7'!$C$7=$D$60,COUNTIF('Aonad 7'!$C:$C,$D15),\"0\")","v":"0"},{"$f":"IF('Aonad 8'!$C$7=$D$60,COUNTIF('Aonad 8'!$C:$C,$D15),\"0\")","v":"0"},{"$f":"IF('Aonad 9'!$C$7=$D$60,COUNTIF('Aonad 9'!$C:$C,$D15),\"0\")","v":"0"},{"$f":"IF('Aonad 10'!$C$7=$D$60,COUNTIF('Aonad 10'!$C:$C,$D15),\"0\")","v":"0"},{"$f":"IF('Aonad 11'!$C$7=$D$60,COUNTIF('Aonad 11'!$C:$C,$D15),\"0\")","v":"0"},{"$f":"IF('Aonad 12'!$C$7=$D$60,COUNTIF('Aonad 12'!$C:$C,$D15),\"0\")","v":"0"},{"$f":"IF('Aonad 13'!$C$7=$D$60,COUNTIF('Aonad 13'!$C:$C,$D15),\"0\")","v":"0"},{"$f":"IF('Aonad 14'!$C$7=$D$60,COUNTIF('Aonad 14'!$C:$C,$D15),\"0\")","v":"0"},{"$f":"IF('Aonad 15'!$C$7=$D$60,COUNTIF('Aonad 15'!$C:$C,$D15),\"0\")","v":"0"},{"$f":"IF('Aonad 16'!$C$7=$D$60,COUNTIF('Aonad 16'!$C:$C,$D15),\"0\")","v":"0"},{"$f":"IF('Aonad 17'!$C$7=$D$60,COUNTIF('Aonad 17'!$C:$C,$D15),\"0\")","v":"0"},{"$f":"IF('Aonad 18'!$C$7=$D$60,COUNTIF('Aonad 18'!$C:$C,$D15),\"0\")","v":"0"},{"$f":"IF('Aonad 19'!$C$7=$D$60,COUNTIF('Aonad 19'!$C:$C,$D15),\"0\")","v":"0"},{"$f":"IF('Aonad 20'!$C$7=$D$60,COUNTIF('Aonad 20'!$C:$C,$D15),\"0\")","v":"0"},{"$f":"IF('Aonad 21'!$C$7=$D$60,COUNTIF('Aonad 21'!$C:$C,$D15),\"0\")","v":"0"},{"$f":"IF('Aonad 22'!$C$7=$D$60,COUNTIF('Aonad 22'!$C:$C,$D15),\"0\")","v":"0"},{"$f":"IF('Aonad 23'!$C$7=$D$60,COUNTIF('Aonad 23'!$C:$C,$D15),\"0\")","v":"0"},{"$f":"IF('Aonad 24'!$C$7=$D$60,COUNTIF('Aonad 24'!$C:$C,$D15),\"0\")","v":"0"},{"$f":"IF('Aonad 25'!$C$7=$D$60,COUNTIF('Aonad 25'!$C:$C,$D15),\"0\")","v":"0"},{"$f":"IF('Aonad 26'!$C$7=$D$60,COUNTIF('Aonad 26'!$C:$C,$D15),\"0\")","v":"0"},{"$f":"IF('Aonad 27'!$C$7=$D$60,COUNTIF('Aonad 27'!$C:$C,$D15),\"0\")","v":"0"},{"$f":"IF('Aonad 28'!$C$7=$D$60,COUNTIF('Aonad 28'!$C:$C,$D15),\"0\")","v":"0"},{"$f":"IF('Aonad 29'!$C$7=$D$60,COUNTIF('Aonad 29'!$C:$C,$D15),\"0\")","v":"0"},{"$f":"IF('Aonad 30'!$C$7=$D$60,COUNTIF('Aonad 30'!$C:$C,$D15),\"0\")","v":"0"},{"$f":"IF('Aonad 31'!$C$7=$D$60,COUNTIF('Aonad 31'!$C:$C,$D15),\"0\")","v":"0"},{"$f":"IF('Aonad 32'!$C$7=$D$60,COUNTIF('Aonad 32'!$C:$C,$D15),\"0\")","v":"0"},{"$f":"IF('Aonad 33'!$C$7=$D$60,COUNTIF('Aonad 33'!$C:$C,$D15),\"0\")","v":"0"},{"$f":"IF('Aonad 34'!$C$7=$D$60,COUNTIF('Aonad 34'!$C:$C,$D15),\"0\")","v":"0"},{"$f":"IF('Aonad 35'!$C$7=$D$60,COUNTIF('Aonad 35'!$C:$C,$D15),\"0\")","v":"0"},{"$f":"IF('Aonad 36'!$C$7=$D$60,COUNTIF('Aonad 36'!$C:$C,$D15),\"0\")","v":"0"},{"$f":"IF('Aonad 37'!$C$7=$D$60,COUNTIF('Aonad 37'!$C:$C,$D15),\"0\")","v":"0"},{"$f":"IF('Aonad 38'!$C$7=$D$60,COUNTIF('Aonad 38'!$C:$C,$D15),\"0\")","v":"0"},0]
[null,"Pleanáil, bainistiú agus cruthú","1.8","1.8 plean a fhorbairt chun réiteach a thabhairt chun críche","Forbair: píosa oibre nó smaoineamh a fhorbairt ón staid tosaigh go dtí staid níos faide ar aghaidh",{"$f":"COUNTIF('Aonad 1'!$C:$C,$D16)","v":0},{"$f":"COUNTIF('Aonad 2'!$C:$C,$D16)","v":0},{"$f":"COUNTIF('Aonad 3'!$C:$C,$D16)","v":0},{"$f":"COUNTIF('Aonad 4'!$C:$C,$D16)","v":0},{"$f":"COUNTIF('Aonad 5'!$C:$C,$D16)","v":0},{"$f":"COUNTIF('Aonad 6'!$C:$C,$D16)","v":0},{"$f":"COUNTIF('Aonad 7'!$C:$C,$D16)","v":0},{"$f":"COUNTIF('Aonad 8'!$C:$C,$D16)","v":0},{"$f":"COUNTIF('Aonad 9'!$C:$C,$D16)","v":0},{"$f":"COUNTIF('Aonad 10'!$C:$C,$D16)","v":0},{"$f":"COUNTIF('Aonad 11'!$C:$C,$D16)","v":0},{"$f":"COUNTIF('Aonad 12'!$C:$C,$D16)","v":0},{"$f":"COUNTIF('Aonad 13'!$C:$C,$D16)","v":0},{"$f":"COUNTIF('Aonad 14'!$C:$C,$D16)","v":0},{"$f":"COUNTIF('Aonad 15'!$C:$C,$D16)","v":0},{"$f":"COUNTIF('Aonad 16'!$C:$C,$D16)","v":0},{"$f":"COUNTIF('Aonad 17'!$C:$C,$D16)","v":0},{"$f":"COUNTIF('Aonad 18'!$C:$C,$D16)","v":0},{"$f":"COUNTIF('Aonad 19'!$C:$C,$D16)","v":0},{"$f":"COUNTIF('Aonad 20'!$C:$C,$D16)","v":0},{"$f":"COUNTIF('Aonad 21'!$C:$C,$D16)","v":0},{"$f":"COUNTIF('Aonad 22'!$C:$C,$D16)","v":0},{"$f":"COUNTIF('Aonad 23'!$C:$C,$D16)","v":0},{"$f":"COUNTIF('Aonad 24'!$C:$C,$D16)","v":0},{"$f":"COUNTIF('Aonad 25'!$C:$C,$D16)","v":0},{"$f":"COUNTIF('Aonad 26'!$C:$C,$D16)","v":0},{"$f":"COUNTIF('Aonad 27'!$C:$C,$D16)","v":0},{"$f":"COUNTIF('Aonad 28'!$C:$C,$D16)","v":0},{"$f":"COUNTIF('Aonad 29'!$C:$C,$D16)","v":0},{"$f":"COUNTIF('Aonad 30'!$C:$C,$D16)","v":0},{"$f":"COUNTIF('Aonad 31'!$C:$C,$D16)","v":0},{"$f":"COUNTIF('Aonad 32'!$C:$C,$D16)","v":0},{"$f":"COUNTIF('Aonad 33'!$C:$C,$D16)","v":0},{"$f":"COUNTIF('Aonad 34'!$C:$C,$D16)","v":0},{"$f":"COUNTIF('Aonad 35'!$C:$C,$D16)","v":0},{"$f":"COUNTIF('Aonad 36'!$C:$C,$D16)","v":0},{"$f":"COUNTIF('Aonad 37'!$C:$C,$D16)","v":0},{"$f":"COUNTIF('Aonad 38'!$C:$C,$D16)","v":0},0,null,{"$f":"IF('Aonad 1'!$C$7=$D$58,COUNTIF('Aonad 1'!$C:$C,$D16),\"0\")","v":"0"},{"$f":"IF('Aonad 2'!$C$7=$D$58,COUNTIF('Aonad 2'!$C:$C,$D16),\"0\")","v":"0"},{"$f":"IF('Aonad 3'!$C$7=$D$58,COUNTIF('Aonad 3'!$C:$C,$D16),\"0\")","v":"0"},{"$f":"IF('Aonad 4'!$C$7=$D$58,COUNTIF('Aonad 4'!$C:$C,$D16),\"0\")","v":"0"},{"$f":"IF('Aonad 5'!$C$7=$D$58,COUNTIF('Aonad 5'!$C:$C,$D16),\"0\")","v":"0"},{"$f":"IF('Aonad 6'!$C$7=$D$58,COUNTIF('Aonad 6'!$C:$C,$D16),\"0\")","v":"0"},{"$f":"IF('Aonad 7'!$C$7=$D$58,COUNTIF('Aonad 7'!$C:$C,$D16),\"0\")","v":"0"},{"$f":"IF('Aonad 8'!$C$7=$D$58,COUNTIF('Aonad 8'!$C:$C,$D16),\"0\")","v":"0"},{"$f":"IF('Aonad 9'!$C$7=$D$58,COUNTIF('Aonad 9'!$C:$C,$D16),\"0\")","v":"0"},{"$f":"IF('Aonad 10'!$C$7=$D$58,COUNTIF('Aonad 10'!$C:$C,$D16),\"0\")","v":"0"},{"$f":"IF('Aonad 11'!$C$7=$D$58,COUNTIF('Aonad 11'!$C:$C,$D16),\"0\")","v":"0"},{"$f":"IF('Aonad 12'!$C$7=$D$58,COUNTIF('Aonad 12'!$C:$C,$D16),\"0\")","v":"0"},{"$f":"IF('Aonad 13'!$C$7=$D$58,COUNTIF('Aonad 13'!$C:$C,$D16),\"0\")","v":"0"},{"$f":"IF('Aonad 14'!$C$7=$D$58,COUNTIF('Aonad 14'!$C:$C,$D16),\"0\")","v":"0"},{"$f":"IF('Aonad 15'!$C$7=$D$58,COUNTIF('Aonad 15'!$C:$C,$D16),\"0\")","v":"0"},{"$f":"IF('Aonad 16'!$C$7=$D$58,COUNTIF('Aonad 16'!$C:$C,$D16),\"0\")","v":"0"},{"$f":"IF('Aonad 17'!$C$7=$D$58,COUNTIF('Aonad 17'!$C:$C,$D16),\"0\")","v":"0"},{"$f":"IF('Aonad 18'!$C$7=$D$58,COUNTIF('Aonad 18'!$C:$C,$D16),\"0\")","v":"0"},{"$f":"IF('Aonad 19'!$C$7=$D$58,COUNTIF('Aonad 19'!$C:$C,$D16),\"0\")","v":"0"},{"$f":"IF('Aonad 20'!$C$7=$D$58,COUNTIF('Aonad 20'!$C:$C,$D16),\"0\")","v":"0"},{"$f":"IF('Aonad 21'!$C$7=$D$58,COUNTIF('Aonad 21'!$C:$C,$D16),\"0\")","v":"0"},{"$f":"IF('Aonad 22'!$C$7=$D$58,COUNTIF('Aonad 22'!$C:$C,$D16),\"0\")","v":"0"},{"$f":"IF('Aonad 23'!$C$7=$D$58,COUNTIF('Aonad 23'!$C:$C,$D16),\"0\")","v":"0"},{"$f":"IF('Aonad 24'!$C$7=$D$58,COUNTIF('Aonad 24'!$C:$C,$D16),\"0\")","v":"0"},{"$f":"IF('Aonad 25'!$C$7=$D$58,COUNTIF('Aonad 25'!$C:$C,$D16),\"0\")","v":"0"},{"$f":"IF('Aonad 26'!$C$7=$D$58,COUNTIF('Aonad 26'!$C:$C,$D16),\"0\")","v":"0"},{"$f":"IF('Aonad 27'!$C$7=$D$58,COUNTIF('Aonad 27'!$C:$C,$D16),\"0\")","v":"0"},{"$f":"IF('Aonad 28'!$C$7=$D$58,COUNTIF('Aonad 28'!$C:$C,$D16),\"0\")","v":"0"},{"$f":"IF('Aonad 29'!$C$7=$D$58,COUNTIF('Aonad 29'!$C:$C,$D16),\"0\")","v":"0"},{"$f":"IF('Aonad 30'!$C$7=$D$58,COUNTIF('Aonad 30'!$C:$C,$D16),\"0\")","v":"0"},{"$f":"IF('Aonad 31'!$C$7=$D$58,COUNTIF('Aonad 31'!$C:$C,$D16),\"0\")","v":"0"},{"$f":"IF('Aonad 32'!$C$7=$D$58,COUNTIF('Aonad 32'!$C:$C,$D16),\"0\")","v":"0"},{"$f":"IF('Aonad 33'!$C$7=$D$58,COUNTIF('Aonad 33'!$C:$C,$D16),\"0\")","v":"0"},{"$f":"IF('Aonad 34'!$C$7=$D$58,COUNTIF('Aonad 34'!$C:$C,$D16),\"0\")","v":"0"},{"$f":"IF('Aonad 35'!$C$7=$D$58,COUNTIF('Aonad 35'!$C:$C,$D16),\"0\")","v":"0"},{"$f":"IF('Aonad 36'!$C$7=$D$58,COUNTIF('Aonad 36'!$C:$C,$D16),\"0\")","v":"0"},{"$f":"IF('Aonad 37'!$C$7=$D$58,COUNTIF('Aonad 37'!$C:$C,$D16),\"0\")","v":"0"},{"$f":"IF('Aonad 38'!$C$7=$D$58,COUNTIF('Aonad 38'!$C:$C,$D16),\"0\")","v":"0"},0,null,{"$f":"IF('Aonad 1'!$C$7=$D$59,COUNTIF('Aonad 1'!$C:$C,$D16),\"0\")","v":"0"},{"$f":"IF('Aonad 2'!$C$7=$D$59,COUNTIF('Aonad 2'!$C:$C,$D16),\"0\")","v":"0"},{"$f":"IF('Aonad 3'!$C$7=$D$59,COUNTIF('Aonad 3'!$C:$C,$D16),\"0\")","v":"0"},{"$f":"IF('Aonad 4'!$C$7=$D$59,COUNTIF('Aonad 4'!$C:$C,$D16),\"0\")","v":"0"},{"$f":"IF('Aonad 5'!$C$7=$D$59,COUNTIF('Aonad 5'!$C:$C,$D16),\"0\")","v":"0"},{"$f":"IF('Aonad 6'!$C$7=$D$59,COUNTIF('Aonad 6'!$C:$C,$D16),\"0\")","v":"0"},{"$f":"IF('Aonad 7'!$C$7=$D$59,COUNTIF('Aonad 7'!$C:$C,$D16),\"0\")","v":"0"},{"$f":"IF('Aonad 8'!$C$7=$D$59,COUNTIF('Aonad 8'!$C:$C,$D16),\"0\")","v":"0"},{"$f":"IF('Aonad 9'!$C$7=$D$59,COUNTIF('Aonad 9'!$C:$C,$D16),\"0\")","v":"0"},{"$f":"IF('Aonad 10'!$C$7=$D$59,COUNTIF('Aonad 10'!$C:$C,$D16),\"0\")","v":"0"},{"$f":"IF('Aonad 11'!$C$7=$D$59,COUNTIF('Aonad 11'!$C:$C,$D16),\"0\")","v":"0"},{"$f":"IF('Aonad 12'!$C$7=$D$59,COUNTIF('Aonad 12'!$C:$C,$D16),\"0\")","v":"0"},{"$f":"IF('Aonad 13'!$C$7=$D$59,COUNTIF('Aonad 13'!$C:$C,$D16),\"0\")","v":"0"},{"$f":"IF('Aonad 14'!$C$7=$D$59,COUNTIF('Aonad 14'!$C:$C,$D16),\"0\")","v":"0"},{"$f":"IF('Aonad 15'!$C$7=$D$59,COUNTIF('Aonad 15'!$C:$C,$D16),\"0\")","v":"0"},{"$f":"IF('Aonad 16'!$C$7=$D$59,COUNTIF('Aonad 16'!$C:$C,$D16),\"0\")","v":"0"},{"$f":"IF('Aonad 17'!$C$7=$D$59,COUNTIF('Aonad 17'!$C:$C,$D16),\"0\")","v":"0"},{"$f":"IF('Aonad 18'!$C$7=$D$59,COUNTIF('Aonad 18'!$C:$C,$D16),\"0\")","v":"0"},{"$f":"IF('Aonad 19'!$C$7=$D$59,COUNTIF('Aonad 19'!$C:$C,$D16),\"0\")","v":"0"},{"$f":"IF('Aonad 20'!$C$7=$D$59,COUNTIF('Aonad 20'!$C:$C,$D16),\"0\")","v":"0"},{"$f":"IF('Aonad 21'!$C$7=$D$59,COUNTIF('Aonad 21'!$C:$C,$D16),\"0\")","v":"0"},{"$f":"IF('Aonad 22'!$C$7=$D$59,COUNTIF('Aonad 22'!$C:$C,$D16),\"0\")","v":"0"},{"$f":"IF('Aonad 23'!$C$7=$D$59,COUNTIF('Aonad 23'!$C:$C,$D16),\"0\")","v":"0"},{"$f":"IF('Aonad 24'!$C$7=$D$59,COUNTIF('Aonad 24'!$C:$C,$D16),\"0\")","v":"0"},{"$f":"IF('Aonad 25'!$C$7=$D$59,COUNTIF('Aonad 25'!$C:$C,$D16),\"0\")","v":"0"},{"$f":"IF('Aonad 26'!$C$7=$D$59,COUNTIF('Aonad 26'!$C:$C,$D16),\"0\")","v":"0"},{"$f":"IF('Aonad 27'!$C$7=$D$59,COUNTIF('Aonad 27'!$C:$C,$D16),\"0\")","v":"0"},{"$f":"IF('Aonad 28'!$C$7=$D$59,COUNTIF('Aonad 28'!$C:$C,$D16),\"0\")","v":"0"},{"$f":"IF('Aonad 29'!$C$7=$D$59,COUNTIF('Aonad 29'!$C:$C,$D16),\"0\")","v":"0"},{"$f":"IF('Aonad 30'!$C$7=$D$59,COUNTIF('Aonad 30'!$C:$C,$D16),\"0\")","v":"0"},{"$f":"IF('Aonad 31'!$C$7=$D$59,COUNTIF('Aonad 31'!$C:$C,$D16),\"0\")","v":"0"},{"$f":"IF('Aonad 32'!$C$7=$D$59,COUNTIF('Aonad 32'!$C:$C,$D16),\"0\")","v":"0"},{"$f":"IF('Aonad 33'!$C$7=$D$59,COUNTIF('Aonad 33'!$C:$C,$D16),\"0\")","v":"0"},{"$f":"IF('Aonad 34'!$C$7=$D$59,COUNTIF('Aonad 34'!$C:$C,$D16),\"0\")","v":"0"},{"$f":"IF('Aonad 35'!$C$7=$D$59,COUNTIF('Aonad 35'!$C:$C,$D16),\"0\")","v":"0"},{"$f":"IF('Aonad 36'!$C$7=$D$59,COUNTIF('Aonad 36'!$C:$C,$D16),\"0\")","v":"0"},{"$f":"IF('Aonad 37'!$C$7=$D$59,COUNTIF('Aonad 37'!$C:$C,$D16),\"0\")","v":"0"},{"$f":"IF('Aonad 38'!$C$7=$D$59,COUNTIF('Aonad 38'!$C:$C,$D16),\"0\")","v":"0"},0,null,{"$f":"IF('Aonad 1'!$C$7=$D$60,COUNTIF('Aonad 1'!$C:$C,$D16),\"0\")","v":"0"},{"$f":"IF('Aonad 2'!$C$7=$D$60,COUNTIF('Aonad 2'!$C:$C,$D16),\"0\")","v":"0"},{"$f":"IF('Aonad 3'!$C$7=$D$60,COUNTIF('Aonad 3'!$C:$C,$D16),\"0\")","v":"0"},{"$f":"IF('Aonad 4'!$C$7=$D$60,COUNTIF('Aonad 4'!$C:$C,$D16),\"0\")","v":"0"},{"$f":"IF('Aonad 5'!$C$7=$D$60,COUNTIF('Aonad 5'!$C:$C,$D16),\"0\")","v":"0"},{"$f":"IF('Aonad 6'!$C$7=$D$60,COUNTIF('Aonad 6'!$C:$C,$D16),\"0\")","v":"0"},{"$f":"IF('Aonad 7'!$C$7=$D$60,COUNTIF('Aonad 7'!$C:$C,$D16),\"0\")","v":"0"},{"$f":"IF('Aonad 8'!$C$7=$D$60,COUNTIF('Aonad 8'!$C:$C,$D16),\"0\")","v":"0"},{"$f":"IF('Aonad 9'!$C$7=$D$60,COUNTIF('Aonad 9'!$C:$C,$D16),\"0\")","v":"0"},{"$f":"IF('Aonad 10'!$C$7=$D$60,COUNTIF('Aonad 10'!$C:$C,$D16),\"0\")","v":"0"},{"$f":"IF('Aonad 11'!$C$7=$D$60,COUNTIF('Aonad 11'!$C:$C,$D16),\"0\")","v":"0"},{"$f":"IF('Aonad 12'!$C$7=$D$60,COUNTIF('Aonad 12'!$C:$C,$D16),\"0\")","v":"0"},{"$f":"IF('Aonad 13'!$C$7=$D$60,COUNTIF('Aonad 13'!$C:$C,$D16),\"0\")","v":"0"},{"$f":"IF('Aonad 14'!$C$7=$D$60,COUNTIF('Aonad 14'!$C:$C,$D16),\"0\")","v":"0"},{"$f":"IF('Aonad 15'!$C$7=$D$60,COUNTIF('Aonad 15'!$C:$C,$D16),\"0\")","v":"0"},{"$f":"IF('Aonad 16'!$C$7=$D$60,COUNTIF('Aonad 16'!$C:$C,$D16),\"0\")","v":"0"},{"$f":"IF('Aonad 17'!$C$7=$D$60,COUNTIF('Aonad 17'!$C:$C,$D16),\"0\")","v":"0"},{"$f":"IF('Aonad 18'!$C$7=$D$60,COUNTIF('Aonad 18'!$C:$C,$D16),\"0\")","v":"0"},{"$f":"IF('Aonad 19'!$C$7=$D$60,COUNTIF('Aonad 19'!$C:$C,$D16),\"0\")","v":"0"},{"$f":"IF('Aonad 20'!$C$7=$D$60,COUNTIF('Aonad 20'!$C:$C,$D16),\"0\")","v":"0"},{"$f":"IF('Aonad 21'!$C$7=$D$60,COUNTIF('Aonad 21'!$C:$C,$D16),\"0\")","v":"0"},{"$f":"IF('Aonad 22'!$C$7=$D$60,COUNTIF('Aonad 22'!$C:$C,$D16),\"0\")","v":"0"},{"$f":"IF('Aonad 23'!$C$7=$D$60,COUNTIF('Aonad 23'!$C:$C,$D16),\"0\")","v":"0"},{"$f":"IF('Aonad 24'!$C$7=$D$60,COUNTIF('Aonad 24'!$C:$C,$D16),\"0\")","v":"0"},{"$f":"IF('Aonad 25'!$C$7=$D$60,COUNTIF('Aonad 25'!$C:$C,$D16),\"0\")","v":"0"},{"$f":"IF('Aonad 26'!$C$7=$D$60,COUNTIF('Aonad 26'!$C:$C,$D16),\"0\")","v":"0"},{"$f":"IF('Aonad 27'!$C$7=$D$60,COUNTIF('Aonad 27'!$C:$C,$D16),\"0\")","v":"0"},{"$f":"IF('Aonad 28'!$C$7=$D$60,COUNTIF('Aonad 28'!$C:$C,$D16),\"0\")","v":"0"},{"$f":"IF('Aonad 29'!$C$7=$D$60,COUNTIF('Aonad 29'!$C:$C,$D16),\"0\")","v":"0"},{"$f":"IF('Aonad 30'!$C$7=$D$60,COUNTIF('Aonad 30'!$C:$C,$D16),\"0\")","v":"0"},{"$f":"IF('Aonad 31'!$C$7=$D$60,COUNTIF('Aonad 31'!$C:$C,$D16),\"0\")","v":"0"},{"$f":"IF('Aonad 32'!$C$7=$D$60,COUNTIF('Aonad 32'!$C:$C,$D16),\"0\")","v":"0"},{"$f":"IF('Aonad 33'!$C$7=$D$60,COUNTIF('Aonad 33'!$C:$C,$D16),\"0\")","v":"0"},{"$f":"IF('Aonad 34'!$C$7=$D$60,COUNTIF('Aonad 34'!$C:$C,$D16),\"0\")","v":"0"},{"$f":"IF('Aonad 35'!$C$7=$D$60,COUNTIF('Aonad 35'!$C:$C,$D16),\"0\")","v":"0"},{"$f":"IF('Aonad 36'!$C$7=$D$60,COUNTIF('Aonad 36'!$C:$C,$D16),\"0\")","v":"0"},{"$f":"IF('Aonad 37'!$C$7=$D$60,COUNTIF('Aonad 37'!$C:$C,$D16),\"0\")","v":"0"},{"$f":"IF('Aonad 38'!$C$7=$D$60,COUNTIF('Aonad 38'!$C:$C,$D16),\"0\")","v":"0"},0]
[null,null,"1.9","1.9 ábhair, trealamh agus próisis chuí a roghnú chun fadhb a réiteach","Roghnaigh: rud a phiocadh go cúramach mar gurb é an rud is fearr nó is oiriúnaí as dhá rogha nó níos mó.",{"$f":"COUNTIF('Aonad 1'!$C:$C,$D17)","v":0},{"$f":"COUNTIF('Aonad 2'!$C:$C,$D17)","v":0},{"$f":"COUNTIF('Aonad 3'!$C:$C,$D17)","v":0},{"$f":"COUNTIF('Aonad 4'!$C:$C,$D17)","v":0},{"$f":"COUNTIF('Aonad 5'!$C:$C,$D17)","v":0},{"$f":"COUNTIF('Aonad 6'!$C:$C,$D17)","v":0},{"$f":"COUNTIF('Aonad 7'!$C:$C,$D17)","v":0},{"$f":"COUNTIF('Aonad 8'!$C:$C,$D17)","v":0},{"$f":"COUNTIF('Aonad 9'!$C:$C,$D17)","v":0},{"$f":"COUNTIF('Aonad 10'!$C:$C,$D17)","v":0},{"$f":"COUNTIF('Aonad 11'!$C:$C,$D17)","v":0},{"$f":"COUNTIF('Aonad 12'!$C:$C,$D17)","v":0},{"$f":"COUNTIF('Aonad 13'!$C:$C,$D17)","v":0},{"$f":"COUNTIF('Aonad 14'!$C:$C,$D17)","v":0},{"$f":"COUNTIF('Aonad 15'!$C:$C,$D17)","v":0},{"$f":"COUNTIF('Aonad 16'!$C:$C,$D17)","v":0},{"$f":"COUNTIF('Aonad 17'!$C:$C,$D17)","v":0},{"$f":"COUNTIF('Aonad 18'!$C:$C,$D17)","v":0},{"$f":"COUNTIF('Aonad 19'!$C:$C,$D17)","v":0},{"$f":"COUNTIF('Aonad 20'!$C:$C,$D17)","v":0},{"$f":"COUNTIF('Aonad 21'!$C:$C,$D17)","v":0},{"$f":"COUNTIF('Aonad 22'!$C:$C,$D17)","v":0},{"$f":"COUNTIF('Aonad 23'!$C:$C,$D17)","v":0},{"$f":"COUNTIF('Aonad 24'!$C:$C,$D17)","v":0},{"$f":"COUNTIF('Aonad 25'!$C:$C,$D17)","v":0},{"$f":"COUNTIF('Aonad 26'!$C:$C,$D17)","v":0},{"$f":"COUNTIF('Aonad 27'!$C:$C,$D17)","v":0},{"$f":"COUNTIF('Aonad 28'!$C:$C,$D17)","v":0},{"$f":"COUNTIF('Aonad 29'!$C:$C,$D17)","v":0},{"$f":"COUNTIF('Aonad 30'!$C:$C,$D17)","v":0},{"$f":"COUNTIF('Aonad 31'!$C:$C,$D17)","v":0},{"$f":"COUNTIF('Aonad 32'!$C:$C,$D17)","v":0},{"$f":"COUNTIF('Aonad 33'!$C:$C,$D17)","v":0},{"$f":"COUNTIF('Aonad 34'!$C:$C,$D17)","v":0},{"$f":"COUNTIF('Aonad 35'!$C:$C,$D17)","v":0},{"$f":"COUNTIF('Aonad 36'!$C:$C,$D17)","v":0},{"$f":"COUNTIF('Aonad 37'!$C:$C,$D17)","v":0},{"$f":"COUNTIF('Aonad 38'!$C:$C,$D17)","v":0},0,null,{"$f":"IF('Aonad 1'!$C$7=$D$58,COUNTIF('Aonad 1'!$C:$C,$D17),\"0\")","v":"0"},{"$f":"IF('Aonad 2'!$C$7=$D$58,COUNTIF('Aonad 2'!$C:$C,$D17),\"0\")","v":"0"},{"$f":"IF('Aonad 3'!$C$7=$D$58,COUNTIF('Aonad 3'!$C:$C,$D17),\"0\")","v":"0"},{"$f":"IF('Aonad 4'!$C$7=$D$58,COUNTIF('Aonad 4'!$C:$C,$D17),\"0\")","v":"0"},{"$f":"IF('Aonad 5'!$C$7=$D$58,COUNTIF('Aonad 5'!$C:$C,$D17),\"0\")","v":"0"},{"$f":"IF('Aonad 6'!$C$7=$D$58,COUNTIF('Aonad 6'!$C:$C,$D17),\"0\")","v":"0"},{"$f":"IF('Aonad 7'!$C$7=$D$58,COUNTIF('Aonad 7'!$C:$C,$D17),\"0\")","v":"0"},{"$f":"IF('Aonad 8'!$C$7=$D$58,COUNTIF('Aonad 8'!$C:$C,$D17),\"0\")","v":"0"},{"$f":"IF('Aonad 9'!$C$7=$D$58,COUNTIF('Aonad 9'!$C:$C,$D17),\"0\")","v":"0"},{"$f":"IF('Aonad 10'!$C$7=$D$58,COUNTIF('Aonad 10'!$C:$C,$D17),\"0\")","v":"0"},{"$f":"IF('Aonad 11'!$C$7=$D$58,COUNTIF('Aonad 11'!$C:$C,$D17),\"0\")","v":"0"},{"$f":"IF('Aonad 12'!$C$7=$D$58,COUNTIF('Aonad 12'!$C:$C,$D17),\"0\")","v":"0"},{"$f":"IF('Aonad 13'!$C$7=$D$58,COUNTIF('Aonad 13'!$C:$C,$D17),\"0\")","v":"0"},{"$f":"IF('Aonad 14'!$C$7=$D$58,COUNTIF('Aonad 14'!$C:$C,$D17),\"0\")","v":"0"},{"$f":"IF('Aonad 15'!$C$7=$D$58,COUNTIF('Aonad 15'!$C:$C,$D17),\"0\")","v":"0"},{"$f":"IF('Aonad 16'!$C$7=$D$58,COUNTIF('Aonad 16'!$C:$C,$D17),\"0\")","v":"0"},{"$f":"IF('Aonad 17'!$C$7=$D$58,COUNTIF('Aonad 17'!$C:$C,$D17),\"0\")","v":"0"},{"$f":"IF('Aonad 18'!$C$7=$D$58,COUNTIF('Aonad 18'!$C:$C,$D17),\"0\")","v":"0"},{"$f":"IF('Aonad 19'!$C$7=$D$58,COUNTIF('Aonad 19'!$C:$C,$D17),\"0\")","v":"0"},{"$f":"IF('Aonad 20'!$C$7=$D$58,COUNTIF('Aonad 20'!$C:$C,$D17),\"0\")","v":"0"},{"$f":"IF('Aonad 21'!$C$7=$D$58,COUNTIF('Aonad 21'!$C:$C,$D17),\"0\")","v":"0"},{"$f":"IF('Aonad 22'!$C$7=$D$58,COUNTIF('Aonad 22'!$C:$C,$D17),\"0\")","v":"0"},{"$f":"IF('Aonad 23'!$C$7=$D$58,COUNTIF('Aonad 23'!$C:$C,$D17),\"0\")","v":"0"},{"$f":"IF('Aonad 24'!$C$7=$D$58,COUNTIF('Aonad 24'!$C:$C,$D17),\"0\")","v":"0"},{"$f":"IF('Aonad 25'!$C$7=$D$58,COUNTIF('Aonad 25'!$C:$C,$D17),\"0\")","v":"0"},{"$f":"IF('Aonad 26'!$C$7=$D$58,COUNTIF('Aonad 26'!$C:$C,$D17),\"0\")","v":"0"},{"$f":"IF('Aonad 27'!$C$7=$D$58,COUNTIF('Aonad 27'!$C:$C,$D17),\"0\")","v":"0"},{"$f":"IF('Aonad 28'!$C$7=$D$58,COUNTIF('Aonad 28'!$C:$C,$D17),\"0\")","v":"0"},{"$f":"IF('Aonad 29'!$C$7=$D$58,COUNTIF('Aonad 29'!$C:$C,$D17),\"0\")","v":"0"},{"$f":"IF('Aonad 30'!$C$7=$D$58,COUNTIF('Aonad 30'!$C:$C,$D17),\"0\")","v":"0"},{"$f":"IF('Aonad 31'!$C$7=$D$58,COUNTIF('Aonad 31'!$C:$C,$D17),\"0\")","v":"0"},{"$f":"IF('Aonad 32'!$C$7=$D$58,COUNTIF('Aonad 32'!$C:$C,$D17),\"0\")","v":"0"},{"$f":"IF('Aonad 33'!$C$7=$D$58,COUNTIF('Aonad 33'!$C:$C,$D17),\"0\")","v":"0"},{"$f":"IF('Aonad 34'!$C$7=$D$58,COUNTIF('Aonad 34'!$C:$C,$D17),\"0\")","v":"0"},{"$f":"IF('Aonad 35'!$C$7=$D$58,COUNTIF('Aonad 35'!$C:$C,$D17),\"0\")","v":"0"},{"$f":"IF('Aonad 36'!$C$7=$D$58,COUNTIF('Aonad 36'!$C:$C,$D17),\"0\")","v":"0"},{"$f":"IF('Aonad 37'!$C$7=$D$58,COUNTIF('Aonad 37'!$C:$C,$D17),\"0\")","v":"0"},{"$f":"IF('Aonad 38'!$C$7=$D$58,COUNTIF('Aonad 38'!$C:$C,$D17),\"0\")","v":"0"},0,null,{"$f":"IF('Aonad 1'!$C$7=$D$59,COUNTIF('Aonad 1'!$C:$C,$D17),\"0\")","v":"0"},{"$f":"IF('Aonad 2'!$C$7=$D$59,COUNTIF('Aonad 2'!$C:$C,$D17),\"0\")","v":"0"},{"$f":"IF('Aonad 3'!$C$7=$D$59,COUNTIF('Aonad 3'!$C:$C,$D17),\"0\")","v":"0"},{"$f":"IF('Aonad 4'!$C$7=$D$59,COUNTIF('Aonad 4'!$C:$C,$D17),\"0\")","v":"0"},{"$f":"IF('Aonad 5'!$C$7=$D$59,COUNTIF('Aonad 5'!$C:$C,$D17),\"0\")","v":"0"},{"$f":"IF('Aonad 6'!$C$7=$D$59,COUNTIF('Aonad 6'!$C:$C,$D17),\"0\")","v":"0"},{"$f":"IF('Aonad 7'!$C$7=$D$59,COUNTIF('Aonad 7'!$C:$C,$D17),\"0\")","v":"0"},{"$f":"IF('Aonad 8'!$C$7=$D$59,COUNTIF('Aonad 8'!$C:$C,$D17),\"0\")","v":"0"},{"$f":"IF('Aonad 9'!$C$7=$D$59,COUNTIF('Aonad 9'!$C:$C,$D17),\"0\")","v":"0"},{"$f":"IF('Aonad 10'!$C$7=$D$59,COUNTIF('Aonad 10'!$C:$C,$D17),\"0\")","v":"0"},{"$f":"IF('Aonad 11'!$C$7=$D$59,COUNTIF('Aonad 11'!$C:$C,$D17),\"0\")","v":"0"},{"$f":"IF('Aonad 12'!$C$7=$D$59,COUNTIF('Aonad 12'!$C:$C,$D17),\"0\")","v":"0"},{"$f":"IF('Aonad 13'!$C$7=$D$59,COUNTIF('Aonad 13'!$C:$C,$D17),\"0\")","v":"0"},{"$f":"IF('Aonad 14'!$C$7=$D$59,COUNTIF('Aonad 14'!$C:$C,$D17),\"0\")","v":"0"},{"$f":"IF('Aonad 15'!$C$7=$D$59,COUNTIF('Aonad 15'!$C:$C,$D17),\"0\")","v":"0"},{"$f":"IF('Aonad 16'!$C$7=$D$59,COUNTIF('Aonad 16'!$C:$C,$D17),\"0\")","v":"0"},{"$f":"IF('Aonad 17'!$C$7=$D$59,COUNTIF('Aonad 17'!$C:$C,$D17),\"0\")","v":"0"},{"$f":"IF('Aonad 18'!$C$7=$D$59,COUNTIF('Aonad 18'!$C:$C,$D17),\"0\")","v":"0"},{"$f":"IF('Aonad 19'!$C$7=$D$59,COUNTIF('Aonad 19'!$C:$C,$D17),\"0\")","v":"0"},{"$f":"IF('Aonad 20'!$C$7=$D$59,COUNTIF('Aonad 20'!$C:$C,$D17),\"0\")","v":"0"},{"$f":"IF('Aonad 21'!$C$7=$D$59,COUNTIF('Aonad 21'!$C:$C,$D17),\"0\")","v":"0"},{"$f":"IF('Aonad 22'!$C$7=$D$59,COUNTIF('Aonad 22'!$C:$C,$D17),\"0\")","v":"0"},{"$f":"IF('Aonad 23'!$C$7=$D$59,COUNTIF('Aonad 23'!$C:$C,$D17),\"0\")","v":"0"},{"$f":"IF('Aonad 24'!$C$7=$D$59,COUNTIF('Aonad 24'!$C:$C,$D17),\"0\")","v":"0"},{"$f":"IF('Aonad 25'!$C$7=$D$59,COUNTIF('Aonad 25'!$C:$C,$D17),\"0\")","v":"0"},{"$f":"IF('Aonad 26'!$C$7=$D$59,COUNTIF('Aonad 26'!$C:$C,$D17),\"0\")","v":"0"},{"$f":"IF('Aonad 27'!$C$7=$D$59,COUNTIF('Aonad 27'!$C:$C,$D17),\"0\")","v":"0"},{"$f":"IF('Aonad 28'!$C$7=$D$59,COUNTIF('Aonad 28'!$C:$C,$D17),\"0\")","v":"0"},{"$f":"IF('Aonad 29'!$C$7=$D$59,COUNTIF('Aonad 29'!$C:$C,$D17),\"0\")","v":"0"},{"$f":"IF('Aonad 30'!$C$7=$D$59,COUNTIF('Aonad 30'!$C:$C,$D17),\"0\")","v":"0"},{"$f":"IF('Aonad 31'!$C$7=$D$59,COUNTIF('Aonad 31'!$C:$C,$D17),\"0\")","v":"0"},{"$f":"IF('Aonad 32'!$C$7=$D$59,COUNTIF('Aonad 32'!$C:$C,$D17),\"0\")","v":"0"},{"$f":"IF('Aonad 33'!$C$7=$D$59,COUNTIF('Aonad 33'!$C:$C,$D17),\"0\")","v":"0"},{"$f":"IF('Aonad 34'!$C$7=$D$59,COUNTIF('Aonad 34'!$C:$C,$D17),\"0\")","v":"0"},{"$f":"IF('Aonad 35'!$C$7=$D$59,COUNTIF('Aonad 35'!$C:$C,$D17),\"0\")","v":"0"},{"$f":"IF('Aonad 36'!$C$7=$D$59,COUNTIF('Aonad 36'!$C:$C,$D17),\"0\")","v":"0"},{"$f":"IF('Aonad 37'!$C$7=$D$59,COUNTIF('Aonad 37'!$C:$C,$D17),\"0\")","v":"0"},{"$f":"IF('Aonad 38'!$C$7=$D$59,COUNTIF('Aonad 38'!$C:$C,$D17),\"0\")","v":"0"},0,null,{"$f":"IF('Aonad 1'!$C$7=$D$60,COUNTIF('Aonad 1'!$C:$C,$D17),\"0\")","v":"0"},{"$f":"IF('Aonad 2'!$C$7=$D$60,COUNTIF('Aonad 2'!$C:$C,$D17),\"0\")","v":"0"},{"$f":"IF('Aonad 3'!$C$7=$D$60,COUNTIF('Aonad 3'!$C:$C,$D17),\"0\")","v":"0"},{"$f":"IF('Aonad 4'!$C$7=$D$60,COUNTIF('Aonad 4'!$C:$C,$D17),\"0\")","v":"0"},{"$f":"IF('Aonad 5'!$C$7=$D$60,COUNTIF('Aonad 5'!$C:$C,$D17),\"0\")","v":"0"},{"$f":"IF('Aonad 6'!$C$7=$D$60,COUNTIF('Aonad 6'!$C:$C,$D17),\"0\")","v":"0"},{"$f":"IF('Aonad 7'!$C$7=$D$60,COUNTIF('Aonad 7'!$C:$C,$D17),\"0\")","v":"0"},{"$f":"IF('Aonad 8'!$C$7=$D$60,COUNTIF('Aonad 8'!$C:$C,$D17),\"0\")","v":"0"},{"$f":"IF('Aonad 9'!$C$7=$D$60,COUNTIF('Aonad 9'!$C:$C,$D17),\"0\")","v":"0"},{"$f":"IF('Aonad 10'!$C$7=$D$60,COUNTIF('Aonad 10'!$C:$C,$D17),\"0\")","v":"0"},{"$f":"IF('Aonad 11'!$C$7=$D$60,COUNTIF('Aonad 11'!$C:$C,$D17),\"0\")","v":"0"},{"$f":"IF('Aonad 12'!$C$7=$D$60,COUNTIF('Aonad 12'!$C:$C,$D17),\"0\")","v":"0"},{"$f":"IF('Aonad 13'!$C$7=$D$60,COUNTIF('Aonad 13'!$C:$C,$D17),\"0\")","v":"0"},{"$f":"IF('Aonad 14'!$C$7=$D$60,COUNTIF('Aonad 14'!$C:$C,$D17),\"0\")","v":"0"},{"$f":"IF('Aonad 15'!$C$7=$D$60,COUNTIF('Aonad 15'!$C:$C,$D17),\"0\")","v":"0"},{"$f":"IF('Aonad 16'!$C$7=$D$60,COUNTIF('Aonad 16'!$C:$C,$D17),\"0\")","v":"0"},{"$f":"IF('Aonad 17'!$C$7=$D$60,COUNTIF('Aonad 17'!$C:$C,$D17),\"0\")","v":"0"},{"$f":"IF('Aonad 18'!$C$7=$D$60,COUNTIF('Aonad 18'!$C:$C,$D17),\"0\")","v":"0"},{"$f":"IF('Aonad 19'!$C$7=$D$60,COUNTIF('Aonad 19'!$C:$C,$D17),\"0\")","v":"0"},{"$f":"IF('Aonad 20'!$C$7=$D$60,COUNTIF('Aonad 20'!$C:$C,$D17),\"0\")","v":"0"},{"$f":"IF('Aonad 21'!$C$7=$D$60,COUNTIF('Aonad 21'!$C:$C,$D17),\"0\")","v":"0"},{"$f":"IF('Aonad 22'!$C$7=$D$60,COUNTIF('Aonad 22'!$C:$C,$D17),\"0\")","v":"0"},{"$f":"IF('Aonad 23'!$C$7=$D$60,COUNTIF('Aonad 23'!$C:$C,$D17),\"0\")","v":"0"},{"$f":"IF('Aonad 24'!$C$7=$D$60,COUNTIF('Aonad 24'!$C:$C,$D17),\"0\")","v":"0"},{"$f":"IF('Aonad 25'!$C$7=$D$60,COUNTIF('Aonad 25'!$C:$C,$D17),\"0\")","v":"0"},{"$f":"IF('Aonad 26'!$C$7=$D$60,COUNTIF('Aonad 26'!$C:$C,$D17),\"0\")","v":"0"},{"$f":"IF('Aonad 27'!$C$7=$D$60,COUNTIF('Aonad 27'!$C:$C,$D17),\"0\")","v":"0"},{"$f":"IF('Aonad 28'!$C$7=$D$60,COUNTIF('Aonad 28'!$C:$C,$D17),\"0\")","v":"0"},{"$f":"IF('Aonad 29'!$C$7=$D$60,COUNTIF('Aonad 29'!$C:$C,$D17),\"0\")","v":"0"},{"$f":"IF('Aonad 30'!$C$7=$D$60,COUNTIF('Aonad 30'!$C:$C,$D17),\"0\")","v":"0"},{"$f":"IF('Aonad 31'!$C$7=$D$60,COUNTIF('Aonad 31'!$C:$C,$D17),\"0\")","v":"0"},{"$f":"IF('Aonad 32'!$C$7=$D$60,COUNTIF('Aonad 32'!$C:$C,$D17),\"0\")","v":"0"},{"$f":"IF('Aonad 33'!$C$7=$D$60,COUNTIF('Aonad 33'!$C:$C,$D17),\"0\")","v":"0"},{"$f":"IF('Aonad 34'!$C$7=$D$60,COUNTIF('Aonad 34'!$C:$C,$D17),\"0\")","v":"0"},{"$f":"IF('Aonad 35'!$C$7=$D$60,COUNTIF('Aonad 35'!$C:$C,$D17),\"0\")","v":"0"},{"$f":"IF('Aonad 36'!$C$7=$D$60,COUNTIF('Aonad 36'!$C:$C,$D17),\"0\")","v":"0"},{"$f":"IF('Aonad 37'!$C$7=$D$60,COUNTIF('Aonad 37'!$C:$C,$D17),\"0\")","v":"0"},{"$f":"IF('Aonad 38'!$C$7=$D$60,COUNTIF('Aonad 38'!$C:$C,$D17),\"0\")","v":"0"},0]
[null,null,"1.10","1.10 plean a chur chun feidhme agus úsáid á baint as uirlisí, ábhair agus próisis chuí","Cuir chun feidhme: rud a chomhlíonadh nó a chur i bhfeidhm go hiomlán",{"$f":"COUNTIF('Aonad 1'!$C:$C,$D18)","v":0},{"$f":"COUNTIF('Aonad 2'!$C:$C,$D18)","v":0},{"$f":"COUNTIF('Aonad 3'!$C:$C,$D18)","v":0},{"$f":"COUNTIF('Aonad 4'!$C:$C,$D18)","v":0},{"$f":"COUNTIF('Aonad 5'!$C:$C,$D18)","v":0},{"$f":"COUNTIF('Aonad 6'!$C:$C,$D18)","v":0},{"$f":"COUNTIF('Aonad 7'!$C:$C,$D18)","v":0},{"$f":"COUNTIF('Aonad 8'!$C:$C,$D18)","v":0},{"$f":"COUNTIF('Aonad 9'!$C:$C,$D18)","v":0},{"$f":"COUNTIF('Aonad 10'!$C:$C,$D18)","v":0},{"$f":"COUNTIF('Aonad 11'!$C:$C,$D18)","v":0},{"$f":"COUNTIF('Aonad 12'!$C:$C,$D18)","v":0},{"$f":"COUNTIF('Aonad 13'!$C:$C,$D18)","v":0},{"$f":"COUNTIF('Aonad 14'!$C:$C,$D18)","v":0},{"$f":"COUNTIF('Aonad 15'!$C:$C,$D18)","v":0},{"$f":"COUNTIF('Aonad 16'!$C:$C,$D18)","v":0},{"$f":"COUNTIF('Aonad 17'!$C:$C,$D18)","v":0},{"$f":"COUNTIF('Aonad 18'!$C:$C,$D18)","v":0},{"$f":"COUNTIF('Aonad 19'!$C:$C,$D18)","v":0},{"$f":"COUNTIF('Aonad 20'!$C:$C,$D18)","v":0},{"$f":"COUNTIF('Aonad 21'!$C:$C,$D18)","v":0},{"$f":"COUNTIF('Aonad 22'!$C:$C,$D18)","v":0},{"$f":"COUNTIF('Aonad 23'!$C:$C,$D18)","v":0},{"$f":"COUNTIF('Aonad 24'!$C:$C,$D18)","v":0},{"$f":"COUNTIF('Aonad 25'!$C:$C,$D18)","v":0},{"$f":"COUNTIF('Aonad 26'!$C:$C,$D18)","v":0},{"$f":"COUNTIF('Aonad 27'!$C:$C,$D18)","v":0},{"$f":"COUNTIF('Aonad 28'!$C:$C,$D18)","v":0},{"$f":"COUNTIF('Aonad 29'!$C:$C,$D18)","v":0},{"$f":"COUNTIF('Aonad 30'!$C:$C,$D18)","v":0},{"$f":"COUNTIF('Aonad 31'!$C:$C,$D18)","v":0},{"$f":"COUNTIF('Aonad 32'!$C:$C,$D18)","v":0},{"$f":"COUNTIF('Aonad 33'!$C:$C,$D18)","v":0},{"$f":"COUNTIF('Aonad 34'!$C:$C,$D18)","v":0},{"$f":"COUNTIF('Aonad 35'!$C:$C,$D18)","v":0},{"$f":"COUNTIF('Aonad 36'!$C:$C,$D18)","v":0},{"$f":"COUNTIF('Aonad 37'!$C:$C,$D18)","v":0},{"$f":"COUNTIF('Aonad 38'!$C:$C,$D18)","v":0},0,null,{"$f":"IF('Aonad 1'!$C$7=$D$58,COUNTIF('Aonad 1'!$C:$C,$D18),\"0\")","v":"0"},{"$f":"IF('Aonad 2'!$C$7=$D$58,COUNTIF('Aonad 2'!$C:$C,$D18),\"0\")","v":"0"},{"$f":"IF('Aonad 3'!$C$7=$D$58,COUNTIF('Aonad 3'!$C:$C,$D18),\"0\")","v":"0"},{"$f":"IF('Aonad 4'!$C$7=$D$58,COUNTIF('Aonad 4'!$C:$C,$D18),\"0\")","v":"0"},{"$f":"IF('Aonad 5'!$C$7=$D$58,COUNTIF('Aonad 5'!$C:$C,$D18),\"0\")","v":"0"},{"$f":"IF('Aonad 6'!$C$7=$D$58,COUNTIF('Aonad 6'!$C:$C,$D18),\"0\")","v":"0"},{"$f":"IF('Aonad 7'!$C$7=$D$58,COUNTIF('Aonad 7'!$C:$C,$D18),\"0\")","v":"0"},{"$f":"IF('Aonad 8'!$C$7=$D$58,COUNTIF('Aonad 8'!$C:$C,$D18),\"0\")","v":"0"},{"$f":"IF('Aonad 9'!$C$7=$D$58,COUNTIF('Aonad 9'!$C:$C,$D18),\"0\")","v":"0"},{"$f":"IF('Aonad 10'!$C$7=$D$58,COUNTIF('Aonad 10'!$C:$C,$D18),\"0\")","v":"0"},{"$f":"IF('Aonad 11'!$C$7=$D$58,COUNTIF('Aonad 11'!$C:$C,$D18),\"0\")","v":"0"},{"$f":"IF('Aonad 12'!$C$7=$D$58,COUNTIF('Aonad 12'!$C:$C,$D18),\"0\")","v":"0"},{"$f":"IF('Aonad 13'!$C$7=$D$58,COUNTIF('Aonad 13'!$C:$C,$D18),\"0\")","v":"0"},{"$f":"IF('Aonad 14'!$C$7=$D$58,COUNTIF('Aonad 14'!$C:$C,$D18),\"0\")","v":"0"},{"$f":"IF('Aonad 15'!$C$7=$D$58,COUNTIF('Aonad 15'!$C:$C,$D18),\"0\")","v":"0"},{"$f":"IF('Aonad 16'!$C$7=$D$58,COUNTIF('Aonad 16'!$C:$C,$D18),\"0\")","v":"0"},{"$f":"IF('Aonad 17'!$C$7=$D$58,COUNTIF('Aonad 17'!$C:$C,$D18),\"0\")","v":"0"},{"$f":"IF('Aonad 18'!$C$7=$D$58,COUNTIF('Aonad 18'!$C:$C,$D18),\"0\")","v":"0"},{"$f":"IF('Aonad 19'!$C$7=$D$58,COUNTIF('Aonad 19'!$C:$C,$D18),\"0\")","v":"0"},{"$f":"IF('Aonad 20'!$C$7=$D$58,COUNTIF('Aonad 20'!$C:$C,$D18),\"0\")","v":"0"},{"$f":"IF('Aonad 21'!$C$7=$D$58,COUNTIF('Aonad 21'!$C:$C,$D18),\"0\")","v":"0"},{"$f":"IF('Aonad 22'!$C$7=$D$58,COUNTIF('Aonad 22'!$C:$C,$D18),\"0\")","v":"0"},{"$f":"IF('Aonad 23'!$C$7=$D$58,COUNTIF('Aonad 23'!$C:$C,$D18),\"0\")","v":"0"},{"$f":"IF('Aonad 24'!$C$7=$D$58,COUNTIF('Aonad 24'!$C:$C,$D18),\"0\")","v":"0"},{"$f":"IF('Aonad 25'!$C$7=$D$58,COUNTIF('Aonad 25'!$C:$C,$D18),\"0\")","v":"0"},{"$f":"IF('Aonad 26'!$C$7=$D$58,COUNTIF('Aonad 26'!$C:$C,$D18),\"0\")","v":"0"},{"$f":"IF('Aonad 27'!$C$7=$D$58,COUNTIF('Aonad 27'!$C:$C,$D18),\"0\")","v":"0"},{"$f":"IF('Aonad 28'!$C$7=$D$58,COUNTIF('Aonad 28'!$C:$C,$D18),\"0\")","v":"0"},{"$f":"IF('Aonad 29'!$C$7=$D$58,COUNTIF('Aonad 29'!$C:$C,$D18),\"0\")","v":"0"},{"$f":"IF('Aonad 30'!$C$7=$D$58,COUNTIF('Aonad 30'!$C:$C,$D18),\"0\")","v":"0"},{"$f":"IF('Aonad 31'!$C$7=$D$58,COUNTIF('Aonad 31'!$C:$C,$D18),\"0\")","v":"0"},{"$f":"IF('Aonad 32'!$C$7=$D$58,COUNTIF('Aonad 32'!$C:$C,$D18),\"0\")","v":"0"},{"$f":"IF('Aonad 33'!$C$7=$D$58,COUNTIF('Aonad 33'!$C:$C,$D18),\"0\")","v":"0"},{"$f":"IF('Aonad 34'!$C$7=$D$58,COUNTIF('Aonad 34'!$C:$C,$D18),\"0\")","v":"0"},{"$f":"IF('Aonad 35'!$C$7=$D$58,COUNTIF('Aonad 35'!$C:$C,$D18),\"0\")","v":"0"},{"$f":"IF('Aonad 36'!$C$7=$D$58,COUNTIF('Aonad 36'!$C:$C,$D18),\"0\")","v":"0"},{"$f":"IF('Aonad 37'!$C$7=$D$58,COUNTIF('Aonad 37'!$C:$C,$D18),\"0\")","v":"0"},{"$f":"IF('Aonad 38'!$C$7=$D$58,COUNTIF('Aonad 38'!$C:$C,$D18),\"0\")","v":"0"},0,null,{"$f":"IF('Aonad 1'!$C$7=$D$59,COUNTIF('Aonad 1'!$C:$C,$D18),\"0\")","v":"0"},{"$f":"IF('Aonad 2'!$C$7=$D$59,COUNTIF('Aonad 2'!$C:$C,$D18),\"0\")","v":"0"},{"$f":"IF('Aonad 3'!$C$7=$D$59,COUNTIF('Aonad 3'!$C:$C,$D18),\"0\")","v":"0"},{"$f":"IF('Aonad 4'!$C$7=$D$59,COUNTIF('Aonad 4'!$C:$C,$D18),\"0\")","v":"0"},{"$f":"IF('Aonad 5'!$C$7=$D$59,COUNTIF('Aonad 5'!$C:$C,$D18),\"0\")","v":"0"},{"$f":"IF('Aonad 6'!$C$7=$D$59,COUNTIF('Aonad 6'!$C:$C,$D18),\"0\")","v":"0"},{"$f":"IF('Aonad 7'!$C$7=$D$59,COUNTIF('Aonad 7'!$C:$C,$D18),\"0\")","v":"0"},{"$f":"IF('Aonad 8'!$C$7=$D$59,COUNTIF('Aonad 8'!$C:$C,$D18),\"0\")","v":"0"},{"$f":"IF('Aonad 9'!$C$7=$D$59,COUNTIF('Aonad 9'!$C:$C,$D18),\"0\")","v":"0"},{"$f":"IF('Aonad 10'!$C$7=$D$59,COUNTIF('Aonad 10'!$C:$C,$D18),\"0\")","v":"0"},{"$f":"IF('Aonad 11'!$C$7=$D$59,COUNTIF('Aonad 11'!$C:$C,$D18),\"0\")","v":"0"},{"$f":"IF('Aonad 12'!$C$7=$D$59,COUNTIF('Aonad 12'!$C:$C,$D18),\"0\")","v":"0"},{"$f":"IF('Aonad 13'!$C$7=$D$59,COUNTIF('Aonad 13'!$C:$C,$D18),\"0\")","v":"0"},{"$f":"IF('Aonad 14'!$C$7=$D$59,COUNTIF('Aonad 14'!$C:$C,$D18),\"0\")","v":"0"},{"$f":"IF('Aonad 15'!$C$7=$D$59,COUNTIF('Aonad 15'!$C:$C,$D18),\"0\")","v":"0"},{"$f":"IF('Aonad 16'!$C$7=$D$59,COUNTIF('Aonad 16'!$C:$C,$D18),\"0\")","v":"0"},{"$f":"IF('Aonad 17'!$C$7=$D$59,COUNTIF('Aonad 17'!$C:$C,$D18),\"0\")","v":"0"},{"$f":"IF('Aonad 18'!$C$7=$D$59,COUNTIF('Aonad 18'!$C:$C,$D18),\"0\")","v":"0"},{"$f":"IF('Aonad 19'!$C$7=$D$59,COUNTIF('Aonad 19'!$C:$C,$D18),\"0\")","v":"0"},{"$f":"IF('Aonad 20'!$C$7=$D$59,COUNTIF('Aonad 20'!$C:$C,$D18),\"0\")","v":"0"},{"$f":"IF('Aonad 21'!$C$7=$D$59,COUNTIF('Aonad 21'!$C:$C,$D18),\"0\")","v":"0"},{"$f":"IF('Aonad 22'!$C$7=$D$59,COUNTIF('Aonad 22'!$C:$C,$D18),\"0\")","v":"0"},{"$f":"IF('Aonad 23'!$C$7=$D$59,COUNTIF('Aonad 23'!$C:$C,$D18),\"0\")","v":"0"},{"$f":"IF('Aonad 24'!$C$7=$D$59,COUNTIF('Aonad 24'!$C:$C,$D18),\"0\")","v":"0"},{"$f":"IF('Aonad 25'!$C$7=$D$59,COUNTIF('Aonad 25'!$C:$C,$D18),\"0\")","v":"0"},{"$f":"IF('Aonad 26'!$C$7=$D$59,COUNTIF('Aonad 26'!$C:$C,$D18),\"0\")","v":"0"},{"$f":"IF('Aonad 27'!$C$7=$D$59,COUNTIF('Aonad 27'!$C:$C,$D18),\"0\")","v":"0"},{"$f":"IF('Aonad 28'!$C$7=$D$59,COUNTIF('Aonad 28'!$C:$C,$D18),\"0\")","v":"0"},{"$f":"IF('Aonad 29'!$C$7=$D$59,COUNTIF('Aonad 29'!$C:$C,$D18),\"0\")","v":"0"},{"$f":"IF('Aonad 30'!$C$7=$D$59,COUNTIF('Aonad 30'!$C:$C,$D18),\"0\")","v":"0"},{"$f":"IF('Aonad 31'!$C$7=$D$59,COUNTIF('Aonad 31'!$C:$C,$D18),\"0\")","v":"0"},{"$f":"IF('Aonad 32'!$C$7=$D$59,COUNTIF('Aonad 32'!$C:$C,$D18),\"0\")","v":"0"},{"$f":"IF('Aonad 33'!$C$7=$D$59,COUNTIF('Aonad 33'!$C:$C,$D18),\"0\")","v":"0"},{"$f":"IF('Aonad 34'!$C$7=$D$59,COUNTIF('Aonad 34'!$C:$C,$D18),\"0\")","v":"0"},{"$f":"IF('Aonad 35'!$C$7=$D$59,COUNTIF('Aonad 35'!$C:$C,$D18),\"0\")","v":"0"},{"$f":"IF('Aonad 36'!$C$7=$D$59,COUNTIF('Aonad 36'!$C:$C,$D18),\"0\")","v":"0"},{"$f":"IF('Aonad 37'!$C$7=$D$59,COUNTIF('Aonad 37'!$C:$C,$D18),\"0\")","v":"0"},{"$f":"IF('Aonad 38'!$C$7=$D$59,COUNTIF('Aonad 38'!$C:$C,$D18),\"0\")","v":"0"},0,null,{"$f":"IF('Aonad 1'!$C$7=$D$60,COUNTIF('Aonad 1'!$C:$C,$D18),\"0\")","v":"0"},{"$f":"IF('Aonad 2'!$C$7=$D$60,COUNTIF('Aonad 2'!$C:$C,$D18),\"0\")","v":"0"},{"$f":"IF('Aonad 3'!$C$7=$D$60,COUNTIF('Aonad 3'!$C:$C,$D18),\"0\")","v":"0"},{"$f":"IF('Aonad 4'!$C$7=$D$60,COUNTIF('Aonad 4'!$C:$C,$D18),\"0\")","v":"0"},{"$f":"IF('Aonad 5'!$C$7=$D$60,COUNTIF('Aonad 5'!$C:$C,$D18),\"0\")","v":"0"},{"$f":"IF('Aonad 6'!$C$7=$D$60,COUNTIF('Aonad 6'!$C:$C,$D18),\"0\")","v":"0"},{"$f":"IF('Aonad 7'!$C$7=$D$60,COUNTIF('Aonad 7'!$C:$C,$D18),\"0\")","v":"0"},{"$f":"IF('Aonad 8'!$C$7=$D$60,COUNTIF('Aonad 8'!$C:$C,$D18),\"0\")","v":"0"},{"$f":"IF('Aonad 9'!$C$7=$D$60,COUNTIF('Aonad 9'!$C:$C,$D18),\"0\")","v":"0"},{"$f":"IF('Aonad 10'!$C$7=$D$60,COUNTIF('Aonad 10'!$C:$C,$D18),\"0\")","v":"0"},{"$f":"IF('Aonad 11'!$C$7=$D$60,COUNTIF('Aonad 11'!$C:$C,$D18),\"0\")","v":"0"},{"$f":"IF('Aonad 12'!$C$7=$D$60,COUNTIF('Aonad 12'!$C:$C,$D18),\"0\")","v":"0"},{"$f":"IF('Aonad 13'!$C$7=$D$60,COUNTIF('Aonad 13'!$C:$C,$D18),\"0\")","v":"0"},{"$f":"IF('Aonad 14'!$C$7=$D$60,COUNTIF('Aonad 14'!$C:$C,$D18),\"0\")","v":"0"},{"$f":"IF('Aonad 15'!$C$7=$D$60,COUNTIF('Aonad 15'!$C:$C,$D18),\"0\")","v":"0"},{"$f":"IF('Aonad 16'!$C$7=$D$60,COUNTIF('Aonad 16'!$C:$C,$D18),\"0\")","v":"0"},{"$f":"IF('Aonad 17'!$C$7=$D$60,COUNTIF('Aonad 17'!$C:$C,$D18),\"0\")","v":"0"},{"$f":"IF('Aonad 18'!$C$7=$D$60,COUNTIF('Aonad 18'!$C:$C,$D18),\"0\")","v":"0"},{"$f":"IF('Aonad 19'!$C$7=$D$60,COUNTIF('Aonad 19'!$C:$C,$D18),\"0\")","v":"0"},{"$f":"IF('Aonad 20'!$C$7=$D$60,COUNTIF('Aonad 20'!$C:$C,$D18),\"0\")","v":"0"},{"$f":"IF('Aonad 21'!$C$7=$D$60,COUNTIF('Aonad 21'!$C:$C,$D18),\"0\")","v":"0"},{"$f":"IF('Aonad 22'!$C$7=$D$60,COUNTIF('Aonad 22'!$C:$C,$D18),\"0\")","v":"0"},{"$f":"IF('Aonad 23'!$C$7=$D$60,COUNTIF('Aonad 23'!$C:$C,$D18),\"0\")","v":"0"},{"$f":"IF('Aonad 24'!$C$7=$D$60,COUNTIF('Aonad 24'!$C:$C,$D18),\"0\")","v":"0"},{"$f":"IF('Aonad 25'!$C$7=$D$60,COUNTIF('Aonad 25'!$C:$C,$D18),\"0\")","v":"0"},{"$f":"IF('Aonad 26'!$C$7=$D$60,COUNTIF('Aonad 26'!$C:$C,$D18),\"0\")","v":"0"},{"$f":"IF('Aonad 27'!$C$7=$D$60,COUNTIF('Aonad 27'!$C:$C,$D18),\"0\")","v":"0"},{"$f":"IF('Aonad 28'!$C$7=$D$60,COUNTIF('Aonad 28'!$C:$C,$D18),\"0\")","v":"0"},{"$f":"IF('Aonad 29'!$C$7=$D$60,COUNTIF('Aonad 29'!$C:$C,$D18),\"0\")","v":"0"},{"$f":"IF('Aonad 30'!$C$7=$D$60,COUNTIF('Aonad 30'!$C:$C,$D18),\"0\")","v":"0"},{"$f":"IF('Aonad 31'!$C$7=$D$60,COUNTIF('Aonad 31'!$C:$C,$D18),\"0\")","v":"0"},{"$f":"IF('Aonad 32'!$C$7=$D$60,COUNTIF('Aonad 32'!$C:$C,$D18),\"0\")","v":"0"},{"$f":"IF('Aonad 33'!$C$7=$D$60,COUNTIF('Aonad 33'!$C:$C,$D18),\"0\")","v":"0"},{"$f":"IF('Aonad 34'!$C$7=$D$60,COUNTIF('Aonad 34'!$C:$C,$D18),\"0\")","v":"0"},{"$f":"IF('Aonad 35'!$C$7=$D$60,COUNTIF('Aonad 35'!$C:$C,$D18),\"0\")","v":"0"},{"$f":"IF('Aonad 36'!$C$7=$D$60,COUNTIF('Aonad 36'!$C:$C,$D18),\"0\")","v":"0"},{"$f":"IF('Aonad 37'!$C$7=$D$60,COUNTIF('Aonad 37'!$C:$C,$D18),\"0\")","v":"0"},{"$f":"IF('Aonad 38'!$C$7=$D$60,COUNTIF('Aonad 38'!$C:$C,$D18),\"0\")","v":"0"},0]
[null,null,"1.11","1.11 a léiriú gur cloíodh leis na caighdeáin aitheanta sláinte agus sábháilteachta","Léirigh: samplaí a úsáid chun cur síos ar rud éigin",{"$f":"COUNTIF('Aonad 1'!$C:$C,$D19)","v":0},{"$f":"COUNTIF('Aonad 2'!$C:$C,$D19)","v":0},{"$f":"COUNTIF('Aonad 3'!$C:$C,$D19)","v":0},{"$f":"COUNTIF('Aonad 4'!$C:$C,$D19)","v":0},{"$f":"COUNTIF('Aonad 5'!$C:$C,$D19)","v":0},{"$f":"COUNTIF('Aonad 6'!$C:$C,$D19)","v":0},{"$f":"COUNTIF('Aonad 7'!$C:$C,$D19)","v":0},{"$f":"COUNTIF('Aonad 8'!$C:$C,$D19)","v":0},{"$f":"COUNTIF('Aonad 9'!$C:$C,$D19)","v":0},{"$f":"COUNTIF('Aonad 10'!$C:$C,$D19)","v":0},{"$f":"COUNTIF('Aonad 11'!$C:$C,$D19)","v":0},{"$f":"COUNTIF('Aonad 12'!$C:$C,$D19)","v":0},{"$f":"COUNTIF('Aonad 13'!$C:$C,$D19)","v":0},{"$f":"COUNTIF('Aonad 14'!$C:$C,$D19)","v":0},{"$f":"COUNTIF('Aonad 15'!$C:$C,$D19)","v":0},{"$f":"COUNTIF('Aonad 16'!$C:$C,$D19)","v":0},{"$f":"COUNTIF('Aonad 17'!$C:$C,$D19)","v":0},{"$f":"COUNTIF('Aonad 18'!$C:$C,$D19)","v":0},{"$f":"COUNTIF('Aonad 19'!$C:$C,$D19)","v":0},{"$f":"COUNTIF('Aonad 20'!$C:$C,$D19)","v":0},{"$f":"COUNTIF('Aonad 21'!$C:$C,$D19)","v":0},{"$f":"COUNTIF('Aonad 22'!$C:$C,$D19)","v":0},{"$f":"COUNTIF('Aonad 23'!$C:$C,$D19)","v":0},{"$f":"COUNTIF('Aonad 24'!$C:$C,$D19)","v":0},{"$f":"COUNTIF('Aonad 25'!$C:$C,$D19)","v":0},{"$f":"COUNTIF('Aonad 26'!$C:$C,$D19)","v":0},{"$f":"COUNTIF('Aonad 27'!$C:$C,$D19)","v":0},{"$f":"COUNTIF('Aonad 28'!$C:$C,$D19)","v":0},{"$f":"COUNTIF('Aonad 29'!$C:$C,$D19)","v":0},{"$f":"COUNTIF('Aonad 30'!$C:$C,$D19)","v":0},{"$f":"COUNTIF('Aonad 31'!$C:$C,$D19)","v":0},{"$f":"COUNTIF('Aonad 32'!$C:$C,$D19)","v":0},{"$f":"COUNTIF('Aonad 33'!$C:$C,$D19)","v":0},{"$f":"COUNTIF('Aonad 34'!$C:$C,$D19)","v":0},{"$f":"COUNTIF('Aonad 35'!$C:$C,$D19)","v":0},{"$f":"COUNTIF('Aonad 36'!$C:$C,$D19)","v":0},{"$f":"COUNTIF('Aonad 37'!$C:$C,$D19)","v":0},{"$f":"COUNTIF('Aonad 38'!$C:$C,$D19)","v":0},0,null,{"$f":"IF('Aonad 1'!$C$7=$D$58,COUNTIF('Aonad 1'!$C:$C,$D19),\"0\")","v":"0"},{"$f":"IF('Aonad 2'!$C$7=$D$58,COUNTIF('Aonad 2'!$C:$C,$D19),\"0\")","v":"0"},{"$f":"IF('Aonad 3'!$C$7=$D$58,COUNTIF('Aonad 3'!$C:$C,$D19),\"0\")","v":"0"},{"$f":"IF('Aonad 4'!$C$7=$D$58,COUNTIF('Aonad 4'!$C:$C,$D19),\"0\")","v":"0"},{"$f":"IF('Aonad 5'!$C$7=$D$58,COUNTIF('Aonad 5'!$C:$C,$D19),\"0\")","v":"0"},{"$f":"IF('Aonad 6'!$C$7=$D$58,COUNTIF('Aonad 6'!$C:$C,$D19),\"0\")","v":"0"},{"$f":"IF('Aonad 7'!$C$7=$D$58,COUNTIF('Aonad 7'!$C:$C,$D19),\"0\")","v":"0"},{"$f":"IF('Aonad 8'!$C$7=$D$58,COUNTIF('Aonad 8'!$C:$C,$D19),\"0\")","v":"0"},{"$f":"IF('Aonad 9'!$C$7=$D$58,COUNTIF('Aonad 9'!$C:$C,$D19),\"0\")","v":"0"},{"$f":"IF('Aonad 10'!$C$7=$D$58,COUNTIF('Aonad 10'!$C:$C,$D19),\"0\")","v":"0"},{"$f":"IF('Aonad 11'!$C$7=$D$58,COUNTIF('Aonad 11'!$C:$C,$D19),\"0\")","v":"0"},{"$f":"IF('Aonad 12'!$C$7=$D$58,COUNTIF('Aonad 12'!$C:$C,$D19),\"0\")","v":"0"},{"$f":"IF('Aonad 13'!$C$7=$D$58,COUNTIF('Aonad 13'!$C:$C,$D19),\"0\")","v":"0"},{"$f":"IF('Aonad 14'!$C$7=$D$58,COUNTIF('Aonad 14'!$C:$C,$D19),\"0\")","v":"0"},{"$f":"IF('Aonad 15'!$C$7=$D$58,COUNTIF('Aonad 15'!$C:$C,$D19),\"0\")","v":"0"},{"$f":"IF('Aonad 16'!$C$7=$D$58,COUNTIF('Aonad 16'!$C:$C,$D19),\"0\")","v":"0"},{"$f":"IF('Aonad 17'!$C$7=$D$58,COUNTIF('Aonad 17'!$C:$C,$D19),\"0\")","v":"0"},{"$f":"IF('Aonad 18'!$C$7=$D$58,COUNTIF('Aonad 18'!$C:$C,$D19),\"0\")","v":"0"},{"$f":"IF('Aonad 19'!$C$7=$D$58,COUNTIF('Aonad 19'!$C:$C,$D19),\"0\")","v":"0"},{"$f":"IF('Aonad 20'!$C$7=$D$58,COUNTIF('Aonad 20'!$C:$C,$D19),\"0\")","v":"0"},{"$f":"IF('Aonad 21'!$C$7=$D$58,COUNTIF('Aonad 21'!$C:$C,$D19),\"0\")","v":"0"},{"$f":"IF('Aonad 22'!$C$7=$D$58,COUNTIF('Aonad 22'!$C:$C,$D19),\"0\")","v":"0"},{"$f":"IF('Aonad 23'!$C$7=$D$58,COUNTIF('Aonad 23'!$C:$C,$D19),\"0\")","v":"0"},{"$f":"IF('Aonad 24'!$C$7=$D$58,COUNTIF('Aonad 24'!$C:$C,$D19),\"0\")","v":"0"},{"$f":"IF('Aonad 25'!$C$7=$D$58,COUNTIF('Aonad 25'!$C:$C,$D19),\"0\")","v":"0"},{"$f":"IF('Aonad 26'!$C$7=$D$58,COUNTIF('Aonad 26'!$C:$C,$D19),\"0\")","v":"0"},{"$f":"IF('Aonad 27'!$C$7=$D$58,COUNTIF('Aonad 27'!$C:$C,$D19),\"0\")","v":"0"},{"$f":"IF('Aonad 28'!$C$7=$D$58,COUNTIF('Aonad 28'!$C:$C,$D19),\"0\")","v":"0"},{"$f":"IF('Aonad 29'!$C$7=$D$58,COUNTIF('Aonad 29'!$C:$C,$D19),\"0\")","v":"0"},{"$f":"IF('Aonad 30'!$C$7=$D$58,COUNTIF('Aonad 30'!$C:$C,$D19),\"0\")","v":"0"},{"$f":"IF('Aonad 31'!$C$7=$D$58,COUNTIF('Aonad 31'!$C:$C,$D19),\"0\")","v":"0"},{"$f":"IF('Aonad 32'!$C$7=$D$58,COUNTIF('Aonad 32'!$C:$C,$D19),\"0\")","v":"0"},{"$f":"IF('Aonad 33'!$C$7=$D$58,COUNTIF('Aonad 33'!$C:$C,$D19),\"0\")","v":"0"},{"$f":"IF('Aonad 34'!$C$7=$D$58,COUNTIF('Aonad 34'!$C:$C,$D19),\"0\")","v":"0"},{"$f":"IF('Aonad 35'!$C$7=$D$58,COUNTIF('Aonad 35'!$C:$C,$D19),\"0\")","v":"0"},{"$f":"IF('Aonad 36'!$C$7=$D$58,COUNTIF('Aonad 36'!$C:$C,$D19),\"0\")","v":"0"},{"$f":"IF('Aonad 37'!$C$7=$D$58,COUNTIF('Aonad 37'!$C:$C,$D19),\"0\")","v":"0"},{"$f":"IF('Aonad 38'!$C$7=$D$58,COUNTIF('Aonad 38'!$C:$C,$D19),\"0\")","v":"0"},0,null,{"$f":"IF('Aonad 1'!$C$7=$D$59,COUNTIF('Aonad 1'!$C:$C,$D19),\"0\")","v":"0"},{"$f":"IF('Aonad 2'!$C$7=$D$59,COUNTIF('Aonad 2'!$C:$C,$D19),\"0\")","v":"0"},{"$f":"IF('Aonad 3'!$C$7=$D$59,COUNTIF('Aonad 3'!$C:$C,$D19),\"0\")","v":"0"},{"$f":"IF('Aonad 4'!$C$7=$D$59,COUNTIF('Aonad 4'!$C:$C,$D19),\"0\")","v":"0"},{"$f":"IF('Aonad 5'!$C$7=$D$59,COUNTIF('Aonad 5'!$C:$C,$D19),\"0\")","v":"0"},{"$f":"IF('Aonad 6'!$C$7=$D$59,COUNTIF('Aonad 6'!$C:$C,$D19),\"0\")","v":"0"},{"$f":"IF('Aonad 7'!$C$7=$D$59,COUNTIF('Aonad 7'!$C:$C,$D19),\"0\")","v":"0"},{"$f":"IF('Aonad 8'!$C$7=$D$59,COUNTIF('Aonad 8'!$C:$C,$D19),\"0\")","v":"0"},{"$f":"IF('Aonad 9'!$C$7=$D$59,COUNTIF('Aonad 9'!$C:$C,$D19),\"0\")","v":"0"},{"$f":"IF('Aonad 10'!$C$7=$D$59,COUNTIF('Aonad 10'!$C:$C,$D19),\"0\")","v":"0"},{"$f":"IF('Aonad 11'!$C$7=$D$59,COUNTIF('Aonad 11'!$C:$C,$D19),\"0\")","v":"0"},{"$f":"IF('Aonad 12'!$C$7=$D$59,COUNTIF('Aonad 12'!$C:$C,$D19),\"0\")","v":"0"},{"$f":"IF('Aonad 13'!$C$7=$D$59,COUNTIF('Aonad 13'!$C:$C,$D19),\"0\")","v":"0"},{"$f":"IF('Aonad 14'!$C$7=$D$59,COUNTIF('Aonad 14'!$C:$C,$D19),\"0\")","v":"0"},{"$f":"IF('Aonad 15'!$C$7=$D$59,COUNTIF('Aonad 15'!$C:$C,$D19),\"0\")","v":"0"},{"$f":"IF('Aonad 16'!$C$7=$D$59,COUNTIF('Aonad 16'!$C:$C,$D19),\"0\")","v":"0"},{"$f":"IF('Aonad 17'!$C$7=$D$59,COUNTIF('Aonad 17'!$C:$C,$D19),\"0\")","v":"0"},{"$f":"IF('Aonad 18'!$C$7=$D$59,COUNTIF('Aonad 18'!$C:$C,$D19),\"0\")","v":"0"},{"$f":"IF('Aonad 19'!$C$7=$D$59,COUNTIF('Aonad 19'!$C:$C,$D19),\"0\")","v":"0"},{"$f":"IF('Aonad 20'!$C$7=$D$59,COUNTIF('Aonad 20'!$C:$C,$D19),\"0\")","v":"0"},{"$f":"IF('Aonad 21'!$C$7=$D$59,COUNTIF('Aonad 21'!$C:$C,$D19),\"0\")","v":"0"},{"$f":"IF('Aonad 22'!$C$7=$D$59,COUNTIF('Aonad 22'!$C:$C,$D19),\"0\")","v":"0"},{"$f":"IF('Aonad 23'!$C$7=$D$59,COUNTIF('Aonad 23'!$C:$C,$D19),\"0\")","v":"0"},{"$f":"IF('Aonad 24'!$C$7=$D$59,COUNTIF('Aonad 24'!$C:$C,$D19),\"0\")","v":"0"},{"$f":"IF('Aonad 25'!$C$7=$D$59,COUNTIF('Aonad 25'!$C:$C,$D19),\"0\")","v":"0"},{"$f":"IF('Aonad 26'!$C$7=$D$59,COUNTIF('Aonad 26'!$C:$C,$D19),\"0\")","v":"0"},{"$f":"IF('Aonad 27'!$C$7=$D$59,COUNTIF('Aonad 27'!$C:$C,$D19),\"0\")","v":"0"},{"$f":"IF('Aonad 28'!$C$7=$D$59,COUNTIF('Aonad 28'!$C:$C,$D19),\"0\")","v":"0"},{"$f":"IF('Aonad 29'!$C$7=$D$59,COUNTIF('Aonad 29'!$C:$C,$D19),\"0\")","v":"0"},{"$f":"IF('Aonad 30'!$C$7=$D$59,COUNTIF('Aonad 30'!$C:$C,$D19),\"0\")","v":"0"},{"$f":"IF('Aonad 31'!$C$7=$D$59,COUNTIF('Aonad 31'!$C:$C,$D19),\"0\")","v":"0"},{"$f":"IF('Aonad 32'!$C$7=$D$59,COUNTIF('Aonad 32'!$C:$C,$D19),\"0\")","v":"0"},{"$f":"IF('Aonad 33'!$C$7=$D$59,COUNTIF('Aonad 33'!$C:$C,$D19),\"0\")","v":"0"},{"$f":"IF('Aonad 34'!$C$7=$D$59,COUNTIF('Aonad 34'!$C:$C,$D19),\"0\")","v":"0"},{"$f":"IF('Aonad 35'!$C$7=$D$59,COUNTIF('Aonad 35'!$C:$C,$D19),\"0\")","v":"0"},{"$f":"IF('Aonad 36'!$C$7=$D$59,COUNTIF('Aonad 36'!$C:$C,$D19),\"0\")","v":"0"},{"$f":"IF('Aonad 37'!$C$7=$D$59,COUNTIF('Aonad 37'!$C:$C,$D19),\"0\")","v":"0"},{"$f":"IF('Aonad 38'!$C$7=$D$59,COUNTIF('Aonad 38'!$C:$C,$D19),\"0\")","v":"0"},0,null,{"$f":"IF('Aonad 1'!$C$7=$D$60,COUNTIF('Aonad 1'!$C:$C,$D19),\"0\")","v":"0"},{"$f":"IF('Aonad 2'!$C$7=$D$60,COUNTIF('Aonad 2'!$C:$C,$D19),\"0\")","v":"0"},{"$f":"IF('Aonad 3'!$C$7=$D$60,COUNTIF('Aonad 3'!$C:$C,$D19),\"0\")","v":"0"},{"$f":"IF('Aonad 4'!$C$7=$D$60,COUNTIF('Aonad 4'!$C:$C,$D19),\"0\")","v":"0"},{"$f":"IF('Aonad 5'!$C$7=$D$60,COUNTIF('Aonad 5'!$C:$C,$D19),\"0\")","v":"0"},{"$f":"IF('Aonad 6'!$C$7=$D$60,COUNTIF('Aonad 6'!$C:$C,$D19),\"0\")","v":"0"},{"$f":"IF('Aonad 7'!$C$7=$D$60,COUNTIF('Aonad 7'!$C:$C,$D19),\"0\")","v":"0"},{"$f":"IF('Aonad 8'!$C$7=$D$60,COUNTIF('Aonad 8'!$C:$C,$D19),\"0\")","v":"0"},{"$f":"IF('Aonad 9'!$C$7=$D$60,COUNTIF('Aonad 9'!$C:$C,$D19),\"0\")","v":"0"},{"$f":"IF('Aonad 10'!$C$7=$D$60,COUNTIF('Aonad 10'!$C:$C,$D19),\"0\")","v":"0"},{"$f":"IF('Aonad 11'!$C$7=$D$60,COUNTIF('Aonad 11'!$C:$C,$D19),\"0\")","v":"0"},{"$f":"IF('Aonad 12'!$C$7=$D$60,COUNTIF('Aonad 12'!$C:$C,$D19),\"0\")","v":"0"},{"$f":"IF('Aonad 13'!$C$7=$D$60,COUNTIF('Aonad 13'!$C:$C,$D19),\"0\")","v":"0"},{"$f":"IF('Aonad 14'!$C$7=$D$60,COUNTIF('Aonad 14'!$C:$C,$D19),\"0\")","v":"0"},{"$f":"IF('Aonad 15'!$C$7=$D$60,COUNTIF('Aonad 15'!$C:$C,$D19),\"0\")","v":"0"},{"$f":"IF('Aonad 16'!$C$7=$D$60,COUNTIF('Aonad 16'!$C:$C,$D19),\"0\")","v":"0"},{"$f":"IF('Aonad 17'!$C$7=$D$60,COUNTIF('Aonad 17'!$C:$C,$D19),\"0\")","v":"0"},{"$f":"IF('Aonad 18'!$C$7=$D$60,COUNTIF('Aonad 18'!$C:$C,$D19),\"0\")","v":"0"},{"$f":"IF('Aonad 19'!$C$7=$D$60,COUNTIF('Aonad 19'!$C:$C,$D19),\"0\")","v":"0"},{"$f":"IF('Aonad 20'!$C$7=$D$60,COUNTIF('Aonad 20'!$C:$C,$D19),\"0\")","v":"0"},{"$f":"IF('Aonad 21'!$C$7=$D$60,COUNTIF('Aonad 21'!$C:$C,$D19),\"0\")","v":"0"},{"$f":"IF('Aonad 22'!$C$7=$D$60,COUNTIF('Aonad 22'!$C:$C,$D19),\"0\")","v":"0"},{"$f":"IF('Aonad 23'!$C$7=$D$60,COUNTIF('Aonad 23'!$C:$C,$D19),\"0\")","v":"0"},{"$f":"IF('Aonad 24'!$C$7=$D$60,COUNTIF('Aonad 24'!$C:$C,$D19),\"0\")","v":"0"},{"$f":"IF('Aonad 25'!$C$7=$D$60,COUNTIF('Aonad 25'!$C:$C,$D19),\"0\")","v":"0"},{"$f":"IF('Aonad 26'!$C$7=$D$60,COUNTIF('Aonad 26'!$C:$C,$D19),\"0\")","v":"0"},{"$f":"IF('Aonad 27'!$C$7=$D$60,COUNTIF('Aonad 27'!$C:$C,$D19),\"0\")","v":"0"},{"$f":"IF('Aonad 28'!$C$7=$D$60,COUNTIF('Aonad 28'!$C:$C,$D19),\"0\")","v":"0"},{"$f":"IF('Aonad 29'!$C$7=$D$60,COUNTIF('Aonad 29'!$C:$C,$D19),\"0\")","v":"0"},{"$f":"IF('Aonad 30'!$C$7=$D$60,COUNTIF('Aonad 30'!$C:$C,$D19),\"0\")","v":"0"},{"$f":"IF('Aonad 31'!$C$7=$D$60,COUNTIF('Aonad 31'!$C:$C,$D19),\"0\")","v":"0"},{"$f":"IF('Aonad 32'!$C$7=$D$60,COUNTIF('Aonad 32'!$C:$C,$D19),\"0\")","v":"0"},{"$f":"IF('Aonad 33'!$C$7=$D$60,COUNTIF('Aonad 33'!$C:$C,$D19),\"0\")","v":"0"},{"$f":"IF('Aonad 34'!$C$7=$D$60,COUNTIF('Aonad 34'!$C:$C,$D19),\"0\")","v":"0"},{"$f":"IF('Aonad 35'!$C$7=$D$60,COUNTIF('Aonad 35'!$C:$C,$D19),\"0\")","v":"0"},{"$f":"IF('Aonad 36'!$C$7=$D$60,COUNTIF('Aonad 36'!$C:$C,$D19),\"0\")","v":"0"},{"$f":"IF('Aonad 37'!$C$7=$D$60,COUNTIF('Aonad 37'!$C:$C,$D19),\"0\")","v":"0"},{"$f":"IF('Aonad 38'!$C$7=$D$60,COUNTIF('Aonad 38'!$C:$C,$D19),\"0\")","v":"0"},0]
[null,"Cumarsáid","1.12","1.12 taifead a choinneáil ar an dul chun cinn a dhéantar ó choincheap a cheapadh go dtí é a thabhairt chun críche","Taifead: píosa scríofa, clóite nó leictreonach a thugann eolas nó fianaise a dhoiciméadú",{"$f":"COUNTIF('Aonad 1'!$C:$C,$D20)","v":0},{"$f":"COUNTIF('Aonad 2'!$C:$C,$D20)","v":0},{"$f":"COUNTIF('Aonad 3'!$C:$C,$D20)","v":0},{"$f":"COUNTIF('Aonad 4'!$C:$C,$D20)","v":0},{"$f":"COUNTIF('Aonad 5'!$C:$C,$D20)","v":0},{"$f":"COUNTIF('Aonad 6'!$C:$C,$D20)","v":0},{"$f":"COUNTIF('Aonad 7'!$C:$C,$D20)","v":0},{"$f":"COUNTIF('Aonad 8'!$C:$C,$D20)","v":0},{"$f":"COUNTIF('Aonad 9'!$C:$C,$D20)","v":0},{"$f":"COUNTIF('Aonad 10'!$C:$C,$D20)","v":0},{"$f":"COUNTIF('Aonad 11'!$C:$C,$D20)","v":0},{"$f":"COUNTIF('Aonad 12'!$C:$C,$D20)","v":0},{"$f":"COUNTIF('Aonad 13'!$C:$C,$D20)","v":0},{"$f":"COUNTIF('Aonad 14'!$C:$C,$D20)","v":0},{"$f":"COUNTIF('Aonad 15'!$C:$C,$D20)","v":0},{"$f":"COUNTIF('Aonad 16'!$C:$C,$D20)","v":0},{"$f":"COUNTIF('Aonad 17'!$C:$C,$D20)","v":0},{"$f":"COUNTIF('Aonad 18'!$C:$C,$D20)","v":0},{"$f":"COUNTIF('Aonad 19'!$C:$C,$D20)","v":0},{"$f":"COUNTIF('Aonad 20'!$C:$C,$D20)","v":0},{"$f":"COUNTIF('Aonad 21'!$C:$C,$D20)","v":0},{"$f":"COUNTIF('Aonad 22'!$C:$C,$D20)","v":0},{"$f":"COUNTIF('Aonad 23'!$C:$C,$D20)","v":0},{"$f":"COUNTIF('Aonad 24'!$C:$C,$D20)","v":0},{"$f":"COUNTIF('Aonad 25'!$C:$C,$D20)","v":0},{"$f":"COUNTIF('Aonad 26'!$C:$C,$D20)","v":0},{"$f":"COUNTIF('Aonad 27'!$C:$C,$D20)","v":0},{"$f":"COUNTIF('Aonad 28'!$C:$C,$D20)","v":0},{"$f":"COUNTIF('Aonad 29'!$C:$C,$D20)","v":0},{"$f":"COUNTIF('Aonad 30'!$C:$C,$D20)","v":0},{"$f":"COUNTIF('Aonad 31'!$C:$C,$D20)","v":0},{"$f":"COUNTIF('Aonad 32'!$C:$C,$D20)","v":0},{"$f":"COUNTIF('Aonad 33'!$C:$C,$D20)","v":0},{"$f":"COUNTIF('Aonad 34'!$C:$C,$D20)","v":0},{"$f":"COUNTIF('Aonad 35'!$C:$C,$D20)","v":0},{"$f":"COUNTIF('Aonad 36'!$C:$C,$D20)","v":0},{"$f":"COUNTIF('Aonad 37'!$C:$C,$D20)","v":0},{"$f":"COUNTIF('Aonad 38'!$C:$C,$D20)","v":0},0,null,{"$f":"IF('Aonad 1'!$C$7=$D$58,COUNTIF('Aonad 1'!$C:$C,$D20),\"0\")","v":"0"},{"$f":"IF('Aonad 2'!$C$7=$D$58,COUNTIF('Aonad 2'!$C:$C,$D20),\"0\")","v":"0"},{"$f":"IF('Aonad 3'!$C$7=$D$58,COUNTIF('Aonad 3'!$C:$C,$D20),\"0\")","v":"0"},{"$f":"IF('Aonad 4'!$C$7=$D$58,COUNTIF('Aonad 4'!$C:$C,$D20),\"0\")","v":"0"},{"$f":"IF('Aonad 5'!$C$7=$D$58,COUNTIF('Aonad 5'!$C:$C,$D20),\"0\")","v":"0"},{"$f":"IF('Aonad 6'!$C$7=$D$58,COUNTIF('Aonad 6'!$C:$C,$D20),\"0\")","v":"0"},{"$f":"IF('Aonad 7'!$C$7=$D$58,COUNTIF('Aonad 7'!$C:$C,$D20),\"0\")","v":"0"},{"$f":"IF('Aonad 8'!$C$7=$D$58,COUNTIF('Aonad 8'!$C:$C,$D20),\"0\")","v":"0"},{"$f":"IF('Aonad 9'!$C$7=$D$58,COUNTIF('Aonad 9'!$C:$C,$D20),\"0\")","v":"0"},{"$f":"IF('Aonad 10'!$C$7=$D$58,COUNTIF('Aonad 10'!$C:$C,$D20),\"0\")","v":"0"},{"$f":"IF('Aonad 11'!$C$7=$D$58,COUNTIF('Aonad 11'!$C:$C,$D20),\"0\")","v":"0"},{"$f":"IF('Aonad 12'!$C$7=$D$58,COUNTIF('Aonad 12'!$C:$C,$D20),\"0\")","v":"0"},{"$f":"IF('Aonad 13'!$C$7=$D$58,COUNTIF('Aonad 13'!$C:$C,$D20),\"0\")","v":"0"},{"$f":"IF('Aonad 14'!$C$7=$D$58,COUNTIF('Aonad 14'!$C:$C,$D20),\"0\")","v":"0"},{"$f":"IF('Aonad 15'!$C$7=$D$58,COUNTIF('Aonad 15'!$C:$C,$D20),\"0\")","v":"0"},{"$f":"IF('Aonad 16'!$C$7=$D$58,COUNTIF('Aonad 16'!$C:$C,$D20),\"0\")","v":"0"},{"$f":"IF('Aonad 17'!$C$7=$D$58,COUNTIF('Aonad 17'!$C:$C,$D20),\"0\")","v":"0"},{"$f":"IF('Aonad 18'!$C$7=$D$58,COUNTIF('Aonad 18'!$C:$C,$D20),\"0\")","v":"0"},{"$f":"IF('Aonad 19'!$C$7=$D$58,COUNTIF('Aonad 19'!$C:$C,$D20),\"0\")","v":"0"},{"$f":"IF('Aonad 20'!$C$7=$D$58,COUNTIF('Aonad 20'!$C:$C,$D20),\"0\")","v":"0"},{"$f":"IF('Aonad 21'!$C$7=$D$58,COUNTIF('Aonad 21'!$C:$C,$D20),\"0\")","v":"0"},{"$f":"IF('Aonad 22'!$C$7=$D$58,COUNTIF('Aonad 22'!$C:$C,$D20),\"0\")","v":"0"},{"$f":"IF('Aonad 23'!$C$7=$D$58,COUNTIF('Aonad 23'!$C:$C,$D20),\"0\")","v":"0"},{"$f":"IF('Aonad 24'!$C$7=$D$58,COUNTIF('Aonad 24'!$C:$C,$D20),\"0\")","v":"0"},{"$f":"IF('Aonad 25'!$C$7=$D$58,COUNTIF('Aonad 25'!$C:$C,$D20),\"0\")","v":"0"},{"$f":"IF('Aonad 26'!$C$7=$D$58,COUNTIF('Aonad 26'!$C:$C,$D20),\"0\")","v":"0"},{"$f":"IF('Aonad 27'!$C$7=$D$58,COUNTIF('Aonad 27'!$C:$C,$D20),\"0\")","v":"0"},{"$f":"IF('Aonad 28'!$C$7=$D$58,COUNTIF('Aonad 28'!$C:$C,$D20),\"0\")","v":"0"},{"$f":"IF('Aonad 29'!$C$7=$D$58,COUNTIF('Aonad 29'!$C:$C,$D20),\"0\")","v":"0"},{"$f":"IF('Aonad 30'!$C$7=$D$58,COUNTIF('Aonad 30'!$C:$C,$D20),\"0\")","v":"0"},{"$f":"IF('Aonad 31'!$C$7=$D$58,COUNTIF('Aonad 31'!$C:$C,$D20),\"0\")","v":"0"},{"$f":"IF('Aonad 32'!$C$7=$D$58,COUNTIF('Aonad 32'!$C:$C,$D20),\"0\")","v":"0"},{"$f":"IF('Aonad 33'!$C$7=$D$58,COUNTIF('Aonad 33'!$C:$C,$D20),\"0\")","v":"0"},{"$f":"IF('Aonad 34'!$C$7=$D$58,COUNTIF('Aonad 34'!$C:$C,$D20),\"0\")","v":"0"},{"$f":"IF('Aonad 35'!$C$7=$D$58,COUNTIF('Aonad 35'!$C:$C,$D20),\"0\")","v":"0"},{"$f":"IF('Aonad 36'!$C$7=$D$58,COUNTIF('Aonad 36'!$C:$C,$D20),\"0\")","v":"0"},{"$f":"IF('Aonad 37'!$C$7=$D$58,COUNTIF('Aonad 37'!$C:$C,$D20),\"0\")","v":"0"},{"$f":"IF('Aonad 38'!$C$7=$D$58,COUNTIF('Aonad 38'!$C:$C,$D20),\"0\")","v":"0"},0,null,{"$f":"IF('Aonad 1'!$C$7=$D$59,COUNTIF('Aonad 1'!$C:$C,$D20),\"0\")","v":"0"},{"$f":"IF('Aonad 2'!$C$7=$D$59,COUNTIF('Aonad 2'!$C:$C,$D20),\"0\")","v":"0"},{"$f":"IF('Aonad 3'!$C$7=$D$59,COUNTIF('Aonad 3'!$C:$C,$D20),\"0\")","v":"0"},{"$f":"IF('Aonad 4'!$C$7=$D$59,COUNTIF('Aonad 4'!$C:$C,$D20),\"0\")","v":"0"},{"$f":"IF('Aonad 5'!$C$7=$D$59,COUNTIF('Aonad 5'!$C:$C,$D20),\"0\")","v":"0"},{"$f":"IF('Aonad 6'!$C$7=$D$59,COUNTIF('Aonad 6'!$C:$C,$D20),\"0\")","v":"0"},{"$f":"IF('Aonad 7'!$C$7=$D$59,COUNTIF('Aonad 7'!$C:$C,$D20),\"0\")","v":"0"},{"$f":"IF('Aonad 8'!$C$7=$D$59,COUNTIF('Aonad 8'!$C:$C,$D20),\"0\")","v":"0"},{"$f":"IF('Aonad 9'!$C$7=$D$59,COUNTIF('Aonad 9'!$C:$C,$D20),\"0\")","v":"0"},{"$f":"IF('Aonad 10'!$C$7=$D$59,COUNTIF('Aonad 10'!$C:$C,$D20),\"0\")","v":"0"},{"$f":"IF('Aonad 11'!$C$7=$D$59,COUNTIF('Aonad 11'!$C:$C,$D20),\"0\")","v":"0"},{"$f":"IF('Aonad 12'!$C$7=$D$59,COUNTIF('Aonad 12'!$C:$C,$D20),\"0\")","v":"0"},{"$f":"IF('Aonad 13'!$C$7=$D$59,COUNTIF('Aonad 13'!$C:$C,$D20),\"0\")","v":"0"},{"$f":"IF('Aonad 14'!$C$7=$D$59,COUNTIF('Aonad 14'!$C:$C,$D20),\"0\")","v":"0"},{"$f":"IF('Aonad 15'!$C$7=$D$59,COUNTIF('Aonad 15'!$C:$C,$D20),\"0\")","v":"0"},{"$f":"IF('Aonad 16'!$C$7=$D$59,COUNTIF('Aonad 16'!$C:$C,$D20),\"0\")","v":"0"},{"$f":"IF('Aonad 17'!$C$7=$D$59,COUNTIF('Aonad 17'!$C:$C,$D20),\"0\")","v":"0"},{"$f":"IF('Aonad 18'!$C$7=$D$59,COUNTIF('Aonad 18'!$C:$C,$D20),\"0\")","v":"0"},{"$f":"IF('Aonad 19'!$C$7=$D$59,COUNTIF('Aonad 19'!$C:$C,$D20),\"0\")","v":"0"},{"$f":"IF('Aonad 20'!$C$7=$D$59,COUNTIF('Aonad 20'!$C:$C,$D20),\"0\")","v":"0"},{"$f":"IF('Aonad 21'!$C$7=$D$59,COUNTIF('Aonad 21'!$C:$C,$D20),\"0\")","v":"0"},{"$f":"IF('Aonad 22'!$C$7=$D$59,COUNTIF('Aonad 22'!$C:$C,$D20),\"0\")","v":"0"},{"$f":"IF('Aonad 23'!$C$7=$D$59,COUNTIF('Aonad 23'!$C:$C,$D20),\"0\")","v":"0"},{"$f":"IF('Aonad 24'!$C$7=$D$59,COUNTIF('Aonad 24'!$C:$C,$D20),\"0\")","v":"0"},{"$f":"IF('Aonad 25'!$C$7=$D$59,COUNTIF('Aonad 25'!$C:$C,$D20),\"0\")","v":"0"},{"$f":"IF('Aonad 26'!$C$7=$D$59,COUNTIF('Aonad 26'!$C:$C,$D20),\"0\")","v":"0"},{"$f":"IF('Aonad 27'!$C$7=$D$59,COUNTIF('Aonad 27'!$C:$C,$D20),\"0\")","v":"0"},{"$f":"IF('Aonad 28'!$C$7=$D$59,COUNTIF('Aonad 28'!$C:$C,$D20),\"0\")","v":"0"},{"$f":"IF('Aonad 29'!$C$7=$D$59,COUNTIF('Aonad 29'!$C:$C,$D20),\"0\")","v":"0"},{"$f":"IF('Aonad 30'!$C$7=$D$59,COUNTIF('Aonad 30'!$C:$C,$D20),\"0\")","v":"0"},{"$f":"IF('Aonad 31'!$C$7=$D$59,COUNTIF('Aonad 31'!$C:$C,$D20),\"0\")","v":"0"},{"$f":"IF('Aonad 32'!$C$7=$D$59,COUNTIF('Aonad 32'!$C:$C,$D20),\"0\")","v":"0"},{"$f":"IF('Aonad 33'!$C$7=$D$59,COUNTIF('Aonad 33'!$C:$C,$D20),\"0\")","v":"0"},{"$f":"IF('Aonad 34'!$C$7=$D$59,COUNTIF('Aonad 34'!$C:$C,$D20),\"0\")","v":"0"},{"$f":"IF('Aonad 35'!$C$7=$D$59,COUNTIF('Aonad 35'!$C:$C,$D20),\"0\")","v":"0"},{"$f":"IF('Aonad 36'!$C$7=$D$59,COUNTIF('Aonad 36'!$C:$C,$D20),\"0\")","v":"0"},{"$f":"IF('Aonad 37'!$C$7=$D$59,COUNTIF('Aonad 37'!$C:$C,$D20),\"0\")","v":"0"},{"$f":"IF('Aonad 38'!$C$7=$D$59,COUNTIF('Aonad 38'!$C:$C,$D20),\"0\")","v":"0"},0,null,{"$f":"IF('Aonad 1'!$C$7=$D$60,COUNTIF('Aonad 1'!$C:$C,$D20),\"0\")","v":"0"},{"$f":"IF('Aonad 2'!$C$7=$D$60,COUNTIF('Aonad 2'!$C:$C,$D20),\"0\")","v":"0"},{"$f":"IF('Aonad 3'!$C$7=$D$60,COUNTIF('Aonad 3'!$C:$C,$D20),\"0\")","v":"0"},{"$f":"IF('Aonad 4'!$C$7=$D$60,COUNTIF('Aonad 4'!$C:$C,$D20),\"0\")","v":"0"},{"$f":"IF('Aonad 5'!$C$7=$D$60,COUNTIF('Aonad 5'!$C:$C,$D20),\"0\")","v":"0"},{"$f":"IF('Aonad 6'!$C$7=$D$60,COUNTIF('Aonad 6'!$C:$C,$D20),\"0\")","v":"0"},{"$f":"IF('Aonad 7'!$C$7=$D$60,COUNTIF('Aonad 7'!$C:$C,$D20),\"0\")","v":"0"},{"$f":"IF('Aonad 8'!$C$7=$D$60,COUNTIF('Aonad 8'!$C:$C,$D20),\"0\")","v":"0"},{"$f":"IF('Aonad 9'!$C$7=$D$60,COUNTIF('Aonad 9'!$C:$C,$D20),\"0\")","v":"0"},{"$f":"IF('Aonad 10'!$C$7=$D$60,COUNTIF('Aonad 10'!$C:$C,$D20),\"0\")","v":"0"},{"$f":"IF('Aonad 11'!$C$7=$D$60,COUNTIF('Aonad 11'!$C:$C,$D20),\"0\")","v":"0"},{"$f":"IF('Aonad 12'!$C$7=$D$60,COUNTIF('Aonad 12'!$C:$C,$D20),\"0\")","v":"0"},{"$f":"IF('Aonad 13'!$C$7=$D$60,COUNTIF('Aonad 13'!$C:$C,$D20),\"0\")","v":"0"},{"$f":"IF('Aonad 14'!$C$7=$D$60,COUNTIF('Aonad 14'!$C:$C,$D20),\"0\")","v":"0"},{"$f":"IF('Aonad 15'!$C$7=$D$60,COUNTIF('Aonad 15'!$C:$C,$D20),\"0\")","v":"0"},{"$f":"IF('Aonad 16'!$C$7=$D$60,COUNTIF('Aonad 16'!$C:$C,$D20),\"0\")","v":"0"},{"$f":"IF('Aonad 17'!$C$7=$D$60,COUNTIF('Aonad 17'!$C:$C,$D20),\"0\")","v":"0"},{"$f":"IF('Aonad 18'!$C$7=$D$60,COUNTIF('Aonad 18'!$C:$C,$D20),\"0\")","v":"0"},{"$f":"IF('Aonad 19'!$C$7=$D$60,COUNTIF('Aonad 19'!$C:$C,$D20),\"0\")","v":"0"},{"$f":"IF('Aonad 20'!$C$7=$D$60,COUNTIF('Aonad 20'!$C:$C,$D20),\"0\")","v":"0"},{"$f":"IF('Aonad 21'!$C$7=$D$60,COUNTIF('Aonad 21'!$C:$C,$D20),\"0\")","v":"0"},{"$f":"IF('Aonad 22'!$C$7=$D$60,COUNTIF('Aonad 22'!$C:$C,$D20),\"0\")","v":"0"},{"$f":"IF('Aonad 23'!$C$7=$D$60,COUNTIF('Aonad 23'!$C:$C,$D20),\"0\")","v":"0"},{"$f":"IF('Aonad 24'!$C$7=$D$60,COUNTIF('Aonad 24'!$C:$C,$D20),\"0\")","v":"0"},{"$f":"IF('Aonad 25'!$C$7=$D$60,COUNTIF('Aonad 25'!$C:$C,$D20),\"0\")","v":"0"},{"$f":"IF('Aonad 26'!$C$7=$D$60,COUNTIF('Aonad 26'!$C:$C,$D20),\"0\")","v":"0"},{"$f":"IF('Aonad 27'!$C$7=$D$60,COUNTIF('Aonad 27'!$C:$C,$D20),\"0\")","v":"0"},{"$f":"IF('Aonad 28'!$C$7=$D$60,COUNTIF('Aonad 28'!$C:$C,$D20),\"0\")","v":"0"},{"$f":"IF('Aonad 29'!$C$7=$D$60,COUNTIF('Aonad 29'!$C:$C,$D20),\"0\")","v":"0"},{"$f":"IF('Aonad 30'!$C$7=$D$60,COUNTIF('Aonad 30'!$C:$C,$D20),\"0\")","v":"0"},{"$f":"IF('Aonad 31'!$C$7=$D$60,COUNTIF('Aonad 31'!$C:$C,$D20),\"0\")","v":"0"},{"$f":"IF('Aonad 32'!$C$7=$D$60,COUNTIF('Aonad 32'!$C:$C,$D20),\"0\")","v":"0"},{"$f":"IF('Aonad 33'!$C$7=$D$60,COUNTIF('Aonad 33'!$C:$C,$D20),\"0\")","v":"0"},{"$f":"IF('Aonad 34'!$C$7=$D$60,COUNTIF('Aonad 34'!$C:$C,$D20),\"0\")","v":"0"},{"$f":"IF('Aonad 35'!$C$7=$D$60,COUNTIF('Aonad 35'!$C:$C,$D20),\"0\")","v":"0"},{"$f":"IF('Aonad 36'!$C$7=$D$60,COUNTIF('Aonad 36'!$C:$C,$D20),\"0\")","v":"0"},{"$f":"IF('Aonad 37'!$C$7=$D$60,COUNTIF('Aonad 37'!$C:$C,$D20),\"0\")","v":"0"},{"$f":"IF('Aonad 38'!$C$7=$D$60,COUNTIF('Aonad 38'!$C:$C,$D20),\"0\")","v":"0"},0]
[null,null,"1.13","1.13 fianaise ar an bpróiseas atriallach a bhaineann leis an dearadh a chur in iúl","Cuir in iúl: comharthaí amhairc-ghothacha, comharthaí béil nó comharthaí eile a úsáid chun brí a roinnt nó chun faisnéis a mhalartú; idirghníomhú idir an seoltóir agus an faighteoir; oibríonn an bheirt le chéile le go mbainfear tuiscint amach",{"$f":"COUNTIF('Aonad 1'!$C:$C,$D21)","v":0},{"$f":"COUNTIF('Aonad 2'!$C:$C,$D21)","v":0},{"$f":"COUNTIF('Aonad 3'!$C:$C,$D21)","v":0},{"$f":"COUNTIF('Aonad 4'!$C:$C,$D21)","v":0},{"$f":"COUNTIF('Aonad 5'!$C:$C,$D21)","v":0},{"$f":"COUNTIF('Aonad 6'!$C:$C,$D21)","v":0},{"$f":"COUNTIF('Aonad 7'!$C:$C,$D21)","v":0},{"$f":"COUNTIF('Aonad 8'!$C:$C,$D21)","v":0},{"$f":"COUNTIF('Aonad 9'!$C:$C,$D21)","v":0},{"$f":"COUNTIF('Aonad 10'!$C:$C,$D21)","v":0},{"$f":"COUNTIF('Aonad 11'!$C:$C,$D21)","v":0},{"$f":"COUNTIF('Aonad 12'!$C:$C,$D21)","v":0},{"$f":"COUNTIF('Aonad 13'!$C:$C,$D21)","v":0},{"$f":"COUNTIF('Aonad 14'!$C:$C,$D21)","v":0},{"$f":"COUNTIF('Aonad 15'!$C:$C,$D21)","v":0},{"$f":"COUNTIF('Aonad 16'!$C:$C,$D21)","v":0},{"$f":"COUNTIF('Aonad 17'!$C:$C,$D21)","v":0},{"$f":"COUNTIF('Aonad 18'!$C:$C,$D21)","v":0},{"$f":"COUNTIF('Aonad 19'!$C:$C,$D21)","v":0},{"$f":"COUNTIF('Aonad 20'!$C:$C,$D21)","v":0},{"$f":"COUNTIF('Aonad 21'!$C:$C,$D21)","v":0},{"$f":"COUNTIF('Aonad 22'!$C:$C,$D21)","v":0},{"$f":"COUNTIF('Aonad 23'!$C:$C,$D21)","v":0},{"$f":"COUNTIF('Aonad 24'!$C:$C,$D21)","v":0},{"$f":"COUNTIF('Aonad 25'!$C:$C,$D21)","v":0},{"$f":"COUNTIF('Aonad 26'!$C:$C,$D21)","v":0},{"$f":"COUNTIF('Aonad 27'!$C:$C,$D21)","v":0},{"$f":"COUNTIF('Aonad 28'!$C:$C,$D21)","v":0},{"$f":"COUNTIF('Aonad 29'!$C:$C,$D21)","v":0},{"$f":"COUNTIF('Aonad 30'!$C:$C,$D21)","v":0},{"$f":"COUNTIF('Aonad 31'!$C:$C,$D21)","v":0},{"$f":"COUNTIF('Aonad 32'!$C:$C,$D21)","v":0},{"$f":"COUNTIF('Aonad 33'!$C:$C,$D21)","v":0},{"$f":"COUNTIF('Aonad 34'!$C:$C,$D21)","v":0},{"$f":"COUNTIF('Aonad 35'!$C:$C,$D21)","v":0},{"$f":"COUNTIF('Aonad 36'!$C:$C,$D21)","v":0},{"$f":"COUNTIF('Aonad 37'!$C:$C,$D21)","v":0},{"$f":"COUNTIF('Aonad 38'!$C:$C,$D21)","v":0},0,null,{"$f":"IF('Aonad 1'!$C$7=$D$58,COUNTIF('Aonad 1'!$C:$C,$D21),\"0\")","v":"0"},{"$f":"IF('Aonad 2'!$C$7=$D$58,COUNTIF('Aonad 2'!$C:$C,$D21),\"0\")","v":"0"},{"$f":"IF('Aonad 3'!$C$7=$D$58,COUNTIF('Aonad 3'!$C:$C,$D21),\"0\")","v":"0"},{"$f":"IF('Aonad 4'!$C$7=$D$58,COUNTIF('Aonad 4'!$C:$C,$D21),\"0\")","v":"0"},{"$f":"IF('Aonad 5'!$C$7=$D$58,COUNTIF('Aonad 5'!$C:$C,$D21),\"0\")","v":"0"},{"$f":"IF('Aonad 6'!$C$7=$D$58,COUNTIF('Aonad 6'!$C:$C,$D21),\"0\")","v":"0"},{"$f":"IF('Aonad 7'!$C$7=$D$58,COUNTIF('Aonad 7'!$C:$C,$D21),\"0\")","v":"0"},{"$f":"IF('Aonad 8'!$C$7=$D$58,COUNTIF('Aonad 8'!$C:$C,$D21),\"0\")","v":"0"},{"$f":"IF('Aonad 9'!$C$7=$D$58,COUNTIF('Aonad 9'!$C:$C,$D21),\"0\")","v":"0"},{"$f":"IF('Aonad 10'!$C$7=$D$58,COUNTIF('Aonad 10'!$C:$C,$D21),\"0\")","v":"0"},{"$f":"IF('Aonad 11'!$C$7=$D$58,COUNTIF('Aonad 11'!$C:$C,$D21),\"0\")","v":"0"},{"$f":"IF('Aonad 12'!$C$7=$D$58,COUNTIF('Aonad 12'!$C:$C,$D21),\"0\")","v":"0"},{"$f":"IF('Aonad 13'!$C$7=$D$58,COUNTIF('Aonad 13'!$C:$C,$D21),\"0\")","v":"0"},{"$f":"IF('Aonad 14'!$C$7=$D$58,COUNTIF('Aonad 14'!$C:$C,$D21),\"0\")","v":"0"},{"$f":"IF('Aonad 15'!$C$7=$D$58,COUNTIF('Aonad 15'!$C:$C,$D21),\"0\")","v":"0"},{"$f":"IF('Aonad 16'!$C$7=$D$58,COUNTIF('Aonad 16'!$C:$C,$D21),\"0\")","v":"0"},{"$f":"IF('Aonad 17'!$C$7=$D$58,COUNTIF('Aonad 17'!$C:$C,$D21),\"0\")","v":"0"},{"$f":"IF('Aonad 18'!$C$7=$D$58,COUNTIF('Aonad 18'!$C:$C,$D21),\"0\")","v":"0"},{"$f":"IF('Aonad 19'!$C$7=$D$58,COUNTIF('Aonad 19'!$C:$C,$D21),\"0\")","v":"0"},{"$f":"IF('Aonad 20'!$C$7=$D$58,COUNTIF('Aonad 20'!$C:$C,$D21),\"0\")","v":"0"},{"$f":"IF('Aonad 21'!$C$7=$D$58,COUNTIF('Aonad 21'!$C:$C,$D21),\"0\")","v":"0"},{"$f":"IF('Aonad 22'!$C$7=$D$58,COUNTIF('Aonad 22'!$C:$C,$D21),\"0\")","v":"0"},{"$f":"IF('Aonad 23'!$C$7=$D$58,COUNTIF('Aonad 23'!$C:$C,$D21),\"0\")","v":"0"},{"$f":"IF('Aonad 24'!$C$7=$D$58,COUNTIF('Aonad 24'!$C:$C,$D21),\"0\")","v":"0"},{"$f":"IF('Aonad 25'!$C$7=$D$58,COUNTIF('Aonad 25'!$C:$C,$D21),\"0\")","v":"0"},{"$f":"IF('Aonad 26'!$C$7=$D$58,COUNTIF('Aonad 26'!$C:$C,$D21),\"0\")","v":"0"},{"$f":"IF('Aonad 27'!$C$7=$D$58,COUNTIF('Aonad 27'!$C:$C,$D21),\"0\")","v":"0"},{"$f":"IF('Aonad 28'!$C$7=$D$58,COUNTIF('Aonad 28'!$C:$C,$D21),\"0\")","v":"0"},{"$f":"IF('Aonad 29'!$C$7=$D$58,COUNTIF('Aonad 29'!$C:$C,$D21),\"0\")","v":"0"},{"$f":"IF('Aonad 30'!$C$7=$D$58,COUNTIF('Aonad 30'!$C:$C,$D21),\"0\")","v":"0"},{"$f":"IF('Aonad 31'!$C$7=$D$58,COUNTIF('Aonad 31'!$C:$C,$D21),\"0\")","v":"0"},{"$f":"IF('Aonad 32'!$C$7=$D$58,COUNTIF('Aonad 32'!$C:$C,$D21),\"0\")","v":"0"},{"$f":"IF('Aonad 33'!$C$7=$D$58,COUNTIF('Aonad 33'!$C:$C,$D21),\"0\")","v":"0"},{"$f":"IF('Aonad 34'!$C$7=$D$58,COUNTIF('Aonad 34'!$C:$C,$D21),\"0\")","v":"0"},{"$f":"IF('Aonad 35'!$C$7=$D$58,COUNTIF('Aonad 35'!$C:$C,$D21),\"0\")","v":"0"},{"$f":"IF('Aonad 36'!$C$7=$D$58,COUNTIF('Aonad 36'!$C:$C,$D21),\"0\")","v":"0"},{"$f":"IF('Aonad 37'!$C$7=$D$58,COUNTIF('Aonad 37'!$C:$C,$D21),\"0\")","v":"0"},{"$f":"IF('Aonad 38'!$C$7=$D$58,COUNTIF('Aonad 38'!$C:$C,$D21),\"0\")","v":"0"},0,null,{"$f":"IF('Aonad 1'!$C$7=$D$59,COUNTIF('Aonad 1'!$C:$C,$D21),\"0\")","v":"0"},{"$f":"IF('Aonad 2'!$C$7=$D$59,COUNTIF('Aonad 2'!$C:$C,$D21),\"0\")","v":"0"},{"$f":"IF('Aonad 3'!$C$7=$D$59,COUNTIF('Aonad 3'!$C:$C,$D21),\"0\")","v":"0"},{"$f":"IF('Aonad 4'!$C$7=$D$59,COUNTIF('Aonad 4'!$C:$C,$D21),\"0\")","v":"0"},{"$f":"IF('Aonad 5'!$C$7=$D$59,COUNTIF('Aonad 5'!$C:$C,$D21),\"0\")","v":"0"},{"$f":"IF('Aonad 6'!$C$7=$D$59,COUNTIF('Aonad 6'!$C:$C,$D21),\"0\")","v":"0"},{"$f":"IF('Aonad 7'!$C$7=$D$59,COUNTIF('Aonad 7'!$C:$C,$D21),\"0\")","v":"0"},{"$f":"IF('Aonad 8'!$C$7=$D$59,COUNTIF('Aonad 8'!$C:$C,$D21),\"0\")","v":"0"},{"$f":"IF('Aonad 9'!$C$7=$D$59,COUNTIF('Aonad 9'!$C:$C,$D21),\"0\")","v":"0"},{"$f":"IF('Aonad 10'!$C$7=$D$59,COUNTIF('Aonad 10'!$C:$C,$D21),\"0\")","v":"0"},{"$f":"IF('Aonad 11'!$C$7=$D$59,COUNTIF('Aonad 11'!$C:$C,$D21),\"0\")","v":"0"},{"$f":"IF('Aonad 12'!$C$7=$D$59,COUNTIF('Aonad 12'!$C:$C,$D21),\"0\")","v":"0"},{"$f":"IF('Aonad 13'!$C$7=$D$59,COUNTIF('Aonad 13'!$C:$C,$D21),\"0\")","v":"0"},{"$f":"IF('Aonad 14'!$C$7=$D$59,COUNTIF('Aonad 14'!$C:$C,$D21),\"0\")","v":"0"},{"$f":"IF('Aonad 15'!$C$7=$D$59,COUNTIF('Aonad 15'!$C:$C,$D21),\"0\")","v":"0"},{"$f":"IF('Aonad 16'!$C$7=$D$59,COUNTIF('Aonad 16'!$C:$C,$D21),\"0\")","v":"0"},{"$f":"IF('Aonad 17'!$C$7=$D$59,COUNTIF('Aonad 17'!$C:$C,$D21),\"0\")","v":"0"},{"$f":"IF('Aonad 18'!$C$7=$D$59,COUNTIF('Aonad 18'!$C:$C,$D21),\"0\")","v":"0"},{"$f":"IF('Aonad 19'!$C$7=$D$59,COUNTIF('Aonad 19'!$C:$C,$D21),\"0\")","v":"0"},{"$f":"IF('Aonad 20'!$C$7=$D$59,COUNTIF('Aonad 20'!$C:$C,$D21),\"0\")","v":"0"},{"$f":"IF('Aonad 21'!$C$7=$D$59,COUNTIF('Aonad 21'!$C:$C,$D21),\"0\")","v":"0"},{"$f":"IF('Aonad 22'!$C$7=$D$59,COUNTIF('Aonad 22'!$C:$C,$D21),\"0\")","v":"0"},{"$f":"IF('Aonad 23'!$C$7=$D$59,COUNTIF('Aonad 23'!$C:$C,$D21),\"0\")","v":"0"},{"$f":"IF('Aonad 24'!$C$7=$D$59,COUNTIF('Aonad 24'!$C:$C,$D21),\"0\")","v":"0"},{"$f":"IF('Aonad 25'!$C$7=$D$59,COUNTIF('Aonad 25'!$C:$C,$D21),\"0\")","v":"0"},{"$f":"IF('Aonad 26'!$C$7=$D$59,COUNTIF('Aonad 26'!$C:$C,$D21),\"0\")","v":"0"},{"$f":"IF('Aonad 27'!$C$7=$D$59,COUNTIF('Aonad 27'!$C:$C,$D21),\"0\")","v":"0"},{"$f":"IF('Aonad 28'!$C$7=$D$59,COUNTIF('Aonad 28'!$C:$C,$D21),\"0\")","v":"0"},{"$f":"IF('Aonad 29'!$C$7=$D$59,COUNTIF('Aonad 29'!$C:$C,$D21),\"0\")","v":"0"},{"$f":"IF('Aonad 30'!$C$7=$D$59,COUNTIF('Aonad 30'!$C:$C,$D21),\"0\")","v":"0"},{"$f":"IF('Aonad 31'!$C$7=$D$59,COUNTIF('Aonad 31'!$C:$C,$D21),\"0\")","v":"0"},{"$f":"IF('Aonad 32'!$C$7=$D$59,COUNTIF('Aonad 32'!$C:$C,$D21),\"0\")","v":"0"},{"$f":"IF('Aonad 33'!$C$7=$D$59,COUNTIF('Aonad 33'!$C:$C,$D21),\"0\")","v":"0"},{"$f":"IF('Aonad 34'!$C$7=$D$59,COUNTIF('Aonad 34'!$C:$C,$D21),\"0\")","v":"0"},{"$f":"IF('Aonad 35'!$C$7=$D$59,COUNTIF('Aonad 35'!$C:$C,$D21),\"0\")","v":"0"},{"$f":"IF('Aonad 36'!$C$7=$D$59,COUNTIF('Aonad 36'!$C:$C,$D21),\"0\")","v":"0"},{"$f":"IF('Aonad 37'!$C$7=$D$59,COUNTIF('Aonad 37'!$C:$C,$D21),\"0\")","v":"0"},{"$f":"IF('Aonad 38'!$C$7=$D$59,COUNTIF('Aonad 38'!$C:$C,$D21),\"0\")","v":"0"},0,null,{"$f":"IF('Aonad 1'!$C$7=$D$60,COUNTIF('Aonad 1'!$C:$C,$D21),\"0\")","v":"0"},{"$f":"IF('Aonad 2'!$C$7=$D$60,COUNTIF('Aonad 2'!$C:$C,$D21),\"0\")","v":"0"},{"$f":"IF('Aonad 3'!$C$7=$D$60,COUNTIF('Aonad 3'!$C:$C,$D21),\"0\")","v":"0"},{"$f":"IF('Aonad 4'!$C$7=$D$60,COUNTIF('Aonad 4'!$C:$C,$D21),\"0\")","v":"0"},{"$f":"IF('Aonad 5'!$C$7=$D$60,COUNTIF('Aonad 5'!$C:$C,$D21),\"0\")","v":"0"},{"$f":"IF('Aonad 6'!$C$7=$D$60,COUNTIF('Aonad 6'!$C:$C,$D21),\"0\")","v":"0"},{"$f":"IF('Aonad 7'!$C$7=$D$60,COUNTIF('Aonad 7'!$C:$C,$D21),\"0\")","v":"0"},{"$f":"IF('Aonad 8'!$C$7=$D$60,COUNTIF('Aonad 8'!$C:$C,$D21),\"0\")","v":"0"},{"$f":"IF('Aonad 9'!$C$7=$D$60,COUNTIF('Aonad 9'!$C:$C,$D21),\"0\")","v":"0"},{"$f":"IF('Aonad 10'!$C$7=$D$60,COUNTIF('Aonad 10'!$C:$C,$D21),\"0\")","v":"0"},{"$f":"IF('Aonad 11'!$C$7=$D$60,COUNTIF('Aonad 11'!$C:$C,$D21),\"0\")","v":"0"},{"$f":"IF('Aonad 12'!$C$7=$D$60,COUNTIF('Aonad 12'!$C:$C,$D21),\"0\")","v":"0"},{"$f":"IF('Aonad 13'!$C$7=$D$60,COUNTIF('Aonad 13'!$C:$C,$D21),\"0\")","v":"0"},{"$f":"IF('Aonad 14'!$C$7=$D$60,COUNTIF('Aonad 14'!$C:$C,$D21),\"0\")","v":"0"},{"$f":"IF('Aonad 15'!$C$7=$D$60,COUNTIF('Aonad 15'!$C:$C,$D21),\"0\")","v":"0"},{"$f":"IF('Aonad 16'!$C$7=$D$60,COUNTIF('Aonad 16'!$C:$C,$D21),\"0\")","v":"0"},{"$f":"IF('Aonad 17'!$C$7=$D$60,COUNTIF('Aonad 17'!$C:$C,$D21),\"0\")","v":"0"},{"$f":"IF('Aonad 18'!$C$7=$D$60,COUNTIF('Aonad 18'!$C:$C,$D21),\"0\")","v":"0"},{"$f":"IF('Aonad 19'!$C$7=$D$60,COUNTIF('Aonad 19'!$C:$C,$D21),\"0\")","v":"0"},{"$f":"IF('Aonad 20'!$C$7=$D$60,COUNTIF('Aonad 20'!$C:$C,$D21),\"0\")","v":"0"},{"$f":"IF('Aonad 21'!$C$7=$D$60,COUNTIF('Aonad 21'!$C:$C,$D21),\"0\")","v":"0"},{"$f":"IF('Aonad 22'!$C$7=$D$60,COUNTIF('Aonad 22'!$C:$C,$D21),\"0\")","v":"0"},{"$f":"IF('Aonad 23'!$C$7=$D$60,COUNTIF('Aonad 23'!$C:$C,$D21),\"0\")","v":"0"},{"$f":"IF('Aonad 24'!$C$7=$D$60,COUNTIF('Aonad 24'!$C:$C,$D21),\"0\")","v":"0"},{"$f":"IF('Aonad 25'!$C$7=$D$60,COUNTIF('Aonad 25'!$C:$C,$D21),\"0\")","v":"0"},{"$f":"IF('Aonad 26'!$C$7=$D$60,COUNTIF('Aonad 26'!$C:$C,$D21),\"0\")","v":"0"},{"$f":"IF('Aonad 27'!$C$7=$D$60,COUNTIF('Aonad 27'!$C:$C,$D21),\"0\")","v":"0"},{"$f":"IF('Aonad 28'!$C$7=$D$60,COUNTIF('Aonad 28'!$C:$C,$D21),\"0\")","v":"0"},{"$f":"IF('Aonad 29'!$C$7=$D$60,COUNTIF('Aonad 29'!$C:$C,$D21),\"0\")","v":"0"},{"$f":"IF('Aonad 30'!$C$7=$D$60,COUNTIF('Aonad 30'!$C:$C,$D21),\"0\")","v":"0"},{"$f":"IF('Aonad 31'!$C$7=$D$60,COUNTIF('Aonad 31'!$C:$C,$D21),\"0\")","v":"0"},{"$f":"IF('Aonad 32'!$C$7=$D$60,COUNTIF('Aonad 32'!$C:$C,$D21),\"0\")","v":"0"},{"$f":"IF('Aonad 33'!$C$7=$D$60,COUNTIF('Aonad 33'!$C:$C,$D21),\"0\")","v":"0"},{"$f":"IF('Aonad 34'!$C$7=$D$60,COUNTIF('Aonad 34'!$C:$C,$D21),\"0\")","v":"0"},{"$f":"IF('Aonad 35'!$C$7=$D$60,COUNTIF('Aonad 35'!$C:$C,$D21),\"0\")","v":"0"},{"$f":"IF('Aonad 36'!$C$7=$D$60,COUNTIF('Aonad 36'!$C:$C,$D21),\"0\")","v":"0"},{"$f":"IF('Aonad 37'!$C$7=$D$60,COUNTIF('Aonad 37'!$C:$C,$D21),\"0\")","v":"0"},{"$f":"IF('Aonad 38'!$C$7=$D$60,COUNTIF('Aonad 38'!$C:$C,$D21),\"0\")","v":"0"},0]
[null,null,null,null,null,{"$f":"COUNTIF('Aonad 1'!$C:$C,$D22)","v":0},{"$f":"COUNTIF('Aonad 2'!$C:$C,$D22)","v":0},{"$f":"COUNTIF('Aonad 3'!$C:$C,$D22)","v":0},{"$f":"COUNTIF('Aonad 4'!$C:$C,$D22)","v":0},{"$f":"COUNTIF('Aonad 5'!$C:$C,$D22)","v":0},{"$f":"COUNTIF('Aonad 6'!$C:$C,$D22)","v":0},{"$f":"COUNTIF('Aonad 7'!$C:$C,$D22)","v":0},{"$f":"COUNTIF('Aonad 8'!$C:$C,$D22)","v":0},{"$f":"COUNTIF('Aonad 9'!$C:$C,$D22)","v":0},{"$f":"COUNTIF('Aonad 10'!$C:$C,$D22)","v":0},{"$f":"COUNTIF('Aonad 11'!$C:$C,$D22)","v":0},{"$f":"COUNTIF('Aonad 12'!$C:$C,$D22)","v":0},{"$f":"COUNTIF('Aonad 13'!$C:$C,$D22)","v":0},{"$f":"COUNTIF('Aonad 14'!$C:$C,$D22)","v":0},{"$f":"COUNTIF('Aonad 15'!$C:$C,$D22)","v":0},{"$f":"COUNTIF('Aonad 16'!$C:$C,$D22)","v":0},{"$f":"COUNTIF('Aonad 17'!$C:$C,$D22)","v":0},{"$f":"COUNTIF('Aonad 18'!$C:$C,$D22)","v":0},{"$f":"COUNTIF('Aonad 19'!$C:$C,$D22)","v":0},{"$f":"COUNTIF('Aonad 20'!$C:$C,$D22)","v":0},{"$f":"COUNTIF('Aonad 21'!$C:$C,$D22)","v":0},{"$f":"COUNTIF('Aonad 22'!$C:$C,$D22)","v":0},{"$f":"COUNTIF('Aonad 23'!$C:$C,$D22)","v":0},{"$f":"COUNTIF('Aonad 24'!$C:$C,$D22)","v":0},{"$f":"COUNTIF('Aonad 25'!$C:$C,$D22)","v":0},{"$f":"COUNTIF('Aonad 26'!$C:$C,$D22)","v":0},{"$f":"COUNTIF('Aonad 27'!$C:$C,$D22)","v":0},{"$f":"COUNTIF('Aonad 28'!$C:$C,$D22)","v":0},{"$f":"COUNTIF('Aonad 29'!$C:$C,$D22)","v":0},{"$f":"COUNTIF('Aonad 30'!$C:$C,$D22)","v":0},{"$f":"COUNTIF('Aonad 31'!$C:$C,$D22)","v":0},{"$f":"COUNTIF('Aonad 32'!$C:$C,$D22)","v":0},{"$f":"COUNTIF('Aonad 33'!$C:$C,$D22)","v":0},{"$f":"COUNTIF('Aonad 34'!$C:$C,$D22)","v":0},{"$f":"COUNTIF('Aonad 35'!$C:$C,$D22)","v":0},{"$f":"COUNTIF('Aonad 36'!$C:$C,$D22)","v":0},{"$f":"COUNTIF('Aonad 37'!$C:$C,$D22)","v":0},{"$f":"COUNTIF('Aonad 38'!$C:$C,$D22)","v":0},0,null,{"$f":"IF('Aonad 1'!$C$7=$D$58,COUNTIF('Aonad 1'!$C:$C,$D22),\"0\")","v":"0"},{"$f":"IF('Aonad 2'!$C$7=$D$58,COUNTIF('Aonad 2'!$C:$C,$D22),\"0\")","v":"0"},{"$f":"IF('Aonad 3'!$C$7=$D$58,COUNTIF('Aonad 3'!$C:$C,$D22),\"0\")","v":"0"},{"$f":"IF('Aonad 4'!$C$7=$D$58,COUNTIF('Aonad 4'!$C:$C,$D22),\"0\")","v":"0"},{"$f":"IF('Aonad 5'!$C$7=$D$58,COUNTIF('Aonad 5'!$C:$C,$D22),\"0\")","v":"0"},{"$f":"IF('Aonad 6'!$C$7=$D$58,COUNTIF('Aonad 6'!$C:$C,$D22),\"0\")","v":"0"},{"$f":"IF('Aonad 7'!$C$7=$D$58,COUNTIF('Aonad 7'!$C:$C,$D22),\"0\")","v":"0"},{"$f":"IF('Aonad 8'!$C$7=$D$58,COUNTIF('Aonad 8'!$C:$C,$D22),\"0\")","v":"0"},{"$f":"IF('Aonad 9'!$C$7=$D$58,COUNTIF('Aonad 9'!$C:$C,$D22),\"0\")","v":"0"},{"$f":"IF('Aonad 10'!$C$7=$D$58,COUNTIF('Aonad 10'!$C:$C,$D22),\"0\")","v":"0"},{"$f":"IF('Aonad 11'!$C$7=$D$58,COUNTIF('Aonad 11'!$C:$C,$D22),\"0\")","v":"0"},{"$f":"IF('Aonad 12'!$C$7=$D$58,COUNTIF('Aonad 12'!$C:$C,$D22),\"0\")","v":"0"},{"$f":"IF('Aonad 13'!$C$7=$D$58,COUNTIF('Aonad 13'!$C:$C,$D22),\"0\")","v":"0"},{"$f":"IF('Aonad 14'!$C$7=$D$58,COUNTIF('Aonad 14'!$C:$C,$D22),\"0\")","v":"0"},{"$f":"IF('Aonad 15'!$C$7=$D$58,COUNTIF('Aonad 15'!$C:$C,$D22),\"0\")","v":"0"},{"$f":"IF('Aonad 16'!$C$7=$D$58,COUNTIF('Aonad 16'!$C:$C,$D22),\"0\")","v":"0"},{"$f":"IF('Aonad 17'!$C$7=$D$58,COUNTIF('Aonad 17'!$C:$C,$D22),\"0\")","v":"0"},{"$f":"IF('Aonad 18'!$C$7=$D$58,COUNTIF('Aonad 18'!$C:$C,$D22),\"0\")","v":"0"},{"$f":"IF('Aonad 19'!$C$7=$D$58,COUNTIF('Aonad 19'!$C:$C,$D22),\"0\")","v":"0"},{"$f":"IF('Aonad 20'!$C$7=$D$58,COUNTIF('Aonad 20'!$C:$C,$D22),\"0\")","v":"0"},{"$f":"IF('Aonad 21'!$C$7=$D$58,COUNTIF('Aonad 21'!$C:$C,$D22),\"0\")","v":"0"},{"$f":"IF('Aonad 22'!$C$7=$D$58,COUNTIF('Aonad 22'!$C:$C,$D22),\"0\")","v":"0"},{"$f":"IF('Aonad 23'!$C$7=$D$58,COUNTIF('Aonad 23'!$C:$C,$D22),\"0\")","v":"0"},{"$f":"IF('Aonad 24'!$C$7=$D$58,COUNTIF('Aonad 24'!$C:$C,$D22),\"0\")","v":"0"},{"$f":"IF('Aonad 25'!$C$7=$D$58,COUNTIF('Aonad 25'!$C:$C,$D22),\"0\")","v":"0"},{"$f":"IF('Aonad 26'!$C$7=$D$58,COUNTIF('Aonad 26'!$C:$C,$D22),\"0\")","v":"0"},{"$f":"IF('Aonad 27'!$C$7=$D$58,COUNTIF('Aonad 27'!$C:$C,$D22),\"0\")","v":"0"},{"$f":"IF('Aonad 28'!$C$7=$D$58,COUNTIF('Aonad 28'!$C:$C,$D22),\"0\")","v":"0"},{"$f":"IF('Aonad 29'!$C$7=$D$58,COUNTIF('Aonad 29'!$C:$C,$D22),\"0\")","v":"0"},{"$f":"IF('Aonad 30'!$C$7=$D$58,COUNTIF('Aonad 30'!$C:$C,$D22),\"0\")","v":"0"},{"$f":"IF('Aonad 31'!$C$7=$D$58,COUNTIF('Aonad 31'!$C:$C,$D22),\"0\")","v":"0"},{"$f":"IF('Aonad 32'!$C$7=$D$58,COUNTIF('Aonad 32'!$C:$C,$D22),\"0\")","v":"0"},{"$f":"IF('Aonad 33'!$C$7=$D$58,COUNTIF('Aonad 33'!$C:$C,$D22),\"0\")","v":"0"},{"$f":"IF('Aonad 34'!$C$7=$D$58,COUNTIF('Aonad 34'!$C:$C,$D22),\"0\")","v":"0"},{"$f":"IF('Aonad 35'!$C$7=$D$58,COUNTIF('Aonad 35'!$C:$C,$D22),\"0\")","v":"0"},{"$f":"IF('Aonad 36'!$C$7=$D$58,COUNTIF('Aonad 36'!$C:$C,$D22),\"0\")","v":"0"},{"$f":"IF('Aonad 37'!$C$7=$D$58,COUNTIF('Aonad 37'!$C:$C,$D22),\"0\")","v":"0"},{"$f":"IF('Aonad 38'!$C$7=$D$58,COUNTIF('Aonad 38'!$C:$C,$D22),\"0\")","v":"0"},0,null,{"$f":"IF('Aonad 1'!$C$7=$D$59,COUNTIF('Aonad 1'!$C:$C,$D22),\"0\")","v":"0"},{"$f":"IF('Aonad 2'!$C$7=$D$59,COUNTIF('Aonad 2'!$C:$C,$D22),\"0\")","v":"0"},{"$f":"IF('Aonad 3'!$C$7=$D$59,COUNTIF('Aonad 3'!$C:$C,$D22),\"0\")","v":"0"},{"$f":"IF('Aonad 4'!$C$7=$D$59,COUNTIF('Aonad 4'!$C:$C,$D22),\"0\")","v":"0"},{"$f":"IF('Aonad 5'!$C$7=$D$59,COUNTIF('Aonad 5'!$C:$C,$D22),\"0\")","v":"0"},{"$f":"IF('Aonad 6'!$C$7=$D$59,COUNTIF('Aonad 6'!$C:$C,$D22),\"0\")","v":"0"},{"$f":"IF('Aonad 7'!$C$7=$D$59,COUNTIF('Aonad 7'!$C:$C,$D22),\"0\")","v":"0"},{"$f":"IF('Aonad 8'!$C$7=$D$59,COUNTIF('Aonad 8'!$C:$C,$D22),\"0\")","v":"0"},{"$f":"IF('Aonad 9'!$C$7=$D$59,COUNTIF('Aonad 9'!$C:$C,$D22),\"0\")","v":"0"},{"$f":"IF('Aonad 10'!$C$7=$D$59,COUNTIF('Aonad 10'!$C:$C,$D22),\"0\")","v":"0"},{"$f":"IF('Aonad 11'!$C$7=$D$59,COUNTIF('Aonad 11'!$C:$C,$D22),\"0\")","v":"0"},{"$f":"IF('Aonad 12'!$C$7=$D$59,COUNTIF('Aonad 12'!$C:$C,$D22),\"0\")","v":"0"},{"$f":"IF('Aonad 13'!$C$7=$D$59,COUNTIF('Aonad 13'!$C:$C,$D22),\"0\")","v":"0"},{"$f":"IF('Aonad 14'!$C$7=$D$59,COUNTIF('Aonad 14'!$C:$C,$D22),\"0\")","v":"0"},{"$f":"IF('Aonad 15'!$C$7=$D$59,COUNTIF('Aonad 15'!$C:$C,$D22),\"0\")","v":"0"},{"$f":"IF('Aonad 16'!$C$7=$D$59,COUNTIF('Aonad 16'!$C:$C,$D22),\"0\")","v":"0"},{"$f":"IF('Aonad 17'!$C$7=$D$59,COUNTIF('Aonad 17'!$C:$C,$D22),\"0\")","v":"0"},{"$f":"IF('Aonad 18'!$C$7=$D$59,COUNTIF('Aonad 18'!$C:$C,$D22),\"0\")","v":"0"},{"$f":"IF('Aonad 19'!$C$7=$D$59,COUNTIF('Aonad 19'!$C:$C,$D22),\"0\")","v":"0"},{"$f":"IF('Aonad 20'!$C$7=$D$59,COUNTIF('Aonad 20'!$C:$C,$D22),\"0\")","v":"0"},{"$f":"IF('Aonad 21'!$C$7=$D$59,COUNTIF('Aonad 21'!$C:$C,$D22),\"0\")","v":"0"},{"$f":"IF('Aonad 22'!$C$7=$D$59,COUNTIF('Aonad 22'!$C:$C,$D22),\"0\")","v":"0"},{"$f":"IF('Aonad 23'!$C$7=$D$59,COUNTIF('Aonad 23'!$C:$C,$D22),\"0\")","v":"0"},{"$f":"IF('Aonad 24'!$C$7=$D$59,COUNTIF('Aonad 24'!$C:$C,$D22),\"0\")","v":"0"},{"$f":"IF('Aonad 25'!$C$7=$D$59,COUNTIF('Aonad 25'!$C:$C,$D22),\"0\")","v":"0"},{"$f":"IF('Aonad 26'!$C$7=$D$59,COUNTIF('Aonad 26'!$C:$C,$D22),\"0\")","v":"0"},{"$f":"IF('Aonad 27'!$C$7=$D$59,COUNTIF('Aonad 27'!$C:$C,$D22),\"0\")","v":"0"},{"$f":"IF('Aonad 28'!$C$7=$D$59,COUNTIF('Aonad 28'!$C:$C,$D22),\"0\")","v":"0"},{"$f":"IF('Aonad 29'!$C$7=$D$59,COUNTIF('Aonad 29'!$C:$C,$D22),\"0\")","v":"0"},{"$f":"IF('Aonad 30'!$C$7=$D$59,COUNTIF('Aonad 30'!$C:$C,$D22),\"0\")","v":"0"},{"$f":"IF('Aonad 31'!$C$7=$D$59,COUNTIF('Aonad 31'!$C:$C,$D22),\"0\")","v":"0"},{"$f":"IF('Aonad 32'!$C$7=$D$59,COUNTIF('Aonad 32'!$C:$C,$D22),\"0\")","v":"0"},{"$f":"IF('Aonad 33'!$C$7=$D$59,COUNTIF('Aonad 33'!$C:$C,$D22),\"0\")","v":"0"},{"$f":"IF('Aonad 34'!$C$7=$D$59,COUNTIF('Aonad 34'!$C:$C,$D22),\"0\")","v":"0"},{"$f":"IF('Aonad 35'!$C$7=$D$59,COUNTIF('Aonad 35'!$C:$C,$D22),\"0\")","v":"0"},{"$f":"IF('Aonad 36'!$C$7=$D$59,COUNTIF('Aonad 36'!$C:$C,$D22),\"0\")","v":"0"},{"$f":"IF('Aonad 37'!$C$7=$D$59,COUNTIF('Aonad 37'!$C:$C,$D22),\"0\")","v":"0"},{"$f":"IF('Aonad 38'!$C$7=$D$59,COUNTIF('Aonad 38'!$C:$C,$D22),\"0\")","v":"0"},0,null,{"$f":"IF('Aonad 1'!$C$7=$D$60,COUNTIF('Aonad 1'!$C:$C,$D22),\"0\")","v":"0"},{"$f":"IF('Aonad 2'!$C$7=$D$60,COUNTIF('Aonad 2'!$C:$C,$D22),\"0\")","v":"0"},{"$f":"IF('Aonad 3'!$C$7=$D$60,COUNTIF('Aonad 3'!$C:$C,$D22),\"0\")","v":"0"},{"$f":"IF('Aonad 4'!$C$7=$D$60,COUNTIF('Aonad 4'!$C:$C,$D22),\"0\")","v":"0"},{"$f":"IF('Aonad 5'!$C$7=$D$60,COUNTIF('Aonad 5'!$C:$C,$D22),\"0\")","v":"0"},{"$f":"IF('Aonad 6'!$C$7=$D$60,COUNTIF('Aonad 6'!$C:$C,$D22),\"0\")","v":"0"},{"$f":"IF('Aonad 7'!$C$7=$D$60,COUNTIF('Aonad 7'!$C:$C,$D22),\"0\")","v":"0"},{"$f":"IF('Aonad 8'!$C$7=$D$60,COUNTIF('Aonad 8'!$C:$C,$D22),\"0\")","v":"0"},{"$f":"IF('Aonad 9'!$C$7=$D$60,COUNTIF('Aonad 9'!$C:$C,$D22),\"0\")","v":"0"},{"$f":"IF('Aonad 10'!$C$7=$D$60,COUNTIF('Aonad 10'!$C:$C,$D22),\"0\")","v":"0"},{"$f":"IF('Aonad 11'!$C$7=$D$60,COUNTIF('Aonad 11'!$C:$C,$D22),\"0\")","v":"0"},{"$f":"IF('Aonad 12'!$C$7=$D$60,COUNTIF('Aonad 12'!$C:$C,$D22),\"0\")","v":"0"},{"$f":"IF('Aonad 13'!$C$7=$D$60,COUNTIF('Aonad 13'!$C:$C,$D22),\"0\")","v":"0"},{"$f":"IF('Aonad 14'!$C$7=$D$60,COUNTIF('Aonad 14'!$C:$C,$D22),\"0\")","v":"0"},{"$f":"IF('Aonad 15'!$C$7=$D$60,COUNTIF('Aonad 15'!$C:$C,$D22),\"0\")","v":"0"},{"$f":"IF('Aonad 16'!$C$7=$D$60,COUNTIF('Aonad 16'!$C:$C,$D22),\"0\")","v":"0"},{"$f":"IF('Aonad 17'!$C$7=$D$60,COUNTIF('Aonad 17'!$C:$C,$D22),\"0\")","v":"0"},{"$f":"IF('Aonad 18'!$C$7=$D$60,COUNTIF('Aonad 18'!$C:$C,$D22),\"0\")","v":"0"},{"$f":"IF('Aonad 19'!$C$7=$D$60,COUNTIF('Aonad 19'!$C:$C,$D22),\"0\")","v":"0"},{"$f":"IF('Aonad 20'!$C$7=$D$60,COUNTIF('Aonad 20'!$C:$C,$D22),\"0\")","v":"0"},{"$f":"IF('Aonad 21'!$C$7=$D$60,COUNTIF('Aonad 21'!$C:$C,$D22),\"0\")","v":"0"},{"$f":"IF('Aonad 22'!$C$7=$D$60,COUNTIF('Aonad 22'!$C:$C,$D22),\"0\")","v":"0"},{"$f":"IF('Aonad 23'!$C$7=$D$60,COUNTIF('Aonad 23'!$C:$C,$D22),\"0\")","v":"0"},{"$f":"IF('Aonad 24'!$C$7=$D$60,COUNTIF('Aonad 24'!$C:$C,$D22),\"0\")","v":"0"},{"$f":"IF('Aonad 25'!$C$7=$D$60,COUNTIF('Aonad 25'!$C:$C,$D22),\"0\")","v":"0"},{"$f":"IF('Aonad 26'!$C$7=$D$60,COUNTIF('Aonad 26'!$C:$C,$D22),\"0\")","v":"0"},{"$f":"IF('Aonad 27'!$C$7=$D$60,COUNTIF('Aonad 27'!$C:$C,$D22),\"0\")","v":"0"},{"$f":"IF('Aonad 28'!$C$7=$D$60,COUNTIF('Aonad 28'!$C:$C,$D22),\"0\")","v":"0"},{"$f":"IF('Aonad 29'!$C$7=$D$60,COUNTIF('Aonad 29'!$C:$C,$D22),\"0\")","v":"0"},{"$f":"IF('Aonad 30'!$C$7=$D$60,COUNTIF('Aonad 30'!$C:$C,$D22),\"0\")","v":"0"},{"$f":"IF('Aonad 31'!$C$7=$D$60,COUNTIF('Aonad 31'!$C:$C,$D22),\"0\")","v":"0"},{"$f":"IF('Aonad 32'!$C$7=$D$60,COUNTIF('Aonad 32'!$C:$C,$D22),\"0\")","v":"0"},{"$f":"IF('Aonad 33'!$C$7=$D$60,COUNTIF('Aonad 33'!$C:$C,$D22),\"0\")","v":"0"},{"$f":"IF('Aonad 34'!$C$7=$D$60,COUNTIF('Aonad 34'!$C:$C,$D22),\"0\")","v":"0"},{"$f":"IF('Aonad 35'!$C$7=$D$60,COUNTIF('Aonad 35'!$C:$C,$D22),\"0\")","v":"0"},{"$f":"IF('Aonad 36'!$C$7=$D$60,COUNTIF('Aonad 36'!$C:$C,$D22),\"0\")","v":"0"},{"$f":"IF('Aonad 37'!$C$7=$D$60,COUNTIF('Aonad 37'!$C:$C,$D22),\"0\")","v":"0"},{"$f":"IF('Aonad 38'!$C$7=$D$60,COUNTIF('Aonad 38'!$C:$C,$D22),\"0\")","v":"0"},0]
[null,null,null,null,null,{"$f":"COUNTIF('Aonad 1'!$C:$C,$D23)","v":0},{"$f":"COUNTIF('Aonad 2'!$C:$C,$D23)","v":0},{"$f":"COUNTIF('Aonad 3'!$C:$C,$D23)","v":0},{"$f":"COUNTIF('Aonad 4'!$C:$C,$D23)","v":0},{"$f":"COUNTIF('Aonad 5'!$C:$C,$D23)","v":0},{"$f":"COUNTIF('Aonad 6'!$C:$C,$D23)","v":0},{"$f":"COUNTIF('Aonad 7'!$C:$C,$D23)","v":0},{"$f":"COUNTIF('Aonad 8'!$C:$C,$D23)","v":0},{"$f":"COUNTIF('Aonad 9'!$C:$C,$D23)","v":0},{"$f":"COUNTIF('Aonad 10'!$C:$C,$D23)","v":0},{"$f":"COUNTIF('Aonad 11'!$C:$C,$D23)","v":0},{"$f":"COUNTIF('Aonad 12'!$C:$C,$D23)","v":0},{"$f":"COUNTIF('Aonad 13'!$C:$C,$D23)","v":0},{"$f":"COUNTIF('Aonad 14'!$C:$C,$D23)","v":0},{"$f":"COUNTIF('Aonad 15'!$C:$C,$D23)","v":0},{"$f":"COUNTIF('Aonad 16'!$C:$C,$D23)","v":0},{"$f":"COUNTIF('Aonad 17'!$C:$C,$D23)","v":0},{"$f":"COUNTIF('Aonad 18'!$C:$C,$D23)","v":0},{"$f":"COUNTIF('Aonad 19'!$C:$C,$D23)","v":0},{"$f":"COUNTIF('Aonad 20'!$C:$C,$D23)","v":0},{"$f":"COUNTIF('Aonad 21'!$C:$C,$D23)","v":0},{"$f":"COUNTIF('Aonad 22'!$C:$C,$D23)","v":0},{"$f":"COUNTIF('Aonad 23'!$C:$C,$D23)","v":0},{"$f":"COUNTIF('Aonad 24'!$C:$C,$D23)","v":0},{"$f":"COUNTIF('Aonad 25'!$C:$C,$D23)","v":0},{"$f":"COUNTIF('Aonad 26'!$C:$C,$D23)","v":0},{"$f":"COUNTIF('Aonad 27'!$C:$C,$D23)","v":0},{"$f":"COUNTIF('Aonad 28'!$C:$C,$D23)","v":0},{"$f":"COUNTIF('Aonad 29'!$C:$C,$D23)","v":0},{"$f":"COUNTIF('Aonad 30'!$C:$C,$D23)","v":0},{"$f":"COUNTIF('Aonad 31'!$C:$C,$D23)","v":0},{"$f":"COUNTIF('Aonad 32'!$C:$C,$D23)","v":0},{"$f":"COUNTIF('Aonad 33'!$C:$C,$D23)","v":0},{"$f":"COUNTIF('Aonad 34'!$C:$C,$D23)","v":0},{"$f":"COUNTIF('Aonad 35'!$C:$C,$D23)","v":0},{"$f":"COUNTIF('Aonad 36'!$C:$C,$D23)","v":0},{"$f":"COUNTIF('Aonad 37'!$C:$C,$D23)","v":0},{"$f":"COUNTIF('Aonad 38'!$C:$C,$D23)","v":0},0,null,{"$f":"IF('Aonad 1'!$C$7=$D$58,COUNTIF('Aonad 1'!$C:$C,$D23),\"0\")","v":"0"},{"$f":"IF('Aonad 2'!$C$7=$D$58,COUNTIF('Aonad 2'!$C:$C,$D23),\"0\")","v":"0"},{"$f":"IF('Aonad 3'!$C$7=$D$58,COUNTIF('Aonad 3'!$C:$C,$D23),\"0\")","v":"0"},{"$f":"IF('Aonad 4'!$C$7=$D$58,COUNTIF('Aonad 4'!$C:$C,$D23),\"0\")","v":"0"},{"$f":"IF('Aonad 5'!$C$7=$D$58,COUNTIF('Aonad 5'!$C:$C,$D23),\"0\")","v":"0"},{"$f":"IF('Aonad 6'!$C$7=$D$58,COUNTIF('Aonad 6'!$C:$C,$D23),\"0\")","v":"0"},{"$f":"IF('Aonad 7'!$C$7=$D$58,COUNTIF('Aonad 7'!$C:$C,$D23),\"0\")","v":"0"},{"$f":"IF('Aonad 8'!$C$7=$D$58,COUNTIF('Aonad 8'!$C:$C,$D23),\"0\")","v":"0"},{"$f":"IF('Aonad 9'!$C$7=$D$58,COUNTIF('Aonad 9'!$C:$C,$D23),\"0\")","v":"0"},{"$f":"IF('Aonad 10'!$C$7=$D$58,COUNTIF('Aonad 10'!$C:$C,$D23),\"0\")","v":"0"},{"$f":"IF('Aonad 11'!$C$7=$D$58,COUNTIF('Aonad 11'!$C:$C,$D23),\"0\")","v":"0"},{"$f":"IF('Aonad 12'!$C$7=$D$58,COUNTIF('Aonad 12'!$C:$C,$D23),\"0\")","v":"0"},{"$f":"IF('Aonad 13'!$C$7=$D$58,COUNTIF('Aonad 13'!$C:$C,$D23),\"0\")","v":"0"},{"$f":"IF('Aonad 14'!$C$7=$D$58,COUNTIF('Aonad 14'!$C:$C,$D23),\"0\")","v":"0"},{"$f":"IF('Aonad 15'!$C$7=$D$58,COUNTIF('Aonad 15'!$C:$C,$D23),\"0\")","v":"0"},{"$f":"IF('Aonad 16'!$C$7=$D$58,COUNTIF('Aonad 16'!$C:$C,$D23),\"0\")","v":"0"},{"$f":"IF('Aonad 17'!$C$7=$D$58,COUNTIF('Aonad 17'!$C:$C,$D23),\"0\")","v":"0"},{"$f":"IF('Aonad 18'!$C$7=$D$58,COUNTIF('Aonad 18'!$C:$C,$D23),\"0\")","v":"0"},{"$f":"IF('Aonad 19'!$C$7=$D$58,COUNTIF('Aonad 19'!$C:$C,$D23),\"0\")","v":"0"},{"$f":"IF('Aonad 20'!$C$7=$D$58,COUNTIF('Aonad 20'!$C:$C,$D23),\"0\")","v":"0"},{"$f":"IF('Aonad 21'!$C$7=$D$58,COUNTIF('Aonad 21'!$C:$C,$D23),\"0\")","v":"0"},{"$f":"IF('Aonad 22'!$C$7=$D$58,COUNTIF('Aonad 22'!$C:$C,$D23),\"0\")","v":"0"},{"$f":"IF('Aonad 23'!$C$7=$D$58,COUNTIF('Aonad 23'!$C:$C,$D23),\"0\")","v":"0"},{"$f":"IF('Aonad 24'!$C$7=$D$58,COUNTIF('Aonad 24'!$C:$C,$D23),\"0\")","v":"0"},{"$f":"IF('Aonad 25'!$C$7=$D$58,COUNTIF('Aonad 25'!$C:$C,$D23),\"0\")","v":"0"},{"$f":"IF('Aonad 26'!$C$7=$D$58,COUNTIF('Aonad 26'!$C:$C,$D23),\"0\")","v":"0"},{"$f":"IF('Aonad 27'!$C$7=$D$58,COUNTIF('Aonad 27'!$C:$C,$D23),\"0\")","v":"0"},{"$f":"IF('Aonad 28'!$C$7=$D$58,COUNTIF('Aonad 28'!$C:$C,$D23),\"0\")","v":"0"},{"$f":"IF('Aonad 29'!$C$7=$D$58,COUNTIF('Aonad 29'!$C:$C,$D23),\"0\")","v":"0"},{"$f":"IF('Aonad 30'!$C$7=$D$58,COUNTIF('Aonad 30'!$C:$C,$D23),\"0\")","v":"0"},{"$f":"IF('Aonad 31'!$C$7=$D$58,COUNTIF('Aonad 31'!$C:$C,$D23),\"0\")","v":"0"},{"$f":"IF('Aonad 32'!$C$7=$D$58,COUNTIF('Aonad 32'!$C:$C,$D23),\"0\")","v":"0"},{"$f":"IF('Aonad 33'!$C$7=$D$58,COUNTIF('Aonad 33'!$C:$C,$D23),\"0\")","v":"0"},{"$f":"IF('Aonad 34'!$C$7=$D$58,COUNTIF('Aonad 34'!$C:$C,$D23),\"0\")","v":"0"},{"$f":"IF('Aonad 35'!$C$7=$D$58,COUNTIF('Aonad 35'!$C:$C,$D23),\"0\")","v":"0"},{"$f":"IF('Aonad 36'!$C$7=$D$58,COUNTIF('Aonad 36'!$C:$C,$D23),\"0\")","v":"0"},{"$f":"IF('Aonad 37'!$C$7=$D$58,COUNTIF('Aonad 37'!$C:$C,$D23),\"0\")","v":"0"},{"$f":"IF('Aonad 38'!$C$7=$D$58,COUNTIF('Aonad 38'!$C:$C,$D23),\"0\")","v":"0"},0,null,{"$f":"IF('Aonad 1'!$C$7=$D$59,COUNTIF('Aonad 1'!$C:$C,$D23),\"0\")","v":"0"},{"$f":"IF('Aonad 2'!$C$7=$D$59,COUNTIF('Aonad 2'!$C:$C,$D23),\"0\")","v":"0"},{"$f":"IF('Aonad 3'!$C$7=$D$59,COUNTIF('Aonad 3'!$C:$C,$D23),\"0\")","v":"0"},{"$f":"IF('Aonad 4'!$C$7=$D$59,COUNTIF('Aonad 4'!$C:$C,$D23),\"0\")","v":"0"},{"$f":"IF('Aonad 5'!$C$7=$D$59,COUNTIF('Aonad 5'!$C:$C,$D23),\"0\")","v":"0"},{"$f":"IF('Aonad 6'!$C$7=$D$59,COUNTIF('Aonad 6'!$C:$C,$D23),\"0\")","v":"0"},{"$f":"IF('Aonad 7'!$C$7=$D$59,COUNTIF('Aonad 7'!$C:$C,$D23),\"0\")","v":"0"},{"$f":"IF('Aonad 8'!$C$7=$D$59,COUNTIF('Aonad 8'!$C:$C,$D23),\"0\")","v":"0"},{"$f":"IF('Aonad 9'!$C$7=$D$59,COUNTIF('Aonad 9'!$C:$C,$D23),\"0\")","v":"0"},{"$f":"IF('Aonad 10'!$C$7=$D$59,COUNTIF('Aonad 10'!$C:$C,$D23),\"0\")","v":"0"},{"$f":"IF('Aonad 11'!$C$7=$D$59,COUNTIF('Aonad 11'!$C:$C,$D23),\"0\")","v":"0"},{"$f":"IF('Aonad 12'!$C$7=$D$59,COUNTIF('Aonad 12'!$C:$C,$D23),\"0\")","v":"0"},{"$f":"IF('Aonad 13'!$C$7=$D$59,COUNTIF('Aonad 13'!$C:$C,$D23),\"0\")","v":"0"},{"$f":"IF('Aonad 14'!$C$7=$D$59,COUNTIF('Aonad 14'!$C:$C,$D23),\"0\")","v":"0"},{"$f":"IF('Aonad 15'!$C$7=$D$59,COUNTIF('Aonad 15'!$C:$C,$D23),\"0\")","v":"0"},{"$f":"IF('Aonad 16'!$C$7=$D$59,COUNTIF('Aonad 16'!$C:$C,$D23),\"0\")","v":"0"},{"$f":"IF('Aonad 17'!$C$7=$D$59,COUNTIF('Aonad 17'!$C:$C,$D23),\"0\")","v":"0"},{"$f":"IF('Aonad 18'!$C$7=$D$59,COUNTIF('Aonad 18'!$C:$C,$D23),\"0\")","v":"0"},{"$f":"IF('Aonad 19'!$C$7=$D$59,COUNTIF('Aonad 19'!$C:$C,$D23),\"0\")","v":"0"},{"$f":"IF('Aonad 20'!$C$7=$D$59,COUNTIF('Aonad 20'!$C:$C,$D23),\"0\")","v":"0"},{"$f":"IF('Aonad 21'!$C$7=$D$59,COUNTIF('Aonad 21'!$C:$C,$D23),\"0\")","v":"0"},{"$f":"IF('Aonad 22'!$C$7=$D$59,COUNTIF('Aonad 22'!$C:$C,$D23),\"0\")","v":"0"},{"$f":"IF('Aonad 23'!$C$7=$D$59,COUNTIF('Aonad 23'!$C:$C,$D23),\"0\")","v":"0"},{"$f":"IF('Aonad 24'!$C$7=$D$59,COUNTIF('Aonad 24'!$C:$C,$D23),\"0\")","v":"0"},{"$f":"IF('Aonad 25'!$C$7=$D$59,COUNTIF('Aonad 25'!$C:$C,$D23),\"0\")","v":"0"},{"$f":"IF('Aonad 26'!$C$7=$D$59,COUNTIF('Aonad 26'!$C:$C,$D23),\"0\")","v":"0"},{"$f":"IF('Aonad 27'!$C$7=$D$59,COUNTIF('Aonad 27'!$C:$C,$D23),\"0\")","v":"0"},{"$f":"IF('Aonad 28'!$C$7=$D$59,COUNTIF('Aonad 28'!$C:$C,$D23),\"0\")","v":"0"},{"$f":"IF('Aonad 29'!$C$7=$D$59,COUNTIF('Aonad 29'!$C:$C,$D23),\"0\")","v":"0"},{"$f":"IF('Aonad 30'!$C$7=$D$59,COUNTIF('Aonad 30'!$C:$C,$D23),\"0\")","v":"0"},{"$f":"IF('Aonad 31'!$C$7=$D$59,COUNTIF('Aonad 31'!$C:$C,$D23),\"0\")","v":"0"},{"$f":"IF('Aonad 32'!$C$7=$D$59,COUNTIF('Aonad 32'!$C:$C,$D23),\"0\")","v":"0"},{"$f":"IF('Aonad 33'!$C$7=$D$59,COUNTIF('Aonad 33'!$C:$C,$D23),\"0\")","v":"0"},{"$f":"IF('Aonad 34'!$C$7=$D$59,COUNTIF('Aonad 34'!$C:$C,$D23),\"0\")","v":"0"},{"$f":"IF('Aonad 35'!$C$7=$D$59,COUNTIF('Aonad 35'!$C:$C,$D23),\"0\")","v":"0"},{"$f":"IF('Aonad 36'!$C$7=$D$59,COUNTIF('Aonad 36'!$C:$C,$D23),\"0\")","v":"0"},{"$f":"IF('Aonad 37'!$C$7=$D$59,COUNTIF('Aonad 37'!$C:$C,$D23),\"0\")","v":"0"},{"$f":"IF('Aonad 38'!$C$7=$D$59,COUNTIF('Aonad 38'!$C:$C,$D23),\"0\")","v":"0"},0,null,{"$f":"IF('Aonad 1'!$C$7=$D$60,COUNTIF('Aonad 1'!$C:$C,$D23),\"0\")","v":"0"},{"$f":"IF('Aonad 2'!$C$7=$D$60,COUNTIF('Aonad 2'!$C:$C,$D23),\"0\")","v":"0"},{"$f":"IF('Aonad 3'!$C$7=$D$60,COUNTIF('Aonad 3'!$C:$C,$D23),\"0\")","v":"0"},{"$f":"IF('Aonad 4'!$C$7=$D$60,COUNTIF('Aonad 4'!$C:$C,$D23),\"0\")","v":"0"},{"$f":"IF('Aonad 5'!$C$7=$D$60,COUNTIF('Aonad 5'!$C:$C,$D23),\"0\")","v":"0"},{"$f":"IF('Aonad 6'!$C$7=$D$60,COUNTIF('Aonad 6'!$C:$C,$D23),\"0\")","v":"0"},{"$f":"IF('Aonad 7'!$C$7=$D$60,COUNTIF('Aonad 7'!$C:$C,$D23),\"0\")","v":"0"},{"$f":"IF('Aonad 8'!$C$7=$D$60,COUNTIF('Aonad 8'!$C:$C,$D23),\"0\")","v":"0"},{"$f":"IF('Aonad 9'!$C$7=$D$60,COUNTIF('Aonad 9'!$C:$C,$D23),\"0\")","v":"0"},{"$f":"IF('Aonad 10'!$C$7=$D$60,COUNTIF('Aonad 10'!$C:$C,$D23),\"0\")","v":"0"},{"$f":"IF('Aonad 11'!$C$7=$D$60,COUNTIF('Aonad 11'!$C:$C,$D23),\"0\")","v":"0"},{"$f":"IF('Aonad 12'!$C$7=$D$60,COUNTIF('Aonad 12'!$C:$C,$D23),\"0\")","v":"0"},{"$f":"IF('Aonad 13'!$C$7=$D$60,COUNTIF('Aonad 13'!$C:$C,$D23),\"0\")","v":"0"},{"$f":"IF('Aonad 14'!$C$7=$D$60,COUNTIF('Aonad 14'!$C:$C,$D23),\"0\")","v":"0"},{"$f":"IF('Aonad 15'!$C$7=$D$60,COUNTIF('Aonad 15'!$C:$C,$D23),\"0\")","v":"0"},{"$f":"IF('Aonad 16'!$C$7=$D$60,COUNTIF('Aonad 16'!$C:$C,$D23),\"0\")","v":"0"},{"$f":"IF('Aonad 17'!$C$7=$D$60,COUNTIF('Aonad 17'!$C:$C,$D23),\"0\")","v":"0"},{"$f":"IF('Aonad 18'!$C$7=$D$60,COUNTIF('Aonad 18'!$C:$C,$D23),\"0\")","v":"0"},{"$f":"IF('Aonad 19'!$C$7=$D$60,COUNTIF('Aonad 19'!$C:$C,$D23),\"0\")","v":"0"},{"$f":"IF('Aonad 20'!$C$7=$D$60,COUNTIF('Aonad 20'!$C:$C,$D23),\"0\")","v":"0"},{"$f":"IF('Aonad 21'!$C$7=$D$60,COUNTIF('Aonad 21'!$C:$C,$D23),\"0\")","v":"0"},{"$f":"IF('Aonad 22'!$C$7=$D$60,COUNTIF('Aonad 22'!$C:$C,$D23),\"0\")","v":"0"},{"$f":"IF('Aonad 23'!$C$7=$D$60,COUNTIF('Aonad 23'!$C:$C,$D23),\"0\")","v":"0"},{"$f":"IF('Aonad 24'!$C$7=$D$60,COUNTIF('Aonad 24'!$C:$C,$D23),\"0\")","v":"0"},{"$f":"IF('Aonad 25'!$C$7=$D$60,COUNTIF('Aonad 25'!$C:$C,$D23),\"0\")","v":"0"},{"$f":"IF('Aonad 26'!$C$7=$D$60,COUNTIF('Aonad 26'!$C:$C,$D23),\"0\")","v":"0"},{"$f":"IF('Aonad 27'!$C$7=$D$60,COUNTIF('Aonad 27'!$C:$C,$D23),\"0\")","v":"0"},{"$f":"IF('Aonad 28'!$C$7=$D$60,COUNTIF('Aonad 28'!$C:$C,$D23),\"0\")","v":"0"},{"$f":"IF('Aonad 29'!$C$7=$D$60,COUNTIF('Aonad 29'!$C:$C,$D23),\"0\")","v":"0"},{"$f":"IF('Aonad 30'!$C$7=$D$60,COUNTIF('Aonad 30'!$C:$C,$D23),\"0\")","v":"0"},{"$f":"IF('Aonad 31'!$C$7=$D$60,COUNTIF('Aonad 31'!$C:$C,$D23),\"0\")","v":"0"},{"$f":"IF('Aonad 32'!$C$7=$D$60,COUNTIF('Aonad 32'!$C:$C,$D23),\"0\")","v":"0"},{"$f":"IF('Aonad 33'!$C$7=$D$60,COUNTIF('Aonad 33'!$C:$C,$D23),\"0\")","v":"0"},{"$f":"IF('Aonad 34'!$C$7=$D$60,COUNTIF('Aonad 34'!$C:$C,$D23),\"0\")","v":"0"},{"$f":"IF('Aonad 35'!$C$7=$D$60,COUNTIF('Aonad 35'!$C:$C,$D23),\"0\")","v":"0"},{"$f":"IF('Aonad 36'!$C$7=$D$60,COUNTIF('Aonad 36'!$C:$C,$D23),\"0\")","v":"0"},{"$f":"IF('Aonad 37'!$C$7=$D$60,COUNTIF('Aonad 37'!$C:$C,$D23),\"0\")","v":"0"},{"$f":"IF('Aonad 38'!$C$7=$D$60,COUNTIF('Aonad 38'!$C:$C,$D23),\"0\")","v":"0"},0]
["Fuinneamh agus rialú",{"$f":"B8","v":"Anailís a dhéanamh agus fadhbanna a réiteach"},"2.1","2.1 iniúchadh a dhéanamh ar an gcaidreamh idir ionchuir, claochluithe agus aschuir taobh istigh de chórais shimplí rialaithe","Iniúch: breathnú, staidéar, nó mionscrúdú córasach a dhéanamh chun fíricí a chinntiú agus teacht ar chonclúidí nua",{"$f":"COUNTIF('Aonad 1'!$C:$C,$D24)","v":0},{"$f":"COUNTIF('Aonad 2'!$C:$C,$D24)","v":0},{"$f":"COUNTIF('Aonad 3'!$C:$C,$D24)","v":0},{"$f":"COUNTIF('Aonad 4'!$C:$C,$D24)","v":0},{"$f":"COUNTIF('Aonad 5'!$C:$C,$D24)","v":0},{"$f":"COUNTIF('Aonad 6'!$C:$C,$D24)","v":0},{"$f":"COUNTIF('Aonad 7'!$C:$C,$D24)","v":0},{"$f":"COUNTIF('Aonad 8'!$C:$C,$D24)","v":0},{"$f":"COUNTIF('Aonad 9'!$C:$C,$D24)","v":0},{"$f":"COUNTIF('Aonad 10'!$C:$C,$D24)","v":0},{"$f":"COUNTIF('Aonad 11'!$C:$C,$D24)","v":0},{"$f":"COUNTIF('Aonad 12'!$C:$C,$D24)","v":0},{"$f":"COUNTIF('Aonad 13'!$C:$C,$D24)","v":0},{"$f":"COUNTIF('Aonad 14'!$C:$C,$D24)","v":0},{"$f":"COUNTIF('Aonad 15'!$C:$C,$D24)","v":0},{"$f":"COUNTIF('Aonad 16'!$C:$C,$D24)","v":0},{"$f":"COUNTIF('Aonad 17'!$C:$C,$D24)","v":0},{"$f":"COUNTIF('Aonad 18'!$C:$C,$D24)","v":0},{"$f":"COUNTIF('Aonad 19'!$C:$C,$D24)","v":0},{"$f":"COUNTIF('Aonad 20'!$C:$C,$D24)","v":0},{"$f":"COUNTIF('Aonad 21'!$C:$C,$D24)","v":0},{"$f":"COUNTIF('Aonad 22'!$C:$C,$D24)","v":0},{"$f":"COUNTIF('Aonad 23'!$C:$C,$D24)","v":0},{"$f":"COUNTIF('Aonad 24'!$C:$C,$D24)","v":0},{"$f":"COUNTIF('Aonad 25'!$C:$C,$D24)","v":0},{"$f":"COUNTIF('Aonad 26'!$C:$C,$D24)","v":0},{"$f":"COUNTIF('Aonad 27'!$C:$C,$D24)","v":0},{"$f":"COUNTIF('Aonad 28'!$C:$C,$D24)","v":0},{"$f":"COUNTIF('Aonad 29'!$C:$C,$D24)","v":0},{"$f":"COUNTIF('Aonad 30'!$C:$C,$D24)","v":0},{"$f":"COUNTIF('Aonad 31'!$C:$C,$D24)","v":0},{"$f":"COUNTIF('Aonad 32'!$C:$C,$D24)","v":0},{"$f":"COUNTIF('Aonad 33'!$C:$C,$D24)","v":0},{"$f":"COUNTIF('Aonad 34'!$C:$C,$D24)","v":0},{"$f":"COUNTIF('Aonad 35'!$C:$C,$D24)","v":0},{"$f":"COUNTIF('Aonad 36'!$C:$C,$D24)","v":0},{"$f":"COUNTIF('Aonad 37'!$C:$C,$D24)","v":0},{"$f":"COUNTIF('Aonad 38'!$C:$C,$D24)","v":0},0,null,{"$f":"IF('Aonad 1'!$C$7=$D$58,COUNTIF('Aonad 1'!$C:$C,$D24),\"0\")","v":"0"},{"$f":"IF('Aonad 2'!$C$7=$D$58,COUNTIF('Aonad 2'!$C:$C,$D24),\"0\")","v":"0"},{"$f":"IF('Aonad 3'!$C$7=$D$58,COUNTIF('Aonad 3'!$C:$C,$D24),\"0\")","v":"0"},{"$f":"IF('Aonad 4'!$C$7=$D$58,COUNTIF('Aonad 4'!$C:$C,$D24),\"0\")","v":"0"},{"$f":"IF('Aonad 5'!$C$7=$D$58,COUNTIF('Aonad 5'!$C:$C,$D24),\"0\")","v":"0"},{"$f":"IF('Aonad 6'!$C$7=$D$58,COUNTIF('Aonad 6'!$C:$C,$D24),\"0\")","v":"0"},{"$f":"IF('Aonad 7'!$C$7=$D$58,COUNTIF('Aonad 7'!$C:$C,$D24),\"0\")","v":"0"},{"$f":"IF('Aonad 8'!$C$7=$D$58,COUNTIF('Aonad 8'!$C:$C,$D24),\"0\")","v":"0"},{"$f":"IF('Aonad 9'!$C$7=$D$58,COUNTIF('Aonad 9'!$C:$C,$D24),\"0\")","v":"0"},{"$f":"IF('Aonad 10'!$C$7=$D$58,COUNTIF('Aonad 10'!$C:$C,$D24),\"0\")","v":"0"},{"$f":"IF('Aonad 11'!$C$7=$D$58,COUNTIF('Aonad 11'!$C:$C,$D24),\"0\")","v":"0"},{"$f":"IF('Aonad 12'!$C$7=$D$58,COUNTIF('Aonad 12'!$C:$C,$D24),\"0\")","v":"0"},{"$f":"IF('Aonad 13'!$C$7=$D$58,COUNTIF('Aonad 13'!$C:$C,$D24),\"0\")","v":"0"},{"$f":"IF('Aonad 14'!$C$7=$D$58,COUNTIF('Aonad 14'!$C:$C,$D24),\"0\")","v":"0"},{"$f":"IF('Aonad 15'!$C$7=$D$58,COUNTIF('Aonad 15'!$C:$C,$D24),\"0\")","v":"0"},{"$f":"IF('Aonad 16'!$C$7=$D$58,COUNTIF('Aonad 16'!$C:$C,$D24),\"0\")","v":"0"},{"$f":"IF('Aonad 17'!$C$7=$D$58,COUNTIF('Aonad 17'!$C:$C,$D24),\"0\")","v":"0"},{"$f":"IF('Aonad 18'!$C$7=$D$58,COUNTIF('Aonad 18'!$C:$C,$D24),\"0\")","v":"0"},{"$f":"IF('Aonad 19'!$C$7=$D$58,COUNTIF('Aonad 19'!$C:$C,$D24),\"0\")","v":"0"},{"$f":"IF('Aonad 20'!$C$7=$D$58,COUNTIF('Aonad 20'!$C:$C,$D24),\"0\")","v":"0"},{"$f":"IF('Aonad 21'!$C$7=$D$58,COUNTIF('Aonad 21'!$C:$C,$D24),\"0\")","v":"0"},{"$f":"IF('Aonad 22'!$C$7=$D$58,COUNTIF('Aonad 22'!$C:$C,$D24),\"0\")","v":"0"},{"$f":"IF('Aonad 23'!$C$7=$D$58,COUNTIF('Aonad 23'!$C:$C,$D24),\"0\")","v":"0"},{"$f":"IF('Aonad 24'!$C$7=$D$58,COUNTIF('Aonad 24'!$C:$C,$D24),\"0\")","v":"0"},{"$f":"IF('Aonad 25'!$C$7=$D$58,COUNTIF('Aonad 25'!$C:$C,$D24),\"0\")","v":"0"},{"$f":"IF('Aonad 26'!$C$7=$D$58,COUNTIF('Aonad 26'!$C:$C,$D24),\"0\")","v":"0"},{"$f":"IF('Aonad 27'!$C$7=$D$58,COUNTIF('Aonad 27'!$C:$C,$D24),\"0\")","v":"0"},{"$f":"IF('Aonad 28'!$C$7=$D$58,COUNTIF('Aonad 28'!$C:$C,$D24),\"0\")","v":"0"},{"$f":"IF('Aonad 29'!$C$7=$D$58,COUNTIF('Aonad 29'!$C:$C,$D24),\"0\")","v":"0"},{"$f":"IF('Aonad 30'!$C$7=$D$58,COUNTIF('Aonad 30'!$C:$C,$D24),\"0\")","v":"0"},{"$f":"IF('Aonad 31'!$C$7=$D$58,COUNTIF('Aonad 31'!$C:$C,$D24),\"0\")","v":"0"},{"$f":"IF('Aonad 32'!$C$7=$D$58,COUNTIF('Aonad 32'!$C:$C,$D24),\"0\")","v":"0"},{"$f":"IF('Aonad 33'!$C$7=$D$58,COUNTIF('Aonad 33'!$C:$C,$D24),\"0\")","v":"0"},{"$f":"IF('Aonad 34'!$C$7=$D$58,COUNTIF('Aonad 34'!$C:$C,$D24),\"0\")","v":"0"},{"$f":"IF('Aonad 35'!$C$7=$D$58,COUNTIF('Aonad 35'!$C:$C,$D24),\"0\")","v":"0"},{"$f":"IF('Aonad 36'!$C$7=$D$58,COUNTIF('Aonad 36'!$C:$C,$D24),\"0\")","v":"0"},{"$f":"IF('Aonad 37'!$C$7=$D$58,COUNTIF('Aonad 37'!$C:$C,$D24),\"0\")","v":"0"},{"$f":"IF('Aonad 38'!$C$7=$D$58,COUNTIF('Aonad 38'!$C:$C,$D24),\"0\")","v":"0"},0,null,{"$f":"IF('Aonad 1'!$C$7=$D$59,COUNTIF('Aonad 1'!$C:$C,$D24),\"0\")","v":"0"},{"$f":"IF('Aonad 2'!$C$7=$D$59,COUNTIF('Aonad 2'!$C:$C,$D24),\"0\")","v":"0"},{"$f":"IF('Aonad 3'!$C$7=$D$59,COUNTIF('Aonad 3'!$C:$C,$D24),\"0\")","v":"0"},{"$f":"IF('Aonad 4'!$C$7=$D$59,COUNTIF('Aonad 4'!$C:$C,$D24),\"0\")","v":"0"},{"$f":"IF('Aonad 5'!$C$7=$D$59,COUNTIF('Aonad 5'!$C:$C,$D24),\"0\")","v":"0"},{"$f":"IF('Aonad 6'!$C$7=$D$59,COUNTIF('Aonad 6'!$C:$C,$D24),\"0\")","v":"0"},{"$f":"IF('Aonad 7'!$C$7=$D$59,COUNTIF('Aonad 7'!$C:$C,$D24),\"0\")","v":"0"},{"$f":"IF('Aonad 8'!$C$7=$D$59,COUNTIF('Aonad 8'!$C:$C,$D24),\"0\")","v":"0"},{"$f":"IF('Aonad 9'!$C$7=$D$59,COUNTIF('Aonad 9'!$C:$C,$D24),\"0\")","v":"0"},{"$f":"IF('Aonad 10'!$C$7=$D$59,COUNTIF('Aonad 10'!$C:$C,$D24),\"0\")","v":"0"},{"$f":"IF('Aonad 11'!$C$7=$D$59,COUNTIF('Aonad 11'!$C:$C,$D24),\"0\")","v":"0"},{"$f":"IF('Aonad 12'!$C$7=$D$59,COUNTIF('Aonad 12'!$C:$C,$D24),\"0\")","v":"0"},{"$f":"IF('Aonad 13'!$C$7=$D$59,COUNTIF('Aonad 13'!$C:$C,$D24),\"0\")","v":"0"},{"$f":"IF('Aonad 14'!$C$7=$D$59,COUNTIF('Aonad 14'!$C:$C,$D24),\"0\")","v":"0"},{"$f":"IF('Aonad 15'!$C$7=$D$59,COUNTIF('Aonad 15'!$C:$C,$D24),\"0\")","v":"0"},{"$f":"IF('Aonad 16'!$C$7=$D$59,COUNTIF('Aonad 16'!$C:$C,$D24),\"0\")","v":"0"},{"$f":"IF('Aonad 17'!$C$7=$D$59,COUNTIF('Aonad 17'!$C:$C,$D24),\"0\")","v":"0"},{"$f":"IF('Aonad 18'!$C$7=$D$59,COUNTIF('Aonad 18'!$C:$C,$D24),\"0\")","v":"0"},{"$f":"IF('Aonad 19'!$C$7=$D$59,COUNTIF('Aonad 19'!$C:$C,$D24),\"0\")","v":"0"},{"$f":"IF('Aonad 20'!$C$7=$D$59,COUNTIF('Aonad 20'!$C:$C,$D24),\"0\")","v":"0"},{"$f":"IF('Aonad 21'!$C$7=$D$59,COUNTIF('Aonad 21'!$C:$C,$D24),\"0\")","v":"0"},{"$f":"IF('Aonad 22'!$C$7=$D$59,COUNTIF('Aonad 22'!$C:$C,$D24),\"0\")","v":"0"},{"$f":"IF('Aonad 23'!$C$7=$D$59,COUNTIF('Aonad 23'!$C:$C,$D24),\"0\")","v":"0"},{"$f":"IF('Aonad 24'!$C$7=$D$59,COUNTIF('Aonad 24'!$C:$C,$D24),\"0\")","v":"0"},{"$f":"IF('Aonad 25'!$C$7=$D$59,COUNTIF('Aonad 25'!$C:$C,$D24),\"0\")","v":"0"},{"$f":"IF('Aonad 26'!$C$7=$D$59,COUNTIF('Aonad 26'!$C:$C,$D24),\"0\")","v":"0"},{"$f":"IF('Aonad 27'!$C$7=$D$59,COUNTIF('Aonad 27'!$C:$C,$D24),\"0\")","v":"0"},{"$f":"IF('Aonad 28'!$C$7=$D$59,COUNTIF('Aonad 28'!$C:$C,$D24),\"0\")","v":"0"},{"$f":"IF('Aonad 29'!$C$7=$D$59,COUNTIF('Aonad 29'!$C:$C,$D24),\"0\")","v":"0"},{"$f":"IF('Aonad 30'!$C$7=$D$59,COUNTIF('Aonad 30'!$C:$C,$D24),\"0\")","v":"0"},{"$f":"IF('Aonad 31'!$C$7=$D$59,COUNTIF('Aonad 31'!$C:$C,$D24),\"0\")","v":"0"},{"$f":"IF('Aonad 32'!$C$7=$D$59,COUNTIF('Aonad 32'!$C:$C,$D24),\"0\")","v":"0"},{"$f":"IF('Aonad 33'!$C$7=$D$59,COUNTIF('Aonad 33'!$C:$C,$D24),\"0\")","v":"0"},{"$f":"IF('Aonad 34'!$C$7=$D$59,COUNTIF('Aonad 34'!$C:$C,$D24),\"0\")","v":"0"},{"$f":"IF('Aonad 35'!$C$7=$D$59,COUNTIF('Aonad 35'!$C:$C,$D24),\"0\")","v":"0"},{"$f":"IF('Aonad 36'!$C$7=$D$59,COUNTIF('Aonad 36'!$C:$C,$D24),\"0\")","v":"0"},{"$f":"IF('Aonad 37'!$C$7=$D$59,COUNTIF('Aonad 37'!$C:$C,$D24),\"0\")","v":"0"},{"$f":"IF('Aonad 38'!$C$7=$D$59,COUNTIF('Aonad 38'!$C:$C,$D24),\"0\")","v":"0"},0,null,{"$f":"IF('Aonad 1'!$C$7=$D$60,COUNTIF('Aonad 1'!$C:$C,$D24),\"0\")","v":"0"},{"$f":"IF('Aonad 2'!$C$7=$D$60,COUNTIF('Aonad 2'!$C:$C,$D24),\"0\")","v":"0"},{"$f":"IF('Aonad 3'!$C$7=$D$60,COUNTIF('Aonad 3'!$C:$C,$D24),\"0\")","v":"0"},{"$f":"IF('Aonad 4'!$C$7=$D$60,COUNTIF('Aonad 4'!$C:$C,$D24),\"0\")","v":"0"},{"$f":"IF('Aonad 5'!$C$7=$D$60,COUNTIF('Aonad 5'!$C:$C,$D24),\"0\")","v":"0"},{"$f":"IF('Aonad 6'!$C$7=$D$60,COUNTIF('Aonad 6'!$C:$C,$D24),\"0\")","v":"0"},{"$f":"IF('Aonad 7'!$C$7=$D$60,COUNTIF('Aonad 7'!$C:$C,$D24),\"0\")","v":"0"},{"$f":"IF('Aonad 8'!$C$7=$D$60,COUNTIF('Aonad 8'!$C:$C,$D24),\"0\")","v":"0"},{"$f":"IF('Aonad 9'!$C$7=$D$60,COUNTIF('Aonad 9'!$C:$C,$D24),\"0\")","v":"0"},{"$f":"IF('Aonad 10'!$C$7=$D$60,COUNTIF('Aonad 10'!$C:$C,$D24),\"0\")","v":"0"},{"$f":"IF('Aonad 11'!$C$7=$D$60,COUNTIF('Aonad 11'!$C:$C,$D24),\"0\")","v":"0"},{"$f":"IF('Aonad 12'!$C$7=$D$60,COUNTIF('Aonad 12'!$C:$C,$D24),\"0\")","v":"0"},{"$f":"IF('Aonad 13'!$C$7=$D$60,COUNTIF('Aonad 13'!$C:$C,$D24),\"0\")","v":"0"},{"$f":"IF('Aonad 14'!$C$7=$D$60,COUNTIF('Aonad 14'!$C:$C,$D24),\"0\")","v":"0"},{"$f":"IF('Aonad 15'!$C$7=$D$60,COUNTIF('Aonad 15'!$C:$C,$D24),\"0\")","v":"0"},{"$f":"IF('Aonad 16'!$C$7=$D$60,COUNTIF('Aonad 16'!$C:$C,$D24),\"0\")","v":"0"},{"$f":"IF('Aonad 17'!$C$7=$D$60,COUNTIF('Aonad 17'!$C:$C,$D24),\"0\")","v":"0"},{"$f":"IF('Aonad 18'!$C$7=$D$60,COUNTIF('Aonad 18'!$C:$C,$D24),\"0\")","v":"0"},{"$f":"IF('Aonad 19'!$C$7=$D$60,COUNTIF('Aonad 19'!$C:$C,$D24),\"0\")","v":"0"},{"$f":"IF('Aonad 20'!$C$7=$D$60,COUNTIF('Aonad 20'!$C:$C,$D24),\"0\")","v":"0"},{"$f":"IF('Aonad 21'!$C$7=$D$60,COUNTIF('Aonad 21'!$C:$C,$D24),\"0\")","v":"0"},{"$f":"IF('Aonad 22'!$C$7=$D$60,COUNTIF('Aonad 22'!$C:$C,$D24),\"0\")","v":"0"},{"$f":"IF('Aonad 23'!$C$7=$D$60,COUNTIF('Aonad 23'!$C:$C,$D24),\"0\")","v":"0"},{"$f":"IF('Aonad 24'!$C$7=$D$60,COUNTIF('Aonad 24'!$C:$C,$D24),\"0\")","v":"0"},{"$f":"IF('Aonad 25'!$C$7=$D$60,COUNTIF('Aonad 25'!$C:$C,$D24),\"0\")","v":"0"},{"$f":"IF('Aonad 26'!$C$7=$D$60,COUNTIF('Aonad 26'!$C:$C,$D24),\"0\")","v":"0"},{"$f":"IF('Aonad 27'!$C$7=$D$60,COUNTIF('Aonad 27'!$C:$C,$D24),\"0\")","v":"0"},{"$f":"IF('Aonad 28'!$C$7=$D$60,COUNTIF('Aonad 28'!$C:$C,$D24),\"0\")","v":"0"},{"$f":"IF('Aonad 29'!$C$7=$D$60,COUNTIF('Aonad 29'!$C:$C,$D24),\"0\")","v":"0"},{"$f":"IF('Aonad 30'!$C$7=$D$60,COUNTIF('Aonad 30'!$C:$C,$D24),\"0\")","v":"0"},{"$f":"IF('Aonad 31'!$C$7=$D$60,COUNTIF('Aonad 31'!$C:$C,$D24),\"0\")","v":"0"},{"$f":"IF('Aonad 32'!$C$7=$D$60,COUNTIF('Aonad 32'!$C:$C,$D24),\"0\")","v":"0"},{"$f":"IF('Aonad 33'!$C$7=$D$60,COUNTIF('Aonad 33'!$C:$C,$D24),\"0\")","v":"0"},{"$f":"IF('Aonad 34'!$C$7=$D$60,COUNTIF('Aonad 34'!$C:$C,$D24),\"0\")","v":"0"},{"$f":"IF('Aonad 35'!$C$7=$D$60,COUNTIF('Aonad 35'!$C:$C,$D24),\"0\")","v":"0"},{"$f":"IF('Aonad 36'!$C$7=$D$60,COUNTIF('Aonad 36'!$C:$C,$D24),\"0\")","v":"0"},{"$f":"IF('Aonad 37'!$C$7=$D$60,COUNTIF('Aonad 37'!$C:$C,$D24),\"0\")","v":"0"},{"$f":"IF('Aonad 38'!$C$7=$D$60,COUNTIF('Aonad 38'!$C:$C,$D24),\"0\")","v":"0"},0]
[null,null,"2.2","2.2 smaointe a mheasúnú ach úsáid a bhaint as an ionsamhlú","Meastóireacht a dhéanamh: (sonraí) sonraí a bhailiú agus a scrúdú chun breithiúnais agus breithmheas a dhéanamh; cur síos a dhéanamh ar an gcaoi a dtacaíonn nó nach dtacaíonn fianaise le conclúid i bhfiosrúchán nó in iniúchadh; srianta sonraí i gconclúidí a shainaithint; breithiúnais a dhéanamh faoi smaointe, faoi réitigh nó faoi mhodhanna.\nMeasúnaigh: (breithiúnas eiticiúil) fianaise a bhailiú agus a scrúdú chun breithiúnais agus breithmheas a dhéanamh; cur síos a dhéanamh ar an gcaoi a dtacaíonn nó nach dtacaíonn fianaise le breithiúnas; srianta fianaise i gconclúidí a shainaithint; breithiúnais a dhéanamh faoi na smaointe, faoi réitigh nó faoi mhodhanna.",{"$f":"COUNTIF('Aonad 1'!$C:$C,$D25)","v":0},{"$f":"COUNTIF('Aonad 2'!$C:$C,$D25)","v":0},{"$f":"COUNTIF('Aonad 3'!$C:$C,$D25)","v":0},{"$f":"COUNTIF('Aonad 4'!$C:$C,$D25)","v":0},{"$f":"COUNTIF('Aonad 5'!$C:$C,$D25)","v":0},{"$f":"COUNTIF('Aonad 6'!$C:$C,$D25)","v":0},{"$f":"COUNTIF('Aonad 7'!$C:$C,$D25)","v":0},{"$f":"COUNTIF('Aonad 8'!$C:$C,$D25)","v":0},{"$f":"COUNTIF('Aonad 9'!$C:$C,$D25)","v":0},{"$f":"COUNTIF('Aonad 10'!$C:$C,$D25)","v":0},{"$f":"COUNTIF('Aonad 11'!$C:$C,$D25)","v":0},{"$f":"COUNTIF('Aonad 12'!$C:$C,$D25)","v":0},{"$f":"COUNTIF('Aonad 13'!$C:$C,$D25)","v":0},{"$f":"COUNTIF('Aonad 14'!$C:$C,$D25)","v":0},{"$f":"COUNTIF('Aonad 15'!$C:$C,$D25)","v":0},{"$f":"COUNTIF('Aonad 16'!$C:$C,$D25)","v":0},{"$f":"COUNTIF('Aonad 17'!$C:$C,$D25)","v":0},{"$f":"COUNTIF('Aonad 18'!$C:$C,$D25)","v":0},{"$f":"COUNTIF('Aonad 19'!$C:$C,$D25)","v":0},{"$f":"COUNTIF('Aonad 20'!$C:$C,$D25)","v":0},{"$f":"COUNTIF('Aonad 21'!$C:$C,$D25)","v":0},{"$f":"COUNTIF('Aonad 22'!$C:$C,$D25)","v":0},{"$f":"COUNTIF('Aonad 23'!$C:$C,$D25)","v":0},{"$f":"COUNTIF('Aonad 24'!$C:$C,$D25)","v":0},{"$f":"COUNTIF('Aonad 25'!$C:$C,$D25)","v":0},{"$f":"COUNTIF('Aonad 26'!$C:$C,$D25)","v":0},{"$f":"COUNTIF('Aonad 27'!$C:$C,$D25)","v":0},{"$f":"COUNTIF('Aonad 28'!$C:$C,$D25)","v":0},{"$f":"COUNTIF('Aonad 29'!$C:$C,$D25)","v":0},{"$f":"COUNTIF('Aonad 30'!$C:$C,$D25)","v":0},{"$f":"COUNTIF('Aonad 31'!$C:$C,$D25)","v":0},{"$f":"COUNTIF('Aonad 32'!$C:$C,$D25)","v":0},{"$f":"COUNTIF('Aonad 33'!$C:$C,$D25)","v":0},{"$f":"COUNTIF('Aonad 34'!$C:$C,$D25)","v":0},{"$f":"COUNTIF('Aonad 35'!$C:$C,$D25)","v":0},{"$f":"COUNTIF('Aonad 36'!$C:$C,$D25)","v":0},{"$f":"COUNTIF('Aonad 37'!$C:$C,$D25)","v":0},{"$f":"COUNTIF('Aonad 38'!$C:$C,$D25)","v":0},0,null,{"$f":"IF('Aonad 1'!$C$7=$D$58,COUNTIF('Aonad 1'!$C:$C,$D25),\"0\")","v":"0"},{"$f":"IF('Aonad 2'!$C$7=$D$58,COUNTIF('Aonad 2'!$C:$C,$D25),\"0\")","v":"0"},{"$f":"IF('Aonad 3'!$C$7=$D$58,COUNTIF('Aonad 3'!$C:$C,$D25),\"0\")","v":"0"},{"$f":"IF('Aonad 4'!$C$7=$D$58,COUNTIF('Aonad 4'!$C:$C,$D25),\"0\")","v":"0"},{"$f":"IF('Aonad 5'!$C$7=$D$58,COUNTIF('Aonad 5'!$C:$C,$D25),\"0\")","v":"0"},{"$f":"IF('Aonad 6'!$C$7=$D$58,COUNTIF('Aonad 6'!$C:$C,$D25),\"0\")","v":"0"},{"$f":"IF('Aonad 7'!$C$7=$D$58,COUNTIF('Aonad 7'!$C:$C,$D25),\"0\")","v":"0"},{"$f":"IF('Aonad 8'!$C$7=$D$58,COUNTIF('Aonad 8'!$C:$C,$D25),\"0\")","v":"0"},{"$f":"IF('Aonad 9'!$C$7=$D$58,COUNTIF('Aonad 9'!$C:$C,$D25),\"0\")","v":"0"},{"$f":"IF('Aonad 10'!$C$7=$D$58,COUNTIF('Aonad 10'!$C:$C,$D25),\"0\")","v":"0"},{"$f":"IF('Aonad 11'!$C$7=$D$58,COUNTIF('Aonad 11'!$C:$C,$D25),\"0\")","v":"0"},{"$f":"IF('Aonad 12'!$C$7=$D$58,COUNTIF('Aonad 12'!$C:$C,$D25),\"0\")","v":"0"},{"$f":"IF('Aonad 13'!$C$7=$D$58,COUNTIF('Aonad 13'!$C:$C,$D25),\"0\")","v":"0"},{"$f":"IF('Aonad 14'!$C$7=$D$58,COUNTIF('Aonad 14'!$C:$C,$D25),\"0\")","v":"0"},{"$f":"IF('Aonad 15'!$C$7=$D$58,COUNTIF('Aonad 15'!$C:$C,$D25),\"0\")","v":"0"},{"$f":"IF('Aonad 16'!$C$7=$D$58,COUNTIF('Aonad 16'!$C:$C,$D25),\"0\")","v":"0"},{"$f":"IF('Aonad 17'!$C$7=$D$58,COUNTIF('Aonad 17'!$C:$C,$D25),\"0\")","v":"0"},{"$f":"IF('Aonad 18'!$C$7=$D$58,COUNTIF('Aonad 18'!$C:$C,$D25),\"0\")","v":"0"},{"$f":"IF('Aonad 19'!$C$7=$D$58,COUNTIF('Aonad 19'!$C:$C,$D25),\"0\")","v":"0"},{"$f":"IF('Aonad 20'!$C$7=$D$58,COUNTIF('Aonad 20'!$C:$C,$D25),\"0\")","v":"0"},{"$f":"IF('Aonad 21'!$C$7=$D$58,COUNTIF('Aonad 21'!$C:$C,$D25),\"0\")","v":"0"},{"$f":"IF('Aonad 22'!$C$7=$D$58,COUNTIF('Aonad 22'!$C:$C,$D25),\"0\")","v":"0"},{"$f":"IF('Aonad 23'!$C$7=$D$58,COUNTIF('Aonad 23'!$C:$C,$D25),\"0\")","v":"0"},{"$f":"IF('Aonad 24'!$C$7=$D$58,COUNTIF('Aonad 24'!$C:$C,$D25),\"0\")","v":"0"},{"$f":"IF('Aonad 25'!$C$7=$D$58,COUNTIF('Aonad 25'!$C:$C,$D25),\"0\")","v":"0"},{"$f":"IF('Aonad 26'!$C$7=$D$58,COUNTIF('Aonad 26'!$C:$C,$D25),\"0\")","v":"0"},{"$f":"IF('Aonad 27'!$C$7=$D$58,COUNTIF('Aonad 27'!$C:$C,$D25),\"0\")","v":"0"},{"$f":"IF('Aonad 28'!$C$7=$D$58,COUNTIF('Aonad 28'!$C:$C,$D25),\"0\")","v":"0"},{"$f":"IF('Aonad 29'!$C$7=$D$58,COUNTIF('Aonad 29'!$C:$C,$D25),\"0\")","v":"0"},{"$f":"IF('Aonad 30'!$C$7=$D$58,COUNTIF('Aonad 30'!$C:$C,$D25),\"0\")","v":"0"},{"$f":"IF('Aonad 31'!$C$7=$D$58,COUNTIF('Aonad 31'!$C:$C,$D25),\"0\")","v":"0"},{"$f":"IF('Aonad 32'!$C$7=$D$58,COUNTIF('Aonad 32'!$C:$C,$D25),\"0\")","v":"0"},{"$f":"IF('Aonad 33'!$C$7=$D$58,COUNTIF('Aonad 33'!$C:$C,$D25),\"0\")","v":"0"},{"$f":"IF('Aonad 34'!$C$7=$D$58,COUNTIF('Aonad 34'!$C:$C,$D25),\"0\")","v":"0"},{"$f":"IF('Aonad 35'!$C$7=$D$58,COUNTIF('Aonad 35'!$C:$C,$D25),\"0\")","v":"0"},{"$f":"IF('Aonad 36'!$C$7=$D$58,COUNTIF('Aonad 36'!$C:$C,$D25),\"0\")","v":"0"},{"$f":"IF('Aonad 37'!$C$7=$D$58,COUNTIF('Aonad 37'!$C:$C,$D25),\"0\")","v":"0"},{"$f":"IF('Aonad 38'!$C$7=$D$58,COUNTIF('Aonad 38'!$C:$C,$D25),\"0\")","v":"0"},0,null,{"$f":"IF('Aonad 1'!$C$7=$D$59,COUNTIF('Aonad 1'!$C:$C,$D25),\"0\")","v":"0"},{"$f":"IF('Aonad 2'!$C$7=$D$59,COUNTIF('Aonad 2'!$C:$C,$D25),\"0\")","v":"0"},{"$f":"IF('Aonad 3'!$C$7=$D$59,COUNTIF('Aonad 3'!$C:$C,$D25),\"0\")","v":"0"},{"$f":"IF('Aonad 4'!$C$7=$D$59,COUNTIF('Aonad 4'!$C:$C,$D25),\"0\")","v":"0"},{"$f":"IF('Aonad 5'!$C$7=$D$59,COUNTIF('Aonad 5'!$C:$C,$D25),\"0\")","v":"0"},{"$f":"IF('Aonad 6'!$C$7=$D$59,COUNTIF('Aonad 6'!$C:$C,$D25),\"0\")","v":"0"},{"$f":"IF('Aonad 7'!$C$7=$D$59,COUNTIF('Aonad 7'!$C:$C,$D25),\"0\")","v":"0"},{"$f":"IF('Aonad 8'!$C$7=$D$59,COUNTIF('Aonad 8'!$C:$C,$D25),\"0\")","v":"0"},{"$f":"IF('Aonad 9'!$C$7=$D$59,COUNTIF('Aonad 9'!$C:$C,$D25),\"0\")","v":"0"},{"$f":"IF('Aonad 10'!$C$7=$D$59,COUNTIF('Aonad 10'!$C:$C,$D25),\"0\")","v":"0"},{"$f":"IF('Aonad 11'!$C$7=$D$59,COUNTIF('Aonad 11'!$C:$C,$D25),\"0\")","v":"0"},{"$f":"IF('Aonad 12'!$C$7=$D$59,COUNTIF('Aonad 12'!$C:$C,$D25),\"0\")","v":"0"},{"$f":"IF('Aonad 13'!$C$7=$D$59,COUNTIF('Aonad 13'!$C:$C,$D25),\"0\")","v":"0"},{"$f":"IF('Aonad 14'!$C$7=$D$59,COUNTIF('Aonad 14'!$C:$C,$D25),\"0\")","v":"0"},{"$f":"IF('Aonad 15'!$C$7=$D$59,COUNTIF('Aonad 15'!$C:$C,$D25),\"0\")","v":"0"},{"$f":"IF('Aonad 16'!$C$7=$D$59,COUNTIF('Aonad 16'!$C:$C,$D25),\"0\")","v":"0"},{"$f":"IF('Aonad 17'!$C$7=$D$59,COUNTIF('Aonad 17'!$C:$C,$D25),\"0\")","v":"0"},{"$f":"IF('Aonad 18'!$C$7=$D$59,COUNTIF('Aonad 18'!$C:$C,$D25),\"0\")","v":"0"},{"$f":"IF('Aonad 19'!$C$7=$D$59,COUNTIF('Aonad 19'!$C:$C,$D25),\"0\")","v":"0"},{"$f":"IF('Aonad 20'!$C$7=$D$59,COUNTIF('Aonad 20'!$C:$C,$D25),\"0\")","v":"0"},{"$f":"IF('Aonad 21'!$C$7=$D$59,COUNTIF('Aonad 21'!$C:$C,$D25),\"0\")","v":"0"},{"$f":"IF('Aonad 22'!$C$7=$D$59,COUNTIF('Aonad 22'!$C:$C,$D25),\"0\")","v":"0"},{"$f":"IF('Aonad 23'!$C$7=$D$59,COUNTIF('Aonad 23'!$C:$C,$D25),\"0\")","v":"0"},{"$f":"IF('Aonad 24'!$C$7=$D$59,COUNTIF('Aonad 24'!$C:$C,$D25),\"0\")","v":"0"},{"$f":"IF('Aonad 25'!$C$7=$D$59,COUNTIF('Aonad 25'!$C:$C,$D25),\"0\")","v":"0"},{"$f":"IF('Aonad 26'!$C$7=$D$59,COUNTIF('Aonad 26'!$C:$C,$D25),\"0\")","v":"0"},{"$f":"IF('Aonad 27'!$C$7=$D$59,COUNTIF('Aonad 27'!$C:$C,$D25),\"0\")","v":"0"},{"$f":"IF('Aonad 28'!$C$7=$D$59,COUNTIF('Aonad 28'!$C:$C,$D25),\"0\")","v":"0"},{"$f":"IF('Aonad 29'!$C$7=$D$59,COUNTIF('Aonad 29'!$C:$C,$D25),\"0\")","v":"0"},{"$f":"IF('Aonad 30'!$C$7=$D$59,COUNTIF('Aonad 30'!$C:$C,$D25),\"0\")","v":"0"},{"$f":"IF('Aonad 31'!$C$7=$D$59,COUNTIF('Aonad 31'!$C:$C,$D25),\"0\")","v":"0"},{"$f":"IF('Aonad 32'!$C$7=$D$59,COUNTIF('Aonad 32'!$C:$C,$D25),\"0\")","v":"0"},{"$f":"IF('Aonad 33'!$C$7=$D$59,COUNTIF('Aonad 33'!$C:$C,$D25),\"0\")","v":"0"},{"$f":"IF('Aonad 34'!$C$7=$D$59,COUNTIF('Aonad 34'!$C:$C,$D25),\"0\")","v":"0"},{"$f":"IF('Aonad 35'!$C$7=$D$59,COUNTIF('Aonad 35'!$C:$C,$D25),\"0\")","v":"0"},{"$f":"IF('Aonad 36'!$C$7=$D$59,COUNTIF('Aonad 36'!$C:$C,$D25),\"0\")","v":"0"},{"$f":"IF('Aonad 37'!$C$7=$D$59,COUNTIF('Aonad 37'!$C:$C,$D25),\"0\")","v":"0"},{"$f":"IF('Aonad 38'!$C$7=$D$59,COUNTIF('Aonad 38'!$C:$C,$D25),\"0\")","v":"0"},0,null,{"$f":"IF('Aonad 1'!$C$7=$D$60,COUNTIF('Aonad 1'!$C:$C,$D25),\"0\")","v":"0"},{"$f":"IF('Aonad 2'!$C$7=$D$60,COUNTIF('Aonad 2'!$C:$C,$D25),\"0\")","v":"0"},{"$f":"IF('Aonad 3'!$C$7=$D$60,COUNTIF('Aonad 3'!$C:$C,$D25),\"0\")","v":"0"},{"$f":"IF('Aonad 4'!$C$7=$D$60,COUNTIF('Aonad 4'!$C:$C,$D25),\"0\")","v":"0"},{"$f":"IF('Aonad 5'!$C$7=$D$60,COUNTIF('Aonad 5'!$C:$C,$D25),\"0\")","v":"0"},{"$f":"IF('Aonad 6'!$C$7=$D$60,COUNTIF('Aonad 6'!$C:$C,$D25),\"0\")","v":"0"},{"$f":"IF('Aonad 7'!$C$7=$D$60,COUNTIF('Aonad 7'!$C:$C,$D25),\"0\")","v":"0"},{"$f":"IF('Aonad 8'!$C$7=$D$60,COUNTIF('Aonad 8'!$C:$C,$D25),\"0\")","v":"0"},{"$f":"IF('Aonad 9'!$C$7=$D$60,COUNTIF('Aonad 9'!$C:$C,$D25),\"0\")","v":"0"},{"$f":"IF('Aonad 10'!$C$7=$D$60,COUNTIF('Aonad 10'!$C:$C,$D25),\"0\")","v":"0"},{"$f":"IF('Aonad 11'!$C$7=$D$60,COUNTIF('Aonad 11'!$C:$C,$D25),\"0\")","v":"0"},{"$f":"IF('Aonad 12'!$C$7=$D$60,COUNTIF('Aonad 12'!$C:$C,$D25),\"0\")","v":"0"},{"$f":"IF('Aonad 13'!$C$7=$D$60,COUNTIF('Aonad 13'!$C:$C,$D25),\"0\")","v":"0"},{"$f":"IF('Aonad 14'!$C$7=$D$60,COUNTIF('Aonad 14'!$C:$C,$D25),\"0\")","v":"0"},{"$f":"IF('Aonad 15'!$C$7=$D$60,COUNTIF('Aonad 15'!$C:$C,$D25),\"0\")","v":"0"},{"$f":"IF('Aonad 16'!$C$7=$D$60,COUNTIF('Aonad 16'!$C:$C,$D25),\"0\")","v":"0"},{"$f":"IF('Aonad 17'!$C$7=$D$60,COUNTIF('Aonad 17'!$C:$C,$D25),\"0\")","v":"0"},{"$f":"IF('Aonad 18'!$C$7=$D$60,COUNTIF('Aonad 18'!$C:$C,$D25),\"0\")","v":"0"},{"$f":"IF('Aonad 19'!$C$7=$D$60,COUNTIF('Aonad 19'!$C:$C,$D25),\"0\")","v":"0"},{"$f":"IF('Aonad 20'!$C$7=$D$60,COUNTIF('Aonad 20'!$C:$C,$D25),\"0\")","v":"0"},{"$f":"IF('Aonad 21'!$C$7=$D$60,COUNTIF('Aonad 21'!$C:$C,$D25),\"0\")","v":"0"},{"$f":"IF('Aonad 22'!$C$7=$D$60,COUNTIF('Aonad 22'!$C:$C,$D25),\"0\")","v":"0"},{"$f":"IF('Aonad 23'!$C$7=$D$60,COUNTIF('Aonad 23'!$C:$C,$D25),\"0\")","v":"0"},{"$f":"IF('Aonad 24'!$C$7=$D$60,COUNTIF('Aonad 24'!$C:$C,$D25),\"0\")","v":"0"},{"$f":"IF('Aonad 25'!$C$7=$D$60,COUNTIF('Aonad 25'!$C:$C,$D25),\"0\")","v":"0"},{"$f":"IF('Aonad 26'!$C$7=$D$60,COUNTIF('Aonad 26'!$C:$C,$D25),\"0\")","v":"0"},{"$f":"IF('Aonad 27'!$C$7=$D$60,COUNTIF('Aonad 27'!$C:$C,$D25),\"0\")","v":"0"},{"$f":"IF('Aonad 28'!$C$7=$D$60,COUNTIF('Aonad 28'!$C:$C,$D25),\"0\")","v":"0"},{"$f":"IF('Aonad 29'!$C$7=$D$60,COUNTIF('Aonad 29'!$C:$C,$D25),\"0\")","v":"0"},{"$f":"IF('Aonad 30'!$C$7=$D$60,COUNTIF('Aonad 30'!$C:$C,$D25),\"0\")","v":"0"},{"$f":"IF('Aonad 31'!$C$7=$D$60,COUNTIF('Aonad 31'!$C:$C,$D25),\"0\")","v":"0"},{"$f":"IF('Aonad 32'!$C$7=$D$60,COUNTIF('Aonad 32'!$C:$C,$D25),\"0\")","v":"0"},{"$f":"IF('Aonad 33'!$C$7=$D$60,COUNTIF('Aonad 33'!$C:$C,$D25),\"0\")","v":"0"},{"$f":"IF('Aonad 34'!$C$7=$D$60,COUNTIF('Aonad 34'!$C:$C,$D25),\"0\")","v":"0"},{"$f":"IF('Aonad 35'!$C$7=$D$60,COUNTIF('Aonad 35'!$C:$C,$D25),\"0\")","v":"0"},{"$f":"IF('Aonad 36'!$C$7=$D$60,COUNTIF('Aonad 36'!$C:$C,$D25),\"0\")","v":"0"},{"$f":"IF('Aonad 37'!$C$7=$D$60,COUNTIF('Aonad 37'!$C:$C,$D25),\"0\")","v":"0"},{"$f":"IF('Aonad 38'!$C$7=$D$60,COUNTIF('Aonad 38'!$C:$C,$D25),\"0\")","v":"0"},0]
[null,null,null,null,null,{"$f":"COUNTIF('Aonad 1'!$C:$C,$D26)","v":0},{"$f":"COUNTIF('Aonad 2'!$C:$C,$D26)","v":0},{"$f":"COUNTIF('Aonad 3'!$C:$C,$D26)","v":0},{"$f":"COUNTIF('Aonad 4'!$C:$C,$D26)","v":0},{"$f":"COUNTIF('Aonad 5'!$C:$C,$D26)","v":0},{"$f":"COUNTIF('Aonad 6'!$C:$C,$D26)","v":0},{"$f":"COUNTIF('Aonad 7'!$C:$C,$D26)","v":0},{"$f":"COUNTIF('Aonad 8'!$C:$C,$D26)","v":0},{"$f":"COUNTIF('Aonad 9'!$C:$C,$D26)","v":0},{"$f":"COUNTIF('Aonad 10'!$C:$C,$D26)","v":0},{"$f":"COUNTIF('Aonad 11'!$C:$C,$D26)","v":0},{"$f":"COUNTIF('Aonad 12'!$C:$C,$D26)","v":0},{"$f":"COUNTIF('Aonad 13'!$C:$C,$D26)","v":0},{"$f":"COUNTIF('Aonad 14'!$C:$C,$D26)","v":0},{"$f":"COUNTIF('Aonad 15'!$C:$C,$D26)","v":0},{"$f":"COUNTIF('Aonad 16'!$C:$C,$D26)","v":0},{"$f":"COUNTIF('Aonad 17'!$C:$C,$D26)","v":0},{"$f":"COUNTIF('Aonad 18'!$C:$C,$D26)","v":0},{"$f":"COUNTIF('Aonad 19'!$C:$C,$D26)","v":0},{"$f":"COUNTIF('Aonad 20'!$C:$C,$D26)","v":0},{"$f":"COUNTIF('Aonad 21'!$C:$C,$D26)","v":0},{"$f":"COUNTIF('Aonad 22'!$C:$C,$D26)","v":0},{"$f":"COUNTIF('Aonad 23'!$C:$C,$D26)","v":0},{"$f":"COUNTIF('Aonad 24'!$C:$C,$D26)","v":0},{"$f":"COUNTIF('Aonad 25'!$C:$C,$D26)","v":0},{"$f":"COUNTIF('Aonad 26'!$C:$C,$D26)","v":0},{"$f":"COUNTIF('Aonad 27'!$C:$C,$D26)","v":0},{"$f":"COUNTIF('Aonad 28'!$C:$C,$D26)","v":0},{"$f":"COUNTIF('Aonad 29'!$C:$C,$D26)","v":0},{"$f":"COUNTIF('Aonad 30'!$C:$C,$D26)","v":0},{"$f":"COUNTIF('Aonad 31'!$C:$C,$D26)","v":0},{"$f":"COUNTIF('Aonad 32'!$C:$C,$D26)","v":0},{"$f":"COUNTIF('Aonad 33'!$C:$C,$D26)","v":0},{"$f":"COUNTIF('Aonad 34'!$C:$C,$D26)","v":0},{"$f":"COUNTIF('Aonad 35'!$C:$C,$D26)","v":0},{"$f":"COUNTIF('Aonad 36'!$C:$C,$D26)","v":0},{"$f":"COUNTIF('Aonad 37'!$C:$C,$D26)","v":0},{"$f":"COUNTIF('Aonad 38'!$C:$C,$D26)","v":0},0,null,{"$f":"IF('Aonad 1'!$C$7=$D$58,COUNTIF('Aonad 1'!$C:$C,$D26),\"0\")","v":"0"},{"$f":"IF('Aonad 2'!$C$7=$D$58,COUNTIF('Aonad 2'!$C:$C,$D26),\"0\")","v":"0"},{"$f":"IF('Aonad 3'!$C$7=$D$58,COUNTIF('Aonad 3'!$C:$C,$D26),\"0\")","v":"0"},{"$f":"IF('Aonad 4'!$C$7=$D$58,COUNTIF('Aonad 4'!$C:$C,$D26),\"0\")","v":"0"},{"$f":"IF('Aonad 5'!$C$7=$D$58,COUNTIF('Aonad 5'!$C:$C,$D26),\"0\")","v":"0"},{"$f":"IF('Aonad 6'!$C$7=$D$58,COUNTIF('Aonad 6'!$C:$C,$D26),\"0\")","v":"0"},{"$f":"IF('Aonad 7'!$C$7=$D$58,COUNTIF('Aonad 7'!$C:$C,$D26),\"0\")","v":"0"},{"$f":"IF('Aonad 8'!$C$7=$D$58,COUNTIF('Aonad 8'!$C:$C,$D26),\"0\")","v":"0"},{"$f":"IF('Aonad 9'!$C$7=$D$58,COUNTIF('Aonad 9'!$C:$C,$D26),\"0\")","v":"0"},{"$f":"IF('Aonad 10'!$C$7=$D$58,COUNTIF('Aonad 10'!$C:$C,$D26),\"0\")","v":"0"},{"$f":"IF('Aonad 11'!$C$7=$D$58,COUNTIF('Aonad 11'!$C:$C,$D26),\"0\")","v":"0"},{"$f":"IF('Aonad 12'!$C$7=$D$58,COUNTIF('Aonad 12'!$C:$C,$D26),\"0\")","v":"0"},{"$f":"IF('Aonad 13'!$C$7=$D$58,COUNTIF('Aonad 13'!$C:$C,$D26),\"0\")","v":"0"},{"$f":"IF('Aonad 14'!$C$7=$D$58,COUNTIF('Aonad 14'!$C:$C,$D26),\"0\")","v":"0"},{"$f":"IF('Aonad 15'!$C$7=$D$58,COUNTIF('Aonad 15'!$C:$C,$D26),\"0\")","v":"0"},{"$f":"IF('Aonad 16'!$C$7=$D$58,COUNTIF('Aonad 16'!$C:$C,$D26),\"0\")","v":"0"},{"$f":"IF('Aonad 17'!$C$7=$D$58,COUNTIF('Aonad 17'!$C:$C,$D26),\"0\")","v":"0"},{"$f":"IF('Aonad 18'!$C$7=$D$58,COUNTIF('Aonad 18'!$C:$C,$D26),\"0\")","v":"0"},{"$f":"IF('Aonad 19'!$C$7=$D$58,COUNTIF('Aonad 19'!$C:$C,$D26),\"0\")","v":"0"},{"$f":"IF('Aonad 20'!$C$7=$D$58,COUNTIF('Aonad 20'!$C:$C,$D26),\"0\")","v":"0"},{"$f":"IF('Aonad 21'!$C$7=$D$58,COUNTIF('Aonad 21'!$C:$C,$D26),\"0\")","v":"0"},{"$f":"IF('Aonad 22'!$C$7=$D$58,COUNTIF('Aonad 22'!$C:$C,$D26),\"0\")","v":"0"},{"$f":"IF('Aonad 23'!$C$7=$D$58,COUNTIF('Aonad 23'!$C:$C,$D26),\"0\")","v":"0"},{"$f":"IF('Aonad 24'!$C$7=$D$58,COUNTIF('Aonad 24'!$C:$C,$D26),\"0\")","v":"0"},{"$f":"IF('Aonad 25'!$C$7=$D$58,COUNTIF('Aonad 25'!$C:$C,$D26),\"0\")","v":"0"},{"$f":"IF('Aonad 26'!$C$7=$D$58,COUNTIF('Aonad 26'!$C:$C,$D26),\"0\")","v":"0"},{"$f":"IF('Aonad 27'!$C$7=$D$58,COUNTIF('Aonad 27'!$C:$C,$D26),\"0\")","v":"0"},{"$f":"IF('Aonad 28'!$C$7=$D$58,COUNTIF('Aonad 28'!$C:$C,$D26),\"0\")","v":"0"},{"$f":"IF('Aonad 29'!$C$7=$D$58,COUNTIF('Aonad 29'!$C:$C,$D26),\"0\")","v":"0"},{"$f":"IF('Aonad 30'!$C$7=$D$58,COUNTIF('Aonad 30'!$C:$C,$D26),\"0\")","v":"0"},{"$f":"IF('Aonad 31'!$C$7=$D$58,COUNTIF('Aonad 31'!$C:$C,$D26),\"0\")","v":"0"},{"$f":"IF('Aonad 32'!$C$7=$D$58,COUNTIF('Aonad 32'!$C:$C,$D26),\"0\")","v":"0"},{"$f":"IF('Aonad 33'!$C$7=$D$58,COUNTIF('Aonad 33'!$C:$C,$D26),\"0\")","v":"0"},{"$f":"IF('Aonad 34'!$C$7=$D$58,COUNTIF('Aonad 34'!$C:$C,$D26),\"0\")","v":"0"},{"$f":"IF('Aonad 35'!$C$7=$D$58,COUNTIF('Aonad 35'!$C:$C,$D26),\"0\")","v":"0"},{"$f":"IF('Aonad 36'!$C$7=$D$58,COUNTIF('Aonad 36'!$C:$C,$D26),\"0\")","v":"0"},{"$f":"IF('Aonad 37'!$C$7=$D$58,COUNTIF('Aonad 37'!$C:$C,$D26),\"0\")","v":"0"},{"$f":"IF('Aonad 38'!$C$7=$D$58,COUNTIF('Aonad 38'!$C:$C,$D26),\"0\")","v":"0"},0,null,{"$f":"IF('Aonad 1'!$C$7=$D$59,COUNTIF('Aonad 1'!$C:$C,$D26),\"0\")","v":"0"},{"$f":"IF('Aonad 2'!$C$7=$D$59,COUNTIF('Aonad 2'!$C:$C,$D26),\"0\")","v":"0"},{"$f":"IF('Aonad 3'!$C$7=$D$59,COUNTIF('Aonad 3'!$C:$C,$D26),\"0\")","v":"0"},{"$f":"IF('Aonad 4'!$C$7=$D$59,COUNTIF('Aonad 4'!$C:$C,$D26),\"0\")","v":"0"},{"$f":"IF('Aonad 5'!$C$7=$D$59,COUNTIF('Aonad 5'!$C:$C,$D26),\"0\")","v":"0"},{"$f":"IF('Aonad 6'!$C$7=$D$59,COUNTIF('Aonad 6'!$C:$C,$D26),\"0\")","v":"0"},{"$f":"IF('Aonad 7'!$C$7=$D$59,COUNTIF('Aonad 7'!$C:$C,$D26),\"0\")","v":"0"},{"$f":"IF('Aonad 8'!$C$7=$D$59,COUNTIF('Aonad 8'!$C:$C,$D26),\"0\")","v":"0"},{"$f":"IF('Aonad 9'!$C$7=$D$59,COUNTIF('Aonad 9'!$C:$C,$D26),\"0\")","v":"0"},{"$f":"IF('Aonad 10'!$C$7=$D$59,COUNTIF('Aonad 10'!$C:$C,$D26),\"0\")","v":"0"},{"$f":"IF('Aonad 11'!$C$7=$D$59,COUNTIF('Aonad 11'!$C:$C,$D26),\"0\")","v":"0"},{"$f":"IF('Aonad 12'!$C$7=$D$59,COUNTIF('Aonad 12'!$C:$C,$D26),\"0\")","v":"0"},{"$f":"IF('Aonad 13'!$C$7=$D$59,COUNTIF('Aonad 13'!$C:$C,$D26),\"0\")","v":"0"},{"$f":"IF('Aonad 14'!$C$7=$D$59,COUNTIF('Aonad 14'!$C:$C,$D26),\"0\")","v":"0"},{"$f":"IF('Aonad 15'!$C$7=$D$59,COUNTIF('Aonad 15'!$C:$C,$D26),\"0\")","v":"0"},{"$f":"IF('Aonad 16'!$C$7=$D$59,COUNTIF('Aonad 16'!$C:$C,$D26),\"0\")","v":"0"},{"$f":"IF('Aonad 17'!$C$7=$D$59,COUNTIF('Aonad 17'!$C:$C,$D26),\"0\")","v":"0"},{"$f":"IF('Aonad 18'!$C$7=$D$59,COUNTIF('Aonad 18'!$C:$C,$D26),\"0\")","v":"0"},{"$f":"IF('Aonad 19'!$C$7=$D$59,COUNTIF('Aonad 19'!$C:$C,$D26),\"0\")","v":"0"},{"$f":"IF('Aonad 20'!$C$7=$D$59,COUNTIF('Aonad 20'!$C:$C,$D26),\"0\")","v":"0"},{"$f":"IF('Aonad 21'!$C$7=$D$59,COUNTIF('Aonad 21'!$C:$C,$D26),\"0\")","v":"0"},{"$f":"IF('Aonad 22'!$C$7=$D$59,COUNTIF('Aonad 22'!$C:$C,$D26),\"0\")","v":"0"},{"$f":"IF('Aonad 23'!$C$7=$D$59,COUNTIF('Aonad 23'!$C:$C,$D26),\"0\")","v":"0"},{"$f":"IF('Aonad 24'!$C$7=$D$59,COUNTIF('Aonad 24'!$C:$C,$D26),\"0\")","v":"0"},{"$f":"IF('Aonad 25'!$C$7=$D$59,COUNTIF('Aonad 25'!$C:$C,$D26),\"0\")","v":"0"},{"$f":"IF('Aonad 26'!$C$7=$D$59,COUNTIF('Aonad 26'!$C:$C,$D26),\"0\")","v":"0"},{"$f":"IF('Aonad 27'!$C$7=$D$59,COUNTIF('Aonad 27'!$C:$C,$D26),\"0\")","v":"0"},{"$f":"IF('Aonad 28'!$C$7=$D$59,COUNTIF('Aonad 28'!$C:$C,$D26),\"0\")","v":"0"},{"$f":"IF('Aonad 29'!$C$7=$D$59,COUNTIF('Aonad 29'!$C:$C,$D26),\"0\")","v":"0"},{"$f":"IF('Aonad 30'!$C$7=$D$59,COUNTIF('Aonad 30'!$C:$C,$D26),\"0\")","v":"0"},{"$f":"IF('Aonad 31'!$C$7=$D$59,COUNTIF('Aonad 31'!$C:$C,$D26),\"0\")","v":"0"},{"$f":"IF('Aonad 32'!$C$7=$D$59,COUNTIF('Aonad 32'!$C:$C,$D26),\"0\")","v":"0"},{"$f":"IF('Aonad 33'!$C$7=$D$59,COUNTIF('Aonad 33'!$C:$C,$D26),\"0\")","v":"0"},{"$f":"IF('Aonad 34'!$C$7=$D$59,COUNTIF('Aonad 34'!$C:$C,$D26),\"0\")","v":"0"},{"$f":"IF('Aonad 35'!$C$7=$D$59,COUNTIF('Aonad 35'!$C:$C,$D26),\"0\")","v":"0"},{"$f":"IF('Aonad 36'!$C$7=$D$59,COUNTIF('Aonad 36'!$C:$C,$D26),\"0\")","v":"0"},{"$f":"IF('Aonad 37'!$C$7=$D$59,COUNTIF('Aonad 37'!$C:$C,$D26),\"0\")","v":"0"},{"$f":"IF('Aonad 38'!$C$7=$D$59,COUNTIF('Aonad 38'!$C:$C,$D26),\"0\")","v":"0"},0,null,{"$f":"IF('Aonad 1'!$C$7=$D$60,COUNTIF('Aonad 1'!$C:$C,$D26),\"0\")","v":"0"},{"$f":"IF('Aonad 2'!$C$7=$D$60,COUNTIF('Aonad 2'!$C:$C,$D26),\"0\")","v":"0"},{"$f":"IF('Aonad 3'!$C$7=$D$60,COUNTIF('Aonad 3'!$C:$C,$D26),\"0\")","v":"0"},{"$f":"IF('Aonad 4'!$C$7=$D$60,COUNTIF('Aonad 4'!$C:$C,$D26),\"0\")","v":"0"},{"$f":"IF('Aonad 5'!$C$7=$D$60,COUNTIF('Aonad 5'!$C:$C,$D26),\"0\")","v":"0"},{"$f":"IF('Aonad 6'!$C$7=$D$60,COUNTIF('Aonad 6'!$C:$C,$D26),\"0\")","v":"0"},{"$f":"IF('Aonad 7'!$C$7=$D$60,COUNTIF('Aonad 7'!$C:$C,$D26),\"0\")","v":"0"},{"$f":"IF('Aonad 8'!$C$7=$D$60,COUNTIF('Aonad 8'!$C:$C,$D26),\"0\")","v":"0"},{"$f":"IF('Aonad 9'!$C$7=$D$60,COUNTIF('Aonad 9'!$C:$C,$D26),\"0\")","v":"0"},{"$f":"IF('Aonad 10'!$C$7=$D$60,COUNTIF('Aonad 10'!$C:$C,$D26),\"0\")","v":"0"},{"$f":"IF('Aonad 11'!$C$7=$D$60,COUNTIF('Aonad 11'!$C:$C,$D26),\"0\")","v":"0"},{"$f":"IF('Aonad 12'!$C$7=$D$60,COUNTIF('Aonad 12'!$C:$C,$D26),\"0\")","v":"0"},{"$f":"IF('Aonad 13'!$C$7=$D$60,COUNTIF('Aonad 13'!$C:$C,$D26),\"0\")","v":"0"},{"$f":"IF('Aonad 14'!$C$7=$D$60,COUNTIF('Aonad 14'!$C:$C,$D26),\"0\")","v":"0"},{"$f":"IF('Aonad 15'!$C$7=$D$60,COUNTIF('Aonad 15'!$C:$C,$D26),\"0\")","v":"0"},{"$f":"IF('Aonad 16'!$C$7=$D$60,COUNTIF('Aonad 16'!$C:$C,$D26),\"0\")","v":"0"},{"$f":"IF('Aonad 17'!$C$7=$D$60,COUNTIF('Aonad 17'!$C:$C,$D26),\"0\")","v":"0"},{"$f":"IF('Aonad 18'!$C$7=$D$60,COUNTIF('Aonad 18'!$C:$C,$D26),\"0\")","v":"0"},{"$f":"IF('Aonad 19'!$C$7=$D$60,COUNTIF('Aonad 19'!$C:$C,$D26),\"0\")","v":"0"},{"$f":"IF('Aonad 20'!$C$7=$D$60,COUNTIF('Aonad 20'!$C:$C,$D26),\"0\")","v":"0"},{"$f":"IF('Aonad 21'!$C$7=$D$60,COUNTIF('Aonad 21'!$C:$C,$D26),\"0\")","v":"0"},{"$f":"IF('Aonad 22'!$C$7=$D$60,COUNTIF('Aonad 22'!$C:$C,$D26),\"0\")","v":"0"},{"$f":"IF('Aonad 23'!$C$7=$D$60,COUNTIF('Aonad 23'!$C:$C,$D26),\"0\")","v":"0"},{"$f":"IF('Aonad 24'!$C$7=$D$60,COUNTIF('Aonad 24'!$C:$C,$D26),\"0\")","v":"0"},{"$f":"IF('Aonad 25'!$C$7=$D$60,COUNTIF('Aonad 25'!$C:$C,$D26),\"0\")","v":"0"},{"$f":"IF('Aonad 26'!$C$7=$D$60,COUNTIF('Aonad 26'!$C:$C,$D26),\"0\")","v":"0"},{"$f":"IF('Aonad 27'!$C$7=$D$60,COUNTIF('Aonad 27'!$C:$C,$D26),\"0\")","v":"0"},{"$f":"IF('Aonad 28'!$C$7=$D$60,COUNTIF('Aonad 28'!$C:$C,$D26),\"0\")","v":"0"},{"$f":"IF('Aonad 29'!$C$7=$D$60,COUNTIF('Aonad 29'!$C:$C,$D26),\"0\")","v":"0"},{"$f":"IF('Aonad 30'!$C$7=$D$60,COUNTIF('Aonad 30'!$C:$C,$D26),\"0\")","v":"0"},{"$f":"IF('Aonad 31'!$C$7=$D$60,COUNTIF('Aonad 31'!$C:$C,$D26),\"0\")","v":"0"},{"$f":"IF('Aonad 32'!$C$7=$D$60,COUNTIF('Aonad 32'!$C:$C,$D26),\"0\")","v":"0"},{"$f":"IF('Aonad 33'!$C$7=$D$60,COUNTIF('Aonad 33'!$C:$C,$D26),\"0\")","v":"0"},{"$f":"IF('Aonad 34'!$C$7=$D$60,COUNTIF('Aonad 34'!$C:$C,$D26),\"0\")","v":"0"},{"$f":"IF('Aonad 35'!$C$7=$D$60,COUNTIF('Aonad 35'!$C:$C,$D26),\"0\")","v":"0"},{"$f":"IF('Aonad 36'!$C$7=$D$60,COUNTIF('Aonad 36'!$C:$C,$D26),\"0\")","v":"0"},{"$f":"IF('Aonad 37'!$C$7=$D$60,COUNTIF('Aonad 37'!$C:$C,$D26),\"0\")","v":"0"},{"$f":"IF('Aonad 38'!$C$7=$D$60,COUNTIF('Aonad 38'!$C:$C,$D26),\"0\")","v":"0"},0]
[null,null,null,null,null,{"$f":"COUNTIF('Aonad 1'!$C:$C,$D27)","v":0},{"$f":"COUNTIF('Aonad 2'!$C:$C,$D27)","v":0},{"$f":"COUNTIF('Aonad 3'!$C:$C,$D27)","v":0},{"$f":"COUNTIF('Aonad 4'!$C:$C,$D27)","v":0},{"$f":"COUNTIF('Aonad 5'!$C:$C,$D27)","v":0},{"$f":"COUNTIF('Aonad 6'!$C:$C,$D27)","v":0},{"$f":"COUNTIF('Aonad 7'!$C:$C,$D27)","v":0},{"$f":"COUNTIF('Aonad 8'!$C:$C,$D27)","v":0},{"$f":"COUNTIF('Aonad 9'!$C:$C,$D27)","v":0},{"$f":"COUNTIF('Aonad 10'!$C:$C,$D27)","v":0},{"$f":"COUNTIF('Aonad 11'!$C:$C,$D27)","v":0},{"$f":"COUNTIF('Aonad 12'!$C:$C,$D27)","v":0},{"$f":"COUNTIF('Aonad 13'!$C:$C,$D27)","v":0},{"$f":"COUNTIF('Aonad 14'!$C:$C,$D27)","v":0},{"$f":"COUNTIF('Aonad 15'!$C:$C,$D27)","v":0},{"$f":"COUNTIF('Aonad 16'!$C:$C,$D27)","v":0},{"$f":"COUNTIF('Aonad 17'!$C:$C,$D27)","v":0},{"$f":"COUNTIF('Aonad 18'!$C:$C,$D27)","v":0},{"$f":"COUNTIF('Aonad 19'!$C:$C,$D27)","v":0},{"$f":"COUNTIF('Aonad 20'!$C:$C,$D27)","v":0},{"$f":"COUNTIF('Aonad 21'!$C:$C,$D27)","v":0},{"$f":"COUNTIF('Aonad 22'!$C:$C,$D27)","v":0},{"$f":"COUNTIF('Aonad 23'!$C:$C,$D27)","v":0},{"$f":"COUNTIF('Aonad 24'!$C:$C,$D27)","v":0},{"$f":"COUNTIF('Aonad 25'!$C:$C,$D27)","v":0},{"$f":"COUNTIF('Aonad 26'!$C:$C,$D27)","v":0},{"$f":"COUNTIF('Aonad 27'!$C:$C,$D27)","v":0},{"$f":"COUNTIF('Aonad 28'!$C:$C,$D27)","v":0},{"$f":"COUNTIF('Aonad 29'!$C:$C,$D27)","v":0},{"$f":"COUNTIF('Aonad 30'!$C:$C,$D27)","v":0},{"$f":"COUNTIF('Aonad 31'!$C:$C,$D27)","v":0},{"$f":"COUNTIF('Aonad 32'!$C:$C,$D27)","v":0},{"$f":"COUNTIF('Aonad 33'!$C:$C,$D27)","v":0},{"$f":"COUNTIF('Aonad 34'!$C:$C,$D27)","v":0},{"$f":"COUNTIF('Aonad 35'!$C:$C,$D27)","v":0},{"$f":"COUNTIF('Aonad 36'!$C:$C,$D27)","v":0},{"$f":"COUNTIF('Aonad 37'!$C:$C,$D27)","v":0},{"$f":"COUNTIF('Aonad 38'!$C:$C,$D27)","v":0},0,null,{"$f":"IF('Aonad 1'!$C$7=$D$58,COUNTIF('Aonad 1'!$C:$C,$D27),\"0\")","v":"0"},{"$f":"IF('Aonad 2'!$C$7=$D$58,COUNTIF('Aonad 2'!$C:$C,$D27),\"0\")","v":"0"},{"$f":"IF('Aonad 3'!$C$7=$D$58,COUNTIF('Aonad 3'!$C:$C,$D27),\"0\")","v":"0"},{"$f":"IF('Aonad 4'!$C$7=$D$58,COUNTIF('Aonad 4'!$C:$C,$D27),\"0\")","v":"0"},{"$f":"IF('Aonad 5'!$C$7=$D$58,COUNTIF('Aonad 5'!$C:$C,$D27),\"0\")","v":"0"},{"$f":"IF('Aonad 6'!$C$7=$D$58,COUNTIF('Aonad 6'!$C:$C,$D27),\"0\")","v":"0"},{"$f":"IF('Aonad 7'!$C$7=$D$58,COUNTIF('Aonad 7'!$C:$C,$D27),\"0\")","v":"0"},{"$f":"IF('Aonad 8'!$C$7=$D$58,COUNTIF('Aonad 8'!$C:$C,$D27),\"0\")","v":"0"},{"$f":"IF('Aonad 9'!$C$7=$D$58,COUNTIF('Aonad 9'!$C:$C,$D27),\"0\")","v":"0"},{"$f":"IF('Aonad 10'!$C$7=$D$58,COUNTIF('Aonad 10'!$C:$C,$D27),\"0\")","v":"0"},{"$f":"IF('Aonad 11'!$C$7=$D$58,COUNTIF('Aonad 11'!$C:$C,$D27),\"0\")","v":"0"},{"$f":"IF('Aonad 12'!$C$7=$D$58,COUNTIF('Aonad 12'!$C:$C,$D27),\"0\")","v":"0"},{"$f":"IF('Aonad 13'!$C$7=$D$58,COUNTIF('Aonad 13'!$C:$C,$D27),\"0\")","v":"0"},{"$f":"IF('Aonad 14'!$C$7=$D$58,COUNTIF('Aonad 14'!$C:$C,$D27),\"0\")","v":"0"},{"$f":"IF('Aonad 15'!$C$7=$D$58,COUNTIF('Aonad 15'!$C:$C,$D27),\"0\")","v":"0"},{"$f":"IF('Aonad 16'!$C$7=$D$58,COUNTIF('Aonad 16'!$C:$C,$D27),\"0\")","v":"0"},{"$f":"IF('Aonad 17'!$C$7=$D$58,COUNTIF('Aonad 17'!$C:$C,$D27),\"0\")","v":"0"},{"$f":"IF('Aonad 18'!$C$7=$D$58,COUNTIF('Aonad 18'!$C:$C,$D27),\"0\")","v":"0"},{"$f":"IF('Aonad 19'!$C$7=$D$58,COUNTIF('Aonad 19'!$C:$C,$D27),\"0\")","v":"0"},{"$f":"IF('Aonad 20'!$C$7=$D$58,COUNTIF('Aonad 20'!$C:$C,$D27),\"0\")","v":"0"},{"$f":"IF('Aonad 21'!$C$7=$D$58,COUNTIF('Aonad 21'!$C:$C,$D27),\"0\")","v":"0"},{"$f":"IF('Aonad 22'!$C$7=$D$58,COUNTIF('Aonad 22'!$C:$C,$D27),\"0\")","v":"0"},{"$f":"IF('Aonad 23'!$C$7=$D$58,COUNTIF('Aonad 23'!$C:$C,$D27),\"0\")","v":"0"},{"$f":"IF('Aonad 24'!$C$7=$D$58,COUNTIF('Aonad 24'!$C:$C,$D27),\"0\")","v":"0"},{"$f":"IF('Aonad 25'!$C$7=$D$58,COUNTIF('Aonad 25'!$C:$C,$D27),\"0\")","v":"0"},{"$f":"IF('Aonad 26'!$C$7=$D$58,COUNTIF('Aonad 26'!$C:$C,$D27),\"0\")","v":"0"},{"$f":"IF('Aonad 27'!$C$7=$D$58,COUNTIF('Aonad 27'!$C:$C,$D27),\"0\")","v":"0"},{"$f":"IF('Aonad 28'!$C$7=$D$58,COUNTIF('Aonad 28'!$C:$C,$D27),\"0\")","v":"0"},{"$f":"IF('Aonad 29'!$C$7=$D$58,COUNTIF('Aonad 29'!$C:$C,$D27),\"0\")","v":"0"},{"$f":"IF('Aonad 30'!$C$7=$D$58,COUNTIF('Aonad 30'!$C:$C,$D27),\"0\")","v":"0"},{"$f":"IF('Aonad 31'!$C$7=$D$58,COUNTIF('Aonad 31'!$C:$C,$D27),\"0\")","v":"0"},{"$f":"IF('Aonad 32'!$C$7=$D$58,COUNTIF('Aonad 32'!$C:$C,$D27),\"0\")","v":"0"},{"$f":"IF('Aonad 33'!$C$7=$D$58,COUNTIF('Aonad 33'!$C:$C,$D27),\"0\")","v":"0"},{"$f":"IF('Aonad 34'!$C$7=$D$58,COUNTIF('Aonad 34'!$C:$C,$D27),\"0\")","v":"0"},{"$f":"IF('Aonad 35'!$C$7=$D$58,COUNTIF('Aonad 35'!$C:$C,$D27),\"0\")","v":"0"},{"$f":"IF('Aonad 36'!$C$7=$D$58,COUNTIF('Aonad 36'!$C:$C,$D27),\"0\")","v":"0"},{"$f":"IF('Aonad 37'!$C$7=$D$58,COUNTIF('Aonad 37'!$C:$C,$D27),\"0\")","v":"0"},{"$f":"IF('Aonad 38'!$C$7=$D$58,COUNTIF('Aonad 38'!$C:$C,$D27),\"0\")","v":"0"},0,null,{"$f":"IF('Aonad 1'!$C$7=$D$59,COUNTIF('Aonad 1'!$C:$C,$D27),\"0\")","v":"0"},{"$f":"IF('Aonad 2'!$C$7=$D$59,COUNTIF('Aonad 2'!$C:$C,$D27),\"0\")","v":"0"},{"$f":"IF('Aonad 3'!$C$7=$D$59,COUNTIF('Aonad 3'!$C:$C,$D27),\"0\")","v":"0"},{"$f":"IF('Aonad 4'!$C$7=$D$59,COUNTIF('Aonad 4'!$C:$C,$D27),\"0\")","v":"0"},{"$f":"IF('Aonad 5'!$C$7=$D$59,COUNTIF('Aonad 5'!$C:$C,$D27),\"0\")","v":"0"},{"$f":"IF('Aonad 6'!$C$7=$D$59,COUNTIF('Aonad 6'!$C:$C,$D27),\"0\")","v":"0"},{"$f":"IF('Aonad 7'!$C$7=$D$59,COUNTIF('Aonad 7'!$C:$C,$D27),\"0\")","v":"0"},{"$f":"IF('Aonad 8'!$C$7=$D$59,COUNTIF('Aonad 8'!$C:$C,$D27),\"0\")","v":"0"},{"$f":"IF('Aonad 9'!$C$7=$D$59,COUNTIF('Aonad 9'!$C:$C,$D27),\"0\")","v":"0"},{"$f":"IF('Aonad 10'!$C$7=$D$59,COUNTIF('Aonad 10'!$C:$C,$D27),\"0\")","v":"0"},{"$f":"IF('Aonad 11'!$C$7=$D$59,COUNTIF('Aonad 11'!$C:$C,$D27),\"0\")","v":"0"},{"$f":"IF('Aonad 12'!$C$7=$D$59,COUNTIF('Aonad 12'!$C:$C,$D27),\"0\")","v":"0"},{"$f":"IF('Aonad 13'!$C$7=$D$59,COUNTIF('Aonad 13'!$C:$C,$D27),\"0\")","v":"0"},{"$f":"IF('Aonad 14'!$C$7=$D$59,COUNTIF('Aonad 14'!$C:$C,$D27),\"0\")","v":"0"},{"$f":"IF('Aonad 15'!$C$7=$D$59,COUNTIF('Aonad 15'!$C:$C,$D27),\"0\")","v":"0"},{"$f":"IF('Aonad 16'!$C$7=$D$59,COUNTIF('Aonad 16'!$C:$C,$D27),\"0\")","v":"0"},{"$f":"IF('Aonad 17'!$C$7=$D$59,COUNTIF('Aonad 17'!$C:$C,$D27),\"0\")","v":"0"},{"$f":"IF('Aonad 18'!$C$7=$D$59,COUNTIF('Aonad 18'!$C:$C,$D27),\"0\")","v":"0"},{"$f":"IF('Aonad 19'!$C$7=$D$59,COUNTIF('Aonad 19'!$C:$C,$D27),\"0\")","v":"0"},{"$f":"IF('Aonad 20'!$C$7=$D$59,COUNTIF('Aonad 20'!$C:$C,$D27),\"0\")","v":"0"},{"$f":"IF('Aonad 21'!$C$7=$D$59,COUNTIF('Aonad 21'!$C:$C,$D27),\"0\")","v":"0"},{"$f":"IF('Aonad 22'!$C$7=$D$59,COUNTIF('Aonad 22'!$C:$C,$D27),\"0\")","v":"0"},{"$f":"IF('Aonad 23'!$C$7=$D$59,COUNTIF('Aonad 23'!$C:$C,$D27),\"0\")","v":"0"},{"$f":"IF('Aonad 24'!$C$7=$D$59,COUNTIF('Aonad 24'!$C:$C,$D27),\"0\")","v":"0"},{"$f":"IF('Aonad 25'!$C$7=$D$59,COUNTIF('Aonad 25'!$C:$C,$D27),\"0\")","v":"0"},{"$f":"IF('Aonad 26'!$C$7=$D$59,COUNTIF('Aonad 26'!$C:$C,$D27),\"0\")","v":"0"},{"$f":"IF('Aonad 27'!$C$7=$D$59,COUNTIF('Aonad 27'!$C:$C,$D27),\"0\")","v":"0"},{"$f":"IF('Aonad 28'!$C$7=$D$59,COUNTIF('Aonad 28'!$C:$C,$D27),\"0\")","v":"0"},{"$f":"IF('Aonad 29'!$C$7=$D$59,COUNTIF('Aonad 29'!$C:$C,$D27),\"0\")","v":"0"},{"$f":"IF('Aonad 30'!$C$7=$D$59,COUNTIF('Aonad 30'!$C:$C,$D27),\"0\")","v":"0"},{"$f":"IF('Aonad 31'!$C$7=$D$59,COUNTIF('Aonad 31'!$C:$C,$D27),\"0\")","v":"0"},{"$f":"IF('Aonad 32'!$C$7=$D$59,COUNTIF('Aonad 32'!$C:$C,$D27),\"0\")","v":"0"},{"$f":"IF('Aonad 33'!$C$7=$D$59,COUNTIF('Aonad 33'!$C:$C,$D27),\"0\")","v":"0"},{"$f":"IF('Aonad 34'!$C$7=$D$59,COUNTIF('Aonad 34'!$C:$C,$D27),\"0\")","v":"0"},{"$f":"IF('Aonad 35'!$C$7=$D$59,COUNTIF('Aonad 35'!$C:$C,$D27),\"0\")","v":"0"},{"$f":"IF('Aonad 36'!$C$7=$D$59,COUNTIF('Aonad 36'!$C:$C,$D27),\"0\")","v":"0"},{"$f":"IF('Aonad 37'!$C$7=$D$59,COUNTIF('Aonad 37'!$C:$C,$D27),\"0\")","v":"0"},{"$f":"IF('Aonad 38'!$C$7=$D$59,COUNTIF('Aonad 38'!$C:$C,$D27),\"0\")","v":"0"},0,null,{"$f":"IF('Aonad 1'!$C$7=$D$60,COUNTIF('Aonad 1'!$C:$C,$D27),\"0\")","v":"0"},{"$f":"IF('Aonad 2'!$C$7=$D$60,COUNTIF('Aonad 2'!$C:$C,$D27),\"0\")","v":"0"},{"$f":"IF('Aonad 3'!$C$7=$D$60,COUNTIF('Aonad 3'!$C:$C,$D27),\"0\")","v":"0"},{"$f":"IF('Aonad 4'!$C$7=$D$60,COUNTIF('Aonad 4'!$C:$C,$D27),\"0\")","v":"0"},{"$f":"IF('Aonad 5'!$C$7=$D$60,COUNTIF('Aonad 5'!$C:$C,$D27),\"0\")","v":"0"},{"$f":"IF('Aonad 6'!$C$7=$D$60,COUNTIF('Aonad 6'!$C:$C,$D27),\"0\")","v":"0"},{"$f":"IF('Aonad 7'!$C$7=$D$60,COUNTIF('Aonad 7'!$C:$C,$D27),\"0\")","v":"0"},{"$f":"IF('Aonad 8'!$C$7=$D$60,COUNTIF('Aonad 8'!$C:$C,$D27),\"0\")","v":"0"},{"$f":"IF('Aonad 9'!$C$7=$D$60,COUNTIF('Aonad 9'!$C:$C,$D27),\"0\")","v":"0"},{"$f":"IF('Aonad 10'!$C$7=$D$60,COUNTIF('Aonad 10'!$C:$C,$D27),\"0\")","v":"0"},{"$f":"IF('Aonad 11'!$C$7=$D$60,COUNTIF('Aonad 11'!$C:$C,$D27),\"0\")","v":"0"},{"$f":"IF('Aonad 12'!$C$7=$D$60,COUNTIF('Aonad 12'!$C:$C,$D27),\"0\")","v":"0"},{"$f":"IF('Aonad 13'!$C$7=$D$60,COUNTIF('Aonad 13'!$C:$C,$D27),\"0\")","v":"0"},{"$f":"IF('Aonad 14'!$C$7=$D$60,COUNTIF('Aonad 14'!$C:$C,$D27),\"0\")","v":"0"},{"$f":"IF('Aonad 15'!$C$7=$D$60,COUNTIF('Aonad 15'!$C:$C,$D27),\"0\")","v":"0"},{"$f":"IF('Aonad 16'!$C$7=$D$60,COUNTIF('Aonad 16'!$C:$C,$D27),\"0\")","v":"0"},{"$f":"IF('Aonad 17'!$C$7=$D$60,COUNTIF('Aonad 17'!$C:$C,$D27),\"0\")","v":"0"},{"$f":"IF('Aonad 18'!$C$7=$D$60,COUNTIF('Aonad 18'!$C:$C,$D27),\"0\")","v":"0"},{"$f":"IF('Aonad 19'!$C$7=$D$60,COUNTIF('Aonad 19'!$C:$C,$D27),\"0\")","v":"0"},{"$f":"IF('Aonad 20'!$C$7=$D$60,COUNTIF('Aonad 20'!$C:$C,$D27),\"0\")","v":"0"},{"$f":"IF('Aonad 21'!$C$7=$D$60,COUNTIF('Aonad 21'!$C:$C,$D27),\"0\")","v":"0"},{"$f":"IF('Aonad 22'!$C$7=$D$60,COUNTIF('Aonad 22'!$C:$C,$D27),\"0\")","v":"0"},{"$f":"IF('Aonad 23'!$C$7=$D$60,COUNTIF('Aonad 23'!$C:$C,$D27),\"0\")","v":"0"},{"$f":"IF('Aonad 24'!$C$7=$D$60,COUNTIF('Aonad 24'!$C:$C,$D27),\"0\")","v":"0"},{"$f":"IF('Aonad 25'!$C$7=$D$60,COUNTIF('Aonad 25'!$C:$C,$D27),\"0\")","v":"0"},{"$f":"IF('Aonad 26'!$C$7=$D$60,COUNTIF('Aonad 26'!$C:$C,$D27),\"0\")","v":"0"},{"$f":"IF('Aonad 27'!$C$7=$D$60,COUNTIF('Aonad 27'!$C:$C,$D27),\"0\")","v":"0"},{"$f":"IF('Aonad 28'!$C$7=$D$60,COUNTIF('Aonad 28'!$C:$C,$D27),\"0\")","v":"0"},{"$f":"IF('Aonad 29'!$C$7=$D$60,COUNTIF('Aonad 29'!$C:$C,$D27),\"0\")","v":"0"},{"$f":"IF('Aonad 30'!$C$7=$D$60,COUNTIF('Aonad 30'!$C:$C,$D27),\"0\")","v":"0"},{"$f":"IF('Aonad 31'!$C$7=$D$60,COUNTIF('Aonad 31'!$C:$C,$D27),\"0\")","v":"0"},{"$f":"IF('Aonad 32'!$C$7=$D$60,COUNTIF('Aonad 32'!$C:$C,$D27),\"0\")","v":"0"},{"$f":"IF('Aonad 33'!$C$7=$D$60,COUNTIF('Aonad 33'!$C:$C,$D27),\"0\")","v":"0"},{"$f":"IF('Aonad 34'!$C$7=$D$60,COUNTIF('Aonad 34'!$C:$C,$D27),\"0\")","v":"0"},{"$f":"IF('Aonad 35'!$C$7=$D$60,COUNTIF('Aonad 35'!$C:$C,$D27),\"0\")","v":"0"},{"$f":"IF('Aonad 36'!$C$7=$D$60,COUNTIF('Aonad 36'!$C:$C,$D27),\"0\")","v":"0"},{"$f":"IF('Aonad 37'!$C$7=$D$60,COUNTIF('Aonad 37'!$C:$C,$D27),\"0\")","v":"0"},{"$f":"IF('Aonad 38'!$C$7=$D$60,COUNTIF('Aonad 38'!$C:$C,$D27),\"0\")","v":"0"},0]
[null,{"$f":"B12","v":"Dearadh agus nuálaíocht"},"2.3","2.3 na prionsabail a bhaineann le córais rialaithe a aithint agus an réiteach á fhorbairt","Aithin: fíricí, saintréithe nó coincheapa atá riachtanach (ábhartha/oiriúnach) chun cás, imeacht, próiseas nó feiniméan a thuiscint agus a shainaithint",{"$f":"COUNTIF('Aonad 1'!$C:$C,$D28)","v":0},{"$f":"COUNTIF('Aonad 2'!$C:$C,$D28)","v":0},{"$f":"COUNTIF('Aonad 3'!$C:$C,$D28)","v":0},{"$f":"COUNTIF('Aonad 4'!$C:$C,$D28)","v":0},{"$f":"COUNTIF('Aonad 5'!$C:$C,$D28)","v":0},{"$f":"COUNTIF('Aonad 6'!$C:$C,$D28)","v":0},{"$f":"COUNTIF('Aonad 7'!$C:$C,$D28)","v":0},{"$f":"COUNTIF('Aonad 8'!$C:$C,$D28)","v":0},{"$f":"COUNTIF('Aonad 9'!$C:$C,$D28)","v":0},{"$f":"COUNTIF('Aonad 10'!$C:$C,$D28)","v":0},{"$f":"COUNTIF('Aonad 11'!$C:$C,$D28)","v":0},{"$f":"COUNTIF('Aonad 12'!$C:$C,$D28)","v":0},{"$f":"COUNTIF('Aonad 13'!$C:$C,$D28)","v":0},{"$f":"COUNTIF('Aonad 14'!$C:$C,$D28)","v":0},{"$f":"COUNTIF('Aonad 15'!$C:$C,$D28)","v":0},{"$f":"COUNTIF('Aonad 16'!$C:$C,$D28)","v":0},{"$f":"COUNTIF('Aonad 17'!$C:$C,$D28)","v":0},{"$f":"COUNTIF('Aonad 18'!$C:$C,$D28)","v":0},{"$f":"COUNTIF('Aonad 19'!$C:$C,$D28)","v":0},{"$f":"COUNTIF('Aonad 20'!$C:$C,$D28)","v":0},{"$f":"COUNTIF('Aonad 21'!$C:$C,$D28)","v":0},{"$f":"COUNTIF('Aonad 22'!$C:$C,$D28)","v":0},{"$f":"COUNTIF('Aonad 23'!$C:$C,$D28)","v":0},{"$f":"COUNTIF('Aonad 24'!$C:$C,$D28)","v":0},{"$f":"COUNTIF('Aonad 25'!$C:$C,$D28)","v":0},{"$f":"COUNTIF('Aonad 26'!$C:$C,$D28)","v":0},{"$f":"COUNTIF('Aonad 27'!$C:$C,$D28)","v":0},{"$f":"COUNTIF('Aonad 28'!$C:$C,$D28)","v":0},{"$f":"COUNTIF('Aonad 29'!$C:$C,$D28)","v":0},{"$f":"COUNTIF('Aonad 30'!$C:$C,$D28)","v":0},{"$f":"COUNTIF('Aonad 31'!$C:$C,$D28)","v":0},{"$f":"COUNTIF('Aonad 32'!$C:$C,$D28)","v":0},{"$f":"COUNTIF('Aonad 33'!$C:$C,$D28)","v":0},{"$f":"COUNTIF('Aonad 34'!$C:$C,$D28)","v":0},{"$f":"COUNTIF('Aonad 35'!$C:$C,$D28)","v":0},{"$f":"COUNTIF('Aonad 36'!$C:$C,$D28)","v":0},{"$f":"COUNTIF('Aonad 37'!$C:$C,$D28)","v":0},{"$f":"COUNTIF('Aonad 38'!$C:$C,$D28)","v":0},0,null,{"$f":"IF('Aonad 1'!$C$7=$D$58,COUNTIF('Aonad 1'!$C:$C,$D28),\"0\")","v":"0"},{"$f":"IF('Aonad 2'!$C$7=$D$58,COUNTIF('Aonad 2'!$C:$C,$D28),\"0\")","v":"0"},{"$f":"IF('Aonad 3'!$C$7=$D$58,COUNTIF('Aonad 3'!$C:$C,$D28),\"0\")","v":"0"},{"$f":"IF('Aonad 4'!$C$7=$D$58,COUNTIF('Aonad 4'!$C:$C,$D28),\"0\")","v":"0"},{"$f":"IF('Aonad 5'!$C$7=$D$58,COUNTIF('Aonad 5'!$C:$C,$D28),\"0\")","v":"0"},{"$f":"IF('Aonad 6'!$C$7=$D$58,COUNTIF('Aonad 6'!$C:$C,$D28),\"0\")","v":"0"},{"$f":"IF('Aonad 7'!$C$7=$D$58,COUNTIF('Aonad 7'!$C:$C,$D28),\"0\")","v":"0"},{"$f":"IF('Aonad 8'!$C$7=$D$58,COUNTIF('Aonad 8'!$C:$C,$D28),\"0\")","v":"0"},{"$f":"IF('Aonad 9'!$C$7=$D$58,COUNTIF('Aonad 9'!$C:$C,$D28),\"0\")","v":"0"},{"$f":"IF('Aonad 10'!$C$7=$D$58,COUNTIF('Aonad 10'!$C:$C,$D28),\"0\")","v":"0"},{"$f":"IF('Aonad 11'!$C$7=$D$58,COUNTIF('Aonad 11'!$C:$C,$D28),\"0\")","v":"0"},{"$f":"IF('Aonad 12'!$C$7=$D$58,COUNTIF('Aonad 12'!$C:$C,$D28),\"0\")","v":"0"},{"$f":"IF('Aonad 13'!$C$7=$D$58,COUNTIF('Aonad 13'!$C:$C,$D28),\"0\")","v":"0"},{"$f":"IF('Aonad 14'!$C$7=$D$58,COUNTIF('Aonad 14'!$C:$C,$D28),\"0\")","v":"0"},{"$f":"IF('Aonad 15'!$C$7=$D$58,COUNTIF('Aonad 15'!$C:$C,$D28),\"0\")","v":"0"},{"$f":"IF('Aonad 16'!$C$7=$D$58,COUNTIF('Aonad 16'!$C:$C,$D28),\"0\")","v":"0"},{"$f":"IF('Aonad 17'!$C$7=$D$58,COUNTIF('Aonad 17'!$C:$C,$D28),\"0\")","v":"0"},{"$f":"IF('Aonad 18'!$C$7=$D$58,COUNTIF('Aonad 18'!$C:$C,$D28),\"0\")","v":"0"},{"$f":"IF('Aonad 19'!$C$7=$D$58,COUNTIF('Aonad 19'!$C:$C,$D28),\"0\")","v":"0"},{"$f":"IF('Aonad 20'!$C$7=$D$58,COUNTIF('Aonad 20'!$C:$C,$D28),\"0\")","v":"0"},{"$f":"IF('Aonad 21'!$C$7=$D$58,COUNTIF('Aonad 21'!$C:$C,$D28),\"0\")","v":"0"},{"$f":"IF('Aonad 22'!$C$7=$D$58,COUNTIF('Aonad 22'!$C:$C,$D28),\"0\")","v":"0"},{"$f":"IF('Aonad 23'!$C$7=$D$58,COUNTIF('Aonad 23'!$C:$C,$D28),\"0\")","v":"0"},{"$f":"IF('Aonad 24'!$C$7=$D$58,COUNTIF('Aonad 24'!$C:$C,$D28),\"0\")","v":"0"},{"$f":"IF('Aonad 25'!$C$7=$D$58,COUNTIF('Aonad 25'!$C:$C,$D28),\"0\")","v":"0"},{"$f":"IF('Aonad 26'!$C$7=$D$58,COUNTIF('Aonad 26'!$C:$C,$D28),\"0\")","v":"0"},{"$f":"IF('Aonad 27'!$C$7=$D$58,COUNTIF('Aonad 27'!$C:$C,$D28),\"0\")","v":"0"},{"$f":"IF('Aonad 28'!$C$7=$D$58,COUNTIF('Aonad 28'!$C:$C,$D28),\"0\")","v":"0"},{"$f":"IF('Aonad 29'!$C$7=$D$58,COUNTIF('Aonad 29'!$C:$C,$D28),\"0\")","v":"0"},{"$f":"IF('Aonad 30'!$C$7=$D$58,COUNTIF('Aonad 30'!$C:$C,$D28),\"0\")","v":"0"},{"$f":"IF('Aonad 31'!$C$7=$D$58,COUNTIF('Aonad 31'!$C:$C,$D28),\"0\")","v":"0"},{"$f":"IF('Aonad 32'!$C$7=$D$58,COUNTIF('Aonad 32'!$C:$C,$D28),\"0\")","v":"0"},{"$f":"IF('Aonad 33'!$C$7=$D$58,COUNTIF('Aonad 33'!$C:$C,$D28),\"0\")","v":"0"},{"$f":"IF('Aonad 34'!$C$7=$D$58,COUNTIF('Aonad 34'!$C:$C,$D28),\"0\")","v":"0"},{"$f":"IF('Aonad 35'!$C$7=$D$58,COUNTIF('Aonad 35'!$C:$C,$D28),\"0\")","v":"0"},{"$f":"IF('Aonad 36'!$C$7=$D$58,COUNTIF('Aonad 36'!$C:$C,$D28),\"0\")","v":"0"},{"$f":"IF('Aonad 37'!$C$7=$D$58,COUNTIF('Aonad 37'!$C:$C,$D28),\"0\")","v":"0"},{"$f":"IF('Aonad 38'!$C$7=$D$58,COUNTIF('Aonad 38'!$C:$C,$D28),\"0\")","v":"0"},0,null,{"$f":"IF('Aonad 1'!$C$7=$D$59,COUNTIF('Aonad 1'!$C:$C,$D28),\"0\")","v":"0"},{"$f":"IF('Aonad 2'!$C$7=$D$59,COUNTIF('Aonad 2'!$C:$C,$D28),\"0\")","v":"0"},{"$f":"IF('Aonad 3'!$C$7=$D$59,COUNTIF('Aonad 3'!$C:$C,$D28),\"0\")","v":"0"},{"$f":"IF('Aonad 4'!$C$7=$D$59,COUNTIF('Aonad 4'!$C:$C,$D28),\"0\")","v":"0"},{"$f":"IF('Aonad 5'!$C$7=$D$59,COUNTIF('Aonad 5'!$C:$C,$D28),\"0\")","v":"0"},{"$f":"IF('Aonad 6'!$C$7=$D$59,COUNTIF('Aonad 6'!$C:$C,$D28),\"0\")","v":"0"},{"$f":"IF('Aonad 7'!$C$7=$D$59,COUNTIF('Aonad 7'!$C:$C,$D28),\"0\")","v":"0"},{"$f":"IF('Aonad 8'!$C$7=$D$59,COUNTIF('Aonad 8'!$C:$C,$D28),\"0\")","v":"0"},{"$f":"IF('Aonad 9'!$C$7=$D$59,COUNTIF('Aonad 9'!$C:$C,$D28),\"0\")","v":"0"},{"$f":"IF('Aonad 10'!$C$7=$D$59,COUNTIF('Aonad 10'!$C:$C,$D28),\"0\")","v":"0"},{"$f":"IF('Aonad 11'!$C$7=$D$59,COUNTIF('Aonad 11'!$C:$C,$D28),\"0\")","v":"0"},{"$f":"IF('Aonad 12'!$C$7=$D$59,COUNTIF('Aonad 12'!$C:$C,$D28),\"0\")","v":"0"},{"$f":"IF('Aonad 13'!$C$7=$D$59,COUNTIF('Aonad 13'!$C:$C,$D28),\"0\")","v":"0"},{"$f":"IF('Aonad 14'!$C$7=$D$59,COUNTIF('Aonad 14'!$C:$C,$D28),\"0\")","v":"0"},{"$f":"IF('Aonad 15'!$C$7=$D$59,COUNTIF('Aonad 15'!$C:$C,$D28),\"0\")","v":"0"},{"$f":"IF('Aonad 16'!$C$7=$D$59,COUNTIF('Aonad 16'!$C:$C,$D28),\"0\")","v":"0"},{"$f":"IF('Aonad 17'!$C$7=$D$59,COUNTIF('Aonad 17'!$C:$C,$D28),\"0\")","v":"0"},{"$f":"IF('Aonad 18'!$C$7=$D$59,COUNTIF('Aonad 18'!$C:$C,$D28),\"0\")","v":"0"},{"$f":"IF('Aonad 19'!$C$7=$D$59,COUNTIF('Aonad 19'!$C:$C,$D28),\"0\")","v":"0"},{"$f":"IF('Aonad 20'!$C$7=$D$59,COUNTIF('Aonad 20'!$C:$C,$D28),\"0\")","v":"0"},{"$f":"IF('Aonad 21'!$C$7=$D$59,COUNTIF('Aonad 21'!$C:$C,$D28),\"0\")","v":"0"},{"$f":"IF('Aonad 22'!$C$7=$D$59,COUNTIF('Aonad 22'!$C:$C,$D28),\"0\")","v":"0"},{"$f":"IF('Aonad 23'!$C$7=$D$59,COUNTIF('Aonad 23'!$C:$C,$D28),\"0\")","v":"0"},{"$f":"IF('Aonad 24'!$C$7=$D$59,COUNTIF('Aonad 24'!$C:$C,$D28),\"0\")","v":"0"},{"$f":"IF('Aonad 25'!$C$7=$D$59,COUNTIF('Aonad 25'!$C:$C,$D28),\"0\")","v":"0"},{"$f":"IF('Aonad 26'!$C$7=$D$59,COUNTIF('Aonad 26'!$C:$C,$D28),\"0\")","v":"0"},{"$f":"IF('Aonad 27'!$C$7=$D$59,COUNTIF('Aonad 27'!$C:$C,$D28),\"0\")","v":"0"},{"$f":"IF('Aonad 28'!$C$7=$D$59,COUNTIF('Aonad 28'!$C:$C,$D28),\"0\")","v":"0"},{"$f":"IF('Aonad 29'!$C$7=$D$59,COUNTIF('Aonad 29'!$C:$C,$D28),\"0\")","v":"0"},{"$f":"IF('Aonad 30'!$C$7=$D$59,COUNTIF('Aonad 30'!$C:$C,$D28),\"0\")","v":"0"},{"$f":"IF('Aonad 31'!$C$7=$D$59,COUNTIF('Aonad 31'!$C:$C,$D28),\"0\")","v":"0"},{"$f":"IF('Aonad 32'!$C$7=$D$59,COUNTIF('Aonad 32'!$C:$C,$D28),\"0\")","v":"0"},{"$f":"IF('Aonad 33'!$C$7=$D$59,COUNTIF('Aonad 33'!$C:$C,$D28),\"0\")","v":"0"},{"$f":"IF('Aonad 34'!$C$7=$D$59,COUNTIF('Aonad 34'!$C:$C,$D28),\"0\")","v":"0"},{"$f":"IF('Aonad 35'!$C$7=$D$59,COUNTIF('Aonad 35'!$C:$C,$D28),\"0\")","v":"0"},{"$f":"IF('Aonad 36'!$C$7=$D$59,COUNTIF('Aonad 36'!$C:$C,$D28),\"0\")","v":"0"},{"$f":"IF('Aonad 37'!$C$7=$D$59,COUNTIF('Aonad 37'!$C:$C,$D28),\"0\")","v":"0"},{"$f":"IF('Aonad 38'!$C$7=$D$59,COUNTIF('Aonad 38'!$C:$C,$D28),\"0\")","v":"0"},0,null,{"$f":"IF('Aonad 1'!$C$7=$D$60,COUNTIF('Aonad 1'!$C:$C,$D28),\"0\")","v":"0"},{"$f":"IF('Aonad 2'!$C$7=$D$60,COUNTIF('Aonad 2'!$C:$C,$D28),\"0\")","v":"0"},{"$f":"IF('Aonad 3'!$C$7=$D$60,COUNTIF('Aonad 3'!$C:$C,$D28),\"0\")","v":"0"},{"$f":"IF('Aonad 4'!$C$7=$D$60,COUNTIF('Aonad 4'!$C:$C,$D28),\"0\")","v":"0"},{"$f":"IF('Aonad 5'!$C$7=$D$60,COUNTIF('Aonad 5'!$C:$C,$D28),\"0\")","v":"0"},{"$f":"IF('Aonad 6'!$C$7=$D$60,COUNTIF('Aonad 6'!$C:$C,$D28),\"0\")","v":"0"},{"$f":"IF('Aonad 7'!$C$7=$D$60,COUNTIF('Aonad 7'!$C:$C,$D28),\"0\")","v":"0"},{"$f":"IF('Aonad 8'!$C$7=$D$60,COUNTIF('Aonad 8'!$C:$C,$D28),\"0\")","v":"0"},{"$f":"IF('Aonad 9'!$C$7=$D$60,COUNTIF('Aonad 9'!$C:$C,$D28),\"0\")","v":"0"},{"$f":"IF('Aonad 10'!$C$7=$D$60,COUNTIF('Aonad 10'!$C:$C,$D28),\"0\")","v":"0"},{"$f":"IF('Aonad 11'!$C$7=$D$60,COUNTIF('Aonad 11'!$C:$C,$D28),\"0\")","v":"0"},{"$f":"IF('Aonad 12'!$C$7=$D$60,COUNTIF('Aonad 12'!$C:$C,$D28),\"0\")","v":"0"},{"$f":"IF('Aonad 13'!$C$7=$D$60,COUNTIF('Aonad 13'!$C:$C,$D28),\"0\")","v":"0"},{"$f":"IF('Aonad 14'!$C$7=$D$60,COUNTIF('Aonad 14'!$C:$C,$D28),\"0\")","v":"0"},{"$f":"IF('Aonad 15'!$C$7=$D$60,COUNTIF('Aonad 15'!$C:$C,$D28),\"0\")","v":"0"},{"$f":"IF('Aonad 16'!$C$7=$D$60,COUNTIF('Aonad 16'!$C:$C,$D28),\"0\")","v":"0"},{"$f":"IF('Aonad 17'!$C$7=$D$60,COUNTIF('Aonad 17'!$C:$C,$D28),\"0\")","v":"0"},{"$f":"IF('Aonad 18'!$C$7=$D$60,COUNTIF('Aonad 18'!$C:$C,$D28),\"0\")","v":"0"},{"$f":"IF('Aonad 19'!$C$7=$D$60,COUNTIF('Aonad 19'!$C:$C,$D28),\"0\")","v":"0"},{"$f":"IF('Aonad 20'!$C$7=$D$60,COUNTIF('Aonad 20'!$C:$C,$D28),\"0\")","v":"0"},{"$f":"IF('Aonad 21'!$C$7=$D$60,COUNTIF('Aonad 21'!$C:$C,$D28),\"0\")","v":"0"},{"$f":"IF('Aonad 22'!$C$7=$D$60,COUNTIF('Aonad 22'!$C:$C,$D28),\"0\")","v":"0"},{"$f":"IF('Aonad 23'!$C$7=$D$60,COUNTIF('Aonad 23'!$C:$C,$D28),\"0\")","v":"0"},{"$f":"IF('Aonad 24'!$C$7=$D$60,COUNTIF('Aonad 24'!$C:$C,$D28),\"0\")","v":"0"},{"$f":"IF('Aonad 25'!$C$7=$D$60,COUNTIF('Aonad 25'!$C:$C,$D28),\"0\")","v":"0"},{"$f":"IF('Aonad 26'!$C$7=$D$60,COUNTIF('Aonad 26'!$C:$C,$D28),\"0\")","v":"0"},{"$f":"IF('Aonad 27'!$C$7=$D$60,COUNTIF('Aonad 27'!$C:$C,$D28),\"0\")","v":"0"},{"$f":"IF('Aonad 28'!$C$7=$D$60,COUNTIF('Aonad 28'!$C:$C,$D28),\"0\")","v":"0"},{"$f":"IF('Aonad 29'!$C$7=$D$60,COUNTIF('Aonad 29'!$C:$C,$D28),\"0\")","v":"0"},{"$f":"IF('Aonad 30'!$C$7=$D$60,COUNTIF('Aonad 30'!$C:$C,$D28),\"0\")","v":"0"},{"$f":"IF('Aonad 31'!$C$7=$D$60,COUNTIF('Aonad 31'!$C:$C,$D28),\"0\")","v":"0"},{"$f":"IF('Aonad 32'!$C$7=$D$60,COUNTIF('Aonad 32'!$C:$C,$D28),\"0\")","v":"0"},{"$f":"IF('Aonad 33'!$C$7=$D$60,COUNTIF('Aonad 33'!$C:$C,$D28),\"0\")","v":"0"},{"$f":"IF('Aonad 34'!$C$7=$D$60,COUNTIF('Aonad 34'!$C:$C,$D28),\"0\")","v":"0"},{"$f":"IF('Aonad 35'!$C$7=$D$60,COUNTIF('Aonad 35'!$C:$C,$D28),\"0\")","v":"0"},{"$f":"IF('Aonad 36'!$C$7=$D$60,COUNTIF('Aonad 36'!$C:$C,$D28),\"0\")","v":"0"},{"$f":"IF('Aonad 37'!$C$7=$D$60,COUNTIF('Aonad 37'!$C:$C,$D28),\"0\")","v":"0"},{"$f":"IF('Aonad 38'!$C$7=$D$60,COUNTIF('Aonad 38'!$C:$C,$D28),\"0\")","v":"0"},0]
[null,null,"2.4","2.4 sraith loighciúil treoracha a dhearadh i ndáil le gléas nó córas a rialú","Dear: gnéithe de réiteach a réitíonn fadhb úsáideora deiridh a phleanáil",{"$f":"COUNTIF('Aonad 1'!$C:$C,$D29)","v":0},{"$f":"COUNTIF('Aonad 2'!$C:$C,$D29)","v":0},{"$f":"COUNTIF('Aonad 3'!$C:$C,$D29)","v":0},{"$f":"COUNTIF('Aonad 4'!$C:$C,$D29)","v":0},{"$f":"COUNTIF('Aonad 5'!$C:$C,$D29)","v":0},{"$f":"COUNTIF('Aonad 6'!$C:$C,$D29)","v":0},{"$f":"COUNTIF('Aonad 7'!$C:$C,$D29)","v":0},{"$f":"COUNTIF('Aonad 8'!$C:$C,$D29)","v":0},{"$f":"COUNTIF('Aonad 9'!$C:$C,$D29)","v":0},{"$f":"COUNTIF('Aonad 10'!$C:$C,$D29)","v":0},{"$f":"COUNTIF('Aonad 11'!$C:$C,$D29)","v":0},{"$f":"COUNTIF('Aonad 12'!$C:$C,$D29)","v":0},{"$f":"COUNTIF('Aonad 13'!$C:$C,$D29)","v":0},{"$f":"COUNTIF('Aonad 14'!$C:$C,$D29)","v":0},{"$f":"COUNTIF('Aonad 15'!$C:$C,$D29)","v":0},{"$f":"COUNTIF('Aonad 16'!$C:$C,$D29)","v":0},{"$f":"COUNTIF('Aonad 17'!$C:$C,$D29)","v":0},{"$f":"COUNTIF('Aonad 18'!$C:$C,$D29)","v":0},{"$f":"COUNTIF('Aonad 19'!$C:$C,$D29)","v":0},{"$f":"COUNTIF('Aonad 20'!$C:$C,$D29)","v":0},{"$f":"COUNTIF('Aonad 21'!$C:$C,$D29)","v":0},{"$f":"COUNTIF('Aonad 22'!$C:$C,$D29)","v":0},{"$f":"COUNTIF('Aonad 23'!$C:$C,$D29)","v":0},{"$f":"COUNTIF('Aonad 24'!$C:$C,$D29)","v":0},{"$f":"COUNTIF('Aonad 25'!$C:$C,$D29)","v":0},{"$f":"COUNTIF('Aonad 26'!$C:$C,$D29)","v":0},{"$f":"COUNTIF('Aonad 27'!$C:$C,$D29)","v":0},{"$f":"COUNTIF('Aonad 28'!$C:$C,$D29)","v":0},{"$f":"COUNTIF('Aonad 29'!$C:$C,$D29)","v":0},{"$f":"COUNTIF('Aonad 30'!$C:$C,$D29)","v":0},{"$f":"COUNTIF('Aonad 31'!$C:$C,$D29)","v":0},{"$f":"COUNTIF('Aonad 32'!$C:$C,$D29)","v":0},{"$f":"COUNTIF('Aonad 33'!$C:$C,$D29)","v":0},{"$f":"COUNTIF('Aonad 34'!$C:$C,$D29)","v":0},{"$f":"COUNTIF('Aonad 35'!$C:$C,$D29)","v":0},{"$f":"COUNTIF('Aonad 36'!$C:$C,$D29)","v":0},{"$f":"COUNTIF('Aonad 37'!$C:$C,$D29)","v":0},{"$f":"COUNTIF('Aonad 38'!$C:$C,$D29)","v":0},0,null,{"$f":"IF('Aonad 1'!$C$7=$D$58,COUNTIF('Aonad 1'!$C:$C,$D29),\"0\")","v":"0"},{"$f":"IF('Aonad 2'!$C$7=$D$58,COUNTIF('Aonad 2'!$C:$C,$D29),\"0\")","v":"0"},{"$f":"IF('Aonad 3'!$C$7=$D$58,COUNTIF('Aonad 3'!$C:$C,$D29),\"0\")","v":"0"},{"$f":"IF('Aonad 4'!$C$7=$D$58,COUNTIF('Aonad 4'!$C:$C,$D29),\"0\")","v":"0"},{"$f":"IF('Aonad 5'!$C$7=$D$58,COUNTIF('Aonad 5'!$C:$C,$D29),\"0\")","v":"0"},{"$f":"IF('Aonad 6'!$C$7=$D$58,COUNTIF('Aonad 6'!$C:$C,$D29),\"0\")","v":"0"},{"$f":"IF('Aonad 7'!$C$7=$D$58,COUNTIF('Aonad 7'!$C:$C,$D29),\"0\")","v":"0"},{"$f":"IF('Aonad 8'!$C$7=$D$58,COUNTIF('Aonad 8'!$C:$C,$D29),\"0\")","v":"0"},{"$f":"IF('Aonad 9'!$C$7=$D$58,COUNTIF('Aonad 9'!$C:$C,$D29),\"0\")","v":"0"},{"$f":"IF('Aonad 10'!$C$7=$D$58,COUNTIF('Aonad 10'!$C:$C,$D29),\"0\")","v":"0"},{"$f":"IF('Aonad 11'!$C$7=$D$58,COUNTIF('Aonad 11'!$C:$C,$D29),\"0\")","v":"0"},{"$f":"IF('Aonad 12'!$C$7=$D$58,COUNTIF('Aonad 12'!$C:$C,$D29),\"0\")","v":"0"},{"$f":"IF('Aonad 13'!$C$7=$D$58,COUNTIF('Aonad 13'!$C:$C,$D29),\"0\")","v":"0"},{"$f":"IF('Aonad 14'!$C$7=$D$58,COUNTIF('Aonad 14'!$C:$C,$D29),\"0\")","v":"0"},{"$f":"IF('Aonad 15'!$C$7=$D$58,COUNTIF('Aonad 15'!$C:$C,$D29),\"0\")","v":"0"},{"$f":"IF('Aonad 16'!$C$7=$D$58,COUNTIF('Aonad 16'!$C:$C,$D29),\"0\")","v":"0"},{"$f":"IF('Aonad 17'!$C$7=$D$58,COUNTIF('Aonad 17'!$C:$C,$D29),\"0\")","v":"0"},{"$f":"IF('Aonad 18'!$C$7=$D$58,COUNTIF('Aonad 18'!$C:$C,$D29),\"0\")","v":"0"},{"$f":"IF('Aonad 19'!$C$7=$D$58,COUNTIF('Aonad 19'!$C:$C,$D29),\"0\")","v":"0"},{"$f":"IF('Aonad 20'!$C$7=$D$58,COUNTIF('Aonad 20'!$C:$C,$D29),\"0\")","v":"0"},{"$f":"IF('Aonad 21'!$C$7=$D$58,COUNTIF('Aonad 21'!$C:$C,$D29),\"0\")","v":"0"},{"$f":"IF('Aonad 22'!$C$7=$D$58,COUNTIF('Aonad 22'!$C:$C,$D29),\"0\")","v":"0"},{"$f":"IF('Aonad 23'!$C$7=$D$58,COUNTIF('Aonad 23'!$C:$C,$D29),\"0\")","v":"0"},{"$f":"IF('Aonad 24'!$C$7=$D$58,COUNTIF('Aonad 24'!$C:$C,$D29),\"0\")","v":"0"},{"$f":"IF('Aonad 25'!$C$7=$D$58,COUNTIF('Aonad 25'!$C:$C,$D29),\"0\")","v":"0"},{"$f":"IF('Aonad 26'!$C$7=$D$58,COUNTIF('Aonad 26'!$C:$C,$D29),\"0\")","v":"0"},{"$f":"IF('Aonad 27'!$C$7=$D$58,COUNTIF('Aonad 27'!$C:$C,$D29),\"0\")","v":"0"},{"$f":"IF('Aonad 28'!$C$7=$D$58,COUNTIF('Aonad 28'!$C:$C,$D29),\"0\")","v":"0"},{"$f":"IF('Aonad 29'!$C$7=$D$58,COUNTIF('Aonad 29'!$C:$C,$D29),\"0\")","v":"0"},{"$f":"IF('Aonad 30'!$C$7=$D$58,COUNTIF('Aonad 30'!$C:$C,$D29),\"0\")","v":"0"},{"$f":"IF('Aonad 31'!$C$7=$D$58,COUNTIF('Aonad 31'!$C:$C,$D29),\"0\")","v":"0"},{"$f":"IF('Aonad 32'!$C$7=$D$58,COUNTIF('Aonad 32'!$C:$C,$D29),\"0\")","v":"0"},{"$f":"IF('Aonad 33'!$C$7=$D$58,COUNTIF('Aonad 33'!$C:$C,$D29),\"0\")","v":"0"},{"$f":"IF('Aonad 34'!$C$7=$D$58,COUNTIF('Aonad 34'!$C:$C,$D29),\"0\")","v":"0"},{"$f":"IF('Aonad 35'!$C$7=$D$58,COUNTIF('Aonad 35'!$C:$C,$D29),\"0\")","v":"0"},{"$f":"IF('Aonad 36'!$C$7=$D$58,COUNTIF('Aonad 36'!$C:$C,$D29),\"0\")","v":"0"},{"$f":"IF('Aonad 37'!$C$7=$D$58,COUNTIF('Aonad 37'!$C:$C,$D29),\"0\")","v":"0"},{"$f":"IF('Aonad 38'!$C$7=$D$58,COUNTIF('Aonad 38'!$C:$C,$D29),\"0\")","v":"0"},0,null,{"$f":"IF('Aonad 1'!$C$7=$D$59,COUNTIF('Aonad 1'!$C:$C,$D29),\"0\")","v":"0"},{"$f":"IF('Aonad 2'!$C$7=$D$59,COUNTIF('Aonad 2'!$C:$C,$D29),\"0\")","v":"0"},{"$f":"IF('Aonad 3'!$C$7=$D$59,COUNTIF('Aonad 3'!$C:$C,$D29),\"0\")","v":"0"},{"$f":"IF('Aonad 4'!$C$7=$D$59,COUNTIF('Aonad 4'!$C:$C,$D29),\"0\")","v":"0"},{"$f":"IF('Aonad 5'!$C$7=$D$59,COUNTIF('Aonad 5'!$C:$C,$D29),\"0\")","v":"0"},{"$f":"IF('Aonad 6'!$C$7=$D$59,COUNTIF('Aonad 6'!$C:$C,$D29),\"0\")","v":"0"},{"$f":"IF('Aonad 7'!$C$7=$D$59,COUNTIF('Aonad 7'!$C:$C,$D29),\"0\")","v":"0"},{"$f":"IF('Aonad 8'!$C$7=$D$59,COUNTIF('Aonad 8'!$C:$C,$D29),\"0\")","v":"0"},{"$f":"IF('Aonad 9'!$C$7=$D$59,COUNTIF('Aonad 9'!$C:$C,$D29),\"0\")","v":"0"},{"$f":"IF('Aonad 10'!$C$7=$D$59,COUNTIF('Aonad 10'!$C:$C,$D29),\"0\")","v":"0"},{"$f":"IF('Aonad 11'!$C$7=$D$59,COUNTIF('Aonad 11'!$C:$C,$D29),\"0\")","v":"0"},{"$f":"IF('Aonad 12'!$C$7=$D$59,COUNTIF('Aonad 12'!$C:$C,$D29),\"0\")","v":"0"},{"$f":"IF('Aonad 13'!$C$7=$D$59,COUNTIF('Aonad 13'!$C:$C,$D29),\"0\")","v":"0"},{"$f":"IF('Aonad 14'!$C$7=$D$59,COUNTIF('Aonad 14'!$C:$C,$D29),\"0\")","v":"0"},{"$f":"IF('Aonad 15'!$C$7=$D$59,COUNTIF('Aonad 15'!$C:$C,$D29),\"0\")","v":"0"},{"$f":"IF('Aonad 16'!$C$7=$D$59,COUNTIF('Aonad 16'!$C:$C,$D29),\"0\")","v":"0"},{"$f":"IF('Aonad 17'!$C$7=$D$59,COUNTIF('Aonad 17'!$C:$C,$D29),\"0\")","v":"0"},{"$f":"IF('Aonad 18'!$C$7=$D$59,COUNTIF('Aonad 18'!$C:$C,$D29),\"0\")","v":"0"},{"$f":"IF('Aonad 19'!$C$7=$D$59,COUNTIF('Aonad 19'!$C:$C,$D29),\"0\")","v":"0"},{"$f":"IF('Aonad 20'!$C$7=$D$59,COUNTIF('Aonad 20'!$C:$C,$D29),\"0\")","v":"0"},{"$f":"IF('Aonad 21'!$C$7=$D$59,COUNTIF('Aonad 21'!$C:$C,$D29),\"0\")","v":"0"},{"$f":"IF('Aonad 22'!$C$7=$D$59,COUNTIF('Aonad 22'!$C:$C,$D29),\"0\")","v":"0"},{"$f":"IF('Aonad 23'!$C$7=$D$59,COUNTIF('Aonad 23'!$C:$C,$D29),\"0\")","v":"0"},{"$f":"IF('Aonad 24'!$C$7=$D$59,COUNTIF('Aonad 24'!$C:$C,$D29),\"0\")","v":"0"},{"$f":"IF('Aonad 25'!$C$7=$D$59,COUNTIF('Aonad 25'!$C:$C,$D29),\"0\")","v":"0"},{"$f":"IF('Aonad 26'!$C$7=$D$59,COUNTIF('Aonad 26'!$C:$C,$D29),\"0\")","v":"0"},{"$f":"IF('Aonad 27'!$C$7=$D$59,COUNTIF('Aonad 27'!$C:$C,$D29),\"0\")","v":"0"},{"$f":"IF('Aonad 28'!$C$7=$D$59,COUNTIF('Aonad 28'!$C:$C,$D29),\"0\")","v":"0"},{"$f":"IF('Aonad 29'!$C$7=$D$59,COUNTIF('Aonad 29'!$C:$C,$D29),\"0\")","v":"0"},{"$f":"IF('Aonad 30'!$C$7=$D$59,COUNTIF('Aonad 30'!$C:$C,$D29),\"0\")","v":"0"},{"$f":"IF('Aonad 31'!$C$7=$D$59,COUNTIF('Aonad 31'!$C:$C,$D29),\"0\")","v":"0"},{"$f":"IF('Aonad 32'!$C$7=$D$59,COUNTIF('Aonad 32'!$C:$C,$D29),\"0\")","v":"0"},{"$f":"IF('Aonad 33'!$C$7=$D$59,COUNTIF('Aonad 33'!$C:$C,$D29),\"0\")","v":"0"},{"$f":"IF('Aonad 34'!$C$7=$D$59,COUNTIF('Aonad 34'!$C:$C,$D29),\"0\")","v":"0"},{"$f":"IF('Aonad 35'!$C$7=$D$59,COUNTIF('Aonad 35'!$C:$C,$D29),\"0\")","v":"0"},{"$f":"IF('Aonad 36'!$C$7=$D$59,COUNTIF('Aonad 36'!$C:$C,$D29),\"0\")","v":"0"},{"$f":"IF('Aonad 37'!$C$7=$D$59,COUNTIF('Aonad 37'!$C:$C,$D29),\"0\")","v":"0"},{"$f":"IF('Aonad 38'!$C$7=$D$59,COUNTIF('Aonad 38'!$C:$C,$D29),\"0\")","v":"0"},0,null,{"$f":"IF('Aonad 1'!$C$7=$D$60,COUNTIF('Aonad 1'!$C:$C,$D29),\"0\")","v":"0"},{"$f":"IF('Aonad 2'!$C$7=$D$60,COUNTIF('Aonad 2'!$C:$C,$D29),\"0\")","v":"0"},{"$f":"IF('Aonad 3'!$C$7=$D$60,COUNTIF('Aonad 3'!$C:$C,$D29),\"0\")","v":"0"},{"$f":"IF('Aonad 4'!$C$7=$D$60,COUNTIF('Aonad 4'!$C:$C,$D29),\"0\")","v":"0"},{"$f":"IF('Aonad 5'!$C$7=$D$60,COUNTIF('Aonad 5'!$C:$C,$D29),\"0\")","v":"0"},{"$f":"IF('Aonad 6'!$C$7=$D$60,COUNTIF('Aonad 6'!$C:$C,$D29),\"0\")","v":"0"},{"$f":"IF('Aonad 7'!$C$7=$D$60,COUNTIF('Aonad 7'!$C:$C,$D29),\"0\")","v":"0"},{"$f":"IF('Aonad 8'!$C$7=$D$60,COUNTIF('Aonad 8'!$C:$C,$D29),\"0\")","v":"0"},{"$f":"IF('Aonad 9'!$C$7=$D$60,COUNTIF('Aonad 9'!$C:$C,$D29),\"0\")","v":"0"},{"$f":"IF('Aonad 10'!$C$7=$D$60,COUNTIF('Aonad 10'!$C:$C,$D29),\"0\")","v":"0"},{"$f":"IF('Aonad 11'!$C$7=$D$60,COUNTIF('Aonad 11'!$C:$C,$D29),\"0\")","v":"0"},{"$f":"IF('Aonad 12'!$C$7=$D$60,COUNTIF('Aonad 12'!$C:$C,$D29),\"0\")","v":"0"},{"$f":"IF('Aonad 13'!$C$7=$D$60,COUNTIF('Aonad 13'!$C:$C,$D29),\"0\")","v":"0"},{"$f":"IF('Aonad 14'!$C$7=$D$60,COUNTIF('Aonad 14'!$C:$C,$D29),\"0\")","v":"0"},{"$f":"IF('Aonad 15'!$C$7=$D$60,COUNTIF('Aonad 15'!$C:$C,$D29),\"0\")","v":"0"},{"$f":"IF('Aonad 16'!$C$7=$D$60,COUNTIF('Aonad 16'!$C:$C,$D29),\"0\")","v":"0"},{"$f":"IF('Aonad 17'!$C$7=$D$60,COUNTIF('Aonad 17'!$C:$C,$D29),\"0\")","v":"0"},{"$f":"IF('Aonad 18'!$C$7=$D$60,COUNTIF('Aonad 18'!$C:$C,$D29),\"0\")","v":"0"},{"$f":"IF('Aonad 19'!$C$7=$D$60,COUNTIF('Aonad 19'!$C:$C,$D29),\"0\")","v":"0"},{"$f":"IF('Aonad 20'!$C$7=$D$60,COUNTIF('Aonad 20'!$C:$C,$D29),\"0\")","v":"0"},{"$f":"IF('Aonad 21'!$C$7=$D$60,COUNTIF('Aonad 21'!$C:$C,$D29),\"0\")","v":"0"},{"$f":"IF('Aonad 22'!$C$7=$D$60,COUNTIF('Aonad 22'!$C:$C,$D29),\"0\")","v":"0"},{"$f":"IF('Aonad 23'!$C$7=$D$60,COUNTIF('Aonad 23'!$C:$C,$D29),\"0\")","v":"0"},{"$f":"IF('Aonad 24'!$C$7=$D$60,COUNTIF('Aonad 24'!$C:$C,$D29),\"0\")","v":"0"},{"$f":"IF('Aonad 25'!$C$7=$D$60,COUNTIF('Aonad 25'!$C:$C,$D29),\"0\")","v":"0"},{"$f":"IF('Aonad 26'!$C$7=$D$60,COUNTIF('Aonad 26'!$C:$C,$D29),\"0\")","v":"0"},{"$f":"IF('Aonad 27'!$C$7=$D$60,COUNTIF('Aonad 27'!$C:$C,$D29),\"0\")","v":"0"},{"$f":"IF('Aonad 28'!$C$7=$D$60,COUNTIF('Aonad 28'!$C:$C,$D29),\"0\")","v":"0"},{"$f":"IF('Aonad 29'!$C$7=$D$60,COUNTIF('Aonad 29'!$C:$C,$D29),\"0\")","v":"0"},{"$f":"IF('Aonad 30'!$C$7=$D$60,COUNTIF('Aonad 30'!$C:$C,$D29),\"0\")","v":"0"},{"$f":"IF('Aonad 31'!$C$7=$D$60,COUNTIF('Aonad 31'!$C:$C,$D29),\"0\")","v":"0"},{"$f":"IF('Aonad 32'!$C$7=$D$60,COUNTIF('Aonad 32'!$C:$C,$D29),\"0\")","v":"0"},{"$f":"IF('Aonad 33'!$C$7=$D$60,COUNTIF('Aonad 33'!$C:$C,$D29),\"0\")","v":"0"},{"$f":"IF('Aonad 34'!$C$7=$D$60,COUNTIF('Aonad 34'!$C:$C,$D29),\"0\")","v":"0"},{"$f":"IF('Aonad 35'!$C$7=$D$60,COUNTIF('Aonad 35'!$C:$C,$D29),\"0\")","v":"0"},{"$f":"IF('Aonad 36'!$C$7=$D$60,COUNTIF('Aonad 36'!$C:$C,$D29),\"0\")","v":"0"},{"$f":"IF('Aonad 37'!$C$7=$D$60,COUNTIF('Aonad 37'!$C:$C,$D29),\"0\")","v":"0"},{"$f":"IF('Aonad 38'!$C$7=$D$60,COUNTIF('Aonad 38'!$C:$C,$D29),\"0\")","v":"0"},0]
[null,null,"2.5","2.5 cuir chuige nuálacha a chur i bhfeidhm i leith réitigh córais rialaithe a dhearadh","Cuir i bhfeidhm: faisnéis agus/nó eolas agus tuiscint a roghnú agus a úsáid chun cás tugtha nó fíorchúinsí a mhíniú",{"$f":"COUNTIF('Aonad 1'!$C:$C,$D30)","v":0},{"$f":"COUNTIF('Aonad 2'!$C:$C,$D30)","v":0},{"$f":"COUNTIF('Aonad 3'!$C:$C,$D30)","v":0},{"$f":"COUNTIF('Aonad 4'!$C:$C,$D30)","v":0},{"$f":"COUNTIF('Aonad 5'!$C:$C,$D30)","v":0},{"$f":"COUNTIF('Aonad 6'!$C:$C,$D30)","v":0},{"$f":"COUNTIF('Aonad 7'!$C:$C,$D30)","v":0},{"$f":"COUNTIF('Aonad 8'!$C:$C,$D30)","v":0},{"$f":"COUNTIF('Aonad 9'!$C:$C,$D30)","v":0},{"$f":"COUNTIF('Aonad 10'!$C:$C,$D30)","v":0},{"$f":"COUNTIF('Aonad 11'!$C:$C,$D30)","v":0},{"$f":"COUNTIF('Aonad 12'!$C:$C,$D30)","v":0},{"$f":"COUNTIF('Aonad 13'!$C:$C,$D30)","v":0},{"$f":"COUNTIF('Aonad 14'!$C:$C,$D30)","v":0},{"$f":"COUNTIF('Aonad 15'!$C:$C,$D30)","v":0},{"$f":"COUNTIF('Aonad 16'!$C:$C,$D30)","v":0},{"$f":"COUNTIF('Aonad 17'!$C:$C,$D30)","v":0},{"$f":"COUNTIF('Aonad 18'!$C:$C,$D30)","v":0},{"$f":"COUNTIF('Aonad 19'!$C:$C,$D30)","v":0},{"$f":"COUNTIF('Aonad 20'!$C:$C,$D30)","v":0},{"$f":"COUNTIF('Aonad 21'!$C:$C,$D30)","v":0},{"$f":"COUNTIF('Aonad 22'!$C:$C,$D30)","v":0},{"$f":"COUNTIF('Aonad 23'!$C:$C,$D30)","v":0},{"$f":"COUNTIF('Aonad 24'!$C:$C,$D30)","v":0},{"$f":"COUNTIF('Aonad 25'!$C:$C,$D30)","v":0},{"$f":"COUNTIF('Aonad 26'!$C:$C,$D30)","v":0},{"$f":"COUNTIF('Aonad 27'!$C:$C,$D30)","v":0},{"$f":"COUNTIF('Aonad 28'!$C:$C,$D30)","v":0},{"$f":"COUNTIF('Aonad 29'!$C:$C,$D30)","v":0},{"$f":"COUNTIF('Aonad 30'!$C:$C,$D30)","v":0},{"$f":"COUNTIF('Aonad 31'!$C:$C,$D30)","v":0},{"$f":"COUNTIF('Aonad 32'!$C:$C,$D30)","v":0},{"$f":"COUNTIF('Aonad 33'!$C:$C,$D30)","v":0},{"$f":"COUNTIF('Aonad 34'!$C:$C,$D30)","v":0},{"$f":"COUNTIF('Aonad 35'!$C:$C,$D30)","v":0},{"$f":"COUNTIF('Aonad 36'!$C:$C,$D30)","v":0},{"$f":"COUNTIF('Aonad 37'!$C:$C,$D30)","v":0},{"$f":"COUNTIF('Aonad 38'!$C:$C,$D30)","v":0},0,null,{"$f":"IF('Aonad 1'!$C$7=$D$58,COUNTIF('Aonad 1'!$C:$C,$D30),\"0\")","v":"0"},{"$f":"IF('Aonad 2'!$C$7=$D$58,COUNTIF('Aonad 2'!$C:$C,$D30),\"0\")","v":"0"},{"$f":"IF('Aonad 3'!$C$7=$D$58,COUNTIF('Aonad 3'!$C:$C,$D30),\"0\")","v":"0"},{"$f":"IF('Aonad 4'!$C$7=$D$58,COUNTIF('Aonad 4'!$C:$C,$D30),\"0\")","v":"0"},{"$f":"IF('Aonad 5'!$C$7=$D$58,COUNTIF('Aonad 5'!$C:$C,$D30),\"0\")","v":"0"},{"$f":"IF('Aonad 6'!$C$7=$D$58,COUNTIF('Aonad 6'!$C:$C,$D30),\"0\")","v":"0"},{"$f":"IF('Aonad 7'!$C$7=$D$58,COUNTIF('Aonad 7'!$C:$C,$D30),\"0\")","v":"0"},{"$f":"IF('Aonad 8'!$C$7=$D$58,COUNTIF('Aonad 8'!$C:$C,$D30),\"0\")","v":"0"},{"$f":"IF('Aonad 9'!$C$7=$D$58,COUNTIF('Aonad 9'!$C:$C,$D30),\"0\")","v":"0"},{"$f":"IF('Aonad 10'!$C$7=$D$58,COUNTIF('Aonad 10'!$C:$C,$D30),\"0\")","v":"0"},{"$f":"IF('Aonad 11'!$C$7=$D$58,COUNTIF('Aonad 11'!$C:$C,$D30),\"0\")","v":"0"},{"$f":"IF('Aonad 12'!$C$7=$D$58,COUNTIF('Aonad 12'!$C:$C,$D30),\"0\")","v":"0"},{"$f":"IF('Aonad 13'!$C$7=$D$58,COUNTIF('Aonad 13'!$C:$C,$D30),\"0\")","v":"0"},{"$f":"IF('Aonad 14'!$C$7=$D$58,COUNTIF('Aonad 14'!$C:$C,$D30),\"0\")","v":"0"},{"$f":"IF('Aonad 15'!$C$7=$D$58,COUNTIF('Aonad 15'!$C:$C,$D30),\"0\")","v":"0"},{"$f":"IF('Aonad 16'!$C$7=$D$58,COUNTIF('Aonad 16'!$C:$C,$D30),\"0\")","v":"0"},{"$f":"IF('Aonad 17'!$C$7=$D$58,COUNTIF('Aonad 17'!$C:$C,$D30),\"0\")","v":"0"},{"$f":"IF('Aonad 18'!$C$7=$D$58,COUNTIF('Aonad 18'!$C:$C,$D30),\"0\")","v":"0"},{"$f":"IF('Aonad 19'!$C$7=$D$58,COUNTIF('Aonad 19'!$C:$C,$D30),\"0\")","v":"0"},{"$f":"IF('Aonad 20'!$C$7=$D$58,COUNTIF('Aonad 20'!$C:$C,$D30),\"0\")","v":"0"},{"$f":"IF('Aonad 21'!$C$7=$D$58,COUNTIF('Aonad 21'!$C:$C,$D30),\"0\")","v":"0"},{"$f":"IF('Aonad 22'!$C$7=$D$58,COUNTIF('Aonad 22'!$C:$C,$D30),\"0\")","v":"0"},{"$f":"IF('Aonad 23'!$C$7=$D$58,COUNTIF('Aonad 23'!$C:$C,$D30),\"0\")","v":"0"},{"$f":"IF('Aonad 24'!$C$7=$D$58,COUNTIF('Aonad 24'!$C:$C,$D30),\"0\")","v":"0"},{"$f":"IF('Aonad 25'!$C$7=$D$58,COUNTIF('Aonad 25'!$C:$C,$D30),\"0\")","v":"0"},{"$f":"IF('Aonad 26'!$C$7=$D$58,COUNTIF('Aonad 26'!$C:$C,$D30),\"0\")","v":"0"},{"$f":"IF('Aonad 27'!$C$7=$D$58,COUNTIF('Aonad 27'!$C:$C,$D30),\"0\")","v":"0"},{"$f":"IF('Aonad 28'!$C$7=$D$58,COUNTIF('Aonad 28'!$C:$C,$D30),\"0\")","v":"0"},{"$f":"IF('Aonad 29'!$C$7=$D$58,COUNTIF('Aonad 29'!$C:$C,$D30),\"0\")","v":"0"},{"$f":"IF('Aonad 30'!$C$7=$D$58,COUNTIF('Aonad 30'!$C:$C,$D30),\"0\")","v":"0"},{"$f":"IF('Aonad 31'!$C$7=$D$58,COUNTIF('Aonad 31'!$C:$C,$D30),\"0\")","v":"0"},{"$f":"IF('Aonad 32'!$C$7=$D$58,COUNTIF('Aonad 32'!$C:$C,$D30),\"0\")","v":"0"},{"$f":"IF('Aonad 33'!$C$7=$D$58,COUNTIF('Aonad 33'!$C:$C,$D30),\"0\")","v":"0"},{"$f":"IF('Aonad 34'!$C$7=$D$58,COUNTIF('Aonad 34'!$C:$C,$D30),\"0\")","v":"0"},{"$f":"IF('Aonad 35'!$C$7=$D$58,COUNTIF('Aonad 35'!$C:$C,$D30),\"0\")","v":"0"},{"$f":"IF('Aonad 36'!$C$7=$D$58,COUNTIF('Aonad 36'!$C:$C,$D30),\"0\")","v":"0"},{"$f":"IF('Aonad 37'!$C$7=$D$58,COUNTIF('Aonad 37'!$C:$C,$D30),\"0\")","v":"0"},{"$f":"IF('Aonad 38'!$C$7=$D$58,COUNTIF('Aonad 38'!$C:$C,$D30),\"0\")","v":"0"},0,null,{"$f":"IF('Aonad 1'!$C$7=$D$59,COUNTIF('Aonad 1'!$C:$C,$D30),\"0\")","v":"0"},{"$f":"IF('Aonad 2'!$C$7=$D$59,COUNTIF('Aonad 2'!$C:$C,$D30),\"0\")","v":"0"},{"$f":"IF('Aonad 3'!$C$7=$D$59,COUNTIF('Aonad 3'!$C:$C,$D30),\"0\")","v":"0"},{"$f":"IF('Aonad 4'!$C$7=$D$59,COUNTIF('Aonad 4'!$C:$C,$D30),\"0\")","v":"0"},{"$f":"IF('Aonad 5'!$C$7=$D$59,COUNTIF('Aonad 5'!$C:$C,$D30),\"0\")","v":"0"},{"$f":"IF('Aonad 6'!$C$7=$D$59,COUNTIF('Aonad 6'!$C:$C,$D30),\"0\")","v":"0"},{"$f":"IF('Aonad 7'!$C$7=$D$59,COUNTIF('Aonad 7'!$C:$C,$D30),\"0\")","v":"0"},{"$f":"IF('Aonad 8'!$C$7=$D$59,COUNTIF('Aonad 8'!$C:$C,$D30),\"0\")","v":"0"},{"$f":"IF('Aonad 9'!$C$7=$D$59,COUNTIF('Aonad 9'!$C:$C,$D30),\"0\")","v":"0"},{"$f":"IF('Aonad 10'!$C$7=$D$59,COUNTIF('Aonad 10'!$C:$C,$D30),\"0\")","v":"0"},{"$f":"IF('Aonad 11'!$C$7=$D$59,COUNTIF('Aonad 11'!$C:$C,$D30),\"0\")","v":"0"},{"$f":"IF('Aonad 12'!$C$7=$D$59,COUNTIF('Aonad 12'!$C:$C,$D30),\"0\")","v":"0"},{"$f":"IF('Aonad 13'!$C$7=$D$59,COUNTIF('Aonad 13'!$C:$C,$D30),\"0\")","v":"0"},{"$f":"IF('Aonad 14'!$C$7=$D$59,COUNTIF('Aonad 14'!$C:$C,$D30),\"0\")","v":"0"},{"$f":"IF('Aonad 15'!$C$7=$D$59,COUNTIF('Aonad 15'!$C:$C,$D30),\"0\")","v":"0"},{"$f":"IF('Aonad 16'!$C$7=$D$59,COUNTIF('Aonad 16'!$C:$C,$D30),\"0\")","v":"0"},{"$f":"IF('Aonad 17'!$C$7=$D$59,COUNTIF('Aonad 17'!$C:$C,$D30),\"0\")","v":"0"},{"$f":"IF('Aonad 18'!$C$7=$D$59,COUNTIF('Aonad 18'!$C:$C,$D30),\"0\")","v":"0"},{"$f":"IF('Aonad 19'!$C$7=$D$59,COUNTIF('Aonad 19'!$C:$C,$D30),\"0\")","v":"0"},{"$f":"IF('Aonad 20'!$C$7=$D$59,COUNTIF('Aonad 20'!$C:$C,$D30),\"0\")","v":"0"},{"$f":"IF('Aonad 21'!$C$7=$D$59,COUNTIF('Aonad 21'!$C:$C,$D30),\"0\")","v":"0"},{"$f":"IF('Aonad 22'!$C$7=$D$59,COUNTIF('Aonad 22'!$C:$C,$D30),\"0\")","v":"0"},{"$f":"IF('Aonad 23'!$C$7=$D$59,COUNTIF('Aonad 23'!$C:$C,$D30),\"0\")","v":"0"},{"$f":"IF('Aonad 24'!$C$7=$D$59,COUNTIF('Aonad 24'!$C:$C,$D30),\"0\")","v":"0"},{"$f":"IF('Aonad 25'!$C$7=$D$59,COUNTIF('Aonad 25'!$C:$C,$D30),\"0\")","v":"0"},{"$f":"IF('Aonad 26'!$C$7=$D$59,COUNTIF('Aonad 26'!$C:$C,$D30),\"0\")","v":"0"},{"$f":"IF('Aonad 27'!$C$7=$D$59,COUNTIF('Aonad 27'!$C:$C,$D30),\"0\")","v":"0"},{"$f":"IF('Aonad 28'!$C$7=$D$59,COUNTIF('Aonad 28'!$C:$C,$D30),\"0\")","v":"0"},{"$f":"IF('Aonad 29'!$C$7=$D$59,COUNTIF('Aonad 29'!$C:$C,$D30),\"0\")","v":"0"},{"$f":"IF('Aonad 30'!$C$7=$D$59,COUNTIF('Aonad 30'!$C:$C,$D30),\"0\")","v":"0"},{"$f":"IF('Aonad 31'!$C$7=$D$59,COUNTIF('Aonad 31'!$C:$C,$D30),\"0\")","v":"0"},{"$f":"IF('Aonad 32'!$C$7=$D$59,COUNTIF('Aonad 32'!$C:$C,$D30),\"0\")","v":"0"},{"$f":"IF('Aonad 33'!$C$7=$D$59,COUNTIF('Aonad 33'!$C:$C,$D30),\"0\")","v":"0"},{"$f":"IF('Aonad 34'!$C$7=$D$59,COUNTIF('Aonad 34'!$C:$C,$D30),\"0\")","v":"0"},{"$f":"IF('Aonad 35'!$C$7=$D$59,COUNTIF('Aonad 35'!$C:$C,$D30),\"0\")","v":"0"},{"$f":"IF('Aonad 36'!$C$7=$D$59,COUNTIF('Aonad 36'!$C:$C,$D30),\"0\")","v":"0"},{"$f":"IF('Aonad 37'!$C$7=$D$59,COUNTIF('Aonad 37'!$C:$C,$D30),\"0\")","v":"0"},{"$f":"IF('Aonad 38'!$C$7=$D$59,COUNTIF('Aonad 38'!$C:$C,$D30),\"0\")","v":"0"},0,null,{"$f":"IF('Aonad 1'!$C$7=$D$60,COUNTIF('Aonad 1'!$C:$C,$D30),\"0\")","v":"0"},{"$f":"IF('Aonad 2'!$C$7=$D$60,COUNTIF('Aonad 2'!$C:$C,$D30),\"0\")","v":"0"},{"$f":"IF('Aonad 3'!$C$7=$D$60,COUNTIF('Aonad 3'!$C:$C,$D30),\"0\")","v":"0"},{"$f":"IF('Aonad 4'!$C$7=$D$60,COUNTIF('Aonad 4'!$C:$C,$D30),\"0\")","v":"0"},{"$f":"IF('Aonad 5'!$C$7=$D$60,COUNTIF('Aonad 5'!$C:$C,$D30),\"0\")","v":"0"},{"$f":"IF('Aonad 6'!$C$7=$D$60,COUNTIF('Aonad 6'!$C:$C,$D30),\"0\")","v":"0"},{"$f":"IF('Aonad 7'!$C$7=$D$60,COUNTIF('Aonad 7'!$C:$C,$D30),\"0\")","v":"0"},{"$f":"IF('Aonad 8'!$C$7=$D$60,COUNTIF('Aonad 8'!$C:$C,$D30),\"0\")","v":"0"},{"$f":"IF('Aonad 9'!$C$7=$D$60,COUNTIF('Aonad 9'!$C:$C,$D30),\"0\")","v":"0"},{"$f":"IF('Aonad 10'!$C$7=$D$60,COUNTIF('Aonad 10'!$C:$C,$D30),\"0\")","v":"0"},{"$f":"IF('Aonad 11'!$C$7=$D$60,COUNTIF('Aonad 11'!$C:$C,$D30),\"0\")","v":"0"},{"$f":"IF('Aonad 12'!$C$7=$D$60,COUNTIF('Aonad 12'!$C:$C,$D30),\"0\")","v":"0"},{"$f":"IF('Aonad 13'!$C$7=$D$60,COUNTIF('Aonad 13'!$C:$C,$D30),\"0\")","v":"0"},{"$f":"IF('Aonad 14'!$C$7=$D$60,COUNTIF('Aonad 14'!$C:$C,$D30),\"0\")","v":"0"},{"$f":"IF('Aonad 15'!$C$7=$D$60,COUNTIF('Aonad 15'!$C:$C,$D30),\"0\")","v":"0"},{"$f":"IF('Aonad 16'!$C$7=$D$60,COUNTIF('Aonad 16'!$C:$C,$D30),\"0\")","v":"0"},{"$f":"IF('Aonad 17'!$C$7=$D$60,COUNTIF('Aonad 17'!$C:$C,$D30),\"0\")","v":"0"},{"$f":"IF('Aonad 18'!$C$7=$D$60,COUNTIF('Aonad 18'!$C:$C,$D30),\"0\")","v":"0"},{"$f":"IF('Aonad 19'!$C$7=$D$60,COUNTIF('Aonad 19'!$C:$C,$D30),\"0\")","v":"0"},{"$f":"IF('Aonad 20'!$C$7=$D$60,COUNTIF('Aonad 20'!$C:$C,$D30),\"0\")","v":"0"},{"$f":"IF('Aonad 21'!$C$7=$D$60,COUNTIF('Aonad 21'!$C:$C,$D30),\"0\")","v":"0"},{"$f":"IF('Aonad 22'!$C$7=$D$60,COUNTIF('Aonad 22'!$C:$C,$D30),\"0\")","v":"0"},{"$f":"IF('Aonad 23'!$C$7=$D$60,COUNTIF('Aonad 23'!$C:$C,$D30),\"0\")","v":"0"},{"$f":"IF('Aonad 24'!$C$7=$D$60,COUNTIF('Aonad 24'!$C:$C,$D30),\"0\")","v":"0"},{"$f":"IF('Aonad 25'!$C$7=$D$60,COUNTIF('Aonad 25'!$C:$C,$D30),\"0\")","v":"0"},{"$f":"IF('Aonad 26'!$C$7=$D$60,COUNTIF('Aonad 26'!$C:$C,$D30),\"0\")","v":"0"},{"$f":"IF('Aonad 27'!$C$7=$D$60,COUNTIF('Aonad 27'!$C:$C,$D30),\"0\")","v":"0"},{"$f":"IF('Aonad 28'!$C$7=$D$60,COUNTIF('Aonad 28'!$C:$C,$D30),\"0\")","v":"0"},{"$f":"IF('Aonad 29'!$C$7=$D$60,COUNTIF('Aonad 29'!$C:$C,$D30),\"0\")","v":"0"},{"$f":"IF('Aonad 30'!$C$7=$D$60,COUNTIF('Aonad 30'!$C:$C,$D30),\"0\")","v":"0"},{"$f":"IF('Aonad 31'!$C$7=$D$60,COUNTIF('Aonad 31'!$C:$C,$D30),\"0\")","v":"0"},{"$f":"IF('Aonad 32'!$C$7=$D$60,COUNTIF('Aonad 32'!$C:$C,$D30),\"0\")","v":"0"},{"$f":"IF('Aonad 33'!$C$7=$D$60,COUNTIF('Aonad 33'!$C:$C,$D30),\"0\")","v":"0"},{"$f":"IF('Aonad 34'!$C$7=$D$60,COUNTIF('Aonad 34'!$C:$C,$D30),\"0\")","v":"0"},{"$f":"IF('Aonad 35'!$C$7=$D$60,COUNTIF('Aonad 35'!$C:$C,$D30),\"0\")","v":"0"},{"$f":"IF('Aonad 36'!$C$7=$D$60,COUNTIF('Aonad 36'!$C:$C,$D30),\"0\")","v":"0"},{"$f":"IF('Aonad 37'!$C$7=$D$60,COUNTIF('Aonad 37'!$C:$C,$D30),\"0\")","v":"0"},{"$f":"IF('Aonad 38'!$C$7=$D$60,COUNTIF('Aonad 38'!$C:$C,$D30),\"0\")","v":"0"},0]
[null,null,null,null,null,{"$f":"COUNTIF('Aonad 1'!$C:$C,$D31)","v":0},{"$f":"COUNTIF('Aonad 2'!$C:$C,$D31)","v":0},{"$f":"COUNTIF('Aonad 3'!$C:$C,$D31)","v":0},{"$f":"COUNTIF('Aonad 4'!$C:$C,$D31)","v":0},{"$f":"COUNTIF('Aonad 5'!$C:$C,$D31)","v":0},{"$f":"COUNTIF('Aonad 6'!$C:$C,$D31)","v":0},{"$f":"COUNTIF('Aonad 7'!$C:$C,$D31)","v":0},{"$f":"COUNTIF('Aonad 8'!$C:$C,$D31)","v":0},{"$f":"COUNTIF('Aonad 9'!$C:$C,$D31)","v":0},{"$f":"COUNTIF('Aonad 10'!$C:$C,$D31)","v":0},{"$f":"COUNTIF('Aonad 11'!$C:$C,$D31)","v":0},{"$f":"COUNTIF('Aonad 12'!$C:$C,$D31)","v":0},{"$f":"COUNTIF('Aonad 13'!$C:$C,$D31)","v":0},{"$f":"COUNTIF('Aonad 14'!$C:$C,$D31)","v":0},{"$f":"COUNTIF('Aonad 15'!$C:$C,$D31)","v":0},{"$f":"COUNTIF('Aonad 16'!$C:$C,$D31)","v":0},{"$f":"COUNTIF('Aonad 17'!$C:$C,$D31)","v":0},{"$f":"COUNTIF('Aonad 18'!$C:$C,$D31)","v":0},{"$f":"COUNTIF('Aonad 19'!$C:$C,$D31)","v":0},{"$f":"COUNTIF('Aonad 20'!$C:$C,$D31)","v":0},{"$f":"COUNTIF('Aonad 21'!$C:$C,$D31)","v":0},{"$f":"COUNTIF('Aonad 22'!$C:$C,$D31)","v":0},{"$f":"COUNTIF('Aonad 23'!$C:$C,$D31)","v":0},{"$f":"COUNTIF('Aonad 24'!$C:$C,$D31)","v":0},{"$f":"COUNTIF('Aonad 25'!$C:$C,$D31)","v":0},{"$f":"COUNTIF('Aonad 26'!$C:$C,$D31)","v":0},{"$f":"COUNTIF('Aonad 27'!$C:$C,$D31)","v":0},{"$f":"COUNTIF('Aonad 28'!$C:$C,$D31)","v":0},{"$f":"COUNTIF('Aonad 29'!$C:$C,$D31)","v":0},{"$f":"COUNTIF('Aonad 30'!$C:$C,$D31)","v":0},{"$f":"COUNTIF('Aonad 31'!$C:$C,$D31)","v":0},{"$f":"COUNTIF('Aonad 32'!$C:$C,$D31)","v":0},{"$f":"COUNTIF('Aonad 33'!$C:$C,$D31)","v":0},{"$f":"COUNTIF('Aonad 34'!$C:$C,$D31)","v":0},{"$f":"COUNTIF('Aonad 35'!$C:$C,$D31)","v":0},{"$f":"COUNTIF('Aonad 36'!$C:$C,$D31)","v":0},{"$f":"COUNTIF('Aonad 37'!$C:$C,$D31)","v":0},{"$f":"COUNTIF('Aonad 38'!$C:$C,$D31)","v":0},0,null,{"$f":"IF('Aonad 1'!$C$7=$D$58,COUNTIF('Aonad 1'!$C:$C,$D31),\"0\")","v":"0"},{"$f":"IF('Aonad 2'!$C$7=$D$58,COUNTIF('Aonad 2'!$C:$C,$D31),\"0\")","v":"0"},{"$f":"IF('Aonad 3'!$C$7=$D$58,COUNTIF('Aonad 3'!$C:$C,$D31),\"0\")","v":"0"},{"$f":"IF('Aonad 4'!$C$7=$D$58,COUNTIF('Aonad 4'!$C:$C,$D31),\"0\")","v":"0"},{"$f":"IF('Aonad 5'!$C$7=$D$58,COUNTIF('Aonad 5'!$C:$C,$D31),\"0\")","v":"0"},{"$f":"IF('Aonad 6'!$C$7=$D$58,COUNTIF('Aonad 6'!$C:$C,$D31),\"0\")","v":"0"},{"$f":"IF('Aonad 7'!$C$7=$D$58,COUNTIF('Aonad 7'!$C:$C,$D31),\"0\")","v":"0"},{"$f":"IF('Aonad 8'!$C$7=$D$58,COUNTIF('Aonad 8'!$C:$C,$D31),\"0\")","v":"0"},{"$f":"IF('Aonad 9'!$C$7=$D$58,COUNTIF('Aonad 9'!$C:$C,$D31),\"0\")","v":"0"},{"$f":"IF('Aonad 10'!$C$7=$D$58,COUNTIF('Aonad 10'!$C:$C,$D31),\"0\")","v":"0"},{"$f":"IF('Aonad 11'!$C$7=$D$58,COUNTIF('Aonad 11'!$C:$C,$D31),\"0\")","v":"0"},{"$f":"IF('Aonad 12'!$C$7=$D$58,COUNTIF('Aonad 12'!$C:$C,$D31),\"0\")","v":"0"},{"$f":"IF('Aonad 13'!$C$7=$D$58,COUNTIF('Aonad 13'!$C:$C,$D31),\"0\")","v":"0"},{"$f":"IF('Aonad 14'!$C$7=$D$58,COUNTIF('Aonad 14'!$C:$C,$D31),\"0\")","v":"0"},{"$f":"IF('Aonad 15'!$C$7=$D$58,COUNTIF('Aonad 15'!$C:$C,$D31),\"0\")","v":"0"},{"$f":"IF('Aonad 16'!$C$7=$D$58,COUNTIF('Aonad 16'!$C:$C,$D31),\"0\")","v":"0"},{"$f":"IF('Aonad 17'!$C$7=$D$58,COUNTIF('Aonad 17'!$C:$C,$D31),\"0\")","v":"0"},{"$f":"IF('Aonad 18'!$C$7=$D$58,COUNTIF('Aonad 18'!$C:$C,$D31),\"0\")","v":"0"},{"$f":"IF('Aonad 19'!$C$7=$D$58,COUNTIF('Aonad 19'!$C:$C,$D31),\"0\")","v":"0"},{"$f":"IF('Aonad 20'!$C$7=$D$58,COUNTIF('Aonad 20'!$C:$C,$D31),\"0\")","v":"0"},{"$f":"IF('Aonad 21'!$C$7=$D$58,COUNTIF('Aonad 21'!$C:$C,$D31),\"0\")","v":"0"},{"$f":"IF('Aonad 22'!$C$7=$D$58,COUNTIF('Aonad 22'!$C:$C,$D31),\"0\")","v":"0"},{"$f":"IF('Aonad 23'!$C$7=$D$58,COUNTIF('Aonad 23'!$C:$C,$D31),\"0\")","v":"0"},{"$f":"IF('Aonad 24'!$C$7=$D$58,COUNTIF('Aonad 24'!$C:$C,$D31),\"0\")","v":"0"},{"$f":"IF('Aonad 25'!$C$7=$D$58,COUNTIF('Aonad 25'!$C:$C,$D31),\"0\")","v":"0"},{"$f":"IF('Aonad 26'!$C$7=$D$58,COUNTIF('Aonad 26'!$C:$C,$D31),\"0\")","v":"0"},{"$f":"IF('Aonad 27'!$C$7=$D$58,COUNTIF('Aonad 27'!$C:$C,$D31),\"0\")","v":"0"},{"$f":"IF('Aonad 28'!$C$7=$D$58,COUNTIF('Aonad 28'!$C:$C,$D31),\"0\")","v":"0"},{"$f":"IF('Aonad 29'!$C$7=$D$58,COUNTIF('Aonad 29'!$C:$C,$D31),\"0\")","v":"0"},{"$f":"IF('Aonad 30'!$C$7=$D$58,COUNTIF('Aonad 30'!$C:$C,$D31),\"0\")","v":"0"},{"$f":"IF('Aonad 31'!$C$7=$D$58,COUNTIF('Aonad 31'!$C:$C,$D31),\"0\")","v":"0"},{"$f":"IF('Aonad 32'!$C$7=$D$58,COUNTIF('Aonad 32'!$C:$C,$D31),\"0\")","v":"0"},{"$f":"IF('Aonad 33'!$C$7=$D$58,COUNTIF('Aonad 33'!$C:$C,$D31),\"0\")","v":"0"},{"$f":"IF('Aonad 34'!$C$7=$D$58,COUNTIF('Aonad 34'!$C:$C,$D31),\"0\")","v":"0"},{"$f":"IF('Aonad 35'!$C$7=$D$58,COUNTIF('Aonad 35'!$C:$C,$D31),\"0\")","v":"0"},{"$f":"IF('Aonad 36'!$C$7=$D$58,COUNTIF('Aonad 36'!$C:$C,$D31),\"0\")","v":"0"},{"$f":"IF('Aonad 37'!$C$7=$D$58,COUNTIF('Aonad 37'!$C:$C,$D31),\"0\")","v":"0"},{"$f":"IF('Aonad 38'!$C$7=$D$58,COUNTIF('Aonad 38'!$C:$C,$D31),\"0\")","v":"0"},0,null,{"$f":"IF('Aonad 1'!$C$7=$D$59,COUNTIF('Aonad 1'!$C:$C,$D31),\"0\")","v":"0"},{"$f":"IF('Aonad 2'!$C$7=$D$59,COUNTIF('Aonad 2'!$C:$C,$D31),\"0\")","v":"0"},{"$f":"IF('Aonad 3'!$C$7=$D$59,COUNTIF('Aonad 3'!$C:$C,$D31),\"0\")","v":"0"},{"$f":"IF('Aonad 4'!$C$7=$D$59,COUNTIF('Aonad 4'!$C:$C,$D31),\"0\")","v":"0"},{"$f":"IF('Aonad 5'!$C$7=$D$59,COUNTIF('Aonad 5'!$C:$C,$D31),\"0\")","v":"0"},{"$f":"IF('Aonad 6'!$C$7=$D$59,COUNTIF('Aonad 6'!$C:$C,$D31),\"0\")","v":"0"},{"$f":"IF('Aonad 7'!$C$7=$D$59,COUNTIF('Aonad 7'!$C:$C,$D31),\"0\")","v":"0"},{"$f":"IF('Aonad 8'!$C$7=$D$59,COUNTIF('Aonad 8'!$C:$C,$D31),\"0\")","v":"0"},{"$f":"IF('Aonad 9'!$C$7=$D$59,COUNTIF('Aonad 9'!$C:$C,$D31),\"0\")","v":"0"},{"$f":"IF('Aonad 10'!$C$7=$D$59,COUNTIF('Aonad 10'!$C:$C,$D31),\"0\")","v":"0"},{"$f":"IF('Aonad 11'!$C$7=$D$59,COUNTIF('Aonad 11'!$C:$C,$D31),\"0\")","v":"0"},{"$f":"IF('Aonad 12'!$C$7=$D$59,COUNTIF('Aonad 12'!$C:$C,$D31),\"0\")","v":"0"},{"$f":"IF('Aonad 13'!$C$7=$D$59,COUNTIF('Aonad 13'!$C:$C,$D31),\"0\")","v":"0"},{"$f":"IF('Aonad 14'!$C$7=$D$59,COUNTIF('Aonad 14'!$C:$C,$D31),\"0\")","v":"0"},{"$f":"IF('Aonad 15'!$C$7=$D$59,COUNTIF('Aonad 15'!$C:$C,$D31),\"0\")","v":"0"},{"$f":"IF('Aonad 16'!$C$7=$D$59,COUNTIF('Aonad 16'!$C:$C,$D31),\"0\")","v":"0"},{"$f":"IF('Aonad 17'!$C$7=$D$59,COUNTIF('Aonad 17'!$C:$C,$D31),\"0\")","v":"0"},{"$f":"IF('Aonad 18'!$C$7=$D$59,COUNTIF('Aonad 18'!$C:$C,$D31),\"0\")","v":"0"},{"$f":"IF('Aonad 19'!$C$7=$D$59,COUNTIF('Aonad 19'!$C:$C,$D31),\"0\")","v":"0"},{"$f":"IF('Aonad 20'!$C$7=$D$59,COUNTIF('Aonad 20'!$C:$C,$D31),\"0\")","v":"0"},{"$f":"IF('Aonad 21'!$C$7=$D$59,COUNTIF('Aonad 21'!$C:$C,$D31),\"0\")","v":"0"},{"$f":"IF('Aonad 22'!$C$7=$D$59,COUNTIF('Aonad 22'!$C:$C,$D31),\"0\")","v":"0"},{"$f":"IF('Aonad 23'!$C$7=$D$59,COUNTIF('Aonad 23'!$C:$C,$D31),\"0\")","v":"0"},{"$f":"IF('Aonad 24'!$C$7=$D$59,COUNTIF('Aonad 24'!$C:$C,$D31),\"0\")","v":"0"},{"$f":"IF('Aonad 25'!$C$7=$D$59,COUNTIF('Aonad 25'!$C:$C,$D31),\"0\")","v":"0"},{"$f":"IF('Aonad 26'!$C$7=$D$59,COUNTIF('Aonad 26'!$C:$C,$D31),\"0\")","v":"0"},{"$f":"IF('Aonad 27'!$C$7=$D$59,COUNTIF('Aonad 27'!$C:$C,$D31),\"0\")","v":"0"},{"$f":"IF('Aonad 28'!$C$7=$D$59,COUNTIF('Aonad 28'!$C:$C,$D31),\"0\")","v":"0"},{"$f":"IF('Aonad 29'!$C$7=$D$59,COUNTIF('Aonad 29'!$C:$C,$D31),\"0\")","v":"0"},{"$f":"IF('Aonad 30'!$C$7=$D$59,COUNTIF('Aonad 30'!$C:$C,$D31),\"0\")","v":"0"},{"$f":"IF('Aonad 31'!$C$7=$D$59,COUNTIF('Aonad 31'!$C:$C,$D31),\"0\")","v":"0"},{"$f":"IF('Aonad 32'!$C$7=$D$59,COUNTIF('Aonad 32'!$C:$C,$D31),\"0\")","v":"0"},{"$f":"IF('Aonad 33'!$C$7=$D$59,COUNTIF('Aonad 33'!$C:$C,$D31),\"0\")","v":"0"},{"$f":"IF('Aonad 34'!$C$7=$D$59,COUNTIF('Aonad 34'!$C:$C,$D31),\"0\")","v":"0"},{"$f":"IF('Aonad 35'!$C$7=$D$59,COUNTIF('Aonad 35'!$C:$C,$D31),\"0\")","v":"0"},{"$f":"IF('Aonad 36'!$C$7=$D$59,COUNTIF('Aonad 36'!$C:$C,$D31),\"0\")","v":"0"},{"$f":"IF('Aonad 37'!$C$7=$D$59,COUNTIF('Aonad 37'!$C:$C,$D31),\"0\")","v":"0"},{"$f":"IF('Aonad 38'!$C$7=$D$59,COUNTIF('Aonad 38'!$C:$C,$D31),\"0\")","v":"0"},0,null,{"$f":"IF('Aonad 1'!$C$7=$D$60,COUNTIF('Aonad 1'!$C:$C,$D31),\"0\")","v":"0"},{"$f":"IF('Aonad 2'!$C$7=$D$60,COUNTIF('Aonad 2'!$C:$C,$D31),\"0\")","v":"0"},{"$f":"IF('Aonad 3'!$C$7=$D$60,COUNTIF('Aonad 3'!$C:$C,$D31),\"0\")","v":"0"},{"$f":"IF('Aonad 4'!$C$7=$D$60,COUNTIF('Aonad 4'!$C:$C,$D31),\"0\")","v":"0"},{"$f":"IF('Aonad 5'!$C$7=$D$60,COUNTIF('Aonad 5'!$C:$C,$D31),\"0\")","v":"0"},{"$f":"IF('Aonad 6'!$C$7=$D$60,COUNTIF('Aonad 6'!$C:$C,$D31),\"0\")","v":"0"},{"$f":"IF('Aonad 7'!$C$7=$D$60,COUNTIF('Aonad 7'!$C:$C,$D31),\"0\")","v":"0"},{"$f":"IF('Aonad 8'!$C$7=$D$60,COUNTIF('Aonad 8'!$C:$C,$D31),\"0\")","v":"0"},{"$f":"IF('Aonad 9'!$C$7=$D$60,COUNTIF('Aonad 9'!$C:$C,$D31),\"0\")","v":"0"},{"$f":"IF('Aonad 10'!$C$7=$D$60,COUNTIF('Aonad 10'!$C:$C,$D31),\"0\")","v":"0"},{"$f":"IF('Aonad 11'!$C$7=$D$60,COUNTIF('Aonad 11'!$C:$C,$D31),\"0\")","v":"0"},{"$f":"IF('Aonad 12'!$C$7=$D$60,COUNTIF('Aonad 12'!$C:$C,$D31),\"0\")","v":"0"},{"$f":"IF('Aonad 13'!$C$7=$D$60,COUNTIF('Aonad 13'!$C:$C,$D31),\"0\")","v":"0"},{"$f":"IF('Aonad 14'!$C$7=$D$60,COUNTIF('Aonad 14'!$C:$C,$D31),\"0\")","v":"0"},{"$f":"IF('Aonad 15'!$C$7=$D$60,COUNTIF('Aonad 15'!$C:$C,$D31),\"0\")","v":"0"},{"$f":"IF('Aonad 16'!$C$7=$D$60,COUNTIF('Aonad 16'!$C:$C,$D31),\"0\")","v":"0"},{"$f":"IF('Aonad 17'!$C$7=$D$60,COUNTIF('Aonad 17'!$C:$C,$D31),\"0\")","v":"0"},{"$f":"IF('Aonad 18'!$C$7=$D$60,COUNTIF('Aonad 18'!$C:$C,$D31),\"0\")","v":"0"},{"$f":"IF('Aonad 19'!$C$7=$D$60,COUNTIF('Aonad 19'!$C:$C,$D31),\"0\")","v":"0"},{"$f":"IF('Aonad 20'!$C$7=$D$60,COUNTIF('Aonad 20'!$C:$C,$D31),\"0\")","v":"0"},{"$f":"IF('Aonad 21'!$C$7=$D$60,COUNTIF('Aonad 21'!$C:$C,$D31),\"0\")","v":"0"},{"$f":"IF('Aonad 22'!$C$7=$D$60,COUNTIF('Aonad 22'!$C:$C,$D31),\"0\")","v":"0"},{"$f":"IF('Aonad 23'!$C$7=$D$60,COUNTIF('Aonad 23'!$C:$C,$D31),\"0\")","v":"0"},{"$f":"IF('Aonad 24'!$C$7=$D$60,COUNTIF('Aonad 24'!$C:$C,$D31),\"0\")","v":"0"},{"$f":"IF('Aonad 25'!$C$7=$D$60,COUNTIF('Aonad 25'!$C:$C,$D31),\"0\")","v":"0"},{"$f":"IF('Aonad 26'!$C$7=$D$60,COUNTIF('Aonad 26'!$C:$C,$D31),\"0\")","v":"0"},{"$f":"IF('Aonad 27'!$C$7=$D$60,COUNTIF('Aonad 27'!$C:$C,$D31),\"0\")","v":"0"},{"$f":"IF('Aonad 28'!$C$7=$D$60,COUNTIF('Aonad 28'!$C:$C,$D31),\"0\")","v":"0"},{"$f":"IF('Aonad 29'!$C$7=$D$60,COUNTIF('Aonad 29'!$C:$C,$D31),\"0\")","v":"0"},{"$f":"IF('Aonad 30'!$C$7=$D$60,COUNTIF('Aonad 30'!$C:$C,$D31),\"0\")","v":"0"},{"$f":"IF('Aonad 31'!$C$7=$D$60,COUNTIF('Aonad 31'!$C:$C,$D31),\"0\")","v":"0"},{"$f":"IF('Aonad 32'!$C$7=$D$60,COUNTIF('Aonad 32'!$C:$C,$D31),\"0\")","v":"0"},{"$f":"IF('Aonad 33'!$C$7=$D$60,COUNTIF('Aonad 33'!$C:$C,$D31),\"0\")","v":"0"},{"$f":"IF('Aonad 34'!$C$7=$D$60,COUNTIF('Aonad 34'!$C:$C,$D31),\"0\")","v":"0"},{"$f":"IF('Aonad 35'!$C$7=$D$60,COUNTIF('Aonad 35'!$C:$C,$D31),\"0\")","v":"0"},{"$f":"IF('Aonad 36'!$C$7=$D$60,COUNTIF('Aonad 36'!$C:$C,$D31),\"0\")","v":"0"},{"$f":"IF('Aonad 37'!$C$7=$D$60,COUNTIF('Aonad 37'!$C:$C,$D31),\"0\")","v":"0"},{"$f":"IF('Aonad 38'!$C$7=$D$60,COUNTIF('Aonad 38'!$C:$C,$D31),\"0\")","v":"0"},0]
[null,{"$f":"B16","v":"Pleanáil, bainistiú agus cruthú"},"2.6","2.6 caomhnú agus éifeachtúlacht fuinnimh a fhiosrú","Fiosraigh: smaoineamh nó labhairt faoi rud éigin chun tuilleadh eolais a fháil ina leith",{"$f":"COUNTIF('Aonad 1'!$C:$C,$D32)","v":0},{"$f":"COUNTIF('Aonad 2'!$C:$C,$D32)","v":0},{"$f":"COUNTIF('Aonad 3'!$C:$C,$D32)","v":0},{"$f":"COUNTIF('Aonad 4'!$C:$C,$D32)","v":0},{"$f":"COUNTIF('Aonad 5'!$C:$C,$D32)","v":0},{"$f":"COUNTIF('Aonad 6'!$C:$C,$D32)","v":0},{"$f":"COUNTIF('Aonad 7'!$C:$C,$D32)","v":0},{"$f":"COUNTIF('Aonad 8'!$C:$C,$D32)","v":0},{"$f":"COUNTIF('Aonad 9'!$C:$C,$D32)","v":0},{"$f":"COUNTIF('Aonad 10'!$C:$C,$D32)","v":0},{"$f":"COUNTIF('Aonad 11'!$C:$C,$D32)","v":0},{"$f":"COUNTIF('Aonad 12'!$C:$C,$D32)","v":0},{"$f":"COUNTIF('Aonad 13'!$C:$C,$D32)","v":0},{"$f":"COUNTIF('Aonad 14'!$C:$C,$D32)","v":0},{"$f":"COUNTIF('Aonad 15'!$C:$C,$D32)","v":0},{"$f":"COUNTIF('Aonad 16'!$C:$C,$D32)","v":0},{"$f":"COUNTIF('Aonad 17'!$C:$C,$D32)","v":0},{"$f":"COUNTIF('Aonad 18'!$C:$C,$D32)","v":0},{"$f":"COUNTIF('Aonad 19'!$C:$C,$D32)","v":0},{"$f":"COUNTIF('Aonad 20'!$C:$C,$D32)","v":0},{"$f":"COUNTIF('Aonad 21'!$C:$C,$D32)","v":0},{"$f":"COUNTIF('Aonad 22'!$C:$C,$D32)","v":0},{"$f":"COUNTIF('Aonad 23'!$C:$C,$D32)","v":0},{"$f":"COUNTIF('Aonad 24'!$C:$C,$D32)","v":0},{"$f":"COUNTIF('Aonad 25'!$C:$C,$D32)","v":0},{"$f":"COUNTIF('Aonad 26'!$C:$C,$D32)","v":0},{"$f":"COUNTIF('Aonad 27'!$C:$C,$D32)","v":0},{"$f":"COUNTIF('Aonad 28'!$C:$C,$D32)","v":0},{"$f":"COUNTIF('Aonad 29'!$C:$C,$D32)","v":0},{"$f":"COUNTIF('Aonad 30'!$C:$C,$D32)","v":0},{"$f":"COUNTIF('Aonad 31'!$C:$C,$D32)","v":0},{"$f":"COUNTIF('Aonad 32'!$C:$C,$D32)","v":0},{"$f":"COUNTIF('Aonad 33'!$C:$C,$D32)","v":0},{"$f":"COUNTIF('Aonad 34'!$C:$C,$D32)","v":0},{"$f":"COUNTIF('Aonad 35'!$C:$C,$D32)","v":0},{"$f":"COUNTIF('Aonad 36'!$C:$C,$D32)","v":0},{"$f":"COUNTIF('Aonad 37'!$C:$C,$D32)","v":0},{"$f":"COUNTIF('Aonad 38'!$C:$C,$D32)","v":0},0,null,{"$f":"IF('Aonad 1'!$C$7=$D$58,COUNTIF('Aonad 1'!$C:$C,$D32),\"0\")","v":"0"},{"$f":"IF('Aonad 2'!$C$7=$D$58,COUNTIF('Aonad 2'!$C:$C,$D32),\"0\")","v":"0"},{"$f":"IF('Aonad 3'!$C$7=$D$58,COUNTIF('Aonad 3'!$C:$C,$D32),\"0\")","v":"0"},{"$f":"IF('Aonad 4'!$C$7=$D$58,COUNTIF('Aonad 4'!$C:$C,$D32),\"0\")","v":"0"},{"$f":"IF('Aonad 5'!$C$7=$D$58,COUNTIF('Aonad 5'!$C:$C,$D32),\"0\")","v":"0"},{"$f":"IF('Aonad 6'!$C$7=$D$58,COUNTIF('Aonad 6'!$C:$C,$D32),\"0\")","v":"0"},{"$f":"IF('Aonad 7'!$C$7=$D$58,COUNTIF('Aonad 7'!$C:$C,$D32),\"0\")","v":"0"},{"$f":"IF('Aonad 8'!$C$7=$D$58,COUNTIF('Aonad 8'!$C:$C,$D32),\"0\")","v":"0"},{"$f":"IF('Aonad 9'!$C$7=$D$58,COUNTIF('Aonad 9'!$C:$C,$D32),\"0\")","v":"0"},{"$f":"IF('Aonad 10'!$C$7=$D$58,COUNTIF('Aonad 10'!$C:$C,$D32),\"0\")","v":"0"},{"$f":"IF('Aonad 11'!$C$7=$D$58,COUNTIF('Aonad 11'!$C:$C,$D32),\"0\")","v":"0"},{"$f":"IF('Aonad 12'!$C$7=$D$58,COUNTIF('Aonad 12'!$C:$C,$D32),\"0\")","v":"0"},{"$f":"IF('Aonad 13'!$C$7=$D$58,COUNTIF('Aonad 13'!$C:$C,$D32),\"0\")","v":"0"},{"$f":"IF('Aonad 14'!$C$7=$D$58,COUNTIF('Aonad 14'!$C:$C,$D32),\"0\")","v":"0"},{"$f":"IF('Aonad 15'!$C$7=$D$58,COUNTIF('Aonad 15'!$C:$C,$D32),\"0\")","v":"0"},{"$f":"IF('Aonad 16'!$C$7=$D$58,COUNTIF('Aonad 16'!$C:$C,$D32),\"0\")","v":"0"},{"$f":"IF('Aonad 17'!$C$7=$D$58,COUNTIF('Aonad 17'!$C:$C,$D32),\"0\")","v":"0"},{"$f":"IF('Aonad 18'!$C$7=$D$58,COUNTIF('Aonad 18'!$C:$C,$D32),\"0\")","v":"0"},{"$f":"IF('Aonad 19'!$C$7=$D$58,COUNTIF('Aonad 19'!$C:$C,$D32),\"0\")","v":"0"},{"$f":"IF('Aonad 20'!$C$7=$D$58,COUNTIF('Aonad 20'!$C:$C,$D32),\"0\")","v":"0"},{"$f":"IF('Aonad 21'!$C$7=$D$58,COUNTIF('Aonad 21'!$C:$C,$D32),\"0\")","v":"0"},{"$f":"IF('Aonad 22'!$C$7=$D$58,COUNTIF('Aonad 22'!$C:$C,$D32),\"0\")","v":"0"},{"$f":"IF('Aonad 23'!$C$7=$D$58,COUNTIF('Aonad 23'!$C:$C,$D32),\"0\")","v":"0"},{"$f":"IF('Aonad 24'!$C$7=$D$58,COUNTIF('Aonad 24'!$C:$C,$D32),\"0\")","v":"0"},{"$f":"IF('Aonad 25'!$C$7=$D$58,COUNTIF('Aonad 25'!$C:$C,$D32),\"0\")","v":"0"},{"$f":"IF('Aonad 26'!$C$7=$D$58,COUNTIF('Aonad 26'!$C:$C,$D32),\"0\")","v":"0"},{"$f":"IF('Aonad 27'!$C$7=$D$58,COUNTIF('Aonad 27'!$C:$C,$D32),\"0\")","v":"0"},{"$f":"IF('Aonad 28'!$C$7=$D$58,COUNTIF('Aonad 28'!$C:$C,$D32),\"0\")","v":"0"},{"$f":"IF('Aonad 29'!$C$7=$D$58,COUNTIF('Aonad 29'!$C:$C,$D32),\"0\")","v":"0"},{"$f":"IF('Aonad 30'!$C$7=$D$58,COUNTIF('Aonad 30'!$C:$C,$D32),\"0\")","v":"0"},{"$f":"IF('Aonad 31'!$C$7=$D$58,COUNTIF('Aonad 31'!$C:$C,$D32),\"0\")","v":"0"},{"$f":"IF('Aonad 32'!$C$7=$D$58,COUNTIF('Aonad 32'!$C:$C,$D32),\"0\")","v":"0"},{"$f":"IF('Aonad 33'!$C$7=$D$58,COUNTIF('Aonad 33'!$C:$C,$D32),\"0\")","v":"0"},{"$f":"IF('Aonad 34'!$C$7=$D$58,COUNTIF('Aonad 34'!$C:$C,$D32),\"0\")","v":"0"},{"$f":"IF('Aonad 35'!$C$7=$D$58,COUNTIF('Aonad 35'!$C:$C,$D32),\"0\")","v":"0"},{"$f":"IF('Aonad 36'!$C$7=$D$58,COUNTIF('Aonad 36'!$C:$C,$D32),\"0\")","v":"0"},{"$f":"IF('Aonad 37'!$C$7=$D$58,COUNTIF('Aonad 37'!$C:$C,$D32),\"0\")","v":"0"},{"$f":"IF('Aonad 38'!$C$7=$D$58,COUNTIF('Aonad 38'!$C:$C,$D32),\"0\")","v":"0"},0,null,{"$f":"IF('Aonad 1'!$C$7=$D$59,COUNTIF('Aonad 1'!$C:$C,$D32),\"0\")","v":"0"},{"$f":"IF('Aonad 2'!$C$7=$D$59,COUNTIF('Aonad 2'!$C:$C,$D32),\"0\")","v":"0"},{"$f":"IF('Aonad 3'!$C$7=$D$59,COUNTIF('Aonad 3'!$C:$C,$D32),\"0\")","v":"0"},{"$f":"IF('Aonad 4'!$C$7=$D$59,COUNTIF('Aonad 4'!$C:$C,$D32),\"0\")","v":"0"},{"$f":"IF('Aonad 5'!$C$7=$D$59,COUNTIF('Aonad 5'!$C:$C,$D32),\"0\")","v":"0"},{"$f":"IF('Aonad 6'!$C$7=$D$59,COUNTIF('Aonad 6'!$C:$C,$D32),\"0\")","v":"0"},{"$f":"IF('Aonad 7'!$C$7=$D$59,COUNTIF('Aonad 7'!$C:$C,$D32),\"0\")","v":"0"},{"$f":"IF('Aonad 8'!$C$7=$D$59,COUNTIF('Aonad 8'!$C:$C,$D32),\"0\")","v":"0"},{"$f":"IF('Aonad 9'!$C$7=$D$59,COUNTIF('Aonad 9'!$C:$C,$D32),\"0\")","v":"0"},{"$f":"IF('Aonad 10'!$C$7=$D$59,COUNTIF('Aonad 10'!$C:$C,$D32),\"0\")","v":"0"},{"$f":"IF('Aonad 11'!$C$7=$D$59,COUNTIF('Aonad 11'!$C:$C,$D32),\"0\")","v":"0"},{"$f":"IF('Aonad 12'!$C$7=$D$59,COUNTIF('Aonad 12'!$C:$C,$D32),\"0\")","v":"0"},{"$f":"IF('Aonad 13'!$C$7=$D$59,COUNTIF('Aonad 13'!$C:$C,$D32),\"0\")","v":"0"},{"$f":"IF('Aonad 14'!$C$7=$D$59,COUNTIF('Aonad 14'!$C:$C,$D32),\"0\")","v":"0"},{"$f":"IF('Aonad 15'!$C$7=$D$59,COUNTIF('Aonad 15'!$C:$C,$D32),\"0\")","v":"0"},{"$f":"IF('Aonad 16'!$C$7=$D$59,COUNTIF('Aonad 16'!$C:$C,$D32),\"0\")","v":"0"},{"$f":"IF('Aonad 17'!$C$7=$D$59,COUNTIF('Aonad 17'!$C:$C,$D32),\"0\")","v":"0"},{"$f":"IF('Aonad 18'!$C$7=$D$59,COUNTIF('Aonad 18'!$C:$C,$D32),\"0\")","v":"0"},{"$f":"IF('Aonad 19'!$C$7=$D$59,COUNTIF('Aonad 19'!$C:$C,$D32),\"0\")","v":"0"},{"$f":"IF('Aonad 20'!$C$7=$D$59,COUNTIF('Aonad 20'!$C:$C,$D32),\"0\")","v":"0"},{"$f":"IF('Aonad 21'!$C$7=$D$59,COUNTIF('Aonad 21'!$C:$C,$D32),\"0\")","v":"0"},{"$f":"IF('Aonad 22'!$C$7=$D$59,COUNTIF('Aonad 22'!$C:$C,$D32),\"0\")","v":"0"},{"$f":"IF('Aonad 23'!$C$7=$D$59,COUNTIF('Aonad 23'!$C:$C,$D32),\"0\")","v":"0"},{"$f":"IF('Aonad 24'!$C$7=$D$59,COUNTIF('Aonad 24'!$C:$C,$D32),\"0\")","v":"0"},{"$f":"IF('Aonad 25'!$C$7=$D$59,COUNTIF('Aonad 25'!$C:$C,$D32),\"0\")","v":"0"},{"$f":"IF('Aonad 26'!$C$7=$D$59,COUNTIF('Aonad 26'!$C:$C,$D32),\"0\")","v":"0"},{"$f":"IF('Aonad 27'!$C$7=$D$59,COUNTIF('Aonad 27'!$C:$C,$D32),\"0\")","v":"0"},{"$f":"IF('Aonad 28'!$C$7=$D$59,COUNTIF('Aonad 28'!$C:$C,$D32),\"0\")","v":"0"},{"$f":"IF('Aonad 29'!$C$7=$D$59,COUNTIF('Aonad 29'!$C:$C,$D32),\"0\")","v":"0"},{"$f":"IF('Aonad 30'!$C$7=$D$59,COUNTIF('Aonad 30'!$C:$C,$D32),\"0\")","v":"0"},{"$f":"IF('Aonad 31'!$C$7=$D$59,COUNTIF('Aonad 31'!$C:$C,$D32),\"0\")","v":"0"},{"$f":"IF('Aonad 32'!$C$7=$D$59,COUNTIF('Aonad 32'!$C:$C,$D32),\"0\")","v":"0"},{"$f":"IF('Aonad 33'!$C$7=$D$59,COUNTIF('Aonad 33'!$C:$C,$D32),\"0\")","v":"0"},{"$f":"IF('Aonad 34'!$C$7=$D$59,COUNTIF('Aonad 34'!$C:$C,$D32),\"0\")","v":"0"},{"$f":"IF('Aonad 35'!$C$7=$D$59,COUNTIF('Aonad 35'!$C:$C,$D32),\"0\")","v":"0"},{"$f":"IF('Aonad 36'!$C$7=$D$59,COUNTIF('Aonad 36'!$C:$C,$D32),\"0\")","v":"0"},{"$f":"IF('Aonad 37'!$C$7=$D$59,COUNTIF('Aonad 37'!$C:$C,$D32),\"0\")","v":"0"},{"$f":"IF('Aonad 38'!$C$7=$D$59,COUNTIF('Aonad 38'!$C:$C,$D32),\"0\")","v":"0"},0,null,{"$f":"IF('Aonad 1'!$C$7=$D$60,COUNTIF('Aonad 1'!$C:$C,$D32),\"0\")","v":"0"},{"$f":"IF('Aonad 2'!$C$7=$D$60,COUNTIF('Aonad 2'!$C:$C,$D32),\"0\")","v":"0"},{"$f":"IF('Aonad 3'!$C$7=$D$60,COUNTIF('Aonad 3'!$C:$C,$D32),\"0\")","v":"0"},{"$f":"IF('Aonad 4'!$C$7=$D$60,COUNTIF('Aonad 4'!$C:$C,$D32),\"0\")","v":"0"},{"$f":"IF('Aonad 5'!$C$7=$D$60,COUNTIF('Aonad 5'!$C:$C,$D32),\"0\")","v":"0"},{"$f":"IF('Aonad 6'!$C$7=$D$60,COUNTIF('Aonad 6'!$C:$C,$D32),\"0\")","v":"0"},{"$f":"IF('Aonad 7'!$C$7=$D$60,COUNTIF('Aonad 7'!$C:$C,$D32),\"0\")","v":"0"},{"$f":"IF('Aonad 8'!$C$7=$D$60,COUNTIF('Aonad 8'!$C:$C,$D32),\"0\")","v":"0"},{"$f":"IF('Aonad 9'!$C$7=$D$60,COUNTIF('Aonad 9'!$C:$C,$D32),\"0\")","v":"0"},{"$f":"IF('Aonad 10'!$C$7=$D$60,COUNTIF('Aonad 10'!$C:$C,$D32),\"0\")","v":"0"},{"$f":"IF('Aonad 11'!$C$7=$D$60,COUNTIF('Aonad 11'!$C:$C,$D32),\"0\")","v":"0"},{"$f":"IF('Aonad 12'!$C$7=$D$60,COUNTIF('Aonad 12'!$C:$C,$D32),\"0\")","v":"0"},{"$f":"IF('Aonad 13'!$C$7=$D$60,COUNTIF('Aonad 13'!$C:$C,$D32),\"0\")","v":"0"},{"$f":"IF('Aonad 14'!$C$7=$D$60,COUNTIF('Aonad 14'!$C:$C,$D32),\"0\")","v":"0"},{"$f":"IF('Aonad 15'!$C$7=$D$60,COUNTIF('Aonad 15'!$C:$C,$D32),\"0\")","v":"0"},{"$f":"IF('Aonad 16'!$C$7=$D$60,COUNTIF('Aonad 16'!$C:$C,$D32),\"0\")","v":"0"},{"$f":"IF('Aonad 17'!$C$7=$D$60,COUNTIF('Aonad 17'!$C:$C,$D32),\"0\")","v":"0"},{"$f":"IF('Aonad 18'!$C$7=$D$60,COUNTIF('Aonad 18'!$C:$C,$D32),\"0\")","v":"0"},{"$f":"IF('Aonad 19'!$C$7=$D$60,COUNTIF('Aonad 19'!$C:$C,$D32),\"0\")","v":"0"},{"$f":"IF('Aonad 20'!$C$7=$D$60,COUNTIF('Aonad 20'!$C:$C,$D32),\"0\")","v":"0"},{"$f":"IF('Aonad 21'!$C$7=$D$60,COUNTIF('Aonad 21'!$C:$C,$D32),\"0\")","v":"0"},{"$f":"IF('Aonad 22'!$C$7=$D$60,COUNTIF('Aonad 22'!$C:$C,$D32),\"0\")","v":"0"},{"$f":"IF('Aonad 23'!$C$7=$D$60,COUNTIF('Aonad 23'!$C:$C,$D32),\"0\")","v":"0"},{"$f":"IF('Aonad 24'!$C$7=$D$60,COUNTIF('Aonad 24'!$C:$C,$D32),\"0\")","v":"0"},{"$f":"IF('Aonad 25'!$C$7=$D$60,COUNTIF('Aonad 25'!$C:$C,$D32),\"0\")","v":"0"},{"$f":"IF('Aonad 26'!$C$7=$D$60,COUNTIF('Aonad 26'!$C:$C,$D32),\"0\")","v":"0"},{"$f":"IF('Aonad 27'!$C$7=$D$60,COUNTIF('Aonad 27'!$C:$C,$D32),\"0\")","v":"0"},{"$f":"IF('Aonad 28'!$C$7=$D$60,COUNTIF('Aonad 28'!$C:$C,$D32),\"0\")","v":"0"},{"$f":"IF('Aonad 29'!$C$7=$D$60,COUNTIF('Aonad 29'!$C:$C,$D32),\"0\")","v":"0"},{"$f":"IF('Aonad 30'!$C$7=$D$60,COUNTIF('Aonad 30'!$C:$C,$D32),\"0\")","v":"0"},{"$f":"IF('Aonad 31'!$C$7=$D$60,COUNTIF('Aonad 31'!$C:$C,$D32),\"0\")","v":"0"},{"$f":"IF('Aonad 32'!$C$7=$D$60,COUNTIF('Aonad 32'!$C:$C,$D32),\"0\")","v":"0"},{"$f":"IF('Aonad 33'!$C$7=$D$60,COUNTIF('Aonad 33'!$C:$C,$D32),\"0\")","v":"0"},{"$f":"IF('Aonad 34'!$C$7=$D$60,COUNTIF('Aonad 34'!$C:$C,$D32),\"0\")","v":"0"},{"$f":"IF('Aonad 35'!$C$7=$D$60,COUNTIF('Aonad 35'!$C:$C,$D32),\"0\")","v":"0"},{"$f":"IF('Aonad 36'!$C$7=$D$60,COUNTIF('Aonad 36'!$C:$C,$D32),\"0\")","v":"0"},{"$f":"IF('Aonad 37'!$C$7=$D$60,COUNTIF('Aonad 37'!$C:$C,$D32),\"0\")","v":"0"},{"$f":"IF('Aonad 38'!$C$7=$D$60,COUNTIF('Aonad 38'!$C:$C,$D32),\"0\")","v":"0"},0]
[null,null,"2.7","2.7 córais chuí fuinnimh agus rialaithe a shainaithint do na réitigh dearaidh","Sainaithin: patrúin, fíricí nó sonraí a aithint; freagra a sholáthar ó roinnt féidearthachtaí; fíoras nó gné shainiúil a aithint agus a lua go hachomair",{"$f":"COUNTIF('Aonad 1'!$C:$C,$D33)","v":0},{"$f":"COUNTIF('Aonad 2'!$C:$C,$D33)","v":0},{"$f":"COUNTIF('Aonad 3'!$C:$C,$D33)","v":0},{"$f":"COUNTIF('Aonad 4'!$C:$C,$D33)","v":0},{"$f":"COUNTIF('Aonad 5'!$C:$C,$D33)","v":0},{"$f":"COUNTIF('Aonad 6'!$C:$C,$D33)","v":0},{"$f":"COUNTIF('Aonad 7'!$C:$C,$D33)","v":0},{"$f":"COUNTIF('Aonad 8'!$C:$C,$D33)","v":0},{"$f":"COUNTIF('Aonad 9'!$C:$C,$D33)","v":0},{"$f":"COUNTIF('Aonad 10'!$C:$C,$D33)","v":0},{"$f":"COUNTIF('Aonad 11'!$C:$C,$D33)","v":0},{"$f":"COUNTIF('Aonad 12'!$C:$C,$D33)","v":0},{"$f":"COUNTIF('Aonad 13'!$C:$C,$D33)","v":0},{"$f":"COUNTIF('Aonad 14'!$C:$C,$D33)","v":0},{"$f":"COUNTIF('Aonad 15'!$C:$C,$D33)","v":0},{"$f":"COUNTIF('Aonad 16'!$C:$C,$D33)","v":0},{"$f":"COUNTIF('Aonad 17'!$C:$C,$D33)","v":0},{"$f":"COUNTIF('Aonad 18'!$C:$C,$D33)","v":0},{"$f":"COUNTIF('Aonad 19'!$C:$C,$D33)","v":0},{"$f":"COUNTIF('Aonad 20'!$C:$C,$D33)","v":0},{"$f":"COUNTIF('Aonad 21'!$C:$C,$D33)","v":0},{"$f":"COUNTIF('Aonad 22'!$C:$C,$D33)","v":0},{"$f":"COUNTIF('Aonad 23'!$C:$C,$D33)","v":0},{"$f":"COUNTIF('Aonad 24'!$C:$C,$D33)","v":0},{"$f":"COUNTIF('Aonad 25'!$C:$C,$D33)","v":0},{"$f":"COUNTIF('Aonad 26'!$C:$C,$D33)","v":0},{"$f":"COUNTIF('Aonad 27'!$C:$C,$D33)","v":0},{"$f":"COUNTIF('Aonad 28'!$C:$C,$D33)","v":0},{"$f":"COUNTIF('Aonad 29'!$C:$C,$D33)","v":0},{"$f":"COUNTIF('Aonad 30'!$C:$C,$D33)","v":0},{"$f":"COUNTIF('Aonad 31'!$C:$C,$D33)","v":0},{"$f":"COUNTIF('Aonad 32'!$C:$C,$D33)","v":0},{"$f":"COUNTIF('Aonad 33'!$C:$C,$D33)","v":0},{"$f":"COUNTIF('Aonad 34'!$C:$C,$D33)","v":0},{"$f":"COUNTIF('Aonad 35'!$C:$C,$D33)","v":0},{"$f":"COUNTIF('Aonad 36'!$C:$C,$D33)","v":0},{"$f":"COUNTIF('Aonad 37'!$C:$C,$D33)","v":0},{"$f":"COUNTIF('Aonad 38'!$C:$C,$D33)","v":0},0,null,{"$f":"IF('Aonad 1'!$C$7=$D$58,COUNTIF('Aonad 1'!$C:$C,$D33),\"0\")","v":"0"},{"$f":"IF('Aonad 2'!$C$7=$D$58,COUNTIF('Aonad 2'!$C:$C,$D33),\"0\")","v":"0"},{"$f":"IF('Aonad 3'!$C$7=$D$58,COUNTIF('Aonad 3'!$C:$C,$D33),\"0\")","v":"0"},{"$f":"IF('Aonad 4'!$C$7=$D$58,COUNTIF('Aonad 4'!$C:$C,$D33),\"0\")","v":"0"},{"$f":"IF('Aonad 5'!$C$7=$D$58,COUNTIF('Aonad 5'!$C:$C,$D33),\"0\")","v":"0"},{"$f":"IF('Aonad 6'!$C$7=$D$58,COUNTIF('Aonad 6'!$C:$C,$D33),\"0\")","v":"0"},{"$f":"IF('Aonad 7'!$C$7=$D$58,COUNTIF('Aonad 7'!$C:$C,$D33),\"0\")","v":"0"},{"$f":"IF('Aonad 8'!$C$7=$D$58,COUNTIF('Aonad 8'!$C:$C,$D33),\"0\")","v":"0"},{"$f":"IF('Aonad 9'!$C$7=$D$58,COUNTIF('Aonad 9'!$C:$C,$D33),\"0\")","v":"0"},{"$f":"IF('Aonad 10'!$C$7=$D$58,COUNTIF('Aonad 10'!$C:$C,$D33),\"0\")","v":"0"},{"$f":"IF('Aonad 11'!$C$7=$D$58,COUNTIF('Aonad 11'!$C:$C,$D33),\"0\")","v":"0"},{"$f":"IF('Aonad 12'!$C$7=$D$58,COUNTIF('Aonad 12'!$C:$C,$D33),\"0\")","v":"0"},{"$f":"IF('Aonad 13'!$C$7=$D$58,COUNTIF('Aonad 13'!$C:$C,$D33),\"0\")","v":"0"},{"$f":"IF('Aonad 14'!$C$7=$D$58,COUNTIF('Aonad 14'!$C:$C,$D33),\"0\")","v":"0"},{"$f":"IF('Aonad 15'!$C$7=$D$58,COUNTIF('Aonad 15'!$C:$C,$D33),\"0\")","v":"0"},{"$f":"IF('Aonad 16'!$C$7=$D$58,COUNTIF('Aonad 16'!$C:$C,$D33),\"0\")","v":"0"},{"$f":"IF('Aonad 17'!$C$7=$D$58,COUNTIF('Aonad 17'!$C:$C,$D33),\"0\")","v":"0"},{"$f":"IF('Aonad 18'!$C$7=$D$58,COUNTIF('Aonad 18'!$C:$C,$D33),\"0\")","v":"0"},{"$f":"IF('Aonad 19'!$C$7=$D$58,COUNTIF('Aonad 19'!$C:$C,$D33),\"0\")","v":"0"},{"$f":"IF('Aonad 20'!$C$7=$D$58,COUNTIF('Aonad 20'!$C:$C,$D33),\"0\")","v":"0"},{"$f":"IF('Aonad 21'!$C$7=$D$58,COUNTIF('Aonad 21'!$C:$C,$D33),\"0\")","v":"0"},{"$f":"IF('Aonad 22'!$C$7=$D$58,COUNTIF('Aonad 22'!$C:$C,$D33),\"0\")","v":"0"},{"$f":"IF('Aonad 23'!$C$7=$D$58,COUNTIF('Aonad 23'!$C:$C,$D33),\"0\")","v":"0"},{"$f":"IF('Aonad 24'!$C$7=$D$58,COUNTIF('Aonad 24'!$C:$C,$D33),\"0\")","v":"0"},{"$f":"IF('Aonad 25'!$C$7=$D$58,COUNTIF('Aonad 25'!$C:$C,$D33),\"0\")","v":"0"},{"$f":"IF('Aonad 26'!$C$7=$D$58,COUNTIF('Aonad 26'!$C:$C,$D33),\"0\")","v":"0"},{"$f":"IF('Aonad 27'!$C$7=$D$58,COUNTIF('Aonad 27'!$C:$C,$D33),\"0\")","v":"0"},{"$f":"IF('Aonad 28'!$C$7=$D$58,COUNTIF('Aonad 28'!$C:$C,$D33),\"0\")","v":"0"},{"$f":"IF('Aonad 29'!$C$7=$D$58,COUNTIF('Aonad 29'!$C:$C,$D33),\"0\")","v":"0"},{"$f":"IF('Aonad 30'!$C$7=$D$58,COUNTIF('Aonad 30'!$C:$C,$D33),\"0\")","v":"0"},{"$f":"IF('Aonad 31'!$C$7=$D$58,COUNTIF('Aonad 31'!$C:$C,$D33),\"0\")","v":"0"},{"$f":"IF('Aonad 32'!$C$7=$D$58,COUNTIF('Aonad 32'!$C:$C,$D33),\"0\")","v":"0"},{"$f":"IF('Aonad 33'!$C$7=$D$58,COUNTIF('Aonad 33'!$C:$C,$D33),\"0\")","v":"0"},{"$f":"IF('Aonad 34'!$C$7=$D$58,COUNTIF('Aonad 34'!$C:$C,$D33),\"0\")","v":"0"},{"$f":"IF('Aonad 35'!$C$7=$D$58,COUNTIF('Aonad 35'!$C:$C,$D33),\"0\")","v":"0"},{"$f":"IF('Aonad 36'!$C$7=$D$58,COUNTIF('Aonad 36'!$C:$C,$D33),\"0\")","v":"0"},{"$f":"IF('Aonad 37'!$C$7=$D$58,COUNTIF('Aonad 37'!$C:$C,$D33),\"0\")","v":"0"},{"$f":"IF('Aonad 38'!$C$7=$D$58,COUNTIF('Aonad 38'!$C:$C,$D33),\"0\")","v":"0"},0,null,{"$f":"IF('Aonad 1'!$C$7=$D$59,COUNTIF('Aonad 1'!$C:$C,$D33),\"0\")","v":"0"},{"$f":"IF('Aonad 2'!$C$7=$D$59,COUNTIF('Aonad 2'!$C:$C,$D33),\"0\")","v":"0"},{"$f":"IF('Aonad 3'!$C$7=$D$59,COUNTIF('Aonad 3'!$C:$C,$D33),\"0\")","v":"0"},{"$f":"IF('Aonad 4'!$C$7=$D$59,COUNTIF('Aonad 4'!$C:$C,$D33),\"0\")","v":"0"},{"$f":"IF('Aonad 5'!$C$7=$D$59,COUNTIF('Aonad 5'!$C:$C,$D33),\"0\")","v":"0"},{"$f":"IF('Aonad 6'!$C$7=$D$59,COUNTIF('Aonad 6'!$C:$C,$D33),\"0\")","v":"0"},{"$f":"IF('Aonad 7'!$C$7=$D$59,COUNTIF('Aonad 7'!$C:$C,$D33),\"0\")","v":"0"},{"$f":"IF('Aonad 8'!$C$7=$D$59,COUNTIF('Aonad 8'!$C:$C,$D33),\"0\")","v":"0"},{"$f":"IF('Aonad 9'!$C$7=$D$59,COUNTIF('Aonad 9'!$C:$C,$D33),\"0\")","v":"0"},{"$f":"IF('Aonad 10'!$C$7=$D$59,COUNTIF('Aonad 10'!$C:$C,$D33),\"0\")","v":"0"},{"$f":"IF('Aonad 11'!$C$7=$D$59,COUNTIF('Aonad 11'!$C:$C,$D33),\"0\")","v":"0"},{"$f":"IF('Aonad 12'!$C$7=$D$59,COUNTIF('Aonad 12'!$C:$C,$D33),\"0\")","v":"0"},{"$f":"IF('Aonad 13'!$C$7=$D$59,COUNTIF('Aonad 13'!$C:$C,$D33),\"0\")","v":"0"},{"$f":"IF('Aonad 14'!$C$7=$D$59,COUNTIF('Aonad 14'!$C:$C,$D33),\"0\")","v":"0"},{"$f":"IF('Aonad 15'!$C$7=$D$59,COUNTIF('Aonad 15'!$C:$C,$D33),\"0\")","v":"0"},{"$f":"IF('Aonad 16'!$C$7=$D$59,COUNTIF('Aonad 16'!$C:$C,$D33),\"0\")","v":"0"},{"$f":"IF('Aonad 17'!$C$7=$D$59,COUNTIF('Aonad 17'!$C:$C,$D33),\"0\")","v":"0"},{"$f":"IF('Aonad 18'!$C$7=$D$59,COUNTIF('Aonad 18'!$C:$C,$D33),\"0\")","v":"0"},{"$f":"IF('Aonad 19'!$C$7=$D$59,COUNTIF('Aonad 19'!$C:$C,$D33),\"0\")","v":"0"},{"$f":"IF('Aonad 20'!$C$7=$D$59,COUNTIF('Aonad 20'!$C:$C,$D33),\"0\")","v":"0"},{"$f":"IF('Aonad 21'!$C$7=$D$59,COUNTIF('Aonad 21'!$C:$C,$D33),\"0\")","v":"0"},{"$f":"IF('Aonad 22'!$C$7=$D$59,COUNTIF('Aonad 22'!$C:$C,$D33),\"0\")","v":"0"},{"$f":"IF('Aonad 23'!$C$7=$D$59,COUNTIF('Aonad 23'!$C:$C,$D33),\"0\")","v":"0"},{"$f":"IF('Aonad 24'!$C$7=$D$59,COUNTIF('Aonad 24'!$C:$C,$D33),\"0\")","v":"0"},{"$f":"IF('Aonad 25'!$C$7=$D$59,COUNTIF('Aonad 25'!$C:$C,$D33),\"0\")","v":"0"},{"$f":"IF('Aonad 26'!$C$7=$D$59,COUNTIF('Aonad 26'!$C:$C,$D33),\"0\")","v":"0"},{"$f":"IF('Aonad 27'!$C$7=$D$59,COUNTIF('Aonad 27'!$C:$C,$D33),\"0\")","v":"0"},{"$f":"IF('Aonad 28'!$C$7=$D$59,COUNTIF('Aonad 28'!$C:$C,$D33),\"0\")","v":"0"},{"$f":"IF('Aonad 29'!$C$7=$D$59,COUNTIF('Aonad 29'!$C:$C,$D33),\"0\")","v":"0"},{"$f":"IF('Aonad 30'!$C$7=$D$59,COUNTIF('Aonad 30'!$C:$C,$D33),\"0\")","v":"0"},{"$f":"IF('Aonad 31'!$C$7=$D$59,COUNTIF('Aonad 31'!$C:$C,$D33),\"0\")","v":"0"},{"$f":"IF('Aonad 32'!$C$7=$D$59,COUNTIF('Aonad 32'!$C:$C,$D33),\"0\")","v":"0"},{"$f":"IF('Aonad 33'!$C$7=$D$59,COUNTIF('Aonad 33'!$C:$C,$D33),\"0\")","v":"0"},{"$f":"IF('Aonad 34'!$C$7=$D$59,COUNTIF('Aonad 34'!$C:$C,$D33),\"0\")","v":"0"},{"$f":"IF('Aonad 35'!$C$7=$D$59,COUNTIF('Aonad 35'!$C:$C,$D33),\"0\")","v":"0"},{"$f":"IF('Aonad 36'!$C$7=$D$59,COUNTIF('Aonad 36'!$C:$C,$D33),\"0\")","v":"0"},{"$f":"IF('Aonad 37'!$C$7=$D$59,COUNTIF('Aonad 37'!$C:$C,$D33),\"0\")","v":"0"},{"$f":"IF('Aonad 38'!$C$7=$D$59,COUNTIF('Aonad 38'!$C:$C,$D33),\"0\")","v":"0"},0,null,{"$f":"IF('Aonad 1'!$C$7=$D$60,COUNTIF('Aonad 1'!$C:$C,$D33),\"0\")","v":"0"},{"$f":"IF('Aonad 2'!$C$7=$D$60,COUNTIF('Aonad 2'!$C:$C,$D33),\"0\")","v":"0"},{"$f":"IF('Aonad 3'!$C$7=$D$60,COUNTIF('Aonad 3'!$C:$C,$D33),\"0\")","v":"0"},{"$f":"IF('Aonad 4'!$C$7=$D$60,COUNTIF('Aonad 4'!$C:$C,$D33),\"0\")","v":"0"},{"$f":"IF('Aonad 5'!$C$7=$D$60,COUNTIF('Aonad 5'!$C:$C,$D33),\"0\")","v":"0"},{"$f":"IF('Aonad 6'!$C$7=$D$60,COUNTIF('Aonad 6'!$C:$C,$D33),\"0\")","v":"0"},{"$f":"IF('Aonad 7'!$C$7=$D$60,COUNTIF('Aonad 7'!$C:$C,$D33),\"0\")","v":"0"},{"$f":"IF('Aonad 8'!$C$7=$D$60,COUNTIF('Aonad 8'!$C:$C,$D33),\"0\")","v":"0"},{"$f":"IF('Aonad 9'!$C$7=$D$60,COUNTIF('Aonad 9'!$C:$C,$D33),\"0\")","v":"0"},{"$f":"IF('Aonad 10'!$C$7=$D$60,COUNTIF('Aonad 10'!$C:$C,$D33),\"0\")","v":"0"},{"$f":"IF('Aonad 11'!$C$7=$D$60,COUNTIF('Aonad 11'!$C:$C,$D33),\"0\")","v":"0"},{"$f":"IF('Aonad 12'!$C$7=$D$60,COUNTIF('Aonad 12'!$C:$C,$D33),\"0\")","v":"0"},{"$f":"IF('Aonad 13'!$C$7=$D$60,COUNTIF('Aonad 13'!$C:$C,$D33),\"0\")","v":"0"},{"$f":"IF('Aonad 14'!$C$7=$D$60,COUNTIF('Aonad 14'!$C:$C,$D33),\"0\")","v":"0"},{"$f":"IF('Aonad 15'!$C$7=$D$60,COUNTIF('Aonad 15'!$C:$C,$D33),\"0\")","v":"0"},{"$f":"IF('Aonad 16'!$C$7=$D$60,COUNTIF('Aonad 16'!$C:$C,$D33),\"0\")","v":"0"},{"$f":"IF('Aonad 17'!$C$7=$D$60,COUNTIF('Aonad 17'!$C:$C,$D33),\"0\")","v":"0"},{"$f":"IF('Aonad 18'!$C$7=$D$60,COUNTIF('Aonad 18'!$C:$C,$D33),\"0\")","v":"0"},{"$f":"IF('Aonad 19'!$C$7=$D$60,COUNTIF('Aonad 19'!$C:$C,$D33),\"0\")","v":"0"},{"$f":"IF('Aonad 20'!$C$7=$D$60,COUNTIF('Aonad 20'!$C:$C,$D33),\"0\")","v":"0"},{"$f":"IF('Aonad 21'!$C$7=$D$60,COUNTIF('Aonad 21'!$C:$C,$D33),\"0\")","v":"0"},{"$f":"IF('Aonad 22'!$C$7=$D$60,COUNTIF('Aonad 22'!$C:$C,$D33),\"0\")","v":"0"},{"$f":"IF('Aonad 23'!$C$7=$D$60,COUNTIF('Aonad 23'!$C:$C,$D33),\"0\")","v":"0"},{"$f":"IF('Aonad 24'!$C$7=$D$60,COUNTIF('Aonad 24'!$C:$C,$D33),\"0\")","v":"0"},{"$f":"IF('Aonad 25'!$C$7=$D$60,COUNTIF('Aonad 25'!$C:$C,$D33),\"0\")","v":"0"},{"$f":"IF('Aonad 26'!$C$7=$D$60,COUNTIF('Aonad 26'!$C:$C,$D33),\"0\")","v":"0"},{"$f":"IF('Aonad 27'!$C$7=$D$60,COUNTIF('Aonad 27'!$C:$C,$D33),\"0\")","v":"0"},{"$f":"IF('Aonad 28'!$C$7=$D$60,COUNTIF('Aonad 28'!$C:$C,$D33),\"0\")","v":"0"},{"$f":"IF('Aonad 29'!$C$7=$D$60,COUNTIF('Aonad 29'!$C:$C,$D33),\"0\")","v":"0"},{"$f":"IF('Aonad 30'!$C$7=$D$60,COUNTIF('Aonad 30'!$C:$C,$D33),\"0\")","v":"0"},{"$f":"IF('Aonad 31'!$C$7=$D$60,COUNTIF('Aonad 31'!$C:$C,$D33),\"0\")","v":"0"},{"$f":"IF('Aonad 32'!$C$7=$D$60,COUNTIF('Aonad 32'!$C:$C,$D33),\"0\")","v":"0"},{"$f":"IF('Aonad 33'!$C$7=$D$60,COUNTIF('Aonad 33'!$C:$C,$D33),\"0\")","v":"0"},{"$f":"IF('Aonad 34'!$C$7=$D$60,COUNTIF('Aonad 34'!$C:$C,$D33),\"0\")","v":"0"},{"$f":"IF('Aonad 35'!$C$7=$D$60,COUNTIF('Aonad 35'!$C:$C,$D33),\"0\")","v":"0"},{"$f":"IF('Aonad 36'!$C$7=$D$60,COUNTIF('Aonad 36'!$C:$C,$D33),\"0\")","v":"0"},{"$f":"IF('Aonad 37'!$C$7=$D$60,COUNTIF('Aonad 37'!$C:$C,$D33),\"0\")","v":"0"},{"$f":"IF('Aonad 38'!$C$7=$D$60,COUNTIF('Aonad 38'!$C:$C,$D33),\"0\")","v":"0"},0]
[null,null,"2.8","2.8 réitigh rialaithe a chruthú ar fhadhbanna a shainaithnítear","Cruthaigh: an topaic atá le déanamh a phróiseáil agus foirm a thabhairt di ach\núsáid a bhaint as modhanna agus ábhar roghnaithe agus/nó foirm nua a\nthabhairt don ábhar a úsáidtear",{"$f":"COUNTIF('Aonad 1'!$C:$C,$D34)","v":0},{"$f":"COUNTIF('Aonad 2'!$C:$C,$D34)","v":0},{"$f":"COUNTIF('Aonad 3'!$C:$C,$D34)","v":0},{"$f":"COUNTIF('Aonad 4'!$C:$C,$D34)","v":0},{"$f":"COUNTIF('Aonad 5'!$C:$C,$D34)","v":0},{"$f":"COUNTIF('Aonad 6'!$C:$C,$D34)","v":0},{"$f":"COUNTIF('Aonad 7'!$C:$C,$D34)","v":0},{"$f":"COUNTIF('Aonad 8'!$C:$C,$D34)","v":0},{"$f":"COUNTIF('Aonad 9'!$C:$C,$D34)","v":0},{"$f":"COUNTIF('Aonad 10'!$C:$C,$D34)","v":0},{"$f":"COUNTIF('Aonad 11'!$C:$C,$D34)","v":0},{"$f":"COUNTIF('Aonad 12'!$C:$C,$D34)","v":0},{"$f":"COUNTIF('Aonad 13'!$C:$C,$D34)","v":0},{"$f":"COUNTIF('Aonad 14'!$C:$C,$D34)","v":0},{"$f":"COUNTIF('Aonad 15'!$C:$C,$D34)","v":0},{"$f":"COUNTIF('Aonad 16'!$C:$C,$D34)","v":0},{"$f":"COUNTIF('Aonad 17'!$C:$C,$D34)","v":0},{"$f":"COUNTIF('Aonad 18'!$C:$C,$D34)","v":0},{"$f":"COUNTIF('Aonad 19'!$C:$C,$D34)","v":0},{"$f":"COUNTIF('Aonad 20'!$C:$C,$D34)","v":0},{"$f":"COUNTIF('Aonad 21'!$C:$C,$D34)","v":0},{"$f":"COUNTIF('Aonad 22'!$C:$C,$D34)","v":0},{"$f":"COUNTIF('Aonad 23'!$C:$C,$D34)","v":0},{"$f":"COUNTIF('Aonad 24'!$C:$C,$D34)","v":0},{"$f":"COUNTIF('Aonad 25'!$C:$C,$D34)","v":0},{"$f":"COUNTIF('Aonad 26'!$C:$C,$D34)","v":0},{"$f":"COUNTIF('Aonad 27'!$C:$C,$D34)","v":0},{"$f":"COUNTIF('Aonad 28'!$C:$C,$D34)","v":0},{"$f":"COUNTIF('Aonad 29'!$C:$C,$D34)","v":0},{"$f":"COUNTIF('Aonad 30'!$C:$C,$D34)","v":0},{"$f":"COUNTIF('Aonad 31'!$C:$C,$D34)","v":0},{"$f":"COUNTIF('Aonad 32'!$C:$C,$D34)","v":0},{"$f":"COUNTIF('Aonad 33'!$C:$C,$D34)","v":0},{"$f":"COUNTIF('Aonad 34'!$C:$C,$D34)","v":0},{"$f":"COUNTIF('Aonad 35'!$C:$C,$D34)","v":0},{"$f":"COUNTIF('Aonad 36'!$C:$C,$D34)","v":0},{"$f":"COUNTIF('Aonad 37'!$C:$C,$D34)","v":0},{"$f":"COUNTIF('Aonad 38'!$C:$C,$D34)","v":0},0,null,{"$f":"IF('Aonad 1'!$C$7=$D$58,COUNTIF('Aonad 1'!$C:$C,$D34),\"0\")","v":"0"},{"$f":"IF('Aonad 2'!$C$7=$D$58,COUNTIF('Aonad 2'!$C:$C,$D34),\"0\")","v":"0"},{"$f":"IF('Aonad 3'!$C$7=$D$58,COUNTIF('Aonad 3'!$C:$C,$D34),\"0\")","v":"0"},{"$f":"IF('Aonad 4'!$C$7=$D$58,COUNTIF('Aonad 4'!$C:$C,$D34),\"0\")","v":"0"},{"$f":"IF('Aonad 5'!$C$7=$D$58,COUNTIF('Aonad 5'!$C:$C,$D34),\"0\")","v":"0"},{"$f":"IF('Aonad 6'!$C$7=$D$58,COUNTIF('Aonad 6'!$C:$C,$D34),\"0\")","v":"0"},{"$f":"IF('Aonad 7'!$C$7=$D$58,COUNTIF('Aonad 7'!$C:$C,$D34),\"0\")","v":"0"},{"$f":"IF('Aonad 8'!$C$7=$D$58,COUNTIF('Aonad 8'!$C:$C,$D34),\"0\")","v":"0"},{"$f":"IF('Aonad 9'!$C$7=$D$58,COUNTIF('Aonad 9'!$C:$C,$D34),\"0\")","v":"0"},{"$f":"IF('Aonad 10'!$C$7=$D$58,COUNTIF('Aonad 10'!$C:$C,$D34),\"0\")","v":"0"},{"$f":"IF('Aonad 11'!$C$7=$D$58,COUNTIF('Aonad 11'!$C:$C,$D34),\"0\")","v":"0"},{"$f":"IF('Aonad 12'!$C$7=$D$58,COUNTIF('Aonad 12'!$C:$C,$D34),\"0\")","v":"0"},{"$f":"IF('Aonad 13'!$C$7=$D$58,COUNTIF('Aonad 13'!$C:$C,$D34),\"0\")","v":"0"},{"$f":"IF('Aonad 14'!$C$7=$D$58,COUNTIF('Aonad 14'!$C:$C,$D34),\"0\")","v":"0"},{"$f":"IF('Aonad 15'!$C$7=$D$58,COUNTIF('Aonad 15'!$C:$C,$D34),\"0\")","v":"0"},{"$f":"IF('Aonad 16'!$C$7=$D$58,COUNTIF('Aonad 16'!$C:$C,$D34),\"0\")","v":"0"},{"$f":"IF('Aonad 17'!$C$7=$D$58,COUNTIF('Aonad 17'!$C:$C,$D34),\"0\")","v":"0"},{"$f":"IF('Aonad 18'!$C$7=$D$58,COUNTIF('Aonad 18'!$C:$C,$D34),\"0\")","v":"0"},{"$f":"IF('Aonad 19'!$C$7=$D$58,COUNTIF('Aonad 19'!$C:$C,$D34),\"0\")","v":"0"},{"$f":"IF('Aonad 20'!$C$7=$D$58,COUNTIF('Aonad 20'!$C:$C,$D34),\"0\")","v":"0"},{"$f":"IF('Aonad 21'!$C$7=$D$58,COUNTIF('Aonad 21'!$C:$C,$D34),\"0\")","v":"0"},{"$f":"IF('Aonad 22'!$C$7=$D$58,COUNTIF('Aonad 22'!$C:$C,$D34),\"0\")","v":"0"},{"$f":"IF('Aonad 23'!$C$7=$D$58,COUNTIF('Aonad 23'!$C:$C,$D34),\"0\")","v":"0"},{"$f":"IF('Aonad 24'!$C$7=$D$58,COUNTIF('Aonad 24'!$C:$C,$D34),\"0\")","v":"0"},{"$f":"IF('Aonad 25'!$C$7=$D$58,COUNTIF('Aonad 25'!$C:$C,$D34),\"0\")","v":"0"},{"$f":"IF('Aonad 26'!$C$7=$D$58,COUNTIF('Aonad 26'!$C:$C,$D34),\"0\")","v":"0"},{"$f":"IF('Aonad 27'!$C$7=$D$58,COUNTIF('Aonad 27'!$C:$C,$D34),\"0\")","v":"0"},{"$f":"IF('Aonad 28'!$C$7=$D$58,COUNTIF('Aonad 28'!$C:$C,$D34),\"0\")","v":"0"},{"$f":"IF('Aonad 29'!$C$7=$D$58,COUNTIF('Aonad 29'!$C:$C,$D34),\"0\")","v":"0"},{"$f":"IF('Aonad 30'!$C$7=$D$58,COUNTIF('Aonad 30'!$C:$C,$D34),\"0\")","v":"0"},{"$f":"IF('Aonad 31'!$C$7=$D$58,COUNTIF('Aonad 31'!$C:$C,$D34),\"0\")","v":"0"},{"$f":"IF('Aonad 32'!$C$7=$D$58,COUNTIF('Aonad 32'!$C:$C,$D34),\"0\")","v":"0"},{"$f":"IF('Aonad 33'!$C$7=$D$58,COUNTIF('Aonad 33'!$C:$C,$D34),\"0\")","v":"0"},{"$f":"IF('Aonad 34'!$C$7=$D$58,COUNTIF('Aonad 34'!$C:$C,$D34),\"0\")","v":"0"},{"$f":"IF('Aonad 35'!$C$7=$D$58,COUNTIF('Aonad 35'!$C:$C,$D34),\"0\")","v":"0"},{"$f":"IF('Aonad 36'!$C$7=$D$58,COUNTIF('Aonad 36'!$C:$C,$D34),\"0\")","v":"0"},{"$f":"IF('Aonad 37'!$C$7=$D$58,COUNTIF('Aonad 37'!$C:$C,$D34),\"0\")","v":"0"},{"$f":"IF('Aonad 38'!$C$7=$D$58,COUNTIF('Aonad 38'!$C:$C,$D34),\"0\")","v":"0"},0,null,{"$f":"IF('Aonad 1'!$C$7=$D$59,COUNTIF('Aonad 1'!$C:$C,$D34),\"0\")","v":"0"},{"$f":"IF('Aonad 2'!$C$7=$D$59,COUNTIF('Aonad 2'!$C:$C,$D34),\"0\")","v":"0"},{"$f":"IF('Aonad 3'!$C$7=$D$59,COUNTIF('Aonad 3'!$C:$C,$D34),\"0\")","v":"0"},{"$f":"IF('Aonad 4'!$C$7=$D$59,COUNTIF('Aonad 4'!$C:$C,$D34),\"0\")","v":"0"},{"$f":"IF('Aonad 5'!$C$7=$D$59,COUNTIF('Aonad 5'!$C:$C,$D34),\"0\")","v":"0"},{"$f":"IF('Aonad 6'!$C$7=$D$59,COUNTIF('Aonad 6'!$C:$C,$D34),\"0\")","v":"0"},{"$f":"IF('Aonad 7'!$C$7=$D$59,COUNTIF('Aonad 7'!$C:$C,$D34),\"0\")","v":"0"},{"$f":"IF('Aonad 8'!$C$7=$D$59,COUNTIF('Aonad 8'!$C:$C,$D34),\"0\")","v":"0"},{"$f":"IF('Aonad 9'!$C$7=$D$59,COUNTIF('Aonad 9'!$C:$C,$D34),\"0\")","v":"0"},{"$f":"IF('Aonad 10'!$C$7=$D$59,COUNTIF('Aonad 10'!$C:$C,$D34),\"0\")","v":"0"},{"$f":"IF('Aonad 11'!$C$7=$D$59,COUNTIF('Aonad 11'!$C:$C,$D34),\"0\")","v":"0"},{"$f":"IF('Aonad 12'!$C$7=$D$59,COUNTIF('Aonad 12'!$C:$C,$D34),\"0\")","v":"0"},{"$f":"IF('Aonad 13'!$C$7=$D$59,COUNTIF('Aonad 13'!$C:$C,$D34),\"0\")","v":"0"},{"$f":"IF('Aonad 14'!$C$7=$D$59,COUNTIF('Aonad 14'!$C:$C,$D34),\"0\")","v":"0"},{"$f":"IF('Aonad 15'!$C$7=$D$59,COUNTIF('Aonad 15'!$C:$C,$D34),\"0\")","v":"0"},{"$f":"IF('Aonad 16'!$C$7=$D$59,COUNTIF('Aonad 16'!$C:$C,$D34),\"0\")","v":"0"},{"$f":"IF('Aonad 17'!$C$7=$D$59,COUNTIF('Aonad 17'!$C:$C,$D34),\"0\")","v":"0"},{"$f":"IF('Aonad 18'!$C$7=$D$59,COUNTIF('Aonad 18'!$C:$C,$D34),\"0\")","v":"0"},{"$f":"IF('Aonad 19'!$C$7=$D$59,COUNTIF('Aonad 19'!$C:$C,$D34),\"0\")","v":"0"},{"$f":"IF('Aonad 20'!$C$7=$D$59,COUNTIF('Aonad 20'!$C:$C,$D34),\"0\")","v":"0"},{"$f":"IF('Aonad 21'!$C$7=$D$59,COUNTIF('Aonad 21'!$C:$C,$D34),\"0\")","v":"0"},{"$f":"IF('Aonad 22'!$C$7=$D$59,COUNTIF('Aonad 22'!$C:$C,$D34),\"0\")","v":"0"},{"$f":"IF('Aonad 23'!$C$7=$D$59,COUNTIF('Aonad 23'!$C:$C,$D34),\"0\")","v":"0"},{"$f":"IF('Aonad 24'!$C$7=$D$59,COUNTIF('Aonad 24'!$C:$C,$D34),\"0\")","v":"0"},{"$f":"IF('Aonad 25'!$C$7=$D$59,COUNTIF('Aonad 25'!$C:$C,$D34),\"0\")","v":"0"},{"$f":"IF('Aonad 26'!$C$7=$D$59,COUNTIF('Aonad 26'!$C:$C,$D34),\"0\")","v":"0"},{"$f":"IF('Aonad 27'!$C$7=$D$59,COUNTIF('Aonad 27'!$C:$C,$D34),\"0\")","v":"0"},{"$f":"IF('Aonad 28'!$C$7=$D$59,COUNTIF('Aonad 28'!$C:$C,$D34),\"0\")","v":"0"},{"$f":"IF('Aonad 29'!$C$7=$D$59,COUNTIF('Aonad 29'!$C:$C,$D34),\"0\")","v":"0"},{"$f":"IF('Aonad 30'!$C$7=$D$59,COUNTIF('Aonad 30'!$C:$C,$D34),\"0\")","v":"0"},{"$f":"IF('Aonad 31'!$C$7=$D$59,COUNTIF('Aonad 31'!$C:$C,$D34),\"0\")","v":"0"},{"$f":"IF('Aonad 32'!$C$7=$D$59,COUNTIF('Aonad 32'!$C:$C,$D34),\"0\")","v":"0"},{"$f":"IF('Aonad 33'!$C$7=$D$59,COUNTIF('Aonad 33'!$C:$C,$D34),\"0\")","v":"0"},{"$f":"IF('Aonad 34'!$C$7=$D$59,COUNTIF('Aonad 34'!$C:$C,$D34),\"0\")","v":"0"},{"$f":"IF('Aonad 35'!$C$7=$D$59,COUNTIF('Aonad 35'!$C:$C,$D34),\"0\")","v":"0"},{"$f":"IF('Aonad 36'!$C$7=$D$59,COUNTIF('Aonad 36'!$C:$C,$D34),\"0\")","v":"0"},{"$f":"IF('Aonad 37'!$C$7=$D$59,COUNTIF('Aonad 37'!$C:$C,$D34),\"0\")","v":"0"},{"$f":"IF('Aonad 38'!$C$7=$D$59,COUNTIF('Aonad 38'!$C:$C,$D34),\"0\")","v":"0"},0,null,{"$f":"IF('Aonad 1'!$C$7=$D$60,COUNTIF('Aonad 1'!$C:$C,$D34),\"0\")","v":"0"},{"$f":"IF('Aonad 2'!$C$7=$D$60,COUNTIF('Aonad 2'!$C:$C,$D34),\"0\")","v":"0"},{"$f":"IF('Aonad 3'!$C$7=$D$60,COUNTIF('Aonad 3'!$C:$C,$D34),\"0\")","v":"0"},{"$f":"IF('Aonad 4'!$C$7=$D$60,COUNTIF('Aonad 4'!$C:$C,$D34),\"0\")","v":"0"},{"$f":"IF('Aonad 5'!$C$7=$D$60,COUNTIF('Aonad 5'!$C:$C,$D34),\"0\")","v":"0"},{"$f":"IF('Aonad 6'!$C$7=$D$60,COUNTIF('Aonad 6'!$C:$C,$D34),\"0\")","v":"0"},{"$f":"IF('Aonad 7'!$C$7=$D$60,COUNTIF('Aonad 7'!$C:$C,$D34),\"0\")","v":"0"},{"$f":"IF('Aonad 8'!$C$7=$D$60,COUNTIF('Aonad 8'!$C:$C,$D34),\"0\")","v":"0"},{"$f":"IF('Aonad 9'!$C$7=$D$60,COUNTIF('Aonad 9'!$C:$C,$D34),\"0\")","v":"0"},{"$f":"IF('Aonad 10'!$C$7=$D$60,COUNTIF('Aonad 10'!$C:$C,$D34),\"0\")","v":"0"},{"$f":"IF('Aonad 11'!$C$7=$D$60,COUNTIF('Aonad 11'!$C:$C,$D34),\"0\")","v":"0"},{"$f":"IF('Aonad 12'!$C$7=$D$60,COUNTIF('Aonad 12'!$C:$C,$D34),\"0\")","v":"0"},{"$f":"IF('Aonad 13'!$C$7=$D$60,COUNTIF('Aonad 13'!$C:$C,$D34),\"0\")","v":"0"},{"$f":"IF('Aonad 14'!$C$7=$D$60,COUNTIF('Aonad 14'!$C:$C,$D34),\"0\")","v":"0"},{"$f":"IF('Aonad 15'!$C$7=$D$60,COUNTIF('Aonad 15'!$C:$C,$D34),\"0\")","v":"0"},{"$f":"IF('Aonad 16'!$C$7=$D$60,COUNTIF('Aonad 16'!$C:$C,$D34),\"0\")","v":"0"},{"$f":"IF('Aonad 17'!$C$7=$D$60,COUNTIF('Aonad 17'!$C:$C,$D34),\"0\")","v":"0"},{"$f":"IF('Aonad 18'!$C$7=$D$60,COUNTIF('Aonad 18'!$C:$C,$D34),\"0\")","v":"0"},{"$f":"IF('Aonad 19'!$C$7=$D$60,COUNTIF('Aonad 19'!$C:$C,$D34),\"0\")","v":"0"},{"$f":"IF('Aonad 20'!$C$7=$D$60,COUNTIF('Aonad 20'!$C:$C,$D34),\"0\")","v":"0"},{"$f":"IF('Aonad 21'!$C$7=$D$60,COUNTIF('Aonad 21'!$C:$C,$D34),\"0\")","v":"0"},{"$f":"IF('Aonad 22'!$C$7=$D$60,COUNTIF('Aonad 22'!$C:$C,$D34),\"0\")","v":"0"},{"$f":"IF('Aonad 23'!$C$7=$D$60,COUNTIF('Aonad 23'!$C:$C,$D34),\"0\")","v":"0"},{"$f":"IF('Aonad 24'!$C$7=$D$60,COUNTIF('Aonad 24'!$C:$C,$D34),\"0\")","v":"0"},{"$f":"IF('Aonad 25'!$C$7=$D$60,COUNTIF('Aonad 25'!$C:$C,$D34),\"0\")","v":"0"},{"$f":"IF('Aonad 26'!$C$7=$D$60,COUNTIF('Aonad 26'!$C:$C,$D34),\"0\")","v":"0"},{"$f":"IF('Aonad 27'!$C$7=$D$60,COUNTIF('Aonad 27'!$C:$C,$D34),\"0\")","v":"0"},{"$f":"IF('Aonad 28'!$C$7=$D$60,COUNTIF('Aonad 28'!$C:$C,$D34),\"0\")","v":"0"},{"$f":"IF('Aonad 29'!$C$7=$D$60,COUNTIF('Aonad 29'!$C:$C,$D34),\"0\")","v":"0"},{"$f":"IF('Aonad 30'!$C$7=$D$60,COUNTIF('Aonad 30'!$C:$C,$D34),\"0\")","v":"0"},{"$f":"IF('Aonad 31'!$C$7=$D$60,COUNTIF('Aonad 31'!$C:$C,$D34),\"0\")","v":"0"},{"$f":"IF('Aonad 32'!$C$7=$D$60,COUNTIF('Aonad 32'!$C:$C,$D34),\"0\")","v":"0"},{"$f":"IF('Aonad 33'!$C$7=$D$60,COUNTIF('Aonad 33'!$C:$C,$D34),\"0\")","v":"0"},{"$f":"IF('Aonad 34'!$C$7=$D$60,COUNTIF('Aonad 34'!$C:$C,$D34),\"0\")","v":"0"},{"$f":"IF('Aonad 35'!$C$7=$D$60,COUNTIF('Aonad 35'!$C:$C,$D34),\"0\")","v":"0"},{"$f":"IF('Aonad 36'!$C$7=$D$60,COUNTIF('Aonad 36'!$C:$C,$D34),\"0\")","v":"0"},{"$f":"IF('Aonad 37'!$C$7=$D$60,COUNTIF('Aonad 37'!$C:$C,$D34),\"0\")","v":"0"},{"$f":"IF('Aonad 38'!$C$7=$D$60,COUNTIF('Aonad 38'!$C:$C,$D34),\"0\")","v":"0"},0]
[null,null,null,null,null,{"$f":"COUNTIF('Aonad 1'!$C:$C,$D35)","v":0},{"$f":"COUNTIF('Aonad 2'!$C:$C,$D35)","v":0},{"$f":"COUNTIF('Aonad 3'!$C:$C,$D35)","v":0},{"$f":"COUNTIF('Aonad 4'!$C:$C,$D35)","v":0},{"$f":"COUNTIF('Aonad 5'!$C:$C,$D35)","v":0},{"$f":"COUNTIF('Aonad 6'!$C:$C,$D35)","v":0},{"$f":"COUNTIF('Aonad 7'!$C:$C,$D35)","v":0},{"$f":"COUNTIF('Aonad 8'!$C:$C,$D35)","v":0},{"$f":"COUNTIF('Aonad 9'!$C:$C,$D35)","v":0},{"$f":"COUNTIF('Aonad 10'!$C:$C,$D35)","v":0},{"$f":"COUNTIF('Aonad 11'!$C:$C,$D35)","v":0},{"$f":"COUNTIF('Aonad 12'!$C:$C,$D35)","v":0},{"$f":"COUNTIF('Aonad 13'!$C:$C,$D35)","v":0},{"$f":"COUNTIF('Aonad 14'!$C:$C,$D35)","v":0},{"$f":"COUNTIF('Aonad 15'!$C:$C,$D35)","v":0},{"$f":"COUNTIF('Aonad 16'!$C:$C,$D35)","v":0},{"$f":"COUNTIF('Aonad 17'!$C:$C,$D35)","v":0},{"$f":"COUNTIF('Aonad 18'!$C:$C,$D35)","v":0},{"$f":"COUNTIF('Aonad 19'!$C:$C,$D35)","v":0},{"$f":"COUNTIF('Aonad 20'!$C:$C,$D35)","v":0},{"$f":"COUNTIF('Aonad 21'!$C:$C,$D35)","v":0},{"$f":"COUNTIF('Aonad 22'!$C:$C,$D35)","v":0},{"$f":"COUNTIF('Aonad 23'!$C:$C,$D35)","v":0},{"$f":"COUNTIF('Aonad 24'!$C:$C,$D35)","v":0},{"$f":"COUNTIF('Aonad 25'!$C:$C,$D35)","v":0},{"$f":"COUNTIF('Aonad 26'!$C:$C,$D35)","v":0},{"$f":"COUNTIF('Aonad 27'!$C:$C,$D35)","v":0},{"$f":"COUNTIF('Aonad 28'!$C:$C,$D35)","v":0},{"$f":"COUNTIF('Aonad 29'!$C:$C,$D35)","v":0},{"$f":"COUNTIF('Aonad 30'!$C:$C,$D35)","v":0},{"$f":"COUNTIF('Aonad 31'!$C:$C,$D35)","v":0},{"$f":"COUNTIF('Aonad 32'!$C:$C,$D35)","v":0},{"$f":"COUNTIF('Aonad 33'!$C:$C,$D35)","v":0},{"$f":"COUNTIF('Aonad 34'!$C:$C,$D35)","v":0},{"$f":"COUNTIF('Aonad 35'!$C:$C,$D35)","v":0},{"$f":"COUNTIF('Aonad 36'!$C:$C,$D35)","v":0},{"$f":"COUNTIF('Aonad 37'!$C:$C,$D35)","v":0},{"$f":"COUNTIF('Aonad 38'!$C:$C,$D35)","v":0},0,null,{"$f":"IF('Aonad 1'!$C$7=$D$58,COUNTIF('Aonad 1'!$C:$C,$D35),\"0\")","v":"0"},{"$f":"IF('Aonad 2'!$C$7=$D$58,COUNTIF('Aonad 2'!$C:$C,$D35),\"0\")","v":"0"},{"$f":"IF('Aonad 3'!$C$7=$D$58,COUNTIF('Aonad 3'!$C:$C,$D35),\"0\")","v":"0"},{"$f":"IF('Aonad 4'!$C$7=$D$58,COUNTIF('Aonad 4'!$C:$C,$D35),\"0\")","v":"0"},{"$f":"IF('Aonad 5'!$C$7=$D$58,COUNTIF('Aonad 5'!$C:$C,$D35),\"0\")","v":"0"},{"$f":"IF('Aonad 6'!$C$7=$D$58,COUNTIF('Aonad 6'!$C:$C,$D35),\"0\")","v":"0"},{"$f":"IF('Aonad 7'!$C$7=$D$58,COUNTIF('Aonad 7'!$C:$C,$D35),\"0\")","v":"0"},{"$f":"IF('Aonad 8'!$C$7=$D$58,COUNTIF('Aonad 8'!$C:$C,$D35),\"0\")","v":"0"},{"$f":"IF('Aonad 9'!$C$7=$D$58,COUNTIF('Aonad 9'!$C:$C,$D35),\"0\")","v":"0"},{"$f":"IF('Aonad 10'!$C$7=$D$58,COUNTIF('Aonad 10'!$C:$C,$D35),\"0\")","v":"0"},{"$f":"IF('Aonad 11'!$C$7=$D$58,COUNTIF('Aonad 11'!$C:$C,$D35),\"0\")","v":"0"},{"$f":"IF('Aonad 12'!$C$7=$D$58,COUNTIF('Aonad 12'!$C:$C,$D35),\"0\")","v":"0"},{"$f":"IF('Aonad 13'!$C$7=$D$58,COUNTIF('Aonad 13'!$C:$C,$D35),\"0\")","v":"0"},{"$f":"IF('Aonad 14'!$C$7=$D$58,COUNTIF('Aonad 14'!$C:$C,$D35),\"0\")","v":"0"},{"$f":"IF('Aonad 15'!$C$7=$D$58,COUNTIF('Aonad 15'!$C:$C,$D35),\"0\")","v":"0"},{"$f":"IF('Aonad 16'!$C$7=$D$58,COUNTIF('Aonad 16'!$C:$C,$D35),\"0\")","v":"0"},{"$f":"IF('Aonad 17'!$C$7=$D$58,COUNTIF('Aonad 17'!$C:$C,$D35),\"0\")","v":"0"},{"$f":"IF('Aonad 18'!$C$7=$D$58,COUNTIF('Aonad 18'!$C:$C,$D35),\"0\")","v":"0"},{"$f":"IF('Aonad 19'!$C$7=$D$58,COUNTIF('Aonad 19'!$C:$C,$D35),\"0\")","v":"0"},{"$f":"IF('Aonad 20'!$C$7=$D$58,COUNTIF('Aonad 20'!$C:$C,$D35),\"0\")","v":"0"},{"$f":"IF('Aonad 21'!$C$7=$D$58,COUNTIF('Aonad 21'!$C:$C,$D35),\"0\")","v":"0"},{"$f":"IF('Aonad 22'!$C$7=$D$58,COUNTIF('Aonad 22'!$C:$C,$D35),\"0\")","v":"0"},{"$f":"IF('Aonad 23'!$C$7=$D$58,COUNTIF('Aonad 23'!$C:$C,$D35),\"0\")","v":"0"},{"$f":"IF('Aonad 24'!$C$7=$D$58,COUNTIF('Aonad 24'!$C:$C,$D35),\"0\")","v":"0"},{"$f":"IF('Aonad 25'!$C$7=$D$58,COUNTIF('Aonad 25'!$C:$C,$D35),\"0\")","v":"0"},{"$f":"IF('Aonad 26'!$C$7=$D$58,COUNTIF('Aonad 26'!$C:$C,$D35),\"0\")","v":"0"},{"$f":"IF('Aonad 27'!$C$7=$D$58,COUNTIF('Aonad 27'!$C:$C,$D35),\"0\")","v":"0"},{"$f":"IF('Aonad 28'!$C$7=$D$58,COUNTIF('Aonad 28'!$C:$C,$D35),\"0\")","v":"0"},{"$f":"IF('Aonad 29'!$C$7=$D$58,COUNTIF('Aonad 29'!$C:$C,$D35),\"0\")","v":"0"},{"$f":"IF('Aonad 30'!$C$7=$D$58,COUNTIF('Aonad 30'!$C:$C,$D35),\"0\")","v":"0"},{"$f":"IF('Aonad 31'!$C$7=$D$58,COUNTIF('Aonad 31'!$C:$C,$D35),\"0\")","v":"0"},{"$f":"IF('Aonad 32'!$C$7=$D$58,COUNTIF('Aonad 32'!$C:$C,$D35),\"0\")","v":"0"},{"$f":"IF('Aonad 33'!$C$7=$D$58,COUNTIF('Aonad 33'!$C:$C,$D35),\"0\")","v":"0"},{"$f":"IF('Aonad 34'!$C$7=$D$58,COUNTIF('Aonad 34'!$C:$C,$D35),\"0\")","v":"0"},{"$f":"IF('Aonad 35'!$C$7=$D$58,COUNTIF('Aonad 35'!$C:$C,$D35),\"0\")","v":"0"},{"$f":"IF('Aonad 36'!$C$7=$D$58,COUNTIF('Aonad 36'!$C:$C,$D35),\"0\")","v":"0"},{"$f":"IF('Aonad 37'!$C$7=$D$58,COUNTIF('Aonad 37'!$C:$C,$D35),\"0\")","v":"0"},{"$f":"IF('Aonad 38'!$C$7=$D$58,COUNTIF('Aonad 38'!$C:$C,$D35),\"0\")","v":"0"},0,null,{"$f":"IF('Aonad 1'!$C$7=$D$59,COUNTIF('Aonad 1'!$C:$C,$D35),\"0\")","v":"0"},{"$f":"IF('Aonad 2'!$C$7=$D$59,COUNTIF('Aonad 2'!$C:$C,$D35),\"0\")","v":"0"},{"$f":"IF('Aonad 3'!$C$7=$D$59,COUNTIF('Aonad 3'!$C:$C,$D35),\"0\")","v":"0"},{"$f":"IF('Aonad 4'!$C$7=$D$59,COUNTIF('Aonad 4'!$C:$C,$D35),\"0\")","v":"0"},{"$f":"IF('Aonad 5'!$C$7=$D$59,COUNTIF('Aonad 5'!$C:$C,$D35),\"0\")","v":"0"},{"$f":"IF('Aonad 6'!$C$7=$D$59,COUNTIF('Aonad 6'!$C:$C,$D35),\"0\")","v":"0"},{"$f":"IF('Aonad 7'!$C$7=$D$59,COUNTIF('Aonad 7'!$C:$C,$D35),\"0\")","v":"0"},{"$f":"IF('Aonad 8'!$C$7=$D$59,COUNTIF('Aonad 8'!$C:$C,$D35),\"0\")","v":"0"},{"$f":"IF('Aonad 9'!$C$7=$D$59,COUNTIF('Aonad 9'!$C:$C,$D35),\"0\")","v":"0"},{"$f":"IF('Aonad 10'!$C$7=$D$59,COUNTIF('Aonad 10'!$C:$C,$D35),\"0\")","v":"0"},{"$f":"IF('Aonad 11'!$C$7=$D$59,COUNTIF('Aonad 11'!$C:$C,$D35),\"0\")","v":"0"},{"$f":"IF('Aonad 12'!$C$7=$D$59,COUNTIF('Aonad 12'!$C:$C,$D35),\"0\")","v":"0"},{"$f":"IF('Aonad 13'!$C$7=$D$59,COUNTIF('Aonad 13'!$C:$C,$D35),\"0\")","v":"0"},{"$f":"IF('Aonad 14'!$C$7=$D$59,COUNTIF('Aonad 14'!$C:$C,$D35),\"0\")","v":"0"},{"$f":"IF('Aonad 15'!$C$7=$D$59,COUNTIF('Aonad 15'!$C:$C,$D35),\"0\")","v":"0"},{"$f":"IF('Aonad 16'!$C$7=$D$59,COUNTIF('Aonad 16'!$C:$C,$D35),\"0\")","v":"0"},{"$f":"IF('Aonad 17'!$C$7=$D$59,COUNTIF('Aonad 17'!$C:$C,$D35),\"0\")","v":"0"},{"$f":"IF('Aonad 18'!$C$7=$D$59,COUNTIF('Aonad 18'!$C:$C,$D35),\"0\")","v":"0"},{"$f":"IF('Aonad 19'!$C$7=$D$59,COUNTIF('Aonad 19'!$C:$C,$D35),\"0\")","v":"0"},{"$f":"IF('Aonad 20'!$C$7=$D$59,COUNTIF('Aonad 20'!$C:$C,$D35),\"0\")","v":"0"},{"$f":"IF('Aonad 21'!$C$7=$D$59,COUNTIF('Aonad 21'!$C:$C,$D35),\"0\")","v":"0"},{"$f":"IF('Aonad 22'!$C$7=$D$59,COUNTIF('Aonad 22'!$C:$C,$D35),\"0\")","v":"0"},{"$f":"IF('Aonad 23'!$C$7=$D$59,COUNTIF('Aonad 23'!$C:$C,$D35),\"0\")","v":"0"},{"$f":"IF('Aonad 24'!$C$7=$D$59,COUNTIF('Aonad 24'!$C:$C,$D35),\"0\")","v":"0"},{"$f":"IF('Aonad 25'!$C$7=$D$59,COUNTIF('Aonad 25'!$C:$C,$D35),\"0\")","v":"0"},{"$f":"IF('Aonad 26'!$C$7=$D$59,COUNTIF('Aonad 26'!$C:$C,$D35),\"0\")","v":"0"},{"$f":"IF('Aonad 27'!$C$7=$D$59,COUNTIF('Aonad 27'!$C:$C,$D35),\"0\")","v":"0"},{"$f":"IF('Aonad 28'!$C$7=$D$59,COUNTIF('Aonad 28'!$C:$C,$D35),\"0\")","v":"0"},{"$f":"IF('Aonad 29'!$C$7=$D$59,COUNTIF('Aonad 29'!$C:$C,$D35),\"0\")","v":"0"},{"$f":"IF('Aonad 30'!$C$7=$D$59,COUNTIF('Aonad 30'!$C:$C,$D35),\"0\")","v":"0"},{"$f":"IF('Aonad 31'!$C$7=$D$59,COUNTIF('Aonad 31'!$C:$C,$D35),\"0\")","v":"0"},{"$f":"IF('Aonad 32'!$C$7=$D$59,COUNTIF('Aonad 32'!$C:$C,$D35),\"0\")","v":"0"},{"$f":"IF('Aonad 33'!$C$7=$D$59,COUNTIF('Aonad 33'!$C:$C,$D35),\"0\")","v":"0"},{"$f":"IF('Aonad 34'!$C$7=$D$59,COUNTIF('Aonad 34'!$C:$C,$D35),\"0\")","v":"0"},{"$f":"IF('Aonad 35'!$C$7=$D$59,COUNTIF('Aonad 35'!$C:$C,$D35),\"0\")","v":"0"},{"$f":"IF('Aonad 36'!$C$7=$D$59,COUNTIF('Aonad 36'!$C:$C,$D35),\"0\")","v":"0"},{"$f":"IF('Aonad 37'!$C$7=$D$59,COUNTIF('Aonad 37'!$C:$C,$D35),\"0\")","v":"0"},{"$f":"IF('Aonad 38'!$C$7=$D$59,COUNTIF('Aonad 38'!$C:$C,$D35),\"0\")","v":"0"},0,null,{"$f":"IF('Aonad 1'!$C$7=$D$60,COUNTIF('Aonad 1'!$C:$C,$D35),\"0\")","v":"0"},{"$f":"IF('Aonad 2'!$C$7=$D$60,COUNTIF('Aonad 2'!$C:$C,$D35),\"0\")","v":"0"},{"$f":"IF('Aonad 3'!$C$7=$D$60,COUNTIF('Aonad 3'!$C:$C,$D35),\"0\")","v":"0"},{"$f":"IF('Aonad 4'!$C$7=$D$60,COUNTIF('Aonad 4'!$C:$C,$D35),\"0\")","v":"0"},{"$f":"IF('Aonad 5'!$C$7=$D$60,COUNTIF('Aonad 5'!$C:$C,$D35),\"0\")","v":"0"},{"$f":"IF('Aonad 6'!$C$7=$D$60,COUNTIF('Aonad 6'!$C:$C,$D35),\"0\")","v":"0"},{"$f":"IF('Aonad 7'!$C$7=$D$60,COUNTIF('Aonad 7'!$C:$C,$D35),\"0\")","v":"0"},{"$f":"IF('Aonad 8'!$C$7=$D$60,COUNTIF('Aonad 8'!$C:$C,$D35),\"0\")","v":"0"},{"$f":"IF('Aonad 9'!$C$7=$D$60,COUNTIF('Aonad 9'!$C:$C,$D35),\"0\")","v":"0"},{"$f":"IF('Aonad 10'!$C$7=$D$60,COUNTIF('Aonad 10'!$C:$C,$D35),\"0\")","v":"0"},{"$f":"IF('Aonad 11'!$C$7=$D$60,COUNTIF('Aonad 11'!$C:$C,$D35),\"0\")","v":"0"},{"$f":"IF('Aonad 12'!$C$7=$D$60,COUNTIF('Aonad 12'!$C:$C,$D35),\"0\")","v":"0"},{"$f":"IF('Aonad 13'!$C$7=$D$60,COUNTIF('Aonad 13'!$C:$C,$D35),\"0\")","v":"0"},{"$f":"IF('Aonad 14'!$C$7=$D$60,COUNTIF('Aonad 14'!$C:$C,$D35),\"0\")","v":"0"},{"$f":"IF('Aonad 15'!$C$7=$D$60,COUNTIF('Aonad 15'!$C:$C,$D35),\"0\")","v":"0"},{"$f":"IF('Aonad 16'!$C$7=$D$60,COUNTIF('Aonad 16'!$C:$C,$D35),\"0\")","v":"0"},{"$f":"IF('Aonad 17'!$C$7=$D$60,COUNTIF('Aonad 17'!$C:$C,$D35),\"0\")","v":"0"},{"$f":"IF('Aonad 18'!$C$7=$D$60,COUNTIF('Aonad 18'!$C:$C,$D35),\"0\")","v":"0"},{"$f":"IF('Aonad 19'!$C$7=$D$60,COUNTIF('Aonad 19'!$C:$C,$D35),\"0\")","v":"0"},{"$f":"IF('Aonad 20'!$C$7=$D$60,COUNTIF('Aonad 20'!$C:$C,$D35),\"0\")","v":"0"},{"$f":"IF('Aonad 21'!$C$7=$D$60,COUNTIF('Aonad 21'!$C:$C,$D35),\"0\")","v":"0"},{"$f":"IF('Aonad 22'!$C$7=$D$60,COUNTIF('Aonad 22'!$C:$C,$D35),\"0\")","v":"0"},{"$f":"IF('Aonad 23'!$C$7=$D$60,COUNTIF('Aonad 23'!$C:$C,$D35),\"0\")","v":"0"},{"$f":"IF('Aonad 24'!$C$7=$D$60,COUNTIF('Aonad 24'!$C:$C,$D35),\"0\")","v":"0"},{"$f":"IF('Aonad 25'!$C$7=$D$60,COUNTIF('Aonad 25'!$C:$C,$D35),\"0\")","v":"0"},{"$f":"IF('Aonad 26'!$C$7=$D$60,COUNTIF('Aonad 26'!$C:$C,$D35),\"0\")","v":"0"},{"$f":"IF('Aonad 27'!$C$7=$D$60,COUNTIF('Aonad 27'!$C:$C,$D35),\"0\")","v":"0"},{"$f":"IF('Aonad 28'!$C$7=$D$60,COUNTIF('Aonad 28'!$C:$C,$D35),\"0\")","v":"0"},{"$f":"IF('Aonad 29'!$C$7=$D$60,COUNTIF('Aonad 29'!$C:$C,$D35),\"0\")","v":"0"},{"$f":"IF('Aonad 30'!$C$7=$D$60,COUNTIF('Aonad 30'!$C:$C,$D35),\"0\")","v":"0"},{"$f":"IF('Aonad 31'!$C$7=$D$60,COUNTIF('Aonad 31'!$C:$C,$D35),\"0\")","v":"0"},{"$f":"IF('Aonad 32'!$C$7=$D$60,COUNTIF('Aonad 32'!$C:$C,$D35),\"0\")","v":"0"},{"$f":"IF('Aonad 33'!$C$7=$D$60,COUNTIF('Aonad 33'!$C:$C,$D35),\"0\")","v":"0"},{"$f":"IF('Aonad 34'!$C$7=$D$60,COUNTIF('Aonad 34'!$C:$C,$D35),\"0\")","v":"0"},{"$f":"IF('Aonad 35'!$C$7=$D$60,COUNTIF('Aonad 35'!$C:$C,$D35),\"0\")","v":"0"},{"$f":"IF('Aonad 36'!$C$7=$D$60,COUNTIF('Aonad 36'!$C:$C,$D35),\"0\")","v":"0"},{"$f":"IF('Aonad 37'!$C$7=$D$60,COUNTIF('Aonad 37'!$C:$C,$D35),\"0\")","v":"0"},{"$f":"IF('Aonad 38'!$C$7=$D$60,COUNTIF('Aonad 38'!$C:$C,$D35),\"0\")","v":"0"},0]
[null,{"$f":"B20","v":"Cumarsáid"},"2.9","2.9 faisnéis theicniúil a chur in iúl i bhfoirmeacha cuí","Cuir in iúl: comharthaí amhairc-ghothacha, comharthaí béil nó comharthaí eile a úsáid chun brí a roinnt nó chun faisnéis a mhalartú; idirghníomhú idir an seoltóir agus an faighteoir; oibríonn an bheirt le chéile le go mbainfear tuiscint amach",{"$f":"COUNTIF('Aonad 1'!$C:$C,$D36)","v":0},{"$f":"COUNTIF('Aonad 2'!$C:$C,$D36)","v":0},{"$f":"COUNTIF('Aonad 3'!$C:$C,$D36)","v":0},{"$f":"COUNTIF('Aonad 4'!$C:$C,$D36)","v":0},{"$f":"COUNTIF('Aonad 5'!$C:$C,$D36)","v":0},{"$f":"COUNTIF('Aonad 6'!$C:$C,$D36)","v":0},{"$f":"COUNTIF('Aonad 7'!$C:$C,$D36)","v":0},{"$f":"COUNTIF('Aonad 8'!$C:$C,$D36)","v":0},{"$f":"COUNTIF('Aonad 9'!$C:$C,$D36)","v":0},{"$f":"COUNTIF('Aonad 10'!$C:$C,$D36)","v":0},{"$f":"COUNTIF('Aonad 11'!$C:$C,$D36)","v":0},{"$f":"COUNTIF('Aonad 12'!$C:$C,$D36)","v":0},{"$f":"COUNTIF('Aonad 13'!$C:$C,$D36)","v":0},{"$f":"COUNTIF('Aonad 14'!$C:$C,$D36)","v":0},{"$f":"COUNTIF('Aonad 15'!$C:$C,$D36)","v":0},{"$f":"COUNTIF('Aonad 16'!$C:$C,$D36)","v":0},{"$f":"COUNTIF('Aonad 17'!$C:$C,$D36)","v":0},{"$f":"COUNTIF('Aonad 18'!$C:$C,$D36)","v":0},{"$f":"COUNTIF('Aonad 19'!$C:$C,$D36)","v":0},{"$f":"COUNTIF('Aonad 20'!$C:$C,$D36)","v":0},{"$f":"COUNTIF('Aonad 21'!$C:$C,$D36)","v":0},{"$f":"COUNTIF('Aonad 22'!$C:$C,$D36)","v":0},{"$f":"COUNTIF('Aonad 23'!$C:$C,$D36)","v":0},{"$f":"COUNTIF('Aonad 24'!$C:$C,$D36)","v":0},{"$f":"COUNTIF('Aonad 25'!$C:$C,$D36)","v":0},{"$f":"COUNTIF('Aonad 26'!$C:$C,$D36)","v":0},{"$f":"COUNTIF('Aonad 27'!$C:$C,$D36)","v":0},{"$f":"COUNTIF('Aonad 28'!$C:$C,$D36)","v":0},{"$f":"COUNTIF('Aonad 29'!$C:$C,$D36)","v":0},{"$f":"COUNTIF('Aonad 30'!$C:$C,$D36)","v":0},{"$f":"COUNTIF('Aonad 31'!$C:$C,$D36)","v":0},{"$f":"COUNTIF('Aonad 32'!$C:$C,$D36)","v":0},{"$f":"COUNTIF('Aonad 33'!$C:$C,$D36)","v":0},{"$f":"COUNTIF('Aonad 34'!$C:$C,$D36)","v":0},{"$f":"COUNTIF('Aonad 35'!$C:$C,$D36)","v":0},{"$f":"COUNTIF('Aonad 36'!$C:$C,$D36)","v":0},{"$f":"COUNTIF('Aonad 37'!$C:$C,$D36)","v":0},{"$f":"COUNTIF('Aonad 38'!$C:$C,$D36)","v":0},0,null,{"$f":"IF('Aonad 1'!$C$7=$D$58,COUNTIF('Aonad 1'!$C:$C,$D36),\"0\")","v":"0"},{"$f":"IF('Aonad 2'!$C$7=$D$58,COUNTIF('Aonad 2'!$C:$C,$D36),\"0\")","v":"0"},{"$f":"IF('Aonad 3'!$C$7=$D$58,COUNTIF('Aonad 3'!$C:$C,$D36),\"0\")","v":"0"},{"$f":"IF('Aonad 4'!$C$7=$D$58,COUNTIF('Aonad 4'!$C:$C,$D36),\"0\")","v":"0"},{"$f":"IF('Aonad 5'!$C$7=$D$58,COUNTIF('Aonad 5'!$C:$C,$D36),\"0\")","v":"0"},{"$f":"IF('Aonad 6'!$C$7=$D$58,COUNTIF('Aonad 6'!$C:$C,$D36),\"0\")","v":"0"},{"$f":"IF('Aonad 7'!$C$7=$D$58,COUNTIF('Aonad 7'!$C:$C,$D36),\"0\")","v":"0"},{"$f":"IF('Aonad 8'!$C$7=$D$58,COUNTIF('Aonad 8'!$C:$C,$D36),\"0\")","v":"0"},{"$f":"IF('Aonad 9'!$C$7=$D$58,COUNTIF('Aonad 9'!$C:$C,$D36),\"0\")","v":"0"},{"$f":"IF('Aonad 10'!$C$7=$D$58,COUNTIF('Aonad 10'!$C:$C,$D36),\"0\")","v":"0"},{"$f":"IF('Aonad 11'!$C$7=$D$58,COUNTIF('Aonad 11'!$C:$C,$D36),\"0\")","v":"0"},{"$f":"IF('Aonad 12'!$C$7=$D$58,COUNTIF('Aonad 12'!$C:$C,$D36),\"0\")","v":"0"},{"$f":"IF('Aonad 13'!$C$7=$D$58,COUNTIF('Aonad 13'!$C:$C,$D36),\"0\")","v":"0"},{"$f":"IF('Aonad 14'!$C$7=$D$58,COUNTIF('Aonad 14'!$C:$C,$D36),\"0\")","v":"0"},{"$f":"IF('Aonad 15'!$C$7=$D$58,COUNTIF('Aonad 15'!$C:$C,$D36),\"0\")","v":"0"},{"$f":"IF('Aonad 16'!$C$7=$D$58,COUNTIF('Aonad 16'!$C:$C,$D36),\"0\")","v":"0"},{"$f":"IF('Aonad 17'!$C$7=$D$58,COUNTIF('Aonad 17'!$C:$C,$D36),\"0\")","v":"0"},{"$f":"IF('Aonad 18'!$C$7=$D$58,COUNTIF('Aonad 18'!$C:$C,$D36),\"0\")","v":"0"},{"$f":"IF('Aonad 19'!$C$7=$D$58,COUNTIF('Aonad 19'!$C:$C,$D36),\"0\")","v":"0"},{"$f":"IF('Aonad 20'!$C$7=$D$58,COUNTIF('Aonad 20'!$C:$C,$D36),\"0\")","v":"0"},{"$f":"IF('Aonad 21'!$C$7=$D$58,COUNTIF('Aonad 21'!$C:$C,$D36),\"0\")","v":"0"},{"$f":"IF('Aonad 22'!$C$7=$D$58,COUNTIF('Aonad 22'!$C:$C,$D36),\"0\")","v":"0"},{"$f":"IF('Aonad 23'!$C$7=$D$58,COUNTIF('Aonad 23'!$C:$C,$D36),\"0\")","v":"0"},{"$f":"IF('Aonad 24'!$C$7=$D$58,COUNTIF('Aonad 24'!$C:$C,$D36),\"0\")","v":"0"},{"$f":"IF('Aonad 25'!$C$7=$D$58,COUNTIF('Aonad 25'!$C:$C,$D36),\"0\")","v":"0"},{"$f":"IF('Aonad 26'!$C$7=$D$58,COUNTIF('Aonad 26'!$C:$C,$D36),\"0\")","v":"0"},{"$f":"IF('Aonad 27'!$C$7=$D$58,COUNTIF('Aonad 27'!$C:$C,$D36),\"0\")","v":"0"},{"$f":"IF('Aonad 28'!$C$7=$D$58,COUNTIF('Aonad 28'!$C:$C,$D36),\"0\")","v":"0"},{"$f":"IF('Aonad 29'!$C$7=$D$58,COUNTIF('Aonad 29'!$C:$C,$D36),\"0\")","v":"0"},{"$f":"IF('Aonad 30'!$C$7=$D$58,COUNTIF('Aonad 30'!$C:$C,$D36),\"0\")","v":"0"},{"$f":"IF('Aonad 31'!$C$7=$D$58,COUNTIF('Aonad 31'!$C:$C,$D36),\"0\")","v":"0"},{"$f":"IF('Aonad 32'!$C$7=$D$58,COUNTIF('Aonad 32'!$C:$C,$D36),\"0\")","v":"0"},{"$f":"IF('Aonad 33'!$C$7=$D$58,COUNTIF('Aonad 33'!$C:$C,$D36),\"0\")","v":"0"},{"$f":"IF('Aonad 34'!$C$7=$D$58,COUNTIF('Aonad 34'!$C:$C,$D36),\"0\")","v":"0"},{"$f":"IF('Aonad 35'!$C$7=$D$58,COUNTIF('Aonad 35'!$C:$C,$D36),\"0\")","v":"0"},{"$f":"IF('Aonad 36'!$C$7=$D$58,COUNTIF('Aonad 36'!$C:$C,$D36),\"0\")","v":"0"},{"$f":"IF('Aonad 37'!$C$7=$D$58,COUNTIF('Aonad 37'!$C:$C,$D36),\"0\")","v":"0"},{"$f":"IF('Aonad 38'!$C$7=$D$58,COUNTIF('Aonad 38'!$C:$C,$D36),\"0\")","v":"0"},0,null,{"$f":"IF('Aonad 1'!$C$7=$D$59,COUNTIF('Aonad 1'!$C:$C,$D36),\"0\")","v":"0"},{"$f":"IF('Aonad 2'!$C$7=$D$59,COUNTIF('Aonad 2'!$C:$C,$D36),\"0\")","v":"0"},{"$f":"IF('Aonad 3'!$C$7=$D$59,COUNTIF('Aonad 3'!$C:$C,$D36),\"0\")","v":"0"},{"$f":"IF('Aonad 4'!$C$7=$D$59,COUNTIF('Aonad 4'!$C:$C,$D36),\"0\")","v":"0"},{"$f":"IF('Aonad 5'!$C$7=$D$59,COUNTIF('Aonad 5'!$C:$C,$D36),\"0\")","v":"0"},{"$f":"IF('Aonad 6'!$C$7=$D$59,COUNTIF('Aonad 6'!$C:$C,$D36),\"0\")","v":"0"},{"$f":"IF('Aonad 7'!$C$7=$D$59,COUNTIF('Aonad 7'!$C:$C,$D36),\"0\")","v":"0"},{"$f":"IF('Aonad 8'!$C$7=$D$59,COUNTIF('Aonad 8'!$C:$C,$D36),\"0\")","v":"0"},{"$f":"IF('Aonad 9'!$C$7=$D$59,COUNTIF('Aonad 9'!$C:$C,$D36),\"0\")","v":"0"},{"$f":"IF('Aonad 10'!$C$7=$D$59,COUNTIF('Aonad 10'!$C:$C,$D36),\"0\")","v":"0"},{"$f":"IF('Aonad 11'!$C$7=$D$59,COUNTIF('Aonad 11'!$C:$C,$D36),\"0\")","v":"0"},{"$f":"IF('Aonad 12'!$C$7=$D$59,COUNTIF('Aonad 12'!$C:$C,$D36),\"0\")","v":"0"},{"$f":"IF('Aonad 13'!$C$7=$D$59,COUNTIF('Aonad 13'!$C:$C,$D36),\"0\")","v":"0"},{"$f":"IF('Aonad 14'!$C$7=$D$59,COUNTIF('Aonad 14'!$C:$C,$D36),\"0\")","v":"0"},{"$f":"IF('Aonad 15'!$C$7=$D$59,COUNTIF('Aonad 15'!$C:$C,$D36),\"0\")","v":"0"},{"$f":"IF('Aonad 16'!$C$7=$D$59,COUNTIF('Aonad 16'!$C:$C,$D36),\"0\")","v":"0"},{"$f":"IF('Aonad 17'!$C$7=$D$59,COUNTIF('Aonad 17'!$C:$C,$D36),\"0\")","v":"0"},{"$f":"IF('Aonad 18'!$C$7=$D$59,COUNTIF('Aonad 18'!$C:$C,$D36),\"0\")","v":"0"},{"$f":"IF('Aonad 19'!$C$7=$D$59,COUNTIF('Aonad 19'!$C:$C,$D36),\"0\")","v":"0"},{"$f":"IF('Aonad 20'!$C$7=$D$59,COUNTIF('Aonad 20'!$C:$C,$D36),\"0\")","v":"0"},{"$f":"IF('Aonad 21'!$C$7=$D$59,COUNTIF('Aonad 21'!$C:$C,$D36),\"0\")","v":"0"},{"$f":"IF('Aonad 22'!$C$7=$D$59,COUNTIF('Aonad 22'!$C:$C,$D36),\"0\")","v":"0"},{"$f":"IF('Aonad 23'!$C$7=$D$59,COUNTIF('Aonad 23'!$C:$C,$D36),\"0\")","v":"0"},{"$f":"IF('Aonad 24'!$C$7=$D$59,COUNTIF('Aonad 24'!$C:$C,$D36),\"0\")","v":"0"},{"$f":"IF('Aonad 25'!$C$7=$D$59,COUNTIF('Aonad 25'!$C:$C,$D36),\"0\")","v":"0"},{"$f":"IF('Aonad 26'!$C$7=$D$59,COUNTIF('Aonad 26'!$C:$C,$D36),\"0\")","v":"0"},{"$f":"IF('Aonad 27'!$C$7=$D$59,COUNTIF('Aonad 27'!$C:$C,$D36),\"0\")","v":"0"},{"$f":"IF('Aonad 28'!$C$7=$D$59,COUNTIF('Aonad 28'!$C:$C,$D36),\"0\")","v":"0"},{"$f":"IF('Aonad 29'!$C$7=$D$59,COUNTIF('Aonad 29'!$C:$C,$D36),\"0\")","v":"0"},{"$f":"IF('Aonad 30'!$C$7=$D$59,COUNTIF('Aonad 30'!$C:$C,$D36),\"0\")","v":"0"},{"$f":"IF('Aonad 31'!$C$7=$D$59,COUNTIF('Aonad 31'!$C:$C,$D36),\"0\")","v":"0"},{"$f":"IF('Aonad 32'!$C$7=$D$59,COUNTIF('Aonad 32'!$C:$C,$D36),\"0\")","v":"0"},{"$f":"IF('Aonad 33'!$C$7=$D$59,COUNTIF('Aonad 33'!$C:$C,$D36),\"0\")","v":"0"},{"$f":"IF('Aonad 34'!$C$7=$D$59,COUNTIF('Aonad 34'!$C:$C,$D36),\"0\")","v":"0"},{"$f":"IF('Aonad 35'!$C$7=$D$59,COUNTIF('Aonad 35'!$C:$C,$D36),\"0\")","v":"0"},{"$f":"IF('Aonad 36'!$C$7=$D$59,COUNTIF('Aonad 36'!$C:$C,$D36),\"0\")","v":"0"},{"$f":"IF('Aonad 37'!$C$7=$D$59,COUNTIF('Aonad 37'!$C:$C,$D36),\"0\")","v":"0"},{"$f":"IF('Aonad 38'!$C$7=$D$59,COUNTIF('Aonad 38'!$C:$C,$D36),\"0\")","v":"0"},0,null,{"$f":"IF('Aonad 1'!$C$7=$D$60,COUNTIF('Aonad 1'!$C:$C,$D36),\"0\")","v":"0"},{"$f":"IF('Aonad 2'!$C$7=$D$60,COUNTIF('Aonad 2'!$C:$C,$D36),\"0\")","v":"0"},{"$f":"IF('Aonad 3'!$C$7=$D$60,COUNTIF('Aonad 3'!$C:$C,$D36),\"0\")","v":"0"},{"$f":"IF('Aonad 4'!$C$7=$D$60,COUNTIF('Aonad 4'!$C:$C,$D36),\"0\")","v":"0"},{"$f":"IF('Aonad 5'!$C$7=$D$60,COUNTIF('Aonad 5'!$C:$C,$D36),\"0\")","v":"0"},{"$f":"IF('Aonad 6'!$C$7=$D$60,COUNTIF('Aonad 6'!$C:$C,$D36),\"0\")","v":"0"},{"$f":"IF('Aonad 7'!$C$7=$D$60,COUNTIF('Aonad 7'!$C:$C,$D36),\"0\")","v":"0"},{"$f":"IF('Aonad 8'!$C$7=$D$60,COUNTIF('Aonad 8'!$C:$C,$D36),\"0\")","v":"0"},{"$f":"IF('Aonad 9'!$C$7=$D$60,COUNTIF('Aonad 9'!$C:$C,$D36),\"0\")","v":"0"},{"$f":"IF('Aonad 10'!$C$7=$D$60,COUNTIF('Aonad 10'!$C:$C,$D36),\"0\")","v":"0"},{"$f":"IF('Aonad 11'!$C$7=$D$60,COUNTIF('Aonad 11'!$C:$C,$D36),\"0\")","v":"0"},{"$f":"IF('Aonad 12'!$C$7=$D$60,COUNTIF('Aonad 12'!$C:$C,$D36),\"0\")","v":"0"},{"$f":"IF('Aonad 13'!$C$7=$D$60,COUNTIF('Aonad 13'!$C:$C,$D36),\"0\")","v":"0"},{"$f":"IF('Aonad 14'!$C$7=$D$60,COUNTIF('Aonad 14'!$C:$C,$D36),\"0\")","v":"0"},{"$f":"IF('Aonad 15'!$C$7=$D$60,COUNTIF('Aonad 15'!$C:$C,$D36),\"0\")","v":"0"},{"$f":"IF('Aonad 16'!$C$7=$D$60,COUNTIF('Aonad 16'!$C:$C,$D36),\"0\")","v":"0"},{"$f":"IF('Aonad 17'!$C$7=$D$60,COUNTIF('Aonad 17'!$C:$C,$D36),\"0\")","v":"0"},{"$f":"IF('Aonad 18'!$C$7=$D$60,COUNTIF('Aonad 18'!$C:$C,$D36),\"0\")","v":"0"},{"$f":"IF('Aonad 19'!$C$7=$D$60,COUNTIF('Aonad 19'!$C:$C,$D36),\"0\")","v":"0"},{"$f":"IF('Aonad 20'!$C$7=$D$60,COUNTIF('Aonad 20'!$C:$C,$D36),\"0\")","v":"0"},{"$f":"IF('Aonad 21'!$C$7=$D$60,COUNTIF('Aonad 21'!$C:$C,$D36),\"0\")","v":"0"},{"$f":"IF('Aonad 22'!$C$7=$D$60,COUNTIF('Aonad 22'!$C:$C,$D36),\"0\")","v":"0"},{"$f":"IF('Aonad 23'!$C$7=$D$60,COUNTIF('Aonad 23'!$C:$C,$D36),\"0\")","v":"0"},{"$f":"IF('Aonad 24'!$C$7=$D$60,COUNTIF('Aonad 24'!$C:$C,$D36),\"0\")","v":"0"},{"$f":"IF('Aonad 25'!$C$7=$D$60,COUNTIF('Aonad 25'!$C:$C,$D36),\"0\")","v":"0"},{"$f":"IF('Aonad 26'!$C$7=$D$60,COUNTIF('Aonad 26'!$C:$C,$D36),\"0\")","v":"0"},{"$f":"IF('Aonad 27'!$C$7=$D$60,COUNTIF('Aonad 27'!$C:$C,$D36),\"0\")","v":"0"},{"$f":"IF('Aonad 28'!$C$7=$D$60,COUNTIF('Aonad 28'!$C:$C,$D36),\"0\")","v":"0"},{"$f":"IF('Aonad 29'!$C$7=$D$60,COUNTIF('Aonad 29'!$C:$C,$D36),\"0\")","v":"0"},{"$f":"IF('Aonad 30'!$C$7=$D$60,COUNTIF('Aonad 30'!$C:$C,$D36),\"0\")","v":"0"},{"$f":"IF('Aonad 31'!$C$7=$D$60,COUNTIF('Aonad 31'!$C:$C,$D36),\"0\")","v":"0"},{"$f":"IF('Aonad 32'!$C$7=$D$60,COUNTIF('Aonad 32'!$C:$C,$D36),\"0\")","v":"0"},{"$f":"IF('Aonad 33'!$C$7=$D$60,COUNTIF('Aonad 33'!$C:$C,$D36),\"0\")","v":"0"},{"$f":"IF('Aonad 34'!$C$7=$D$60,COUNTIF('Aonad 34'!$C:$C,$D36),\"0\")","v":"0"},{"$f":"IF('Aonad 35'!$C$7=$D$60,COUNTIF('Aonad 35'!$C:$C,$D36),\"0\")","v":"0"},{"$f":"IF('Aonad 36'!$C$7=$D$60,COUNTIF('Aonad 36'!$C:$C,$D36),\"0\")","v":"0"},{"$f":"IF('Aonad 37'!$C$7=$D$60,COUNTIF('Aonad 37'!$C:$C,$D36),\"0\")","v":"0"},{"$f":"IF('Aonad 38'!$C$7=$D$60,COUNTIF('Aonad 38'!$C:$C,$D36),\"0\")","v":"0"},0]
[null,null,"2.10","2.10 míniú a thabhairt ar an gclaochlú a thagann ar ionchuir nuair a iompaítear ina n-aschuir iad","Mínigh: mionchuntas a thabhairt lena n-áirítear fáthanna nó cúiseanna",{"$f":"COUNTIF('Aonad 1'!$C:$C,$D37)","v":0},{"$f":"COUNTIF('Aonad 2'!$C:$C,$D37)","v":0},{"$f":"COUNTIF('Aonad 3'!$C:$C,$D37)","v":0},{"$f":"COUNTIF('Aonad 4'!$C:$C,$D37)","v":0},{"$f":"COUNTIF('Aonad 5'!$C:$C,$D37)","v":0},{"$f":"COUNTIF('Aonad 6'!$C:$C,$D37)","v":0},{"$f":"COUNTIF('Aonad 7'!$C:$C,$D37)","v":0},{"$f":"COUNTIF('Aonad 8'!$C:$C,$D37)","v":0},{"$f":"COUNTIF('Aonad 9'!$C:$C,$D37)","v":0},{"$f":"COUNTIF('Aonad 10'!$C:$C,$D37)","v":0},{"$f":"COUNTIF('Aonad 11'!$C:$C,$D37)","v":0},{"$f":"COUNTIF('Aonad 12'!$C:$C,$D37)","v":0},{"$f":"COUNTIF('Aonad 13'!$C:$C,$D37)","v":0},{"$f":"COUNTIF('Aonad 14'!$C:$C,$D37)","v":0},{"$f":"COUNTIF('Aonad 15'!$C:$C,$D37)","v":0},{"$f":"COUNTIF('Aonad 16'!$C:$C,$D37)","v":0},{"$f":"COUNTIF('Aonad 17'!$C:$C,$D37)","v":0},{"$f":"COUNTIF('Aonad 18'!$C:$C,$D37)","v":0},{"$f":"COUNTIF('Aonad 19'!$C:$C,$D37)","v":0},{"$f":"COUNTIF('Aonad 20'!$C:$C,$D37)","v":0},{"$f":"COUNTIF('Aonad 21'!$C:$C,$D37)","v":0},{"$f":"COUNTIF('Aonad 22'!$C:$C,$D37)","v":0},{"$f":"COUNTIF('Aonad 23'!$C:$C,$D37)","v":0},{"$f":"COUNTIF('Aonad 24'!$C:$C,$D37)","v":0},{"$f":"COUNTIF('Aonad 25'!$C:$C,$D37)","v":0},{"$f":"COUNTIF('Aonad 26'!$C:$C,$D37)","v":0},{"$f":"COUNTIF('Aonad 27'!$C:$C,$D37)","v":0},{"$f":"COUNTIF('Aonad 28'!$C:$C,$D37)","v":0},{"$f":"COUNTIF('Aonad 29'!$C:$C,$D37)","v":0},{"$f":"COUNTIF('Aonad 30'!$C:$C,$D37)","v":0},{"$f":"COUNTIF('Aonad 31'!$C:$C,$D37)","v":0},{"$f":"COUNTIF('Aonad 32'!$C:$C,$D37)","v":0},{"$f":"COUNTIF('Aonad 33'!$C:$C,$D37)","v":0},{"$f":"COUNTIF('Aonad 34'!$C:$C,$D37)","v":0},{"$f":"COUNTIF('Aonad 35'!$C:$C,$D37)","v":0},{"$f":"COUNTIF('Aonad 36'!$C:$C,$D37)","v":0},{"$f":"COUNTIF('Aonad 37'!$C:$C,$D37)","v":0},{"$f":"COUNTIF('Aonad 38'!$C:$C,$D37)","v":0},0,null,{"$f":"IF('Aonad 1'!$C$7=$D$58,COUNTIF('Aonad 1'!$C:$C,$D37),\"0\")","v":"0"},{"$f":"IF('Aonad 2'!$C$7=$D$58,COUNTIF('Aonad 2'!$C:$C,$D37),\"0\")","v":"0"},{"$f":"IF('Aonad 3'!$C$7=$D$58,COUNTIF('Aonad 3'!$C:$C,$D37),\"0\")","v":"0"},{"$f":"IF('Aonad 4'!$C$7=$D$58,COUNTIF('Aonad 4'!$C:$C,$D37),\"0\")","v":"0"},{"$f":"IF('Aonad 5'!$C$7=$D$58,COUNTIF('Aonad 5'!$C:$C,$D37),\"0\")","v":"0"},{"$f":"IF('Aonad 6'!$C$7=$D$58,COUNTIF('Aonad 6'!$C:$C,$D37),\"0\")","v":"0"},{"$f":"IF('Aonad 7'!$C$7=$D$58,COUNTIF('Aonad 7'!$C:$C,$D37),\"0\")","v":"0"},{"$f":"IF('Aonad 8'!$C$7=$D$58,COUNTIF('Aonad 8'!$C:$C,$D37),\"0\")","v":"0"},{"$f":"IF('Aonad 9'!$C$7=$D$58,COUNTIF('Aonad 9'!$C:$C,$D37),\"0\")","v":"0"},{"$f":"IF('Aonad 10'!$C$7=$D$58,COUNTIF('Aonad 10'!$C:$C,$D37),\"0\")","v":"0"},{"$f":"IF('Aonad 11'!$C$7=$D$58,COUNTIF('Aonad 11'!$C:$C,$D37),\"0\")","v":"0"},{"$f":"IF('Aonad 12'!$C$7=$D$58,COUNTIF('Aonad 12'!$C:$C,$D37),\"0\")","v":"0"},{"$f":"IF('Aonad 13'!$C$7=$D$58,COUNTIF('Aonad 13'!$C:$C,$D37),\"0\")","v":"0"},{"$f":"IF('Aonad 14'!$C$7=$D$58,COUNTIF('Aonad 14'!$C:$C,$D37),\"0\")","v":"0"},{"$f":"IF('Aonad 15'!$C$7=$D$58,COUNTIF('Aonad 15'!$C:$C,$D37),\"0\")","v":"0"},{"$f":"IF('Aonad 16'!$C$7=$D$58,COUNTIF('Aonad 16'!$C:$C,$D37),\"0\")","v":"0"},{"$f":"IF('Aonad 17'!$C$7=$D$58,COUNTIF('Aonad 17'!$C:$C,$D37),\"0\")","v":"0"},{"$f":"IF('Aonad 18'!$C$7=$D$58,COUNTIF('Aonad 18'!$C:$C,$D37),\"0\")","v":"0"},{"$f":"IF('Aonad 19'!$C$7=$D$58,COUNTIF('Aonad 19'!$C:$C,$D37),\"0\")","v":"0"},{"$f":"IF('Aonad 20'!$C$7=$D$58,COUNTIF('Aonad 20'!$C:$C,$D37),\"0\")","v":"0"},{"$f":"IF('Aonad 21'!$C$7=$D$58,COUNTIF('Aonad 21'!$C:$C,$D37),\"0\")","v":"0"},{"$f":"IF('Aonad 22'!$C$7=$D$58,COUNTIF('Aonad 22'!$C:$C,$D37),\"0\")","v":"0"},{"$f":"IF('Aonad 23'!$C$7=$D$58,COUNTIF('Aonad 23'!$C:$C,$D37),\"0\")","v":"0"},{"$f":"IF('Aonad 24'!$C$7=$D$58,COUNTIF('Aonad 24'!$C:$C,$D37),\"0\")","v":"0"},{"$f":"IF('Aonad 25'!$C$7=$D$58,COUNTIF('Aonad 25'!$C:$C,$D37),\"0\")","v":"0"},{"$f":"IF('Aonad 26'!$C$7=$D$58,COUNTIF('Aonad 26'!$C:$C,$D37),\"0\")","v":"0"},{"$f":"IF('Aonad 27'!$C$7=$D$58,COUNTIF('Aonad 27'!$C:$C,$D37),\"0\")","v":"0"},{"$f":"IF('Aonad 28'!$C$7=$D$58,COUNTIF('Aonad 28'!$C:$C,$D37),\"0\")","v":"0"},{"$f":"IF('Aonad 29'!$C$7=$D$58,COUNTIF('Aonad 29'!$C:$C,$D37),\"0\")","v":"0"},{"$f":"IF('Aonad 30'!$C$7=$D$58,COUNTIF('Aonad 30'!$C:$C,$D37),\"0\")","v":"0"},{"$f":"IF('Aonad 31'!$C$7=$D$58,COUNTIF('Aonad 31'!$C:$C,$D37),\"0\")","v":"0"},{"$f":"IF('Aonad 32'!$C$7=$D$58,COUNTIF('Aonad 32'!$C:$C,$D37),\"0\")","v":"0"},{"$f":"IF('Aonad 33'!$C$7=$D$58,COUNTIF('Aonad 33'!$C:$C,$D37),\"0\")","v":"0"},{"$f":"IF('Aonad 34'!$C$7=$D$58,COUNTIF('Aonad 34'!$C:$C,$D37),\"0\")","v":"0"},{"$f":"IF('Aonad 35'!$C$7=$D$58,COUNTIF('Aonad 35'!$C:$C,$D37),\"0\")","v":"0"},{"$f":"IF('Aonad 36'!$C$7=$D$58,COUNTIF('Aonad 36'!$C:$C,$D37),\"0\")","v":"0"},{"$f":"IF('Aonad 37'!$C$7=$D$58,COUNTIF('Aonad 37'!$C:$C,$D37),\"0\")","v":"0"},{"$f":"IF('Aonad 38'!$C$7=$D$58,COUNTIF('Aonad 38'!$C:$C,$D37),\"0\")","v":"0"},0,null,{"$f":"IF('Aonad 1'!$C$7=$D$59,COUNTIF('Aonad 1'!$C:$C,$D37),\"0\")","v":"0"},{"$f":"IF('Aonad 2'!$C$7=$D$59,COUNTIF('Aonad 2'!$C:$C,$D37),\"0\")","v":"0"},{"$f":"IF('Aonad 3'!$C$7=$D$59,COUNTIF('Aonad 3'!$C:$C,$D37),\"0\")","v":"0"},{"$f":"IF('Aonad 4'!$C$7=$D$59,COUNTIF('Aonad 4'!$C:$C,$D37),\"0\")","v":"0"},{"$f":"IF('Aonad 5'!$C$7=$D$59,COUNTIF('Aonad 5'!$C:$C,$D37),\"0\")","v":"0"},{"$f":"IF('Aonad 6'!$C$7=$D$59,COUNTIF('Aonad 6'!$C:$C,$D37),\"0\")","v":"0"},{"$f":"IF('Aonad 7'!$C$7=$D$59,COUNTIF('Aonad 7'!$C:$C,$D37),\"0\")","v":"0"},{"$f":"IF('Aonad 8'!$C$7=$D$59,COUNTIF('Aonad 8'!$C:$C,$D37),\"0\")","v":"0"},{"$f":"IF('Aonad 9'!$C$7=$D$59,COUNTIF('Aonad 9'!$C:$C,$D37),\"0\")","v":"0"},{"$f":"IF('Aonad 10'!$C$7=$D$59,COUNTIF('Aonad 10'!$C:$C,$D37),\"0\")","v":"0"},{"$f":"IF('Aonad 11'!$C$7=$D$59,COUNTIF('Aonad 11'!$C:$C,$D37),\"0\")","v":"0"},{"$f":"IF('Aonad 12'!$C$7=$D$59,COUNTIF('Aonad 12'!$C:$C,$D37),\"0\")","v":"0"},{"$f":"IF('Aonad 13'!$C$7=$D$59,COUNTIF('Aonad 13'!$C:$C,$D37),\"0\")","v":"0"},{"$f":"IF('Aonad 14'!$C$7=$D$59,COUNTIF('Aonad 14'!$C:$C,$D37),\"0\")","v":"0"},{"$f":"IF('Aonad 15'!$C$7=$D$59,COUNTIF('Aonad 15'!$C:$C,$D37),\"0\")","v":"0"},{"$f":"IF('Aonad 16'!$C$7=$D$59,COUNTIF('Aonad 16'!$C:$C,$D37),\"0\")","v":"0"},{"$f":"IF('Aonad 17'!$C$7=$D$59,COUNTIF('Aonad 17'!$C:$C,$D37),\"0\")","v":"0"},{"$f":"IF('Aonad 18'!$C$7=$D$59,COUNTIF('Aonad 18'!$C:$C,$D37),\"0\")","v":"0"},{"$f":"IF('Aonad 19'!$C$7=$D$59,COUNTIF('Aonad 19'!$C:$C,$D37),\"0\")","v":"0"},{"$f":"IF('Aonad 20'!$C$7=$D$59,COUNTIF('Aonad 20'!$C:$C,$D37),\"0\")","v":"0"},{"$f":"IF('Aonad 21'!$C$7=$D$59,COUNTIF('Aonad 21'!$C:$C,$D37),\"0\")","v":"0"},{"$f":"IF('Aonad 22'!$C$7=$D$59,COUNTIF('Aonad 22'!$C:$C,$D37),\"0\")","v":"0"},{"$f":"IF('Aonad 23'!$C$7=$D$59,COUNTIF('Aonad 23'!$C:$C,$D37),\"0\")","v":"0"},{"$f":"IF('Aonad 24'!$C$7=$D$59,COUNTIF('Aonad 24'!$C:$C,$D37),\"0\")","v":"0"},{"$f":"IF('Aonad 25'!$C$7=$D$59,COUNTIF('Aonad 25'!$C:$C,$D37),\"0\")","v":"0"},{"$f":"IF('Aonad 26'!$C$7=$D$59,COUNTIF('Aonad 26'!$C:$C,$D37),\"0\")","v":"0"},{"$f":"IF('Aonad 27'!$C$7=$D$59,COUNTIF('Aonad 27'!$C:$C,$D37),\"0\")","v":"0"},{"$f":"IF('Aonad 28'!$C$7=$D$59,COUNTIF('Aonad 28'!$C:$C,$D37),\"0\")","v":"0"},{"$f":"IF('Aonad 29'!$C$7=$D$59,COUNTIF('Aonad 29'!$C:$C,$D37),\"0\")","v":"0"},{"$f":"IF('Aonad 30'!$C$7=$D$59,COUNTIF('Aonad 30'!$C:$C,$D37),\"0\")","v":"0"},{"$f":"IF('Aonad 31'!$C$7=$D$59,COUNTIF('Aonad 31'!$C:$C,$D37),\"0\")","v":"0"},{"$f":"IF('Aonad 32'!$C$7=$D$59,COUNTIF('Aonad 32'!$C:$C,$D37),\"0\")","v":"0"},{"$f":"IF('Aonad 33'!$C$7=$D$59,COUNTIF('Aonad 33'!$C:$C,$D37),\"0\")","v":"0"},{"$f":"IF('Aonad 34'!$C$7=$D$59,COUNTIF('Aonad 34'!$C:$C,$D37),\"0\")","v":"0"},{"$f":"IF('Aonad 35'!$C$7=$D$59,COUNTIF('Aonad 35'!$C:$C,$D37),\"0\")","v":"0"},{"$f":"IF('Aonad 36'!$C$7=$D$59,COUNTIF('Aonad 36'!$C:$C,$D37),\"0\")","v":"0"},{"$f":"IF('Aonad 37'!$C$7=$D$59,COUNTIF('Aonad 37'!$C:$C,$D37),\"0\")","v":"0"},{"$f":"IF('Aonad 38'!$C$7=$D$59,COUNTIF('Aonad 38'!$C:$C,$D37),\"0\")","v":"0"},0,null,{"$f":"IF('Aonad 1'!$C$7=$D$60,COUNTIF('Aonad 1'!$C:$C,$D37),\"0\")","v":"0"},{"$f":"IF('Aonad 2'!$C$7=$D$60,COUNTIF('Aonad 2'!$C:$C,$D37),\"0\")","v":"0"},{"$f":"IF('Aonad 3'!$C$7=$D$60,COUNTIF('Aonad 3'!$C:$C,$D37),\"0\")","v":"0"},{"$f":"IF('Aonad 4'!$C$7=$D$60,COUNTIF('Aonad 4'!$C:$C,$D37),\"0\")","v":"0"},{"$f":"IF('Aonad 5'!$C$7=$D$60,COUNTIF('Aonad 5'!$C:$C,$D37),\"0\")","v":"0"},{"$f":"IF('Aonad 6'!$C$7=$D$60,COUNTIF('Aonad 6'!$C:$C,$D37),\"0\")","v":"0"},{"$f":"IF('Aonad 7'!$C$7=$D$60,COUNTIF('Aonad 7'!$C:$C,$D37),\"0\")","v":"0"},{"$f":"IF('Aonad 8'!$C$7=$D$60,COUNTIF('Aonad 8'!$C:$C,$D37),\"0\")","v":"0"},{"$f":"IF('Aonad 9'!$C$7=$D$60,COUNTIF('Aonad 9'!$C:$C,$D37),\"0\")","v":"0"},{"$f":"IF('Aonad 10'!$C$7=$D$60,COUNTIF('Aonad 10'!$C:$C,$D37),\"0\")","v":"0"},{"$f":"IF('Aonad 11'!$C$7=$D$60,COUNTIF('Aonad 11'!$C:$C,$D37),\"0\")","v":"0"},{"$f":"IF('Aonad 12'!$C$7=$D$60,COUNTIF('Aonad 12'!$C:$C,$D37),\"0\")","v":"0"},{"$f":"IF('Aonad 13'!$C$7=$D$60,COUNTIF('Aonad 13'!$C:$C,$D37),\"0\")","v":"0"},{"$f":"IF('Aonad 14'!$C$7=$D$60,COUNTIF('Aonad 14'!$C:$C,$D37),\"0\")","v":"0"},{"$f":"IF('Aonad 15'!$C$7=$D$60,COUNTIF('Aonad 15'!$C:$C,$D37),\"0\")","v":"0"},{"$f":"IF('Aonad 16'!$C$7=$D$60,COUNTIF('Aonad 16'!$C:$C,$D37),\"0\")","v":"0"},{"$f":"IF('Aonad 17'!$C$7=$D$60,COUNTIF('Aonad 17'!$C:$C,$D37),\"0\")","v":"0"},{"$f":"IF('Aonad 18'!$C$7=$D$60,COUNTIF('Aonad 18'!$C:$C,$D37),\"0\")","v":"0"},{"$f":"IF('Aonad 19'!$C$7=$D$60,COUNTIF('Aonad 19'!$C:$C,$D37),\"0\")","v":"0"},{"$f":"IF('Aonad 20'!$C$7=$D$60,COUNTIF('Aonad 20'!$C:$C,$D37),\"0\")","v":"0"},{"$f":"IF('Aonad 21'!$C$7=$D$60,COUNTIF('Aonad 21'!$C:$C,$D37),\"0\")","v":"0"},{"$f":"IF('Aonad 22'!$C$7=$D$60,COUNTIF('Aonad 22'!$C:$C,$D37),\"0\")","v":"0"},{"$f":"IF('Aonad 23'!$C$7=$D$60,COUNTIF('Aonad 23'!$C:$C,$D37),\"0\")","v":"0"},{"$f":"IF('Aonad 24'!$C$7=$D$60,COUNTIF('Aonad 24'!$C:$C,$D37),\"0\")","v":"0"},{"$f":"IF('Aonad 25'!$C$7=$D$60,COUNTIF('Aonad 25'!$C:$C,$D37),\"0\")","v":"0"},{"$f":"IF('Aonad 26'!$C$7=$D$60,COUNTIF('Aonad 26'!$C:$C,$D37),\"0\")","v":"0"},{"$f":"IF('Aonad 27'!$C$7=$D$60,COUNTIF('Aonad 27'!$C:$C,$D37),\"0\")","v":"0"},{"$f":"IF('Aonad 28'!$C$7=$D$60,COUNTIF('Aonad 28'!$C:$C,$D37),\"0\")","v":"0"},{"$f":"IF('Aonad 29'!$C$7=$D$60,COUNTIF('Aonad 29'!$C:$C,$D37),\"0\")","v":"0"},{"$f":"IF('Aonad 30'!$C$7=$D$60,COUNTIF('Aonad 30'!$C:$C,$D37),\"0\")","v":"0"},{"$f":"IF('Aonad 31'!$C$7=$D$60,COUNTIF('Aonad 31'!$C:$C,$D37),\"0\")","v":"0"},{"$f":"IF('Aonad 32'!$C$7=$D$60,COUNTIF('Aonad 32'!$C:$C,$D37),\"0\")","v":"0"},{"$f":"IF('Aonad 33'!$C$7=$D$60,COUNTIF('Aonad 33'!$C:$C,$D37),\"0\")","v":"0"},{"$f":"IF('Aonad 34'!$C$7=$D$60,COUNTIF('Aonad 34'!$C:$C,$D37),\"0\")","v":"0"},{"$f":"IF('Aonad 35'!$C$7=$D$60,COUNTIF('Aonad 35'!$C:$C,$D37),\"0\")","v":"0"},{"$f":"IF('Aonad 36'!$C$7=$D$60,COUNTIF('Aonad 36'!$C:$C,$D37),\"0\")","v":"0"},{"$f":"IF('Aonad 37'!$C$7=$D$60,COUNTIF('Aonad 37'!$C:$C,$D37),\"0\")","v":"0"},{"$f":"IF('Aonad 38'!$C$7=$D$60,COUNTIF('Aonad 38'!$C:$C,$D37),\"0\")","v":"0"},0]
[null,null,null,null,null,{"$f":"COUNTIF('Aonad 1'!$C:$C,$D38)","v":0},{"$f":"COUNTIF('Aonad 2'!$C:$C,$D38)","v":0},{"$f":"COUNTIF('Aonad 3'!$C:$C,$D38)","v":0},{"$f":"COUNTIF('Aonad 4'!$C:$C,$D38)","v":0},{"$f":"COUNTIF('Aonad 5'!$C:$C,$D38)","v":0},{"$f":"COUNTIF('Aonad 6'!$C:$C,$D38)","v":0},{"$f":"COUNTIF('Aonad 7'!$C:$C,$D38)","v":0},{"$f":"COUNTIF('Aonad 8'!$C:$C,$D38)","v":0},{"$f":"COUNTIF('Aonad 9'!$C:$C,$D38)","v":0},{"$f":"COUNTIF('Aonad 10'!$C:$C,$D38)","v":0},{"$f":"COUNTIF('Aonad 11'!$C:$C,$D38)","v":0},{"$f":"COUNTIF('Aonad 12'!$C:$C,$D38)","v":0},{"$f":"COUNTIF('Aonad 13'!$C:$C,$D38)","v":0},{"$f":"COUNTIF('Aonad 14'!$C:$C,$D38)","v":0},{"$f":"COUNTIF('Aonad 15'!$C:$C,$D38)","v":0},{"$f":"COUNTIF('Aonad 16'!$C:$C,$D38)","v":0},{"$f":"COUNTIF('Aonad 17'!$C:$C,$D38)","v":0},{"$f":"COUNTIF('Aonad 18'!$C:$C,$D38)","v":0},{"$f":"COUNTIF('Aonad 19'!$C:$C,$D38)","v":0},{"$f":"COUNTIF('Aonad 20'!$C:$C,$D38)","v":0},{"$f":"COUNTIF('Aonad 21'!$C:$C,$D38)","v":0},{"$f":"COUNTIF('Aonad 22'!$C:$C,$D38)","v":0},{"$f":"COUNTIF('Aonad 23'!$C:$C,$D38)","v":0},{"$f":"COUNTIF('Aonad 24'!$C:$C,$D38)","v":0},{"$f":"COUNTIF('Aonad 25'!$C:$C,$D38)","v":0},{"$f":"COUNTIF('Aonad 26'!$C:$C,$D38)","v":0},{"$f":"COUNTIF('Aonad 27'!$C:$C,$D38)","v":0},{"$f":"COUNTIF('Aonad 28'!$C:$C,$D38)","v":0},{"$f":"COUNTIF('Aonad 29'!$C:$C,$D38)","v":0},{"$f":"COUNTIF('Aonad 30'!$C:$C,$D38)","v":0},{"$f":"COUNTIF('Aonad 31'!$C:$C,$D38)","v":0},{"$f":"COUNTIF('Aonad 32'!$C:$C,$D38)","v":0},{"$f":"COUNTIF('Aonad 33'!$C:$C,$D38)","v":0},{"$f":"COUNTIF('Aonad 34'!$C:$C,$D38)","v":0},{"$f":"COUNTIF('Aonad 35'!$C:$C,$D38)","v":0},{"$f":"COUNTIF('Aonad 36'!$C:$C,$D38)","v":0},{"$f":"COUNTIF('Aonad 37'!$C:$C,$D38)","v":0},{"$f":"COUNTIF('Aonad 38'!$C:$C,$D38)","v":0},0,null,{"$f":"IF('Aonad 1'!$C$7=$D$58,COUNTIF('Aonad 1'!$C:$C,$D38),\"0\")","v":"0"},{"$f":"IF('Aonad 2'!$C$7=$D$58,COUNTIF('Aonad 2'!$C:$C,$D38),\"0\")","v":"0"},{"$f":"IF('Aonad 3'!$C$7=$D$58,COUNTIF('Aonad 3'!$C:$C,$D38),\"0\")","v":"0"},{"$f":"IF('Aonad 4'!$C$7=$D$58,COUNTIF('Aonad 4'!$C:$C,$D38),\"0\")","v":"0"},{"$f":"IF('Aonad 5'!$C$7=$D$58,COUNTIF('Aonad 5'!$C:$C,$D38),\"0\")","v":"0"},{"$f":"IF('Aonad 6'!$C$7=$D$58,COUNTIF('Aonad 6'!$C:$C,$D38),\"0\")","v":"0"},{"$f":"IF('Aonad 7'!$C$7=$D$58,COUNTIF('Aonad 7'!$C:$C,$D38),\"0\")","v":"0"},{"$f":"IF('Aonad 8'!$C$7=$D$58,COUNTIF('Aonad 8'!$C:$C,$D38),\"0\")","v":"0"},{"$f":"IF('Aonad 9'!$C$7=$D$58,COUNTIF('Aonad 9'!$C:$C,$D38),\"0\")","v":"0"},{"$f":"IF('Aonad 10'!$C$7=$D$58,COUNTIF('Aonad 10'!$C:$C,$D38),\"0\")","v":"0"},{"$f":"IF('Aonad 11'!$C$7=$D$58,COUNTIF('Aonad 11'!$C:$C,$D38),\"0\")","v":"0"},{"$f":"IF('Aonad 12'!$C$7=$D$58,COUNTIF('Aonad 12'!$C:$C,$D38),\"0\")","v":"0"},{"$f":"IF('Aonad 13'!$C$7=$D$58,COUNTIF('Aonad 13'!$C:$C,$D38),\"0\")","v":"0"},{"$f":"IF('Aonad 14'!$C$7=$D$58,COUNTIF('Aonad 14'!$C:$C,$D38),\"0\")","v":"0"},{"$f":"IF('Aonad 15'!$C$7=$D$58,COUNTIF('Aonad 15'!$C:$C,$D38),\"0\")","v":"0"},{"$f":"IF('Aonad 16'!$C$7=$D$58,COUNTIF('Aonad 16'!$C:$C,$D38),\"0\")","v":"0"},{"$f":"IF('Aonad 17'!$C$7=$D$58,COUNTIF('Aonad 17'!$C:$C,$D38),\"0\")","v":"0"},{"$f":"IF('Aonad 18'!$C$7=$D$58,COUNTIF('Aonad 18'!$C:$C,$D38),\"0\")","v":"0"},{"$f":"IF('Aonad 19'!$C$7=$D$58,COUNTIF('Aonad 19'!$C:$C,$D38),\"0\")","v":"0"},{"$f":"IF('Aonad 20'!$C$7=$D$58,COUNTIF('Aonad 20'!$C:$C,$D38),\"0\")","v":"0"},{"$f":"IF('Aonad 21'!$C$7=$D$58,COUNTIF('Aonad 21'!$C:$C,$D38),\"0\")","v":"0"},{"$f":"IF('Aonad 22'!$C$7=$D$58,COUNTIF('Aonad 22'!$C:$C,$D38),\"0\")","v":"0"},{"$f":"IF('Aonad 23'!$C$7=$D$58,COUNTIF('Aonad 23'!$C:$C,$D38),\"0\")","v":"0"},{"$f":"IF('Aonad 24'!$C$7=$D$58,COUNTIF('Aonad 24'!$C:$C,$D38),\"0\")","v":"0"},{"$f":"IF('Aonad 25'!$C$7=$D$58,COUNTIF('Aonad 25'!$C:$C,$D38),\"0\")","v":"0"},{"$f":"IF('Aonad 26'!$C$7=$D$58,COUNTIF('Aonad 26'!$C:$C,$D38),\"0\")","v":"0"},{"$f":"IF('Aonad 27'!$C$7=$D$58,COUNTIF('Aonad 27'!$C:$C,$D38),\"0\")","v":"0"},{"$f":"IF('Aonad 28'!$C$7=$D$58,COUNTIF('Aonad 28'!$C:$C,$D38),\"0\")","v":"0"},{"$f":"IF('Aonad 29'!$C$7=$D$58,COUNTIF('Aonad 29'!$C:$C,$D38),\"0\")","v":"0"},{"$f":"IF('Aonad 30'!$C$7=$D$58,COUNTIF('Aonad 30'!$C:$C,$D38),\"0\")","v":"0"},{"$f":"IF('Aonad 31'!$C$7=$D$58,COUNTIF('Aonad 31'!$C:$C,$D38),\"0\")","v":"0"},{"$f":"IF('Aonad 32'!$C$7=$D$58,COUNTIF('Aonad 32'!$C:$C,$D38),\"0\")","v":"0"},{"$f":"IF('Aonad 33'!$C$7=$D$58,COUNTIF('Aonad 33'!$C:$C,$D38),\"0\")","v":"0"},{"$f":"IF('Aonad 34'!$C$7=$D$58,COUNTIF('Aonad 34'!$C:$C,$D38),\"0\")","v":"0"},{"$f":"IF('Aonad 35'!$C$7=$D$58,COUNTIF('Aonad 35'!$C:$C,$D38),\"0\")","v":"0"},{"$f":"IF('Aonad 36'!$C$7=$D$58,COUNTIF('Aonad 36'!$C:$C,$D38),\"0\")","v":"0"},{"$f":"IF('Aonad 37'!$C$7=$D$58,COUNTIF('Aonad 37'!$C:$C,$D38),\"0\")","v":"0"},{"$f":"IF('Aonad 38'!$C$7=$D$58,COUNTIF('Aonad 38'!$C:$C,$D38),\"0\")","v":"0"},0,null,{"$f":"IF('Aonad 1'!$C$7=$D$59,COUNTIF('Aonad 1'!$C:$C,$D38),\"0\")","v":"0"},{"$f":"IF('Aonad 2'!$C$7=$D$59,COUNTIF('Aonad 2'!$C:$C,$D38),\"0\")","v":"0"},{"$f":"IF('Aonad 3'!$C$7=$D$59,COUNTIF('Aonad 3'!$C:$C,$D38),\"0\")","v":"0"},{"$f":"IF('Aonad 4'!$C$7=$D$59,COUNTIF('Aonad 4'!$C:$C,$D38),\"0\")","v":"0"},{"$f":"IF('Aonad 5'!$C$7=$D$59,COUNTIF('Aonad 5'!$C:$C,$D38),\"0\")","v":"0"},{"$f":"IF('Aonad 6'!$C$7=$D$59,COUNTIF('Aonad 6'!$C:$C,$D38),\"0\")","v":"0"},{"$f":"IF('Aonad 7'!$C$7=$D$59,COUNTIF('Aonad 7'!$C:$C,$D38),\"0\")","v":"0"},{"$f":"IF('Aonad 8'!$C$7=$D$59,COUNTIF('Aonad 8'!$C:$C,$D38),\"0\")","v":"0"},{"$f":"IF('Aonad 9'!$C$7=$D$59,COUNTIF('Aonad 9'!$C:$C,$D38),\"0\")","v":"0"},{"$f":"IF('Aonad 10'!$C$7=$D$59,COUNTIF('Aonad 10'!$C:$C,$D38),\"0\")","v":"0"},{"$f":"IF('Aonad 11'!$C$7=$D$59,COUNTIF('Aonad 11'!$C:$C,$D38),\"0\")","v":"0"},{"$f":"IF('Aonad 12'!$C$7=$D$59,COUNTIF('Aonad 12'!$C:$C,$D38),\"0\")","v":"0"},{"$f":"IF('Aonad 13'!$C$7=$D$59,COUNTIF('Aonad 13'!$C:$C,$D38),\"0\")","v":"0"},{"$f":"IF('Aonad 14'!$C$7=$D$59,COUNTIF('Aonad 14'!$C:$C,$D38),\"0\")","v":"0"},{"$f":"IF('Aonad 15'!$C$7=$D$59,COUNTIF('Aonad 15'!$C:$C,$D38),\"0\")","v":"0"},{"$f":"IF('Aonad 16'!$C$7=$D$59,COUNTIF('Aonad 16'!$C:$C,$D38),\"0\")","v":"0"},{"$f":"IF('Aonad 17'!$C$7=$D$59,COUNTIF('Aonad 17'!$C:$C,$D38),\"0\")","v":"0"},{"$f":"IF('Aonad 18'!$C$7=$D$59,COUNTIF('Aonad 18'!$C:$C,$D38),\"0\")","v":"0"},{"$f":"IF('Aonad 19'!$C$7=$D$59,COUNTIF('Aonad 19'!$C:$C,$D38),\"0\")","v":"0"},{"$f":"IF('Aonad 20'!$C$7=$D$59,COUNTIF('Aonad 20'!$C:$C,$D38),\"0\")","v":"0"},{"$f":"IF('Aonad 21'!$C$7=$D$59,COUNTIF('Aonad 21'!$C:$C,$D38),\"0\")","v":"0"},{"$f":"IF('Aonad 22'!$C$7=$D$59,COUNTIF('Aonad 22'!$C:$C,$D38),\"0\")","v":"0"},{"$f":"IF('Aonad 23'!$C$7=$D$59,COUNTIF('Aonad 23'!$C:$C,$D38),\"0\")","v":"0"},{"$f":"IF('Aonad 24'!$C$7=$D$59,COUNTIF('Aonad 24'!$C:$C,$D38),\"0\")","v":"0"},{"$f":"IF('Aonad 25'!$C$7=$D$59,COUNTIF('Aonad 25'!$C:$C,$D38),\"0\")","v":"0"},{"$f":"IF('Aonad 26'!$C$7=$D$59,COUNTIF('Aonad 26'!$C:$C,$D38),\"0\")","v":"0"},{"$f":"IF('Aonad 27'!$C$7=$D$59,COUNTIF('Aonad 27'!$C:$C,$D38),\"0\")","v":"0"},{"$f":"IF('Aonad 28'!$C$7=$D$59,COUNTIF('Aonad 28'!$C:$C,$D38),\"0\")","v":"0"},{"$f":"IF('Aonad 29'!$C$7=$D$59,COUNTIF('Aonad 29'!$C:$C,$D38),\"0\")","v":"0"},{"$f":"IF('Aonad 30'!$C$7=$D$59,COUNTIF('Aonad 30'!$C:$C,$D38),\"0\")","v":"0"},{"$f":"IF('Aonad 31'!$C$7=$D$59,COUNTIF('Aonad 31'!$C:$C,$D38),\"0\")","v":"0"},{"$f":"IF('Aonad 32'!$C$7=$D$59,COUNTIF('Aonad 32'!$C:$C,$D38),\"0\")","v":"0"},{"$f":"IF('Aonad 33'!$C$7=$D$59,COUNTIF('Aonad 33'!$C:$C,$D38),\"0\")","v":"0"},{"$f":"IF('Aonad 34'!$C$7=$D$59,COUNTIF('Aonad 34'!$C:$C,$D38),\"0\")","v":"0"},{"$f":"IF('Aonad 35'!$C$7=$D$59,COUNTIF('Aonad 35'!$C:$C,$D38),\"0\")","v":"0"},{"$f":"IF('Aonad 36'!$C$7=$D$59,COUNTIF('Aonad 36'!$C:$C,$D38),\"0\")","v":"0"},{"$f":"IF('Aonad 37'!$C$7=$D$59,COUNTIF('Aonad 37'!$C:$C,$D38),\"0\")","v":"0"},{"$f":"IF('Aonad 38'!$C$7=$D$59,COUNTIF('Aonad 38'!$C:$C,$D38),\"0\")","v":"0"},0,null,{"$f":"IF('Aonad 1'!$C$7=$D$60,COUNTIF('Aonad 1'!$C:$C,$D38),\"0\")","v":"0"},{"$f":"IF('Aonad 2'!$C$7=$D$60,COUNTIF('Aonad 2'!$C:$C,$D38),\"0\")","v":"0"},{"$f":"IF('Aonad 3'!$C$7=$D$60,COUNTIF('Aonad 3'!$C:$C,$D38),\"0\")","v":"0"},{"$f":"IF('Aonad 4'!$C$7=$D$60,COUNTIF('Aonad 4'!$C:$C,$D38),\"0\")","v":"0"},{"$f":"IF('Aonad 5'!$C$7=$D$60,COUNTIF('Aonad 5'!$C:$C,$D38),\"0\")","v":"0"},{"$f":"IF('Aonad 6'!$C$7=$D$60,COUNTIF('Aonad 6'!$C:$C,$D38),\"0\")","v":"0"},{"$f":"IF('Aonad 7'!$C$7=$D$60,COUNTIF('Aonad 7'!$C:$C,$D38),\"0\")","v":"0"},{"$f":"IF('Aonad 8'!$C$7=$D$60,COUNTIF('Aonad 8'!$C:$C,$D38),\"0\")","v":"0"},{"$f":"IF('Aonad 9'!$C$7=$D$60,COUNTIF('Aonad 9'!$C:$C,$D38),\"0\")","v":"0"},{"$f":"IF('Aonad 10'!$C$7=$D$60,COUNTIF('Aonad 10'!$C:$C,$D38),\"0\")","v":"0"},{"$f":"IF('Aonad 11'!$C$7=$D$60,COUNTIF('Aonad 11'!$C:$C,$D38),\"0\")","v":"0"},{"$f":"IF('Aonad 12'!$C$7=$D$60,COUNTIF('Aonad 12'!$C:$C,$D38),\"0\")","v":"0"},{"$f":"IF('Aonad 13'!$C$7=$D$60,COUNTIF('Aonad 13'!$C:$C,$D38),\"0\")","v":"0"},{"$f":"IF('Aonad 14'!$C$7=$D$60,COUNTIF('Aonad 14'!$C:$C,$D38),\"0\")","v":"0"},{"$f":"IF('Aonad 15'!$C$7=$D$60,COUNTIF('Aonad 15'!$C:$C,$D38),\"0\")","v":"0"},{"$f":"IF('Aonad 16'!$C$7=$D$60,COUNTIF('Aonad 16'!$C:$C,$D38),\"0\")","v":"0"},{"$f":"IF('Aonad 17'!$C$7=$D$60,COUNTIF('Aonad 17'!$C:$C,$D38),\"0\")","v":"0"},{"$f":"IF('Aonad 18'!$C$7=$D$60,COUNTIF('Aonad 18'!$C:$C,$D38),\"0\")","v":"0"},{"$f":"IF('Aonad 19'!$C$7=$D$60,COUNTIF('Aonad 19'!$C:$C,$D38),\"0\")","v":"0"},{"$f":"IF('Aonad 20'!$C$7=$D$60,COUNTIF('Aonad 20'!$C:$C,$D38),\"0\")","v":"0"},{"$f":"IF('Aonad 21'!$C$7=$D$60,COUNTIF('Aonad 21'!$C:$C,$D38),\"0\")","v":"0"},{"$f":"IF('Aonad 22'!$C$7=$D$60,COUNTIF('Aonad 22'!$C:$C,$D38),\"0\")","v":"0"},{"$f":"IF('Aonad 23'!$C$7=$D$60,COUNTIF('Aonad 23'!$C:$C,$D38),\"0\")","v":"0"},{"$f":"IF('Aonad 24'!$C$7=$D$60,COUNTIF('Aonad 24'!$C:$C,$D38),\"0\")","v":"0"},{"$f":"IF('Aonad 25'!$C$7=$D$60,COUNTIF('Aonad 25'!$C:$C,$D38),\"0\")","v":"0"},{"$f":"IF('Aonad 26'!$C$7=$D$60,COUNTIF('Aonad 26'!$C:$C,$D38),\"0\")","v":"0"},{"$f":"IF('Aonad 27'!$C$7=$D$60,COUNTIF('Aonad 27'!$C:$C,$D38),\"0\")","v":"0"},{"$f":"IF('Aonad 28'!$C$7=$D$60,COUNTIF('Aonad 28'!$C:$C,$D38),\"0\")","v":"0"},{"$f":"IF('Aonad 29'!$C$7=$D$60,COUNTIF('Aonad 29'!$C:$C,$D38),\"0\")","v":"0"},{"$f":"IF('Aonad 30'!$C$7=$D$60,COUNTIF('Aonad 30'!$C:$C,$D38),\"0\")","v":"0"},{"$f":"IF('Aonad 31'!$C$7=$D$60,COUNTIF('Aonad 31'!$C:$C,$D38),\"0\")","v":"0"},{"$f":"IF('Aonad 32'!$C$7=$D$60,COUNTIF('Aonad 32'!$C:$C,$D38),\"0\")","v":"0"},{"$f":"IF('Aonad 33'!$C$7=$D$60,COUNTIF('Aonad 33'!$C:$C,$D38),\"0\")","v":"0"},{"$f":"IF('Aonad 34'!$C$7=$D$60,COUNTIF('Aonad 34'!$C:$C,$D38),\"0\")","v":"0"},{"$f":"IF('Aonad 35'!$C$7=$D$60,COUNTIF('Aonad 35'!$C:$C,$D38),\"0\")","v":"0"},{"$f":"IF('Aonad 36'!$C$7=$D$60,COUNTIF('Aonad 36'!$C:$C,$D38),\"0\")","v":"0"},{"$f":"IF('Aonad 37'!$C$7=$D$60,COUNTIF('Aonad 37'!$C:$C,$D38),\"0\")","v":"0"},{"$f":"IF('Aonad 38'!$C$7=$D$60,COUNTIF('Aonad 38'!$C:$C,$D38),\"0\")","v":"0"},0]
[null,null,null,null,null,{"$f":"COUNTIF('Aonad 1'!$C:$C,$D39)","v":0},{"$f":"COUNTIF('Aonad 2'!$C:$C,$D39)","v":0},{"$f":"COUNTIF('Aonad 3'!$C:$C,$D39)","v":0},{"$f":"COUNTIF('Aonad 4'!$C:$C,$D39)","v":0},{"$f":"COUNTIF('Aonad 5'!$C:$C,$D39)","v":0},{"$f":"COUNTIF('Aonad 6'!$C:$C,$D39)","v":0},{"$f":"COUNTIF('Aonad 7'!$C:$C,$D39)","v":0},{"$f":"COUNTIF('Aonad 8'!$C:$C,$D39)","v":0},{"$f":"COUNTIF('Aonad 9'!$C:$C,$D39)","v":0},{"$f":"COUNTIF('Aonad 10'!$C:$C,$D39)","v":0},{"$f":"COUNTIF('Aonad 11'!$C:$C,$D39)","v":0},{"$f":"COUNTIF('Aonad 12'!$C:$C,$D39)","v":0},{"$f":"COUNTIF('Aonad 13'!$C:$C,$D39)","v":0},{"$f":"COUNTIF('Aonad 14'!$C:$C,$D39)","v":0},{"$f":"COUNTIF('Aonad 15'!$C:$C,$D39)","v":0},{"$f":"COUNTIF('Aonad 16'!$C:$C,$D39)","v":0},{"$f":"COUNTIF('Aonad 17'!$C:$C,$D39)","v":0},{"$f":"COUNTIF('Aonad 18'!$C:$C,$D39)","v":0},{"$f":"COUNTIF('Aonad 19'!$C:$C,$D39)","v":0},{"$f":"COUNTIF('Aonad 20'!$C:$C,$D39)","v":0},{"$f":"COUNTIF('Aonad 21'!$C:$C,$D39)","v":0},{"$f":"COUNTIF('Aonad 22'!$C:$C,$D39)","v":0},{"$f":"COUNTIF('Aonad 23'!$C:$C,$D39)","v":0},{"$f":"COUNTIF('Aonad 24'!$C:$C,$D39)","v":0},{"$f":"COUNTIF('Aonad 25'!$C:$C,$D39)","v":0},{"$f":"COUNTIF('Aonad 26'!$C:$C,$D39)","v":0},{"$f":"COUNTIF('Aonad 27'!$C:$C,$D39)","v":0},{"$f":"COUNTIF('Aonad 28'!$C:$C,$D39)","v":0},{"$f":"COUNTIF('Aonad 29'!$C:$C,$D39)","v":0},{"$f":"COUNTIF('Aonad 30'!$C:$C,$D39)","v":0},{"$f":"COUNTIF('Aonad 31'!$C:$C,$D39)","v":0},{"$f":"COUNTIF('Aonad 32'!$C:$C,$D39)","v":0},{"$f":"COUNTIF('Aonad 33'!$C:$C,$D39)","v":0},{"$f":"COUNTIF('Aonad 34'!$C:$C,$D39)","v":0},{"$f":"COUNTIF('Aonad 35'!$C:$C,$D39)","v":0},{"$f":"COUNTIF('Aonad 36'!$C:$C,$D39)","v":0},{"$f":"COUNTIF('Aonad 37'!$C:$C,$D39)","v":0},{"$f":"COUNTIF('Aonad 38'!$C:$C,$D39)","v":0},0,null,{"$f":"IF('Aonad 1'!$C$7=$D$58,COUNTIF('Aonad 1'!$C:$C,$D39),\"0\")","v":"0"},{"$f":"IF('Aonad 2'!$C$7=$D$58,COUNTIF('Aonad 2'!$C:$C,$D39),\"0\")","v":"0"},{"$f":"IF('Aonad 3'!$C$7=$D$58,COUNTIF('Aonad 3'!$C:$C,$D39),\"0\")","v":"0"},{"$f":"IF('Aonad 4'!$C$7=$D$58,COUNTIF('Aonad 4'!$C:$C,$D39),\"0\")","v":"0"},{"$f":"IF('Aonad 5'!$C$7=$D$58,COUNTIF('Aonad 5'!$C:$C,$D39),\"0\")","v":"0"},{"$f":"IF('Aonad 6'!$C$7=$D$58,COUNTIF('Aonad 6'!$C:$C,$D39),\"0\")","v":"0"},{"$f":"IF('Aonad 7'!$C$7=$D$58,COUNTIF('Aonad 7'!$C:$C,$D39),\"0\")","v":"0"},{"$f":"IF('Aonad 8'!$C$7=$D$58,COUNTIF('Aonad 8'!$C:$C,$D39),\"0\")","v":"0"},{"$f":"IF('Aonad 9'!$C$7=$D$58,COUNTIF('Aonad 9'!$C:$C,$D39),\"0\")","v":"0"},{"$f":"IF('Aonad 10'!$C$7=$D$58,COUNTIF('Aonad 10'!$C:$C,$D39),\"0\")","v":"0"},{"$f":"IF('Aonad 11'!$C$7=$D$58,COUNTIF('Aonad 11'!$C:$C,$D39),\"0\")","v":"0"},{"$f":"IF('Aonad 12'!$C$7=$D$58,COUNTIF('Aonad 12'!$C:$C,$D39),\"0\")","v":"0"},{"$f":"IF('Aonad 13'!$C$7=$D$58,COUNTIF('Aonad 13'!$C:$C,$D39),\"0\")","v":"0"},{"$f":"IF('Aonad 14'!$C$7=$D$58,COUNTIF('Aonad 14'!$C:$C,$D39),\"0\")","v":"0"},{"$f":"IF('Aonad 15'!$C$7=$D$58,COUNTIF('Aonad 15'!$C:$C,$D39),\"0\")","v":"0"},{"$f":"IF('Aonad 16'!$C$7=$D$58,COUNTIF('Aonad 16'!$C:$C,$D39),\"0\")","v":"0"},{"$f":"IF('Aonad 17'!$C$7=$D$58,COUNTIF('Aonad 17'!$C:$C,$D39),\"0\")","v":"0"},{"$f":"IF('Aonad 18'!$C$7=$D$58,COUNTIF('Aonad 18'!$C:$C,$D39),\"0\")","v":"0"},{"$f":"IF('Aonad 19'!$C$7=$D$58,COUNTIF('Aonad 19'!$C:$C,$D39),\"0\")","v":"0"},{"$f":"IF('Aonad 20'!$C$7=$D$58,COUNTIF('Aonad 20'!$C:$C,$D39),\"0\")","v":"0"},{"$f":"IF('Aonad 21'!$C$7=$D$58,COUNTIF('Aonad 21'!$C:$C,$D39),\"0\")","v":"0"},{"$f":"IF('Aonad 22'!$C$7=$D$58,COUNTIF('Aonad 22'!$C:$C,$D39),\"0\")","v":"0"},{"$f":"IF('Aonad 23'!$C$7=$D$58,COUNTIF('Aonad 23'!$C:$C,$D39),\"0\")","v":"0"},{"$f":"IF('Aonad 24'!$C$7=$D$58,COUNTIF('Aonad 24'!$C:$C,$D39),\"0\")","v":"0"},{"$f":"IF('Aonad 25'!$C$7=$D$58,COUNTIF('Aonad 25'!$C:$C,$D39),\"0\")","v":"0"},{"$f":"IF('Aonad 26'!$C$7=$D$58,COUNTIF('Aonad 26'!$C:$C,$D39),\"0\")","v":"0"},{"$f":"IF('Aonad 27'!$C$7=$D$58,COUNTIF('Aonad 27'!$C:$C,$D39),\"0\")","v":"0"},{"$f":"IF('Aonad 28'!$C$7=$D$58,COUNTIF('Aonad 28'!$C:$C,$D39),\"0\")","v":"0"},{"$f":"IF('Aonad 29'!$C$7=$D$58,COUNTIF('Aonad 29'!$C:$C,$D39),\"0\")","v":"0"},{"$f":"IF('Aonad 30'!$C$7=$D$58,COUNTIF('Aonad 30'!$C:$C,$D39),\"0\")","v":"0"},{"$f":"IF('Aonad 31'!$C$7=$D$58,COUNTIF('Aonad 31'!$C:$C,$D39),\"0\")","v":"0"},{"$f":"IF('Aonad 32'!$C$7=$D$58,COUNTIF('Aonad 32'!$C:$C,$D39),\"0\")","v":"0"},{"$f":"IF('Aonad 33'!$C$7=$D$58,COUNTIF('Aonad 33'!$C:$C,$D39),\"0\")","v":"0"},{"$f":"IF('Aonad 34'!$C$7=$D$58,COUNTIF('Aonad 34'!$C:$C,$D39),\"0\")","v":"0"},{"$f":"IF('Aonad 35'!$C$7=$D$58,COUNTIF('Aonad 35'!$C:$C,$D39),\"0\")","v":"0"},{"$f":"IF('Aonad 36'!$C$7=$D$58,COUNTIF('Aonad 36'!$C:$C,$D39),\"0\")","v":"0"},{"$f":"IF('Aonad 37'!$C$7=$D$58,COUNTIF('Aonad 37'!$C:$C,$D39),\"0\")","v":"0"},{"$f":"IF('Aonad 38'!$C$7=$D$58,COUNTIF('Aonad 38'!$C:$C,$D39),\"0\")","v":"0"},0,null,{"$f":"IF('Aonad 1'!$C$7=$D$59,COUNTIF('Aonad 1'!$C:$C,$D39),\"0\")","v":"0"},{"$f":"IF('Aonad 2'!$C$7=$D$59,COUNTIF('Aonad 2'!$C:$C,$D39),\"0\")","v":"0"},{"$f":"IF('Aonad 3'!$C$7=$D$59,COUNTIF('Aonad 3'!$C:$C,$D39),\"0\")","v":"0"},{"$f":"IF('Aonad 4'!$C$7=$D$59,COUNTIF('Aonad 4'!$C:$C,$D39),\"0\")","v":"0"},{"$f":"IF('Aonad 5'!$C$7=$D$59,COUNTIF('Aonad 5'!$C:$C,$D39),\"0\")","v":"0"},{"$f":"IF('Aonad 6'!$C$7=$D$59,COUNTIF('Aonad 6'!$C:$C,$D39),\"0\")","v":"0"},{"$f":"IF('Aonad 7'!$C$7=$D$59,COUNTIF('Aonad 7'!$C:$C,$D39),\"0\")","v":"0"},{"$f":"IF('Aonad 8'!$C$7=$D$59,COUNTIF('Aonad 8'!$C:$C,$D39),\"0\")","v":"0"},{"$f":"IF('Aonad 9'!$C$7=$D$59,COUNTIF('Aonad 9'!$C:$C,$D39),\"0\")","v":"0"},{"$f":"IF('Aonad 10'!$C$7=$D$59,COUNTIF('Aonad 10'!$C:$C,$D39),\"0\")","v":"0"},{"$f":"IF('Aonad 11'!$C$7=$D$59,COUNTIF('Aonad 11'!$C:$C,$D39),\"0\")","v":"0"},{"$f":"IF('Aonad 12'!$C$7=$D$59,COUNTIF('Aonad 12'!$C:$C,$D39),\"0\")","v":"0"},{"$f":"IF('Aonad 13'!$C$7=$D$59,COUNTIF('Aonad 13'!$C:$C,$D39),\"0\")","v":"0"},{"$f":"IF('Aonad 14'!$C$7=$D$59,COUNTIF('Aonad 14'!$C:$C,$D39),\"0\")","v":"0"},{"$f":"IF('Aonad 15'!$C$7=$D$59,COUNTIF('Aonad 15'!$C:$C,$D39),\"0\")","v":"0"},{"$f":"IF('Aonad 16'!$C$7=$D$59,COUNTIF('Aonad 16'!$C:$C,$D39),\"0\")","v":"0"},{"$f":"IF('Aonad 17'!$C$7=$D$59,COUNTIF('Aonad 17'!$C:$C,$D39),\"0\")","v":"0"},{"$f":"IF('Aonad 18'!$C$7=$D$59,COUNTIF('Aonad 18'!$C:$C,$D39),\"0\")","v":"0"},{"$f":"IF('Aonad 19'!$C$7=$D$59,COUNTIF('Aonad 19'!$C:$C,$D39),\"0\")","v":"0"},{"$f":"IF('Aonad 20'!$C$7=$D$59,COUNTIF('Aonad 20'!$C:$C,$D39),\"0\")","v":"0"},{"$f":"IF('Aonad 21'!$C$7=$D$59,COUNTIF('Aonad 21'!$C:$C,$D39),\"0\")","v":"0"},{"$f":"IF('Aonad 22'!$C$7=$D$59,COUNTIF('Aonad 22'!$C:$C,$D39),\"0\")","v":"0"},{"$f":"IF('Aonad 23'!$C$7=$D$59,COUNTIF('Aonad 23'!$C:$C,$D39),\"0\")","v":"0"},{"$f":"IF('Aonad 24'!$C$7=$D$59,COUNTIF('Aonad 24'!$C:$C,$D39),\"0\")","v":"0"},{"$f":"IF('Aonad 25'!$C$7=$D$59,COUNTIF('Aonad 25'!$C:$C,$D39),\"0\")","v":"0"},{"$f":"IF('Aonad 26'!$C$7=$D$59,COUNTIF('Aonad 26'!$C:$C,$D39),\"0\")","v":"0"},{"$f":"IF('Aonad 27'!$C$7=$D$59,COUNTIF('Aonad 27'!$C:$C,$D39),\"0\")","v":"0"},{"$f":"IF('Aonad 28'!$C$7=$D$59,COUNTIF('Aonad 28'!$C:$C,$D39),\"0\")","v":"0"},{"$f":"IF('Aonad 29'!$C$7=$D$59,COUNTIF('Aonad 29'!$C:$C,$D39),\"0\")","v":"0"},{"$f":"IF('Aonad 30'!$C$7=$D$59,COUNTIF('Aonad 30'!$C:$C,$D39),\"0\")","v":"0"},{"$f":"IF('Aonad 31'!$C$7=$D$59,COUNTIF('Aonad 31'!$C:$C,$D39),\"0\")","v":"0"},{"$f":"IF('Aonad 32'!$C$7=$D$59,COUNTIF('Aonad 32'!$C:$C,$D39),\"0\")","v":"0"},{"$f":"IF('Aonad 33'!$C$7=$D$59,COUNTIF('Aonad 33'!$C:$C,$D39),\"0\")","v":"0"},{"$f":"IF('Aonad 34'!$C$7=$D$59,COUNTIF('Aonad 34'!$C:$C,$D39),\"0\")","v":"0"},{"$f":"IF('Aonad 35'!$C$7=$D$59,COUNTIF('Aonad 35'!$C:$C,$D39),\"0\")","v":"0"},{"$f":"IF('Aonad 36'!$C$7=$D$59,COUNTIF('Aonad 36'!$C:$C,$D39),\"0\")","v":"0"},{"$f":"IF('Aonad 37'!$C$7=$D$59,COUNTIF('Aonad 37'!$C:$C,$D39),\"0\")","v":"0"},{"$f":"IF('Aonad 38'!$C$7=$D$59,COUNTIF('Aonad 38'!$C:$C,$D39),\"0\")","v":"0"},0,null,{"$f":"IF('Aonad 1'!$C$7=$D$60,COUNTIF('Aonad 1'!$C:$C,$D39),\"0\")","v":"0"},{"$f":"IF('Aonad 2'!$C$7=$D$60,COUNTIF('Aonad 2'!$C:$C,$D39),\"0\")","v":"0"},{"$f":"IF('Aonad 3'!$C$7=$D$60,COUNTIF('Aonad 3'!$C:$C,$D39),\"0\")","v":"0"},{"$f":"IF('Aonad 4'!$C$7=$D$60,COUNTIF('Aonad 4'!$C:$C,$D39),\"0\")","v":"0"},{"$f":"IF('Aonad 5'!$C$7=$D$60,COUNTIF('Aonad 5'!$C:$C,$D39),\"0\")","v":"0"},{"$f":"IF('Aonad 6'!$C$7=$D$60,COUNTIF('Aonad 6'!$C:$C,$D39),\"0\")","v":"0"},{"$f":"IF('Aonad 7'!$C$7=$D$60,COUNTIF('Aonad 7'!$C:$C,$D39),\"0\")","v":"0"},{"$f":"IF('Aonad 8'!$C$7=$D$60,COUNTIF('Aonad 8'!$C:$C,$D39),\"0\")","v":"0"},{"$f":"IF('Aonad 9'!$C$7=$D$60,COUNTIF('Aonad 9'!$C:$C,$D39),\"0\")","v":"0"},{"$f":"IF('Aonad 10'!$C$7=$D$60,COUNTIF('Aonad 10'!$C:$C,$D39),\"0\")","v":"0"},{"$f":"IF('Aonad 11'!$C$7=$D$60,COUNTIF('Aonad 11'!$C:$C,$D39),\"0\")","v":"0"},{"$f":"IF('Aonad 12'!$C$7=$D$60,COUNTIF('Aonad 12'!$C:$C,$D39),\"0\")","v":"0"},{"$f":"IF('Aonad 13'!$C$7=$D$60,COUNTIF('Aonad 13'!$C:$C,$D39),\"0\")","v":"0"},{"$f":"IF('Aonad 14'!$C$7=$D$60,COUNTIF('Aonad 14'!$C:$C,$D39),\"0\")","v":"0"},{"$f":"IF('Aonad 15'!$C$7=$D$60,COUNTIF('Aonad 15'!$C:$C,$D39),\"0\")","v":"0"},{"$f":"IF('Aonad 16'!$C$7=$D$60,COUNTIF('Aonad 16'!$C:$C,$D39),\"0\")","v":"0"},{"$f":"IF('Aonad 17'!$C$7=$D$60,COUNTIF('Aonad 17'!$C:$C,$D39),\"0\")","v":"0"},{"$f":"IF('Aonad 18'!$C$7=$D$60,COUNTIF('Aonad 18'!$C:$C,$D39),\"0\")","v":"0"},{"$f":"IF('Aonad 19'!$C$7=$D$60,COUNTIF('Aonad 19'!$C:$C,$D39),\"0\")","v":"0"},{"$f":"IF('Aonad 20'!$C$7=$D$60,COUNTIF('Aonad 20'!$C:$C,$D39),\"0\")","v":"0"},{"$f":"IF('Aonad 21'!$C$7=$D$60,COUNTIF('Aonad 21'!$C:$C,$D39),\"0\")","v":"0"},{"$f":"IF('Aonad 22'!$C$7=$D$60,COUNTIF('Aonad 22'!$C:$C,$D39),\"0\")","v":"0"},{"$f":"IF('Aonad 23'!$C$7=$D$60,COUNTIF('Aonad 23'!$C:$C,$D39),\"0\")","v":"0"},{"$f":"IF('Aonad 24'!$C$7=$D$60,COUNTIF('Aonad 24'!$C:$C,$D39),\"0\")","v":"0"},{"$f":"IF('Aonad 25'!$C$7=$D$60,COUNTIF('Aonad 25'!$C:$C,$D39),\"0\")","v":"0"},{"$f":"IF('Aonad 26'!$C$7=$D$60,COUNTIF('Aonad 26'!$C:$C,$D39),\"0\")","v":"0"},{"$f":"IF('Aonad 27'!$C$7=$D$60,COUNTIF('Aonad 27'!$C:$C,$D39),\"0\")","v":"0"},{"$f":"IF('Aonad 28'!$C$7=$D$60,COUNTIF('Aonad 28'!$C:$C,$D39),\"0\")","v":"0"},{"$f":"IF('Aonad 29'!$C$7=$D$60,COUNTIF('Aonad 29'!$C:$C,$D39),\"0\")","v":"0"},{"$f":"IF('Aonad 30'!$C$7=$D$60,COUNTIF('Aonad 30'!$C:$C,$D39),\"0\")","v":"0"},{"$f":"IF('Aonad 31'!$C$7=$D$60,COUNTIF('Aonad 31'!$C:$C,$D39),\"0\")","v":"0"},{"$f":"IF('Aonad 32'!$C$7=$D$60,COUNTIF('Aonad 32'!$C:$C,$D39),\"0\")","v":"0"},{"$f":"IF('Aonad 33'!$C$7=$D$60,COUNTIF('Aonad 33'!$C:$C,$D39),\"0\")","v":"0"},{"$f":"IF('Aonad 34'!$C$7=$D$60,COUNTIF('Aonad 34'!$C:$C,$D39),\"0\")","v":"0"},{"$f":"IF('Aonad 35'!$C$7=$D$60,COUNTIF('Aonad 35'!$C:$C,$D39),\"0\")","v":"0"},{"$f":"IF('Aonad 36'!$C$7=$D$60,COUNTIF('Aonad 36'!$C:$C,$D39),\"0\")","v":"0"},{"$f":"IF('Aonad 37'!$C$7=$D$60,COUNTIF('Aonad 37'!$C:$C,$D39),\"0\")","v":"0"},{"$f":"IF('Aonad 38'!$C$7=$D$60,COUNTIF('Aonad 38'!$C:$C,$D39),\"0\")","v":"0"},0]
["An teicneolaíocht agus an tsochaí",{"$f":"B8","v":"Anailís a dhéanamh agus fadhbanna a réiteach"},"3.1","3.1 anailís a dhéanamh ar thionchar na srianta ar réitigh a dhearadh","Anailísigh: staidéar nó scrúdú a dhéanamh ar rud go mion, rud a mhiondealú chun na bunghnéithe nó an bunstruchtúr a nochtadh; codanna agus coibhneasa a shainaithint, agus fianaise a léirmhíniú chun teacht ar chonclúidí",{"$f":"COUNTIF('Aonad 1'!$C:$C,$D40)","v":0},{"$f":"COUNTIF('Aonad 2'!$C:$C,$D40)","v":0},{"$f":"COUNTIF('Aonad 3'!$C:$C,$D40)","v":0},{"$f":"COUNTIF('Aonad 4'!$C:$C,$D40)","v":0},{"$f":"COUNTIF('Aonad 5'!$C:$C,$D40)","v":0},{"$f":"COUNTIF('Aonad 6'!$C:$C,$D40)","v":0},{"$f":"COUNTIF('Aonad 7'!$C:$C,$D40)","v":0},{"$f":"COUNTIF('Aonad 8'!$C:$C,$D40)","v":0},{"$f":"COUNTIF('Aonad 9'!$C:$C,$D40)","v":0},{"$f":"COUNTIF('Aonad 10'!$C:$C,$D40)","v":0},{"$f":"COUNTIF('Aonad 11'!$C:$C,$D40)","v":0},{"$f":"COUNTIF('Aonad 12'!$C:$C,$D40)","v":0},{"$f":"COUNTIF('Aonad 13'!$C:$C,$D40)","v":0},{"$f":"COUNTIF('Aonad 14'!$C:$C,$D40)","v":0},{"$f":"COUNTIF('Aonad 15'!$C:$C,$D40)","v":0},{"$f":"COUNTIF('Aonad 16'!$C:$C,$D40)","v":0},{"$f":"COUNTIF('Aonad 17'!$C:$C,$D40)","v":0},{"$f":"COUNTIF('Aonad 18'!$C:$C,$D40)","v":0},{"$f":"COUNTIF('Aonad 19'!$C:$C,$D40)","v":0},{"$f":"COUNTIF('Aonad 20'!$C:$C,$D40)","v":0},{"$f":"COUNTIF('Aonad 21'!$C:$C,$D40)","v":0},{"$f":"COUNTIF('Aonad 22'!$C:$C,$D40)","v":0},{"$f":"COUNTIF('Aonad 23'!$C:$C,$D40)","v":0},{"$f":"COUNTIF('Aonad 24'!$C:$C,$D40)","v":0},{"$f":"COUNTIF('Aonad 25'!$C:$C,$D40)","v":0},{"$f":"COUNTIF('Aonad 26'!$C:$C,$D40)","v":0},{"$f":"COUNTIF('Aonad 27'!$C:$C,$D40)","v":0},{"$f":"COUNTIF('Aonad 28'!$C:$C,$D40)","v":0},{"$f":"COUNTIF('Aonad 29'!$C:$C,$D40)","v":0},{"$f":"COUNTIF('Aonad 30'!$C:$C,$D40)","v":0},{"$f":"COUNTIF('Aonad 31'!$C:$C,$D40)","v":0},{"$f":"COUNTIF('Aonad 32'!$C:$C,$D40)","v":0},{"$f":"COUNTIF('Aonad 33'!$C:$C,$D40)","v":0},{"$f":"COUNTIF('Aonad 34'!$C:$C,$D40)","v":0},{"$f":"COUNTIF('Aonad 35'!$C:$C,$D40)","v":0},{"$f":"COUNTIF('Aonad 36'!$C:$C,$D40)","v":0},{"$f":"COUNTIF('Aonad 37'!$C:$C,$D40)","v":0},{"$f":"COUNTIF('Aonad 38'!$C:$C,$D40)","v":0},0,null,{"$f":"IF('Aonad 1'!$C$7=$D$58,COUNTIF('Aonad 1'!$C:$C,$D40),\"0\")","v":"0"},{"$f":"IF('Aonad 2'!$C$7=$D$58,COUNTIF('Aonad 2'!$C:$C,$D40),\"0\")","v":"0"},{"$f":"IF('Aonad 3'!$C$7=$D$58,COUNTIF('Aonad 3'!$C:$C,$D40),\"0\")","v":"0"},{"$f":"IF('Aonad 4'!$C$7=$D$58,COUNTIF('Aonad 4'!$C:$C,$D40),\"0\")","v":"0"},{"$f":"IF('Aonad 5'!$C$7=$D$58,COUNTIF('Aonad 5'!$C:$C,$D40),\"0\")","v":"0"},{"$f":"IF('Aonad 6'!$C$7=$D$58,COUNTIF('Aonad 6'!$C:$C,$D40),\"0\")","v":"0"},{"$f":"IF('Aonad 7'!$C$7=$D$58,COUNTIF('Aonad 7'!$C:$C,$D40),\"0\")","v":"0"},{"$f":"IF('Aonad 8'!$C$7=$D$58,COUNTIF('Aonad 8'!$C:$C,$D40),\"0\")","v":"0"},{"$f":"IF('Aonad 9'!$C$7=$D$58,COUNTIF('Aonad 9'!$C:$C,$D40),\"0\")","v":"0"},{"$f":"IF('Aonad 10'!$C$7=$D$58,COUNTIF('Aonad 10'!$C:$C,$D40),\"0\")","v":"0"},{"$f":"IF('Aonad 11'!$C$7=$D$58,COUNTIF('Aonad 11'!$C:$C,$D40),\"0\")","v":"0"},{"$f":"IF('Aonad 12'!$C$7=$D$58,COUNTIF('Aonad 12'!$C:$C,$D40),\"0\")","v":"0"},{"$f":"IF('Aonad 13'!$C$7=$D$58,COUNTIF('Aonad 13'!$C:$C,$D40),\"0\")","v":"0"},{"$f":"IF('Aonad 14'!$C$7=$D$58,COUNTIF('Aonad 14'!$C:$C,$D40),\"0\")","v":"0"},{"$f":"IF('Aonad 15'!$C$7=$D$58,COUNTIF('Aonad 15'!$C:$C,$D40),\"0\")","v":"0"},{"$f":"IF('Aonad 16'!$C$7=$D$58,COUNTIF('Aonad 16'!$C:$C,$D40),\"0\")","v":"0"},{"$f":"IF('Aonad 17'!$C$7=$D$58,COUNTIF('Aonad 17'!$C:$C,$D40),\"0\")","v":"0"},{"$f":"IF('Aonad 18'!$C$7=$D$58,COUNTIF('Aonad 18'!$C:$C,$D40),\"0\")","v":"0"},{"$f":"IF('Aonad 19'!$C$7=$D$58,COUNTIF('Aonad 19'!$C:$C,$D40),\"0\")","v":"0"},{"$f":"IF('Aonad 20'!$C$7=$D$58,COUNTIF('Aonad 20'!$C:$C,$D40),\"0\")","v":"0"},{"$f":"IF('Aonad 21'!$C$7=$D$58,COUNTIF('Aonad 21'!$C:$C,$D40),\"0\")","v":"0"},{"$f":"IF('Aonad 22'!$C$7=$D$58,COUNTIF('Aonad 22'!$C:$C,$D40),\"0\")","v":"0"},{"$f":"IF('Aonad 23'!$C$7=$D$58,COUNTIF('Aonad 23'!$C:$C,$D40),\"0\")","v":"0"},{"$f":"IF('Aonad 24'!$C$7=$D$58,COUNTIF('Aonad 24'!$C:$C,$D40),\"0\")","v":"0"},{"$f":"IF('Aonad 25'!$C$7=$D$58,COUNTIF('Aonad 25'!$C:$C,$D40),\"0\")","v":"0"},{"$f":"IF('Aonad 26'!$C$7=$D$58,COUNTIF('Aonad 26'!$C:$C,$D40),\"0\")","v":"0"},{"$f":"IF('Aonad 27'!$C$7=$D$58,COUNTIF('Aonad 27'!$C:$C,$D40),\"0\")","v":"0"},{"$f":"IF('Aonad 28'!$C$7=$D$58,COUNTIF('Aonad 28'!$C:$C,$D40),\"0\")","v":"0"},{"$f":"IF('Aonad 29'!$C$7=$D$58,COUNTIF('Aonad 29'!$C:$C,$D40),\"0\")","v":"0"},{"$f":"IF('Aonad 30'!$C$7=$D$58,COUNTIF('Aonad 30'!$C:$C,$D40),\"0\")","v":"0"},{"$f":"IF('Aonad 31'!$C$7=$D$58,COUNTIF('Aonad 31'!$C:$C,$D40),\"0\")","v":"0"},{"$f":"IF('Aonad 32'!$C$7=$D$58,COUNTIF('Aonad 32'!$C:$C,$D40),\"0\")","v":"0"},{"$f":"IF('Aonad 33'!$C$7=$D$58,COUNTIF('Aonad 33'!$C:$C,$D40),\"0\")","v":"0"},{"$f":"IF('Aonad 34'!$C$7=$D$58,COUNTIF('Aonad 34'!$C:$C,$D40),\"0\")","v":"0"},{"$f":"IF('Aonad 35'!$C$7=$D$58,COUNTIF('Aonad 35'!$C:$C,$D40),\"0\")","v":"0"},{"$f":"IF('Aonad 36'!$C$7=$D$58,COUNTIF('Aonad 36'!$C:$C,$D40),\"0\")","v":"0"},{"$f":"IF('Aonad 37'!$C$7=$D$58,COUNTIF('Aonad 37'!$C:$C,$D40),\"0\")","v":"0"},{"$f":"IF('Aonad 38'!$C$7=$D$58,COUNTIF('Aonad 38'!$C:$C,$D40),\"0\")","v":"0"},0,null,{"$f":"IF('Aonad 1'!$C$7=$D$59,COUNTIF('Aonad 1'!$C:$C,$D40),\"0\")","v":"0"},{"$f":"IF('Aonad 2'!$C$7=$D$59,COUNTIF('Aonad 2'!$C:$C,$D40),\"0\")","v":"0"},{"$f":"IF('Aonad 3'!$C$7=$D$59,COUNTIF('Aonad 3'!$C:$C,$D40),\"0\")","v":"0"},{"$f":"IF('Aonad 4'!$C$7=$D$59,COUNTIF('Aonad 4'!$C:$C,$D40),\"0\")","v":"0"},{"$f":"IF('Aonad 5'!$C$7=$D$59,COUNTIF('Aonad 5'!$C:$C,$D40),\"0\")","v":"0"},{"$f":"IF('Aonad 6'!$C$7=$D$59,COUNTIF('Aonad 6'!$C:$C,$D40),\"0\")","v":"0"},{"$f":"IF('Aonad 7'!$C$7=$D$59,COUNTIF('Aonad 7'!$C:$C,$D40),\"0\")","v":"0"},{"$f":"IF('Aonad 8'!$C$7=$D$59,COUNTIF('Aonad 8'!$C:$C,$D40),\"0\")","v":"0"},{"$f":"IF('Aonad 9'!$C$7=$D$59,COUNTIF('Aonad 9'!$C:$C,$D40),\"0\")","v":"0"},{"$f":"IF('Aonad 10'!$C$7=$D$59,COUNTIF('Aonad 10'!$C:$C,$D40),\"0\")","v":"0"},{"$f":"IF('Aonad 11'!$C$7=$D$59,COUNTIF('Aonad 11'!$C:$C,$D40),\"0\")","v":"0"},{"$f":"IF('Aonad 12'!$C$7=$D$59,COUNTIF('Aonad 12'!$C:$C,$D40),\"0\")","v":"0"},{"$f":"IF('Aonad 13'!$C$7=$D$59,COUNTIF('Aonad 13'!$C:$C,$D40),\"0\")","v":"0"},{"$f":"IF('Aonad 14'!$C$7=$D$59,COUNTIF('Aonad 14'!$C:$C,$D40),\"0\")","v":"0"},{"$f":"IF('Aonad 15'!$C$7=$D$59,COUNTIF('Aonad 15'!$C:$C,$D40),\"0\")","v":"0"},{"$f":"IF('Aonad 16'!$C$7=$D$59,COUNTIF('Aonad 16'!$C:$C,$D40),\"0\")","v":"0"},{"$f":"IF('Aonad 17'!$C$7=$D$59,COUNTIF('Aonad 17'!$C:$C,$D40),\"0\")","v":"0"},{"$f":"IF('Aonad 18'!$C$7=$D$59,COUNTIF('Aonad 18'!$C:$C,$D40),\"0\")","v":"0"},{"$f":"IF('Aonad 19'!$C$7=$D$59,COUNTIF('Aonad 19'!$C:$C,$D40),\"0\")","v":"0"},{"$f":"IF('Aonad 20'!$C$7=$D$59,COUNTIF('Aonad 20'!$C:$C,$D40),\"0\")","v":"0"},{"$f":"IF('Aonad 21'!$C$7=$D$59,COUNTIF('Aonad 21'!$C:$C,$D40),\"0\")","v":"0"},{"$f":"IF('Aonad 22'!$C$7=$D$59,COUNTIF('Aonad 22'!$C:$C,$D40),\"0\")","v":"0"},{"$f":"IF('Aonad 23'!$C$7=$D$59,COUNTIF('Aonad 23'!$C:$C,$D40),\"0\")","v":"0"},{"$f":"IF('Aonad 24'!$C$7=$D$59,COUNTIF('Aonad 24'!$C:$C,$D40),\"0\")","v":"0"},{"$f":"IF('Aonad 25'!$C$7=$D$59,COUNTIF('Aonad 25'!$C:$C,$D40),\"0\")","v":"0"},{"$f":"IF('Aonad 26'!$C$7=$D$59,COUNTIF('Aonad 26'!$C:$C,$D40),\"0\")","v":"0"},{"$f":"IF('Aonad 27'!$C$7=$D$59,COUNTIF('Aonad 27'!$C:$C,$D40),\"0\")","v":"0"},{"$f":"IF('Aonad 28'!$C$7=$D$59,COUNTIF('Aonad 28'!$C:$C,$D40),\"0\")","v":"0"},{"$f":"IF('Aonad 29'!$C$7=$D$59,COUNTIF('Aonad 29'!$C:$C,$D40),\"0\")","v":"0"},{"$f":"IF('Aonad 30'!$C$7=$D$59,COUNTIF('Aonad 30'!$C:$C,$D40),\"0\")","v":"0"},{"$f":"IF('Aonad 31'!$C$7=$D$59,COUNTIF('Aonad 31'!$C:$C,$D40),\"0\")","v":"0"},{"$f":"IF('Aonad 32'!$C$7=$D$59,COUNTIF('Aonad 32'!$C:$C,$D40),\"0\")","v":"0"},{"$f":"IF('Aonad 33'!$C$7=$D$59,COUNTIF('Aonad 33'!$C:$C,$D40),\"0\")","v":"0"},{"$f":"IF('Aonad 34'!$C$7=$D$59,COUNTIF('Aonad 34'!$C:$C,$D40),\"0\")","v":"0"},{"$f":"IF('Aonad 35'!$C$7=$D$59,COUNTIF('Aonad 35'!$C:$C,$D40),\"0\")","v":"0"},{"$f":"IF('Aonad 36'!$C$7=$D$59,COUNTIF('Aonad 36'!$C:$C,$D40),\"0\")","v":"0"},{"$f":"IF('Aonad 37'!$C$7=$D$59,COUNTIF('Aonad 37'!$C:$C,$D40),\"0\")","v":"0"},{"$f":"IF('Aonad 38'!$C$7=$D$59,COUNTIF('Aonad 38'!$C:$C,$D40),\"0\")","v":"0"},0,null,{"$f":"IF('Aonad 1'!$C$7=$D$60,COUNTIF('Aonad 1'!$C:$C,$D40),\"0\")","v":"0"},{"$f":"IF('Aonad 2'!$C$7=$D$60,COUNTIF('Aonad 2'!$C:$C,$D40),\"0\")","v":"0"},{"$f":"IF('Aonad 3'!$C$7=$D$60,COUNTIF('Aonad 3'!$C:$C,$D40),\"0\")","v":"0"},{"$f":"IF('Aonad 4'!$C$7=$D$60,COUNTIF('Aonad 4'!$C:$C,$D40),\"0\")","v":"0"},{"$f":"IF('Aonad 5'!$C$7=$D$60,COUNTIF('Aonad 5'!$C:$C,$D40),\"0\")","v":"0"},{"$f":"IF('Aonad 6'!$C$7=$D$60,COUNTIF('Aonad 6'!$C:$C,$D40),\"0\")","v":"0"},{"$f":"IF('Aonad 7'!$C$7=$D$60,COUNTIF('Aonad 7'!$C:$C,$D40),\"0\")","v":"0"},{"$f":"IF('Aonad 8'!$C$7=$D$60,COUNTIF('Aonad 8'!$C:$C,$D40),\"0\")","v":"0"},{"$f":"IF('Aonad 9'!$C$7=$D$60,COUNTIF('Aonad 9'!$C:$C,$D40),\"0\")","v":"0"},{"$f":"IF('Aonad 10'!$C$7=$D$60,COUNTIF('Aonad 10'!$C:$C,$D40),\"0\")","v":"0"},{"$f":"IF('Aonad 11'!$C$7=$D$60,COUNTIF('Aonad 11'!$C:$C,$D40),\"0\")","v":"0"},{"$f":"IF('Aonad 12'!$C$7=$D$60,COUNTIF('Aonad 12'!$C:$C,$D40),\"0\")","v":"0"},{"$f":"IF('Aonad 13'!$C$7=$D$60,COUNTIF('Aonad 13'!$C:$C,$D40),\"0\")","v":"0"},{"$f":"IF('Aonad 14'!$C$7=$D$60,COUNTIF('Aonad 14'!$C:$C,$D40),\"0\")","v":"0"},{"$f":"IF('Aonad 15'!$C$7=$D$60,COUNTIF('Aonad 15'!$C:$C,$D40),\"0\")","v":"0"},{"$f":"IF('Aonad 16'!$C$7=$D$60,COUNTIF('Aonad 16'!$C:$C,$D40),\"0\")","v":"0"},{"$f":"IF('Aonad 17'!$C$7=$D$60,COUNTIF('Aonad 17'!$C:$C,$D40),\"0\")","v":"0"},{"$f":"IF('Aonad 18'!$C$7=$D$60,COUNTIF('Aonad 18'!$C:$C,$D40),\"0\")","v":"0"},{"$f":"IF('Aonad 19'!$C$7=$D$60,COUNTIF('Aonad 19'!$C:$C,$D40),\"0\")","v":"0"},{"$f":"IF('Aonad 20'!$C$7=$D$60,COUNTIF('Aonad 20'!$C:$C,$D40),\"0\")","v":"0"},{"$f":"IF('Aonad 21'!$C$7=$D$60,COUNTIF('Aonad 21'!$C:$C,$D40),\"0\")","v":"0"},{"$f":"IF('Aonad 22'!$C$7=$D$60,COUNTIF('Aonad 22'!$C:$C,$D40),\"0\")","v":"0"},{"$f":"IF('Aonad 23'!$C$7=$D$60,COUNTIF('Aonad 23'!$C:$C,$D40),\"0\")","v":"0"},{"$f":"IF('Aonad 24'!$C$7=$D$60,COUNTIF('Aonad 24'!$C:$C,$D40),\"0\")","v":"0"},{"$f":"IF('Aonad 25'!$C$7=$D$60,COUNTIF('Aonad 25'!$C:$C,$D40),\"0\")","v":"0"},{"$f":"IF('Aonad 26'!$C$7=$D$60,COUNTIF('Aonad 26'!$C:$C,$D40),\"0\")","v":"0"},{"$f":"IF('Aonad 27'!$C$7=$D$60,COUNTIF('Aonad 27'!$C:$C,$D40),\"0\")","v":"0"},{"$f":"IF('Aonad 28'!$C$7=$D$60,COUNTIF('Aonad 28'!$C:$C,$D40),\"0\")","v":"0"},{"$f":"IF('Aonad 29'!$C$7=$D$60,COUNTIF('Aonad 29'!$C:$C,$D40),\"0\")","v":"0"},{"$f":"IF('Aonad 30'!$C$7=$D$60,COUNTIF('Aonad 30'!$C:$C,$D40),\"0\")","v":"0"},{"$f":"IF('Aonad 31'!$C$7=$D$60,COUNTIF('Aonad 31'!$C:$C,$D40),\"0\")","v":"0"},{"$f":"IF('Aonad 32'!$C$7=$D$60,COUNTIF('Aonad 32'!$C:$C,$D40),\"0\")","v":"0"},{"$f":"IF('Aonad 33'!$C$7=$D$60,COUNTIF('Aonad 33'!$C:$C,$D40),\"0\")","v":"0"},{"$f":"IF('Aonad 34'!$C$7=$D$60,COUNTIF('Aonad 34'!$C:$C,$D40),\"0\")","v":"0"},{"$f":"IF('Aonad 35'!$C$7=$D$60,COUNTIF('Aonad 35'!$C:$C,$D40),\"0\")","v":"0"},{"$f":"IF('Aonad 36'!$C$7=$D$60,COUNTIF('Aonad 36'!$C:$C,$D40),\"0\")","v":"0"},{"$f":"IF('Aonad 37'!$C$7=$D$60,COUNTIF('Aonad 37'!$C:$C,$D40),\"0\")","v":"0"},{"$f":"IF('Aonad 38'!$C$7=$D$60,COUNTIF('Aonad 38'!$C:$C,$D40),\"0\")","v":"0"},0]
[null,null,"3.2","3.2 measúnú a dhéanamh ar a éifeachtaí agus atá na réitigh","Meastóireacht a dhéanamh: (sonraí) sonraí a bhailiú agus a scrúdú chun breithiúnais agus breithmheas a dhéanamh; cur síos a dhéanamh ar an gcaoi a dtacaíonn nó nach dtacaíonn fianaise le conclúid i bhfiosrúchán nó in iniúchadh; srianta sonraí i gconclúidí a shainaithint; breithiúnais a dhéanamh faoi smaointe, faoi réitigh nó faoi mhodhanna.\nMeasúnaigh: (breithiúnas eiticiúil) fianaise a bhailiú agus a scrúdú chun breithiúnais agus breithmheas a dhéanamh; cur síos a dhéanamh ar an gcaoi a dtacaíonn nó nach dtacaíonn fianaise le breithiúnas; srianta fianaise i gconclúidí a shainaithint; breithiúnais a dhéanamh faoi na smaointe, faoi réitigh nó faoi mhodhanna.",{"$f":"COUNTIF('Aonad 1'!$C:$C,$D41)","v":0},{"$f":"COUNTIF('Aonad 2'!$C:$C,$D41)","v":0},{"$f":"COUNTIF('Aonad 3'!$C:$C,$D41)","v":0},{"$f":"COUNTIF('Aonad 4'!$C:$C,$D41)","v":0},{"$f":"COUNTIF('Aonad 5'!$C:$C,$D41)","v":0},{"$f":"COUNTIF('Aonad 6'!$C:$C,$D41)","v":0},{"$f":"COUNTIF('Aonad 7'!$C:$C,$D41)","v":0},{"$f":"COUNTIF('Aonad 8'!$C:$C,$D41)","v":0},{"$f":"COUNTIF('Aonad 9'!$C:$C,$D41)","v":0},{"$f":"COUNTIF('Aonad 10'!$C:$C,$D41)","v":0},{"$f":"COUNTIF('Aonad 11'!$C:$C,$D41)","v":0},{"$f":"COUNTIF('Aonad 12'!$C:$C,$D41)","v":0},{"$f":"COUNTIF('Aonad 13'!$C:$C,$D41)","v":0},{"$f":"COUNTIF('Aonad 14'!$C:$C,$D41)","v":0},{"$f":"COUNTIF('Aonad 15'!$C:$C,$D41)","v":0},{"$f":"COUNTIF('Aonad 16'!$C:$C,$D41)","v":0},{"$f":"COUNTIF('Aonad 17'!$C:$C,$D41)","v":0},{"$f":"COUNTIF('Aonad 18'!$C:$C,$D41)","v":0},{"$f":"COUNTIF('Aonad 19'!$C:$C,$D41)","v":0},{"$f":"COUNTIF('Aonad 20'!$C:$C,$D41)","v":0},{"$f":"COUNTIF('Aonad 21'!$C:$C,$D41)","v":0},{"$f":"COUNTIF('Aonad 22'!$C:$C,$D41)","v":0},{"$f":"COUNTIF('Aonad 23'!$C:$C,$D41)","v":0},{"$f":"COUNTIF('Aonad 24'!$C:$C,$D41)","v":0},{"$f":"COUNTIF('Aonad 25'!$C:$C,$D41)","v":0},{"$f":"COUNTIF('Aonad 26'!$C:$C,$D41)","v":0},{"$f":"COUNTIF('Aonad 27'!$C:$C,$D41)","v":0},{"$f":"COUNTIF('Aonad 28'!$C:$C,$D41)","v":0},{"$f":"COUNTIF('Aonad 29'!$C:$C,$D41)","v":0},{"$f":"COUNTIF('Aonad 30'!$C:$C,$D41)","v":0},{"$f":"COUNTIF('Aonad 31'!$C:$C,$D41)","v":0},{"$f":"COUNTIF('Aonad 32'!$C:$C,$D41)","v":0},{"$f":"COUNTIF('Aonad 33'!$C:$C,$D41)","v":0},{"$f":"COUNTIF('Aonad 34'!$C:$C,$D41)","v":0},{"$f":"COUNTIF('Aonad 35'!$C:$C,$D41)","v":0},{"$f":"COUNTIF('Aonad 36'!$C:$C,$D41)","v":0},{"$f":"COUNTIF('Aonad 37'!$C:$C,$D41)","v":0},{"$f":"COUNTIF('Aonad 38'!$C:$C,$D41)","v":0},0,null,{"$f":"IF('Aonad 1'!$C$7=$D$58,COUNTIF('Aonad 1'!$C:$C,$D41),\"0\")","v":"0"},{"$f":"IF('Aonad 2'!$C$7=$D$58,COUNTIF('Aonad 2'!$C:$C,$D41),\"0\")","v":"0"},{"$f":"IF('Aonad 3'!$C$7=$D$58,COUNTIF('Aonad 3'!$C:$C,$D41),\"0\")","v":"0"},{"$f":"IF('Aonad 4'!$C$7=$D$58,COUNTIF('Aonad 4'!$C:$C,$D41),\"0\")","v":"0"},{"$f":"IF('Aonad 5'!$C$7=$D$58,COUNTIF('Aonad 5'!$C:$C,$D41),\"0\")","v":"0"},{"$f":"IF('Aonad 6'!$C$7=$D$58,COUNTIF('Aonad 6'!$C:$C,$D41),\"0\")","v":"0"},{"$f":"IF('Aonad 7'!$C$7=$D$58,COUNTIF('Aonad 7'!$C:$C,$D41),\"0\")","v":"0"},{"$f":"IF('Aonad 8'!$C$7=$D$58,COUNTIF('Aonad 8'!$C:$C,$D41),\"0\")","v":"0"},{"$f":"IF('Aonad 9'!$C$7=$D$58,COUNTIF('Aonad 9'!$C:$C,$D41),\"0\")","v":"0"},{"$f":"IF('Aonad 10'!$C$7=$D$58,COUNTIF('Aonad 10'!$C:$C,$D41),\"0\")","v":"0"},{"$f":"IF('Aonad 11'!$C$7=$D$58,COUNTIF('Aonad 11'!$C:$C,$D41),\"0\")","v":"0"},{"$f":"IF('Aonad 12'!$C$7=$D$58,COUNTIF('Aonad 12'!$C:$C,$D41),\"0\")","v":"0"},{"$f":"IF('Aonad 13'!$C$7=$D$58,COUNTIF('Aonad 13'!$C:$C,$D41),\"0\")","v":"0"},{"$f":"IF('Aonad 14'!$C$7=$D$58,COUNTIF('Aonad 14'!$C:$C,$D41),\"0\")","v":"0"},{"$f":"IF('Aonad 15'!$C$7=$D$58,COUNTIF('Aonad 15'!$C:$C,$D41),\"0\")","v":"0"},{"$f":"IF('Aonad 16'!$C$7=$D$58,COUNTIF('Aonad 16'!$C:$C,$D41),\"0\")","v":"0"},{"$f":"IF('Aonad 17'!$C$7=$D$58,COUNTIF('Aonad 17'!$C:$C,$D41),\"0\")","v":"0"},{"$f":"IF('Aonad 18'!$C$7=$D$58,COUNTIF('Aonad 18'!$C:$C,$D41),\"0\")","v":"0"},{"$f":"IF('Aonad 19'!$C$7=$D$58,COUNTIF('Aonad 19'!$C:$C,$D41),\"0\")","v":"0"},{"$f":"IF('Aonad 20'!$C$7=$D$58,COUNTIF('Aonad 20'!$C:$C,$D41),\"0\")","v":"0"},{"$f":"IF('Aonad 21'!$C$7=$D$58,COUNTIF('Aonad 21'!$C:$C,$D41),\"0\")","v":"0"},{"$f":"IF('Aonad 22'!$C$7=$D$58,COUNTIF('Aonad 22'!$C:$C,$D41),\"0\")","v":"0"},{"$f":"IF('Aonad 23'!$C$7=$D$58,COUNTIF('Aonad 23'!$C:$C,$D41),\"0\")","v":"0"},{"$f":"IF('Aonad 24'!$C$7=$D$58,COUNTIF('Aonad 24'!$C:$C,$D41),\"0\")","v":"0"},{"$f":"IF('Aonad 25'!$C$7=$D$58,COUNTIF('Aonad 25'!$C:$C,$D41),\"0\")","v":"0"},{"$f":"IF('Aonad 26'!$C$7=$D$58,COUNTIF('Aonad 26'!$C:$C,$D41),\"0\")","v":"0"},{"$f":"IF('Aonad 27'!$C$7=$D$58,COUNTIF('Aonad 27'!$C:$C,$D41),\"0\")","v":"0"},{"$f":"IF('Aonad 28'!$C$7=$D$58,COUNTIF('Aonad 28'!$C:$C,$D41),\"0\")","v":"0"},{"$f":"IF('Aonad 29'!$C$7=$D$58,COUNTIF('Aonad 29'!$C:$C,$D41),\"0\")","v":"0"},{"$f":"IF('Aonad 30'!$C$7=$D$58,COUNTIF('Aonad 30'!$C:$C,$D41),\"0\")","v":"0"},{"$f":"IF('Aonad 31'!$C$7=$D$58,COUNTIF('Aonad 31'!$C:$C,$D41),\"0\")","v":"0"},{"$f":"IF('Aonad 32'!$C$7=$D$58,COUNTIF('Aonad 32'!$C:$C,$D41),\"0\")","v":"0"},{"$f":"IF('Aonad 33'!$C$7=$D$58,COUNTIF('Aonad 33'!$C:$C,$D41),\"0\")","v":"0"},{"$f":"IF('Aonad 34'!$C$7=$D$58,COUNTIF('Aonad 34'!$C:$C,$D41),\"0\")","v":"0"},{"$f":"IF('Aonad 35'!$C$7=$D$58,COUNTIF('Aonad 35'!$C:$C,$D41),\"0\")","v":"0"},{"$f":"IF('Aonad 36'!$C$7=$D$58,COUNTIF('Aonad 36'!$C:$C,$D41),\"0\")","v":"0"},{"$f":"IF('Aonad 37'!$C$7=$D$58,COUNTIF('Aonad 37'!$C:$C,$D41),\"0\")","v":"0"},{"$f":"IF('Aonad 38'!$C$7=$D$58,COUNTIF('Aonad 38'!$C:$C,$D41),\"0\")","v":"0"},0,null,{"$f":"IF('Aonad 1'!$C$7=$D$59,COUNTIF('Aonad 1'!$C:$C,$D41),\"0\")","v":"0"},{"$f":"IF('Aonad 2'!$C$7=$D$59,COUNTIF('Aonad 2'!$C:$C,$D41),\"0\")","v":"0"},{"$f":"IF('Aonad 3'!$C$7=$D$59,COUNTIF('Aonad 3'!$C:$C,$D41),\"0\")","v":"0"},{"$f":"IF('Aonad 4'!$C$7=$D$59,COUNTIF('Aonad 4'!$C:$C,$D41),\"0\")","v":"0"},{"$f":"IF('Aonad 5'!$C$7=$D$59,COUNTIF('Aonad 5'!$C:$C,$D41),\"0\")","v":"0"},{"$f":"IF('Aonad 6'!$C$7=$D$59,COUNTIF('Aonad 6'!$C:$C,$D41),\"0\")","v":"0"},{"$f":"IF('Aonad 7'!$C$7=$D$59,COUNTIF('Aonad 7'!$C:$C,$D41),\"0\")","v":"0"},{"$f":"IF('Aonad 8'!$C$7=$D$59,COUNTIF('Aonad 8'!$C:$C,$D41),\"0\")","v":"0"},{"$f":"IF('Aonad 9'!$C$7=$D$59,COUNTIF('Aonad 9'!$C:$C,$D41),\"0\")","v":"0"},{"$f":"IF('Aonad 10'!$C$7=$D$59,COUNTIF('Aonad 10'!$C:$C,$D41),\"0\")","v":"0"},{"$f":"IF('Aonad 11'!$C$7=$D$59,COUNTIF('Aonad 11'!$C:$C,$D41),\"0\")","v":"0"},{"$f":"IF('Aonad 12'!$C$7=$D$59,COUNTIF('Aonad 12'!$C:$C,$D41),\"0\")","v":"0"},{"$f":"IF('Aonad 13'!$C$7=$D$59,COUNTIF('Aonad 13'!$C:$C,$D41),\"0\")","v":"0"},{"$f":"IF('Aonad 14'!$C$7=$D$59,COUNTIF('Aonad 14'!$C:$C,$D41),\"0\")","v":"0"},{"$f":"IF('Aonad 15'!$C$7=$D$59,COUNTIF('Aonad 15'!$C:$C,$D41),\"0\")","v":"0"},{"$f":"IF('Aonad 16'!$C$7=$D$59,COUNTIF('Aonad 16'!$C:$C,$D41),\"0\")","v":"0"},{"$f":"IF('Aonad 17'!$C$7=$D$59,COUNTIF('Aonad 17'!$C:$C,$D41),\"0\")","v":"0"},{"$f":"IF('Aonad 18'!$C$7=$D$59,COUNTIF('Aonad 18'!$C:$C,$D41),\"0\")","v":"0"},{"$f":"IF('Aonad 19'!$C$7=$D$59,COUNTIF('Aonad 19'!$C:$C,$D41),\"0\")","v":"0"},{"$f":"IF('Aonad 20'!$C$7=$D$59,COUNTIF('Aonad 20'!$C:$C,$D41),\"0\")","v":"0"},{"$f":"IF('Aonad 21'!$C$7=$D$59,COUNTIF('Aonad 21'!$C:$C,$D41),\"0\")","v":"0"},{"$f":"IF('Aonad 22'!$C$7=$D$59,COUNTIF('Aonad 22'!$C:$C,$D41),\"0\")","v":"0"},{"$f":"IF('Aonad 23'!$C$7=$D$59,COUNTIF('Aonad 23'!$C:$C,$D41),\"0\")","v":"0"},{"$f":"IF('Aonad 24'!$C$7=$D$59,COUNTIF('Aonad 24'!$C:$C,$D41),\"0\")","v":"0"},{"$f":"IF('Aonad 25'!$C$7=$D$59,COUNTIF('Aonad 25'!$C:$C,$D41),\"0\")","v":"0"},{"$f":"IF('Aonad 26'!$C$7=$D$59,COUNTIF('Aonad 26'!$C:$C,$D41),\"0\")","v":"0"},{"$f":"IF('Aonad 27'!$C$7=$D$59,COUNTIF('Aonad 27'!$C:$C,$D41),\"0\")","v":"0"},{"$f":"IF('Aonad 28'!$C$7=$D$59,COUNTIF('Aonad 28'!$C:$C,$D41),\"0\")","v":"0"},{"$f":"IF('Aonad 29'!$C$7=$D$59,COUNTIF('Aonad 29'!$C:$C,$D41),\"0\")","v":"0"},{"$f":"IF('Aonad 30'!$C$7=$D$59,COUNTIF('Aonad 30'!$C:$C,$D41),\"0\")","v":"0"},{"$f":"IF('Aonad 31'!$C$7=$D$59,COUNTIF('Aonad 31'!$C:$C,$D41),\"0\")","v":"0"},{"$f":"IF('Aonad 32'!$C$7=$D$59,COUNTIF('Aonad 32'!$C:$C,$D41),\"0\")","v":"0"},{"$f":"IF('Aonad 33'!$C$7=$D$59,COUNTIF('Aonad 33'!$C:$C,$D41),\"0\")","v":"0"},{"$f":"IF('Aonad 34'!$C$7=$D$59,COUNTIF('Aonad 34'!$C:$C,$D41),\"0\")","v":"0"},{"$f":"IF('Aonad 35'!$C$7=$D$59,COUNTIF('Aonad 35'!$C:$C,$D41),\"0\")","v":"0"},{"$f":"IF('Aonad 36'!$C$7=$D$59,COUNTIF('Aonad 36'!$C:$C,$D41),\"0\")","v":"0"},{"$f":"IF('Aonad 37'!$C$7=$D$59,COUNTIF('Aonad 37'!$C:$C,$D41),\"0\")","v":"0"},{"$f":"IF('Aonad 38'!$C$7=$D$59,COUNTIF('Aonad 38'!$C:$C,$D41),\"0\")","v":"0"},0,null,{"$f":"IF('Aonad 1'!$C$7=$D$60,COUNTIF('Aonad 1'!$C:$C,$D41),\"0\")","v":"0"},{"$f":"IF('Aonad 2'!$C$7=$D$60,COUNTIF('Aonad 2'!$C:$C,$D41),\"0\")","v":"0"},{"$f":"IF('Aonad 3'!$C$7=$D$60,COUNTIF('Aonad 3'!$C:$C,$D41),\"0\")","v":"0"},{"$f":"IF('Aonad 4'!$C$7=$D$60,COUNTIF('Aonad 4'!$C:$C,$D41),\"0\")","v":"0"},{"$f":"IF('Aonad 5'!$C$7=$D$60,COUNTIF('Aonad 5'!$C:$C,$D41),\"0\")","v":"0"},{"$f":"IF('Aonad 6'!$C$7=$D$60,COUNTIF('Aonad 6'!$C:$C,$D41),\"0\")","v":"0"},{"$f":"IF('Aonad 7'!$C$7=$D$60,COUNTIF('Aonad 7'!$C:$C,$D41),\"0\")","v":"0"},{"$f":"IF('Aonad 8'!$C$7=$D$60,COUNTIF('Aonad 8'!$C:$C,$D41),\"0\")","v":"0"},{"$f":"IF('Aonad 9'!$C$7=$D$60,COUNTIF('Aonad 9'!$C:$C,$D41),\"0\")","v":"0"},{"$f":"IF('Aonad 10'!$C$7=$D$60,COUNTIF('Aonad 10'!$C:$C,$D41),\"0\")","v":"0"},{"$f":"IF('Aonad 11'!$C$7=$D$60,COUNTIF('Aonad 11'!$C:$C,$D41),\"0\")","v":"0"},{"$f":"IF('Aonad 12'!$C$7=$D$60,COUNTIF('Aonad 12'!$C:$C,$D41),\"0\")","v":"0"},{"$f":"IF('Aonad 13'!$C$7=$D$60,COUNTIF('Aonad 13'!$C:$C,$D41),\"0\")","v":"0"},{"$f":"IF('Aonad 14'!$C$7=$D$60,COUNTIF('Aonad 14'!$C:$C,$D41),\"0\")","v":"0"},{"$f":"IF('Aonad 15'!$C$7=$D$60,COUNTIF('Aonad 15'!$C:$C,$D41),\"0\")","v":"0"},{"$f":"IF('Aonad 16'!$C$7=$D$60,COUNTIF('Aonad 16'!$C:$C,$D41),\"0\")","v":"0"},{"$f":"IF('Aonad 17'!$C$7=$D$60,COUNTIF('Aonad 17'!$C:$C,$D41),\"0\")","v":"0"},{"$f":"IF('Aonad 18'!$C$7=$D$60,COUNTIF('Aonad 18'!$C:$C,$D41),\"0\")","v":"0"},{"$f":"IF('Aonad 19'!$C$7=$D$60,COUNTIF('Aonad 19'!$C:$C,$D41),\"0\")","v":"0"},{"$f":"IF('Aonad 20'!$C$7=$D$60,COUNTIF('Aonad 20'!$C:$C,$D41),\"0\")","v":"0"},{"$f":"IF('Aonad 21'!$C$7=$D$60,COUNTIF('Aonad 21'!$C:$C,$D41),\"0\")","v":"0"},{"$f":"IF('Aonad 22'!$C$7=$D$60,COUNTIF('Aonad 22'!$C:$C,$D41),\"0\")","v":"0"},{"$f":"IF('Aonad 23'!$C$7=$D$60,COUNTIF('Aonad 23'!$C:$C,$D41),\"0\")","v":"0"},{"$f":"IF('Aonad 24'!$C$7=$D$60,COUNTIF('Aonad 24'!$C:$C,$D41),\"0\")","v":"0"},{"$f":"IF('Aonad 25'!$C$7=$D$60,COUNTIF('Aonad 25'!$C:$C,$D41),\"0\")","v":"0"},{"$f":"IF('Aonad 26'!$C$7=$D$60,COUNTIF('Aonad 26'!$C:$C,$D41),\"0\")","v":"0"},{"$f":"IF('Aonad 27'!$C$7=$D$60,COUNTIF('Aonad 27'!$C:$C,$D41),\"0\")","v":"0"},{"$f":"IF('Aonad 28'!$C$7=$D$60,COUNTIF('Aonad 28'!$C:$C,$D41),\"0\")","v":"0"},{"$f":"IF('Aonad 29'!$C$7=$D$60,COUNTIF('Aonad 29'!$C:$C,$D41),\"0\")","v":"0"},{"$f":"IF('Aonad 30'!$C$7=$D$60,COUNTIF('Aonad 30'!$C:$C,$D41),\"0\")","v":"0"},{"$f":"IF('Aonad 31'!$C$7=$D$60,COUNTIF('Aonad 31'!$C:$C,$D41),\"0\")","v":"0"},{"$f":"IF('Aonad 32'!$C$7=$D$60,COUNTIF('Aonad 32'!$C:$C,$D41),\"0\")","v":"0"},{"$f":"IF('Aonad 33'!$C$7=$D$60,COUNTIF('Aonad 33'!$C:$C,$D41),\"0\")","v":"0"},{"$f":"IF('Aonad 34'!$C$7=$D$60,COUNTIF('Aonad 34'!$C:$C,$D41),\"0\")","v":"0"},{"$f":"IF('Aonad 35'!$C$7=$D$60,COUNTIF('Aonad 35'!$C:$C,$D41),\"0\")","v":"0"},{"$f":"IF('Aonad 36'!$C$7=$D$60,COUNTIF('Aonad 36'!$C:$C,$D41),\"0\")","v":"0"},{"$f":"IF('Aonad 37'!$C$7=$D$60,COUNTIF('Aonad 37'!$C:$C,$D41),\"0\")","v":"0"},{"$f":"IF('Aonad 38'!$C$7=$D$60,COUNTIF('Aonad 38'!$C:$C,$D41),\"0\")","v":"0"},0]
[null,null,null,null,null,{"$f":"COUNTIF('Aonad 1'!$C:$C,$D42)","v":0},{"$f":"COUNTIF('Aonad 2'!$C:$C,$D42)","v":0},{"$f":"COUNTIF('Aonad 3'!$C:$C,$D42)","v":0},{"$f":"COUNTIF('Aonad 4'!$C:$C,$D42)","v":0},{"$f":"COUNTIF('Aonad 5'!$C:$C,$D42)","v":0},{"$f":"COUNTIF('Aonad 6'!$C:$C,$D42)","v":0},{"$f":"COUNTIF('Aonad 7'!$C:$C,$D42)","v":0},{"$f":"COUNTIF('Aonad 8'!$C:$C,$D42)","v":0},{"$f":"COUNTIF('Aonad 9'!$C:$C,$D42)","v":0},{"$f":"COUNTIF('Aonad 10'!$C:$C,$D42)","v":0},{"$f":"COUNTIF('Aonad 11'!$C:$C,$D42)","v":0},{"$f":"COUNTIF('Aonad 12'!$C:$C,$D42)","v":0},{"$f":"COUNTIF('Aonad 13'!$C:$C,$D42)","v":0},{"$f":"COUNTIF('Aonad 14'!$C:$C,$D42)","v":0},{"$f":"COUNTIF('Aonad 15'!$C:$C,$D42)","v":0},{"$f":"COUNTIF('Aonad 16'!$C:$C,$D42)","v":0},{"$f":"COUNTIF('Aonad 17'!$C:$C,$D42)","v":0},{"$f":"COUNTIF('Aonad 18'!$C:$C,$D42)","v":0},{"$f":"COUNTIF('Aonad 19'!$C:$C,$D42)","v":0},{"$f":"COUNTIF('Aonad 20'!$C:$C,$D42)","v":0},{"$f":"COUNTIF('Aonad 21'!$C:$C,$D42)","v":0},{"$f":"COUNTIF('Aonad 22'!$C:$C,$D42)","v":0},{"$f":"COUNTIF('Aonad 23'!$C:$C,$D42)","v":0},{"$f":"COUNTIF('Aonad 24'!$C:$C,$D42)","v":0},{"$f":"COUNTIF('Aonad 25'!$C:$C,$D42)","v":0},{"$f":"COUNTIF('Aonad 26'!$C:$C,$D42)","v":0},{"$f":"COUNTIF('Aonad 27'!$C:$C,$D42)","v":0},{"$f":"COUNTIF('Aonad 28'!$C:$C,$D42)","v":0},{"$f":"COUNTIF('Aonad 29'!$C:$C,$D42)","v":0},{"$f":"COUNTIF('Aonad 30'!$C:$C,$D42)","v":0},{"$f":"COUNTIF('Aonad 31'!$C:$C,$D42)","v":0},{"$f":"COUNTIF('Aonad 32'!$C:$C,$D42)","v":0},{"$f":"COUNTIF('Aonad 33'!$C:$C,$D42)","v":0},{"$f":"COUNTIF('Aonad 34'!$C:$C,$D42)","v":0},{"$f":"COUNTIF('Aonad 35'!$C:$C,$D42)","v":0},{"$f":"COUNTIF('Aonad 36'!$C:$C,$D42)","v":0},{"$f":"COUNTIF('Aonad 37'!$C:$C,$D42)","v":0},{"$f":"COUNTIF('Aonad 38'!$C:$C,$D42)","v":0},0,null,{"$f":"IF('Aonad 1'!$C$7=$D$58,COUNTIF('Aonad 1'!$C:$C,$D42),\"0\")","v":"0"},{"$f":"IF('Aonad 2'!$C$7=$D$58,COUNTIF('Aonad 2'!$C:$C,$D42),\"0\")","v":"0"},{"$f":"IF('Aonad 3'!$C$7=$D$58,COUNTIF('Aonad 3'!$C:$C,$D42),\"0\")","v":"0"},{"$f":"IF('Aonad 4'!$C$7=$D$58,COUNTIF('Aonad 4'!$C:$C,$D42),\"0\")","v":"0"},{"$f":"IF('Aonad 5'!$C$7=$D$58,COUNTIF('Aonad 5'!$C:$C,$D42),\"0\")","v":"0"},{"$f":"IF('Aonad 6'!$C$7=$D$58,COUNTIF('Aonad 6'!$C:$C,$D42),\"0\")","v":"0"},{"$f":"IF('Aonad 7'!$C$7=$D$58,COUNTIF('Aonad 7'!$C:$C,$D42),\"0\")","v":"0"},{"$f":"IF('Aonad 8'!$C$7=$D$58,COUNTIF('Aonad 8'!$C:$C,$D42),\"0\")","v":"0"},{"$f":"IF('Aonad 9'!$C$7=$D$58,COUNTIF('Aonad 9'!$C:$C,$D42),\"0\")","v":"0"},{"$f":"IF('Aonad 10'!$C$7=$D$58,COUNTIF('Aonad 10'!$C:$C,$D42),\"0\")","v":"0"},{"$f":"IF('Aonad 11'!$C$7=$D$58,COUNTIF('Aonad 11'!$C:$C,$D42),\"0\")","v":"0"},{"$f":"IF('Aonad 12'!$C$7=$D$58,COUNTIF('Aonad 12'!$C:$C,$D42),\"0\")","v":"0"},{"$f":"IF('Aonad 13'!$C$7=$D$58,COUNTIF('Aonad 13'!$C:$C,$D42),\"0\")","v":"0"},{"$f":"IF('Aonad 14'!$C$7=$D$58,COUNTIF('Aonad 14'!$C:$C,$D42),\"0\")","v":"0"},{"$f":"IF('Aonad 15'!$C$7=$D$58,COUNTIF('Aonad 15'!$C:$C,$D42),\"0\")","v":"0"},{"$f":"IF('Aonad 16'!$C$7=$D$58,COUNTIF('Aonad 16'!$C:$C,$D42),\"0\")","v":"0"},{"$f":"IF('Aonad 17'!$C$7=$D$58,COUNTIF('Aonad 17'!$C:$C,$D42),\"0\")","v":"0"},{"$f":"IF('Aonad 18'!$C$7=$D$58,COUNTIF('Aonad 18'!$C:$C,$D42),\"0\")","v":"0"},{"$f":"IF('Aonad 19'!$C$7=$D$58,COUNTIF('Aonad 19'!$C:$C,$D42),\"0\")","v":"0"},{"$f":"IF('Aonad 20'!$C$7=$D$58,COUNTIF('Aonad 20'!$C:$C,$D42),\"0\")","v":"0"},{"$f":"IF('Aonad 21'!$C$7=$D$58,COUNTIF('Aonad 21'!$C:$C,$D42),\"0\")","v":"0"},{"$f":"IF('Aonad 22'!$C$7=$D$58,COUNTIF('Aonad 22'!$C:$C,$D42),\"0\")","v":"0"},{"$f":"IF('Aonad 23'!$C$7=$D$58,COUNTIF('Aonad 23'!$C:$C,$D42),\"0\")","v":"0"},{"$f":"IF('Aonad 24'!$C$7=$D$58,COUNTIF('Aonad 24'!$C:$C,$D42),\"0\")","v":"0"},{"$f":"IF('Aonad 25'!$C$7=$D$58,COUNTIF('Aonad 25'!$C:$C,$D42),\"0\")","v":"0"},{"$f":"IF('Aonad 26'!$C$7=$D$58,COUNTIF('Aonad 26'!$C:$C,$D42),\"0\")","v":"0"},{"$f":"IF('Aonad 27'!$C$7=$D$58,COUNTIF('Aonad 27'!$C:$C,$D42),\"0\")","v":"0"},{"$f":"IF('Aonad 28'!$C$7=$D$58,COUNTIF('Aonad 28'!$C:$C,$D42),\"0\")","v":"0"},{"$f":"IF('Aonad 29'!$C$7=$D$58,COUNTIF('Aonad 29'!$C:$C,$D42),\"0\")","v":"0"},{"$f":"IF('Aonad 30'!$C$7=$D$58,COUNTIF('Aonad 30'!$C:$C,$D42),\"0\")","v":"0"},{"$f":"IF('Aonad 31'!$C$7=$D$58,COUNTIF('Aonad 31'!$C:$C,$D42),\"0\")","v":"0"},{"$f":"IF('Aonad 32'!$C$7=$D$58,COUNTIF('Aonad 32'!$C:$C,$D42),\"0\")","v":"0"},{"$f":"IF('Aonad 33'!$C$7=$D$58,COUNTIF('Aonad 33'!$C:$C,$D42),\"0\")","v":"0"},{"$f":"IF('Aonad 34'!$C$7=$D$58,COUNTIF('Aonad 34'!$C:$C,$D42),\"0\")","v":"0"},{"$f":"IF('Aonad 35'!$C$7=$D$58,COUNTIF('Aonad 35'!$C:$C,$D42),\"0\")","v":"0"},{"$f":"IF('Aonad 36'!$C$7=$D$58,COUNTIF('Aonad 36'!$C:$C,$D42),\"0\")","v":"0"},{"$f":"IF('Aonad 37'!$C$7=$D$58,COUNTIF('Aonad 37'!$C:$C,$D42),\"0\")","v":"0"},{"$f":"IF('Aonad 38'!$C$7=$D$58,COUNTIF('Aonad 38'!$C:$C,$D42),\"0\")","v":"0"},0,null,{"$f":"IF('Aonad 1'!$C$7=$D$59,COUNTIF('Aonad 1'!$C:$C,$D42),\"0\")","v":"0"},{"$f":"IF('Aonad 2'!$C$7=$D$59,COUNTIF('Aonad 2'!$C:$C,$D42),\"0\")","v":"0"},{"$f":"IF('Aonad 3'!$C$7=$D$59,COUNTIF('Aonad 3'!$C:$C,$D42),\"0\")","v":"0"},{"$f":"IF('Aonad 4'!$C$7=$D$59,COUNTIF('Aonad 4'!$C:$C,$D42),\"0\")","v":"0"},{"$f":"IF('Aonad 5'!$C$7=$D$59,COUNTIF('Aonad 5'!$C:$C,$D42),\"0\")","v":"0"},{"$f":"IF('Aonad 6'!$C$7=$D$59,COUNTIF('Aonad 6'!$C:$C,$D42),\"0\")","v":"0"},{"$f":"IF('Aonad 7'!$C$7=$D$59,COUNTIF('Aonad 7'!$C:$C,$D42),\"0\")","v":"0"},{"$f":"IF('Aonad 8'!$C$7=$D$59,COUNTIF('Aonad 8'!$C:$C,$D42),\"0\")","v":"0"},{"$f":"IF('Aonad 9'!$C$7=$D$59,COUNTIF('Aonad 9'!$C:$C,$D42),\"0\")","v":"0"},{"$f":"IF('Aonad 10'!$C$7=$D$59,COUNTIF('Aonad 10'!$C:$C,$D42),\"0\")","v":"0"},{"$f":"IF('Aonad 11'!$C$7=$D$59,COUNTIF('Aonad 11'!$C:$C,$D42),\"0\")","v":"0"},{"$f":"IF('Aonad 12'!$C$7=$D$59,COUNTIF('Aonad 12'!$C:$C,$D42),\"0\")","v":"0"},{"$f":"IF('Aonad 13'!$C$7=$D$59,COUNTIF('Aonad 13'!$C:$C,$D42),\"0\")","v":"0"},{"$f":"IF('Aonad 14'!$C$7=$D$59,COUNTIF('Aonad 14'!$C:$C,$D42),\"0\")","v":"0"},{"$f":"IF('Aonad 15'!$C$7=$D$59,COUNTIF('Aonad 15'!$C:$C,$D42),\"0\")","v":"0"},{"$f":"IF('Aonad 16'!$C$7=$D$59,COUNTIF('Aonad 16'!$C:$C,$D42),\"0\")","v":"0"},{"$f":"IF('Aonad 17'!$C$7=$D$59,COUNTIF('Aonad 17'!$C:$C,$D42),\"0\")","v":"0"},{"$f":"IF('Aonad 18'!$C$7=$D$59,COUNTIF('Aonad 18'!$C:$C,$D42),\"0\")","v":"0"},{"$f":"IF('Aonad 19'!$C$7=$D$59,COUNTIF('Aonad 19'!$C:$C,$D42),\"0\")","v":"0"},{"$f":"IF('Aonad 20'!$C$7=$D$59,COUNTIF('Aonad 20'!$C:$C,$D42),\"0\")","v":"0"},{"$f":"IF('Aonad 21'!$C$7=$D$59,COUNTIF('Aonad 21'!$C:$C,$D42),\"0\")","v":"0"},{"$f":"IF('Aonad 22'!$C$7=$D$59,COUNTIF('Aonad 22'!$C:$C,$D42),\"0\")","v":"0"},{"$f":"IF('Aonad 23'!$C$7=$D$59,COUNTIF('Aonad 23'!$C:$C,$D42),\"0\")","v":"0"},{"$f":"IF('Aonad 24'!$C$7=$D$59,COUNTIF('Aonad 24'!$C:$C,$D42),\"0\")","v":"0"},{"$f":"IF('Aonad 25'!$C$7=$D$59,COUNTIF('Aonad 25'!$C:$C,$D42),\"0\")","v":"0"},{"$f":"IF('Aonad 26'!$C$7=$D$59,COUNTIF('Aonad 26'!$C:$C,$D42),\"0\")","v":"0"},{"$f":"IF('Aonad 27'!$C$7=$D$59,COUNTIF('Aonad 27'!$C:$C,$D42),\"0\")","v":"0"},{"$f":"IF('Aonad 28'!$C$7=$D$59,COUNTIF('Aonad 28'!$C:$C,$D42),\"0\")","v":"0"},{"$f":"IF('Aonad 29'!$C$7=$D$59,COUNTIF('Aonad 29'!$C:$C,$D42),\"0\")","v":"0"},{"$f":"IF('Aonad 30'!$C$7=$D$59,COUNTIF('Aonad 30'!$C:$C,$D42),\"0\")","v":"0"},{"$f":"IF('Aonad 31'!$C$7=$D$59,COUNTIF('Aonad 31'!$C:$C,$D42),\"0\")","v":"0"},{"$f":"IF('Aonad 32'!$C$7=$D$59,COUNTIF('Aonad 32'!$C:$C,$D42),\"0\")","v":"0"},{"$f":"IF('Aonad 33'!$C$7=$D$59,COUNTIF('Aonad 33'!$C:$C,$D42),\"0\")","v":"0"},{"$f":"IF('Aonad 34'!$C$7=$D$59,COUNTIF('Aonad 34'!$C:$C,$D42),\"0\")","v":"0"},{"$f":"IF('Aonad 35'!$C$7=$D$59,COUNTIF('Aonad 35'!$C:$C,$D42),\"0\")","v":"0"},{"$f":"IF('Aonad 36'!$C$7=$D$59,COUNTIF('Aonad 36'!$C:$C,$D42),\"0\")","v":"0"},{"$f":"IF('Aonad 37'!$C$7=$D$59,COUNTIF('Aonad 37'!$C:$C,$D42),\"0\")","v":"0"},{"$f":"IF('Aonad 38'!$C$7=$D$59,COUNTIF('Aonad 38'!$C:$C,$D42),\"0\")","v":"0"},0,null,{"$f":"IF('Aonad 1'!$C$7=$D$60,COUNTIF('Aonad 1'!$C:$C,$D42),\"0\")","v":"0"},{"$f":"IF('Aonad 2'!$C$7=$D$60,COUNTIF('Aonad 2'!$C:$C,$D42),\"0\")","v":"0"},{"$f":"IF('Aonad 3'!$C$7=$D$60,COUNTIF('Aonad 3'!$C:$C,$D42),\"0\")","v":"0"},{"$f":"IF('Aonad 4'!$C$7=$D$60,COUNTIF('Aonad 4'!$C:$C,$D42),\"0\")","v":"0"},{"$f":"IF('Aonad 5'!$C$7=$D$60,COUNTIF('Aonad 5'!$C:$C,$D42),\"0\")","v":"0"},{"$f":"IF('Aonad 6'!$C$7=$D$60,COUNTIF('Aonad 6'!$C:$C,$D42),\"0\")","v":"0"},{"$f":"IF('Aonad 7'!$C$7=$D$60,COUNTIF('Aonad 7'!$C:$C,$D42),\"0\")","v":"0"},{"$f":"IF('Aonad 8'!$C$7=$D$60,COUNTIF('Aonad 8'!$C:$C,$D42),\"0\")","v":"0"},{"$f":"IF('Aonad 9'!$C$7=$D$60,COUNTIF('Aonad 9'!$C:$C,$D42),\"0\")","v":"0"},{"$f":"IF('Aonad 10'!$C$7=$D$60,COUNTIF('Aonad 10'!$C:$C,$D42),\"0\")","v":"0"},{"$f":"IF('Aonad 11'!$C$7=$D$60,COUNTIF('Aonad 11'!$C:$C,$D42),\"0\")","v":"0"},{"$f":"IF('Aonad 12'!$C$7=$D$60,COUNTIF('Aonad 12'!$C:$C,$D42),\"0\")","v":"0"},{"$f":"IF('Aonad 13'!$C$7=$D$60,COUNTIF('Aonad 13'!$C:$C,$D42),\"0\")","v":"0"},{"$f":"IF('Aonad 14'!$C$7=$D$60,COUNTIF('Aonad 14'!$C:$C,$D42),\"0\")","v":"0"},{"$f":"IF('Aonad 15'!$C$7=$D$60,COUNTIF('Aonad 15'!$C:$C,$D42),\"0\")","v":"0"},{"$f":"IF('Aonad 16'!$C$7=$D$60,COUNTIF('Aonad 16'!$C:$C,$D42),\"0\")","v":"0"},{"$f":"IF('Aonad 17'!$C$7=$D$60,COUNTIF('Aonad 17'!$C:$C,$D42),\"0\")","v":"0"},{"$f":"IF('Aonad 18'!$C$7=$D$60,COUNTIF('Aonad 18'!$C:$C,$D42),\"0\")","v":"0"},{"$f":"IF('Aonad 19'!$C$7=$D$60,COUNTIF('Aonad 19'!$C:$C,$D42),\"0\")","v":"0"},{"$f":"IF('Aonad 20'!$C$7=$D$60,COUNTIF('Aonad 20'!$C:$C,$D42),\"0\")","v":"0"},{"$f":"IF('Aonad 21'!$C$7=$D$60,COUNTIF('Aonad 21'!$C:$C,$D42),\"0\")","v":"0"},{"$f":"IF('Aonad 22'!$C$7=$D$60,COUNTIF('Aonad 22'!$C:$C,$D42),\"0\")","v":"0"},{"$f":"IF('Aonad 23'!$C$7=$D$60,COUNTIF('Aonad 23'!$C:$C,$D42),\"0\")","v":"0"},{"$f":"IF('Aonad 24'!$C$7=$D$60,COUNTIF('Aonad 24'!$C:$C,$D42),\"0\")","v":"0"},{"$f":"IF('Aonad 25'!$C$7=$D$60,COUNTIF('Aonad 25'!$C:$C,$D42),\"0\")","v":"0"},{"$f":"IF('Aonad 26'!$C$7=$D$60,COUNTIF('Aonad 26'!$C:$C,$D42),\"0\")","v":"0"},{"$f":"IF('Aonad 27'!$C$7=$D$60,COUNTIF('Aonad 27'!$C:$C,$D42),\"0\")","v":"0"},{"$f":"IF('Aonad 28'!$C$7=$D$60,COUNTIF('Aonad 28'!$C:$C,$D42),\"0\")","v":"0"},{"$f":"IF('Aonad 29'!$C$7=$D$60,COUNTIF('Aonad 29'!$C:$C,$D42),\"0\")","v":"0"},{"$f":"IF('Aonad 30'!$C$7=$D$60,COUNTIF('Aonad 30'!$C:$C,$D42),\"0\")","v":"0"},{"$f":"IF('Aonad 31'!$C$7=$D$60,COUNTIF('Aonad 31'!$C:$C,$D42),\"0\")","v":"0"},{"$f":"IF('Aonad 32'!$C$7=$D$60,COUNTIF('Aonad 32'!$C:$C,$D42),\"0\")","v":"0"},{"$f":"IF('Aonad 33'!$C$7=$D$60,COUNTIF('Aonad 33'!$C:$C,$D42),\"0\")","v":"0"},{"$f":"IF('Aonad 34'!$C$7=$D$60,COUNTIF('Aonad 34'!$C:$C,$D42),\"0\")","v":"0"},{"$f":"IF('Aonad 35'!$C$7=$D$60,COUNTIF('Aonad 35'!$C:$C,$D42),\"0\")","v":"0"},{"$f":"IF('Aonad 36'!$C$7=$D$60,COUNTIF('Aonad 36'!$C:$C,$D42),\"0\")","v":"0"},{"$f":"IF('Aonad 37'!$C$7=$D$60,COUNTIF('Aonad 37'!$C:$C,$D42),\"0\")","v":"0"},{"$f":"IF('Aonad 38'!$C$7=$D$60,COUNTIF('Aonad 38'!$C:$C,$D42),\"0\")","v":"0"},0]
[null,null,null,null,null,{"$f":"COUNTIF('Aonad 1'!$C:$C,$D43)","v":0},{"$f":"COUNTIF('Aonad 2'!$C:$C,$D43)","v":0},{"$f":"COUNTIF('Aonad 3'!$C:$C,$D43)","v":0},{"$f":"COUNTIF('Aonad 4'!$C:$C,$D43)","v":0},{"$f":"COUNTIF('Aonad 5'!$C:$C,$D43)","v":0},{"$f":"COUNTIF('Aonad 6'!$C:$C,$D43)","v":0},{"$f":"COUNTIF('Aonad 7'!$C:$C,$D43)","v":0},{"$f":"COUNTIF('Aonad 8'!$C:$C,$D43)","v":0},{"$f":"COUNTIF('Aonad 9'!$C:$C,$D43)","v":0},{"$f":"COUNTIF('Aonad 10'!$C:$C,$D43)","v":0},{"$f":"COUNTIF('Aonad 11'!$C:$C,$D43)","v":0},{"$f":"COUNTIF('Aonad 12'!$C:$C,$D43)","v":0},{"$f":"COUNTIF('Aonad 13'!$C:$C,$D43)","v":0},{"$f":"COUNTIF('Aonad 14'!$C:$C,$D43)","v":0},{"$f":"COUNTIF('Aonad 15'!$C:$C,$D43)","v":0},{"$f":"COUNTIF('Aonad 16'!$C:$C,$D43)","v":0},{"$f":"COUNTIF('Aonad 17'!$C:$C,$D43)","v":0},{"$f":"COUNTIF('Aonad 18'!$C:$C,$D43)","v":0},{"$f":"COUNTIF('Aonad 19'!$C:$C,$D43)","v":0},{"$f":"COUNTIF('Aonad 20'!$C:$C,$D43)","v":0},{"$f":"COUNTIF('Aonad 21'!$C:$C,$D43)","v":0},{"$f":"COUNTIF('Aonad 22'!$C:$C,$D43)","v":0},{"$f":"COUNTIF('Aonad 23'!$C:$C,$D43)","v":0},{"$f":"COUNTIF('Aonad 24'!$C:$C,$D43)","v":0},{"$f":"COUNTIF('Aonad 25'!$C:$C,$D43)","v":0},{"$f":"COUNTIF('Aonad 26'!$C:$C,$D43)","v":0},{"$f":"COUNTIF('Aonad 27'!$C:$C,$D43)","v":0},{"$f":"COUNTIF('Aonad 28'!$C:$C,$D43)","v":0},{"$f":"COUNTIF('Aonad 29'!$C:$C,$D43)","v":0},{"$f":"COUNTIF('Aonad 30'!$C:$C,$D43)","v":0},{"$f":"COUNTIF('Aonad 31'!$C:$C,$D43)","v":0},{"$f":"COUNTIF('Aonad 32'!$C:$C,$D43)","v":0},{"$f":"COUNTIF('Aonad 33'!$C:$C,$D43)","v":0},{"$f":"COUNTIF('Aonad 34'!$C:$C,$D43)","v":0},{"$f":"COUNTIF('Aonad 35'!$C:$C,$D43)","v":0},{"$f":"COUNTIF('Aonad 36'!$C:$C,$D43)","v":0},{"$f":"COUNTIF('Aonad 37'!$C:$C,$D43)","v":0},{"$f":"COUNTIF('Aonad 38'!$C:$C,$D43)","v":0},0,null,{"$f":"IF('Aonad 1'!$C$7=$D$58,COUNTIF('Aonad 1'!$C:$C,$D43),\"0\")","v":"0"},{"$f":"IF('Aonad 2'!$C$7=$D$58,COUNTIF('Aonad 2'!$C:$C,$D43),\"0\")","v":"0"},{"$f":"IF('Aonad 3'!$C$7=$D$58,COUNTIF('Aonad 3'!$C:$C,$D43),\"0\")","v":"0"},{"$f":"IF('Aonad 4'!$C$7=$D$58,COUNTIF('Aonad 4'!$C:$C,$D43),\"0\")","v":"0"},{"$f":"IF('Aonad 5'!$C$7=$D$58,COUNTIF('Aonad 5'!$C:$C,$D43),\"0\")","v":"0"},{"$f":"IF('Aonad 6'!$C$7=$D$58,COUNTIF('Aonad 6'!$C:$C,$D43),\"0\")","v":"0"},{"$f":"IF('Aonad 7'!$C$7=$D$58,COUNTIF('Aonad 7'!$C:$C,$D43),\"0\")","v":"0"},{"$f":"IF('Aonad 8'!$C$7=$D$58,COUNTIF('Aonad 8'!$C:$C,$D43),\"0\")","v":"0"},{"$f":"IF('Aonad 9'!$C$7=$D$58,COUNTIF('Aonad 9'!$C:$C,$D43),\"0\")","v":"0"},{"$f":"IF('Aonad 10'!$C$7=$D$58,COUNTIF('Aonad 10'!$C:$C,$D43),\"0\")","v":"0"},{"$f":"IF('Aonad 11'!$C$7=$D$58,COUNTIF('Aonad 11'!$C:$C,$D43),\"0\")","v":"0"},{"$f":"IF('Aonad 12'!$C$7=$D$58,COUNTIF('Aonad 12'!$C:$C,$D43),\"0\")","v":"0"},{"$f":"IF('Aonad 13'!$C$7=$D$58,COUNTIF('Aonad 13'!$C:$C,$D43),\"0\")","v":"0"},{"$f":"IF('Aonad 14'!$C$7=$D$58,COUNTIF('Aonad 14'!$C:$C,$D43),\"0\")","v":"0"},{"$f":"IF('Aonad 15'!$C$7=$D$58,COUNTIF('Aonad 15'!$C:$C,$D43),\"0\")","v":"0"},{"$f":"IF('Aonad 16'!$C$7=$D$58,COUNTIF('Aonad 16'!$C:$C,$D43),\"0\")","v":"0"},{"$f":"IF('Aonad 17'!$C$7=$D$58,COUNTIF('Aonad 17'!$C:$C,$D43),\"0\")","v":"0"},{"$f":"IF('Aonad 18'!$C$7=$D$58,COUNTIF('Aonad 18'!$C:$C,$D43),\"0\")","v":"0"},{"$f":"IF('Aonad 19'!$C$7=$D$58,COUNTIF('Aonad 19'!$C:$C,$D43),\"0\")","v":"0"},{"$f":"IF('Aonad 20'!$C$7=$D$58,COUNTIF('Aonad 20'!$C:$C,$D43),\"0\")","v":"0"},{"$f":"IF('Aonad 21'!$C$7=$D$58,COUNTIF('Aonad 21'!$C:$C,$D43),\"0\")","v":"0"},{"$f":"IF('Aonad 22'!$C$7=$D$58,COUNTIF('Aonad 22'!$C:$C,$D43),\"0\")","v":"0"},{"$f":"IF('Aonad 23'!$C$7=$D$58,COUNTIF('Aonad 23'!$C:$C,$D43),\"0\")","v":"0"},{"$f":"IF('Aonad 24'!$C$7=$D$58,COUNTIF('Aonad 24'!$C:$C,$D43),\"0\")","v":"0"},{"$f":"IF('Aonad 25'!$C$7=$D$58,COUNTIF('Aonad 25'!$C:$C,$D43),\"0\")","v":"0"},{"$f":"IF('Aonad 26'!$C$7=$D$58,COUNTIF('Aonad 26'!$C:$C,$D43),\"0\")","v":"0"},{"$f":"IF('Aonad 27'!$C$7=$D$58,COUNTIF('Aonad 27'!$C:$C,$D43),\"0\")","v":"0"},{"$f":"IF('Aonad 28'!$C$7=$D$58,COUNTIF('Aonad 28'!$C:$C,$D43),\"0\")","v":"0"},{"$f":"IF('Aonad 29'!$C$7=$D$58,COUNTIF('Aonad 29'!$C:$C,$D43),\"0\")","v":"0"},{"$f":"IF('Aonad 30'!$C$7=$D$58,COUNTIF('Aonad 30'!$C:$C,$D43),\"0\")","v":"0"},{"$f":"IF('Aonad 31'!$C$7=$D$58,COUNTIF('Aonad 31'!$C:$C,$D43),\"0\")","v":"0"},{"$f":"IF('Aonad 32'!$C$7=$D$58,COUNTIF('Aonad 32'!$C:$C,$D43),\"0\")","v":"0"},{"$f":"IF('Aonad 33'!$C$7=$D$58,COUNTIF('Aonad 33'!$C:$C,$D43),\"0\")","v":"0"},{"$f":"IF('Aonad 34'!$C$7=$D$58,COUNTIF('Aonad 34'!$C:$C,$D43),\"0\")","v":"0"},{"$f":"IF('Aonad 35'!$C$7=$D$58,COUNTIF('Aonad 35'!$C:$C,$D43),\"0\")","v":"0"},{"$f":"IF('Aonad 36'!$C$7=$D$58,COUNTIF('Aonad 36'!$C:$C,$D43),\"0\")","v":"0"},{"$f":"IF('Aonad 37'!$C$7=$D$58,COUNTIF('Aonad 37'!$C:$C,$D43),\"0\")","v":"0"},{"$f":"IF('Aonad 38'!$C$7=$D$58,COUNTIF('Aonad 38'!$C:$C,$D43),\"0\")","v":"0"},0,null,{"$f":"IF('Aonad 1'!$C$7=$D$59,COUNTIF('Aonad 1'!$C:$C,$D43),\"0\")","v":"0"},{"$f":"IF('Aonad 2'!$C$7=$D$59,COUNTIF('Aonad 2'!$C:$C,$D43),\"0\")","v":"0"},{"$f":"IF('Aonad 3'!$C$7=$D$59,COUNTIF('Aonad 3'!$C:$C,$D43),\"0\")","v":"0"},{"$f":"IF('Aonad 4'!$C$7=$D$59,COUNTIF('Aonad 4'!$C:$C,$D43),\"0\")","v":"0"},{"$f":"IF('Aonad 5'!$C$7=$D$59,COUNTIF('Aonad 5'!$C:$C,$D43),\"0\")","v":"0"},{"$f":"IF('Aonad 6'!$C$7=$D$59,COUNTIF('Aonad 6'!$C:$C,$D43),\"0\")","v":"0"},{"$f":"IF('Aonad 7'!$C$7=$D$59,COUNTIF('Aonad 7'!$C:$C,$D43),\"0\")","v":"0"},{"$f":"IF('Aonad 8'!$C$7=$D$59,COUNTIF('Aonad 8'!$C:$C,$D43),\"0\")","v":"0"},{"$f":"IF('Aonad 9'!$C$7=$D$59,COUNTIF('Aonad 9'!$C:$C,$D43),\"0\")","v":"0"},{"$f":"IF('Aonad 10'!$C$7=$D$59,COUNTIF('Aonad 10'!$C:$C,$D43),\"0\")","v":"0"},{"$f":"IF('Aonad 11'!$C$7=$D$59,COUNTIF('Aonad 11'!$C:$C,$D43),\"0\")","v":"0"},{"$f":"IF('Aonad 12'!$C$7=$D$59,COUNTIF('Aonad 12'!$C:$C,$D43),\"0\")","v":"0"},{"$f":"IF('Aonad 13'!$C$7=$D$59,COUNTIF('Aonad 13'!$C:$C,$D43),\"0\")","v":"0"},{"$f":"IF('Aonad 14'!$C$7=$D$59,COUNTIF('Aonad 14'!$C:$C,$D43),\"0\")","v":"0"},{"$f":"IF('Aonad 15'!$C$7=$D$59,COUNTIF('Aonad 15'!$C:$C,$D43),\"0\")","v":"0"},{"$f":"IF('Aonad 16'!$C$7=$D$59,COUNTIF('Aonad 16'!$C:$C,$D43),\"0\")","v":"0"},{"$f":"IF('Aonad 17'!$C$7=$D$59,COUNTIF('Aonad 17'!$C:$C,$D43),\"0\")","v":"0"},{"$f":"IF('Aonad 18'!$C$7=$D$59,COUNTIF('Aonad 18'!$C:$C,$D43),\"0\")","v":"0"},{"$f":"IF('Aonad 19'!$C$7=$D$59,COUNTIF('Aonad 19'!$C:$C,$D43),\"0\")","v":"0"},{"$f":"IF('Aonad 20'!$C$7=$D$59,COUNTIF('Aonad 20'!$C:$C,$D43),\"0\")","v":"0"},{"$f":"IF('Aonad 21'!$C$7=$D$59,COUNTIF('Aonad 21'!$C:$C,$D43),\"0\")","v":"0"},{"$f":"IF('Aonad 22'!$C$7=$D$59,COUNTIF('Aonad 22'!$C:$C,$D43),\"0\")","v":"0"},{"$f":"IF('Aonad 23'!$C$7=$D$59,COUNTIF('Aonad 23'!$C:$C,$D43),\"0\")","v":"0"},{"$f":"IF('Aonad 24'!$C$7=$D$59,COUNTIF('Aonad 24'!$C:$C,$D43),\"0\")","v":"0"},{"$f":"IF('Aonad 25'!$C$7=$D$59,COUNTIF('Aonad 25'!$C:$C,$D43),\"0\")","v":"0"},{"$f":"IF('Aonad 26'!$C$7=$D$59,COUNTIF('Aonad 26'!$C:$C,$D43),\"0\")","v":"0"},{"$f":"IF('Aonad 27'!$C$7=$D$59,COUNTIF('Aonad 27'!$C:$C,$D43),\"0\")","v":"0"},{"$f":"IF('Aonad 28'!$C$7=$D$59,COUNTIF('Aonad 28'!$C:$C,$D43),\"0\")","v":"0"},{"$f":"IF('Aonad 29'!$C$7=$D$59,COUNTIF('Aonad 29'!$C:$C,$D43),\"0\")","v":"0"},{"$f":"IF('Aonad 30'!$C$7=$D$59,COUNTIF('Aonad 30'!$C:$C,$D43),\"0\")","v":"0"},{"$f":"IF('Aonad 31'!$C$7=$D$59,COUNTIF('Aonad 31'!$C:$C,$D43),\"0\")","v":"0"},{"$f":"IF('Aonad 32'!$C$7=$D$59,COUNTIF('Aonad 32'!$C:$C,$D43),\"0\")","v":"0"},{"$f":"IF('Aonad 33'!$C$7=$D$59,COUNTIF('Aonad 33'!$C:$C,$D43),\"0\")","v":"0"},{"$f":"IF('Aonad 34'!$C$7=$D$59,COUNTIF('Aonad 34'!$C:$C,$D43),\"0\")","v":"0"},{"$f":"IF('Aonad 35'!$C$7=$D$59,COUNTIF('Aonad 35'!$C:$C,$D43),\"0\")","v":"0"},{"$f":"IF('Aonad 36'!$C$7=$D$59,COUNTIF('Aonad 36'!$C:$C,$D43),\"0\")","v":"0"},{"$f":"IF('Aonad 37'!$C$7=$D$59,COUNTIF('Aonad 37'!$C:$C,$D43),\"0\")","v":"0"},{"$f":"IF('Aonad 38'!$C$7=$D$59,COUNTIF('Aonad 38'!$C:$C,$D43),\"0\")","v":"0"},0,null,{"$f":"IF('Aonad 1'!$C$7=$D$60,COUNTIF('Aonad 1'!$C:$C,$D43),\"0\")","v":"0"},{"$f":"IF('Aonad 2'!$C$7=$D$60,COUNTIF('Aonad 2'!$C:$C,$D43),\"0\")","v":"0"},{"$f":"IF('Aonad 3'!$C$7=$D$60,COUNTIF('Aonad 3'!$C:$C,$D43),\"0\")","v":"0"},{"$f":"IF('Aonad 4'!$C$7=$D$60,COUNTIF('Aonad 4'!$C:$C,$D43),\"0\")","v":"0"},{"$f":"IF('Aonad 5'!$C$7=$D$60,COUNTIF('Aonad 5'!$C:$C,$D43),\"0\")","v":"0"},{"$f":"IF('Aonad 6'!$C$7=$D$60,COUNTIF('Aonad 6'!$C:$C,$D43),\"0\")","v":"0"},{"$f":"IF('Aonad 7'!$C$7=$D$60,COUNTIF('Aonad 7'!$C:$C,$D43),\"0\")","v":"0"},{"$f":"IF('Aonad 8'!$C$7=$D$60,COUNTIF('Aonad 8'!$C:$C,$D43),\"0\")","v":"0"},{"$f":"IF('Aonad 9'!$C$7=$D$60,COUNTIF('Aonad 9'!$C:$C,$D43),\"0\")","v":"0"},{"$f":"IF('Aonad 10'!$C$7=$D$60,COUNTIF('Aonad 10'!$C:$C,$D43),\"0\")","v":"0"},{"$f":"IF('Aonad 11'!$C$7=$D$60,COUNTIF('Aonad 11'!$C:$C,$D43),\"0\")","v":"0"},{"$f":"IF('Aonad 12'!$C$7=$D$60,COUNTIF('Aonad 12'!$C:$C,$D43),\"0\")","v":"0"},{"$f":"IF('Aonad 13'!$C$7=$D$60,COUNTIF('Aonad 13'!$C:$C,$D43),\"0\")","v":"0"},{"$f":"IF('Aonad 14'!$C$7=$D$60,COUNTIF('Aonad 14'!$C:$C,$D43),\"0\")","v":"0"},{"$f":"IF('Aonad 15'!$C$7=$D$60,COUNTIF('Aonad 15'!$C:$C,$D43),\"0\")","v":"0"},{"$f":"IF('Aonad 16'!$C$7=$D$60,COUNTIF('Aonad 16'!$C:$C,$D43),\"0\")","v":"0"},{"$f":"IF('Aonad 17'!$C$7=$D$60,COUNTIF('Aonad 17'!$C:$C,$D43),\"0\")","v":"0"},{"$f":"IF('Aonad 18'!$C$7=$D$60,COUNTIF('Aonad 18'!$C:$C,$D43),\"0\")","v":"0"},{"$f":"IF('Aonad 19'!$C$7=$D$60,COUNTIF('Aonad 19'!$C:$C,$D43),\"0\")","v":"0"},{"$f":"IF('Aonad 20'!$C$7=$D$60,COUNTIF('Aonad 20'!$C:$C,$D43),\"0\")","v":"0"},{"$f":"IF('Aonad 21'!$C$7=$D$60,COUNTIF('Aonad 21'!$C:$C,$D43),\"0\")","v":"0"},{"$f":"IF('Aonad 22'!$C$7=$D$60,COUNTIF('Aonad 22'!$C:$C,$D43),\"0\")","v":"0"},{"$f":"IF('Aonad 23'!$C$7=$D$60,COUNTIF('Aonad 23'!$C:$C,$D43),\"0\")","v":"0"},{"$f":"IF('Aonad 24'!$C$7=$D$60,COUNTIF('Aonad 24'!$C:$C,$D43),\"0\")","v":"0"},{"$f":"IF('Aonad 25'!$C$7=$D$60,COUNTIF('Aonad 25'!$C:$C,$D43),\"0\")","v":"0"},{"$f":"IF('Aonad 26'!$C$7=$D$60,COUNTIF('Aonad 26'!$C:$C,$D43),\"0\")","v":"0"},{"$f":"IF('Aonad 27'!$C$7=$D$60,COUNTIF('Aonad 27'!$C:$C,$D43),\"0\")","v":"0"},{"$f":"IF('Aonad 28'!$C$7=$D$60,COUNTIF('Aonad 28'!$C:$C,$D43),\"0\")","v":"0"},{"$f":"IF('Aonad 29'!$C$7=$D$60,COUNTIF('Aonad 29'!$C:$C,$D43),\"0\")","v":"0"},{"$f":"IF('Aonad 30'!$C$7=$D$60,COUNTIF('Aonad 30'!$C:$C,$D43),\"0\")","v":"0"},{"$f":"IF('Aonad 31'!$C$7=$D$60,COUNTIF('Aonad 31'!$C:$C,$D43),\"0\")","v":"0"},{"$f":"IF('Aonad 32'!$C$7=$D$60,COUNTIF('Aonad 32'!$C:$C,$D43),\"0\")","v":"0"},{"$f":"IF('Aonad 33'!$C$7=$D$60,COUNTIF('Aonad 33'!$C:$C,$D43),\"0\")","v":"0"},{"$f":"IF('Aonad 34'!$C$7=$D$60,COUNTIF('Aonad 34'!$C:$C,$D43),\"0\")","v":"0"},{"$f":"IF('Aonad 35'!$C$7=$D$60,COUNTIF('Aonad 35'!$C:$C,$D43),\"0\")","v":"0"},{"$f":"IF('Aonad 36'!$C$7=$D$60,COUNTIF('Aonad 36'!$C:$C,$D43),\"0\")","v":"0"},{"$f":"IF('Aonad 37'!$C$7=$D$60,COUNTIF('Aonad 37'!$C:$C,$D43),\"0\")","v":"0"},{"$f":"IF('Aonad 38'!$C$7=$D$60,COUNTIF('Aonad 38'!$C:$C,$D43),\"0\")","v":"0"},0]
[null,{"$f":"B12","v":"Dearadh agus nuálaíocht"},"3.3","3.3 míniú a thabhairt ar an gcaoi a dtéann an cine daonna, an tsochaí agus an comhshaol i bhfeidhm ar réitigh agus ar thorthaí","Mínigh: mionchuntas a thabhairt lena n-áirítear fáthanna nó cúiseanna",{"$f":"COUNTIF('Aonad 1'!$C:$C,$D44)","v":0},{"$f":"COUNTIF('Aonad 2'!$C:$C,$D44)","v":0},{"$f":"COUNTIF('Aonad 3'!$C:$C,$D44)","v":0},{"$f":"COUNTIF('Aonad 4'!$C:$C,$D44)","v":0},{"$f":"COUNTIF('Aonad 5'!$C:$C,$D44)","v":0},{"$f":"COUNTIF('Aonad 6'!$C:$C,$D44)","v":0},{"$f":"COUNTIF('Aonad 7'!$C:$C,$D44)","v":0},{"$f":"COUNTIF('Aonad 8'!$C:$C,$D44)","v":0},{"$f":"COUNTIF('Aonad 9'!$C:$C,$D44)","v":0},{"$f":"COUNTIF('Aonad 10'!$C:$C,$D44)","v":0},{"$f":"COUNTIF('Aonad 11'!$C:$C,$D44)","v":0},{"$f":"COUNTIF('Aonad 12'!$C:$C,$D44)","v":0},{"$f":"COUNTIF('Aonad 13'!$C:$C,$D44)","v":0},{"$f":"COUNTIF('Aonad 14'!$C:$C,$D44)","v":0},{"$f":"COUNTIF('Aonad 15'!$C:$C,$D44)","v":0},{"$f":"COUNTIF('Aonad 16'!$C:$C,$D44)","v":0},{"$f":"COUNTIF('Aonad 17'!$C:$C,$D44)","v":0},{"$f":"COUNTIF('Aonad 18'!$C:$C,$D44)","v":0},{"$f":"COUNTIF('Aonad 19'!$C:$C,$D44)","v":0},{"$f":"COUNTIF('Aonad 20'!$C:$C,$D44)","v":0},{"$f":"COUNTIF('Aonad 21'!$C:$C,$D44)","v":0},{"$f":"COUNTIF('Aonad 22'!$C:$C,$D44)","v":0},{"$f":"COUNTIF('Aonad 23'!$C:$C,$D44)","v":0},{"$f":"COUNTIF('Aonad 24'!$C:$C,$D44)","v":0},{"$f":"COUNTIF('Aonad 25'!$C:$C,$D44)","v":0},{"$f":"COUNTIF('Aonad 26'!$C:$C,$D44)","v":0},{"$f":"COUNTIF('Aonad 27'!$C:$C,$D44)","v":0},{"$f":"COUNTIF('Aonad 28'!$C:$C,$D44)","v":0},{"$f":"COUNTIF('Aonad 29'!$C:$C,$D44)","v":0},{"$f":"COUNTIF('Aonad 30'!$C:$C,$D44)","v":0},{"$f":"COUNTIF('Aonad 31'!$C:$C,$D44)","v":0},{"$f":"COUNTIF('Aonad 32'!$C:$C,$D44)","v":0},{"$f":"COUNTIF('Aonad 33'!$C:$C,$D44)","v":0},{"$f":"COUNTIF('Aonad 34'!$C:$C,$D44)","v":0},{"$f":"COUNTIF('Aonad 35'!$C:$C,$D44)","v":0},{"$f":"COUNTIF('Aonad 36'!$C:$C,$D44)","v":0},{"$f":"COUNTIF('Aonad 37'!$C:$C,$D44)","v":0},{"$f":"COUNTIF('Aonad 38'!$C:$C,$D44)","v":0},0,null,{"$f":"IF('Aonad 1'!$C$7=$D$58,COUNTIF('Aonad 1'!$C:$C,$D44),\"0\")","v":"0"},{"$f":"IF('Aonad 2'!$C$7=$D$58,COUNTIF('Aonad 2'!$C:$C,$D44),\"0\")","v":"0"},{"$f":"IF('Aonad 3'!$C$7=$D$58,COUNTIF('Aonad 3'!$C:$C,$D44),\"0\")","v":"0"},{"$f":"IF('Aonad 4'!$C$7=$D$58,COUNTIF('Aonad 4'!$C:$C,$D44),\"0\")","v":"0"},{"$f":"IF('Aonad 5'!$C$7=$D$58,COUNTIF('Aonad 5'!$C:$C,$D44),\"0\")","v":"0"},{"$f":"IF('Aonad 6'!$C$7=$D$58,COUNTIF('Aonad 6'!$C:$C,$D44),\"0\")","v":"0"},{"$f":"IF('Aonad 7'!$C$7=$D$58,COUNTIF('Aonad 7'!$C:$C,$D44),\"0\")","v":"0"},{"$f":"IF('Aonad 8'!$C$7=$D$58,COUNTIF('Aonad 8'!$C:$C,$D44),\"0\")","v":"0"},{"$f":"IF('Aonad 9'!$C$7=$D$58,COUNTIF('Aonad 9'!$C:$C,$D44),\"0\")","v":"0"},{"$f":"IF('Aonad 10'!$C$7=$D$58,COUNTIF('Aonad 10'!$C:$C,$D44),\"0\")","v":"0"},{"$f":"IF('Aonad 11'!$C$7=$D$58,COUNTIF('Aonad 11'!$C:$C,$D44),\"0\")","v":"0"},{"$f":"IF('Aonad 12'!$C$7=$D$58,COUNTIF('Aonad 12'!$C:$C,$D44),\"0\")","v":"0"},{"$f":"IF('Aonad 13'!$C$7=$D$58,COUNTIF('Aonad 13'!$C:$C,$D44),\"0\")","v":"0"},{"$f":"IF('Aonad 14'!$C$7=$D$58,COUNTIF('Aonad 14'!$C:$C,$D44),\"0\")","v":"0"},{"$f":"IF('Aonad 15'!$C$7=$D$58,COUNTIF('Aonad 15'!$C:$C,$D44),\"0\")","v":"0"},{"$f":"IF('Aonad 16'!$C$7=$D$58,COUNTIF('Aonad 16'!$C:$C,$D44),\"0\")","v":"0"},{"$f":"IF('Aonad 17'!$C$7=$D$58,COUNTIF('Aonad 17'!$C:$C,$D44),\"0\")","v":"0"},{"$f":"IF('Aonad 18'!$C$7=$D$58,COUNTIF('Aonad 18'!$C:$C,$D44),\"0\")","v":"0"},{"$f":"IF('Aonad 19'!$C$7=$D$58,COUNTIF('Aonad 19'!$C:$C,$D44),\"0\")","v":"0"},{"$f":"IF('Aonad 20'!$C$7=$D$58,COUNTIF('Aonad 20'!$C:$C,$D44),\"0\")","v":"0"},{"$f":"IF('Aonad 21'!$C$7=$D$58,COUNTIF('Aonad 21'!$C:$C,$D44),\"0\")","v":"0"},{"$f":"IF('Aonad 22'!$C$7=$D$58,COUNTIF('Aonad 22'!$C:$C,$D44),\"0\")","v":"0"},{"$f":"IF('Aonad 23'!$C$7=$D$58,COUNTIF('Aonad 23'!$C:$C,$D44),\"0\")","v":"0"},{"$f":"IF('Aonad 24'!$C$7=$D$58,COUNTIF('Aonad 24'!$C:$C,$D44),\"0\")","v":"0"},{"$f":"IF('Aonad 25'!$C$7=$D$58,COUNTIF('Aonad 25'!$C:$C,$D44),\"0\")","v":"0"},{"$f":"IF('Aonad 26'!$C$7=$D$58,COUNTIF('Aonad 26'!$C:$C,$D44),\"0\")","v":"0"},{"$f":"IF('Aonad 27'!$C$7=$D$58,COUNTIF('Aonad 27'!$C:$C,$D44),\"0\")","v":"0"},{"$f":"IF('Aonad 28'!$C$7=$D$58,COUNTIF('Aonad 28'!$C:$C,$D44),\"0\")","v":"0"},{"$f":"IF('Aonad 29'!$C$7=$D$58,COUNTIF('Aonad 29'!$C:$C,$D44),\"0\")","v":"0"},{"$f":"IF('Aonad 30'!$C$7=$D$58,COUNTIF('Aonad 30'!$C:$C,$D44),\"0\")","v":"0"},{"$f":"IF('Aonad 31'!$C$7=$D$58,COUNTIF('Aonad 31'!$C:$C,$D44),\"0\")","v":"0"},{"$f":"IF('Aonad 32'!$C$7=$D$58,COUNTIF('Aonad 32'!$C:$C,$D44),\"0\")","v":"0"},{"$f":"IF('Aonad 33'!$C$7=$D$58,COUNTIF('Aonad 33'!$C:$C,$D44),\"0\")","v":"0"},{"$f":"IF('Aonad 34'!$C$7=$D$58,COUNTIF('Aonad 34'!$C:$C,$D44),\"0\")","v":"0"},{"$f":"IF('Aonad 35'!$C$7=$D$58,COUNTIF('Aonad 35'!$C:$C,$D44),\"0\")","v":"0"},{"$f":"IF('Aonad 36'!$C$7=$D$58,COUNTIF('Aonad 36'!$C:$C,$D44),\"0\")","v":"0"},{"$f":"IF('Aonad 37'!$C$7=$D$58,COUNTIF('Aonad 37'!$C:$C,$D44),\"0\")","v":"0"},{"$f":"IF('Aonad 38'!$C$7=$D$58,COUNTIF('Aonad 38'!$C:$C,$D44),\"0\")","v":"0"},0,null,{"$f":"IF('Aonad 1'!$C$7=$D$59,COUNTIF('Aonad 1'!$C:$C,$D44),\"0\")","v":"0"},{"$f":"IF('Aonad 2'!$C$7=$D$59,COUNTIF('Aonad 2'!$C:$C,$D44),\"0\")","v":"0"},{"$f":"IF('Aonad 3'!$C$7=$D$59,COUNTIF('Aonad 3'!$C:$C,$D44),\"0\")","v":"0"},{"$f":"IF('Aonad 4'!$C$7=$D$59,COUNTIF('Aonad 4'!$C:$C,$D44),\"0\")","v":"0"},{"$f":"IF('Aonad 5'!$C$7=$D$59,COUNTIF('Aonad 5'!$C:$C,$D44),\"0\")","v":"0"},{"$f":"IF('Aonad 6'!$C$7=$D$59,COUNTIF('Aonad 6'!$C:$C,$D44),\"0\")","v":"0"},{"$f":"IF('Aonad 7'!$C$7=$D$59,COUNTIF('Aonad 7'!$C:$C,$D44),\"0\")","v":"0"},{"$f":"IF('Aonad 8'!$C$7=$D$59,COUNTIF('Aonad 8'!$C:$C,$D44),\"0\")","v":"0"},{"$f":"IF('Aonad 9'!$C$7=$D$59,COUNTIF('Aonad 9'!$C:$C,$D44),\"0\")","v":"0"},{"$f":"IF('Aonad 10'!$C$7=$D$59,COUNTIF('Aonad 10'!$C:$C,$D44),\"0\")","v":"0"},{"$f":"IF('Aonad 11'!$C$7=$D$59,COUNTIF('Aonad 11'!$C:$C,$D44),\"0\")","v":"0"},{"$f":"IF('Aonad 12'!$C$7=$D$59,COUNTIF('Aonad 12'!$C:$C,$D44),\"0\")","v":"0"},{"$f":"IF('Aonad 13'!$C$7=$D$59,COUNTIF('Aonad 13'!$C:$C,$D44),\"0\")","v":"0"},{"$f":"IF('Aonad 14'!$C$7=$D$59,COUNTIF('Aonad 14'!$C:$C,$D44),\"0\")","v":"0"},{"$f":"IF('Aonad 15'!$C$7=$D$59,COUNTIF('Aonad 15'!$C:$C,$D44),\"0\")","v":"0"},{"$f":"IF('Aonad 16'!$C$7=$D$59,COUNTIF('Aonad 16'!$C:$C,$D44),\"0\")","v":"0"},{"$f":"IF('Aonad 17'!$C$7=$D$59,COUNTIF('Aonad 17'!$C:$C,$D44),\"0\")","v":"0"},{"$f":"IF('Aonad 18'!$C$7=$D$59,COUNTIF('Aonad 18'!$C:$C,$D44),\"0\")","v":"0"},{"$f":"IF('Aonad 19'!$C$7=$D$59,COUNTIF('Aonad 19'!$C:$C,$D44),\"0\")","v":"0"},{"$f":"IF('Aonad 20'!$C$7=$D$59,COUNTIF('Aonad 20'!$C:$C,$D44),\"0\")","v":"0"},{"$f":"IF('Aonad 21'!$C$7=$D$59,COUNTIF('Aonad 21'!$C:$C,$D44),\"0\")","v":"0"},{"$f":"IF('Aonad 22'!$C$7=$D$59,COUNTIF('Aonad 22'!$C:$C,$D44),\"0\")","v":"0"},{"$f":"IF('Aonad 23'!$C$7=$D$59,COUNTIF('Aonad 23'!$C:$C,$D44),\"0\")","v":"0"},{"$f":"IF('Aonad 24'!$C$7=$D$59,COUNTIF('Aonad 24'!$C:$C,$D44),\"0\")","v":"0"},{"$f":"IF('Aonad 25'!$C$7=$D$59,COUNTIF('Aonad 25'!$C:$C,$D44),\"0\")","v":"0"},{"$f":"IF('Aonad 26'!$C$7=$D$59,COUNTIF('Aonad 26'!$C:$C,$D44),\"0\")","v":"0"},{"$f":"IF('Aonad 27'!$C$7=$D$59,COUNTIF('Aonad 27'!$C:$C,$D44),\"0\")","v":"0"},{"$f":"IF('Aonad 28'!$C$7=$D$59,COUNTIF('Aonad 28'!$C:$C,$D44),\"0\")","v":"0"},{"$f":"IF('Aonad 29'!$C$7=$D$59,COUNTIF('Aonad 29'!$C:$C,$D44),\"0\")","v":"0"},{"$f":"IF('Aonad 30'!$C$7=$D$59,COUNTIF('Aonad 30'!$C:$C,$D44),\"0\")","v":"0"},{"$f":"IF('Aonad 31'!$C$7=$D$59,COUNTIF('Aonad 31'!$C:$C,$D44),\"0\")","v":"0"},{"$f":"IF('Aonad 32'!$C$7=$D$59,COUNTIF('Aonad 32'!$C:$C,$D44),\"0\")","v":"0"},{"$f":"IF('Aonad 33'!$C$7=$D$59,COUNTIF('Aonad 33'!$C:$C,$D44),\"0\")","v":"0"},{"$f":"IF('Aonad 34'!$C$7=$D$59,COUNTIF('Aonad 34'!$C:$C,$D44),\"0\")","v":"0"},{"$f":"IF('Aonad 35'!$C$7=$D$59,COUNTIF('Aonad 35'!$C:$C,$D44),\"0\")","v":"0"},{"$f":"IF('Aonad 36'!$C$7=$D$59,COUNTIF('Aonad 36'!$C:$C,$D44),\"0\")","v":"0"},{"$f":"IF('Aonad 37'!$C$7=$D$59,COUNTIF('Aonad 37'!$C:$C,$D44),\"0\")","v":"0"},{"$f":"IF('Aonad 38'!$C$7=$D$59,COUNTIF('Aonad 38'!$C:$C,$D44),\"0\")","v":"0"},0,null,{"$f":"IF('Aonad 1'!$C$7=$D$60,COUNTIF('Aonad 1'!$C:$C,$D44),\"0\")","v":"0"},{"$f":"IF('Aonad 2'!$C$7=$D$60,COUNTIF('Aonad 2'!$C:$C,$D44),\"0\")","v":"0"},{"$f":"IF('Aonad 3'!$C$7=$D$60,COUNTIF('Aonad 3'!$C:$C,$D44),\"0\")","v":"0"},{"$f":"IF('Aonad 4'!$C$7=$D$60,COUNTIF('Aonad 4'!$C:$C,$D44),\"0\")","v":"0"},{"$f":"IF('Aonad 5'!$C$7=$D$60,COUNTIF('Aonad 5'!$C:$C,$D44),\"0\")","v":"0"},{"$f":"IF('Aonad 6'!$C$7=$D$60,COUNTIF('Aonad 6'!$C:$C,$D44),\"0\")","v":"0"},{"$f":"IF('Aonad 7'!$C$7=$D$60,COUNTIF('Aonad 7'!$C:$C,$D44),\"0\")","v":"0"},{"$f":"IF('Aonad 8'!$C$7=$D$60,COUNTIF('Aonad 8'!$C:$C,$D44),\"0\")","v":"0"},{"$f":"IF('Aonad 9'!$C$7=$D$60,COUNTIF('Aonad 9'!$C:$C,$D44),\"0\")","v":"0"},{"$f":"IF('Aonad 10'!$C$7=$D$60,COUNTIF('Aonad 10'!$C:$C,$D44),\"0\")","v":"0"},{"$f":"IF('Aonad 11'!$C$7=$D$60,COUNTIF('Aonad 11'!$C:$C,$D44),\"0\")","v":"0"},{"$f":"IF('Aonad 12'!$C$7=$D$60,COUNTIF('Aonad 12'!$C:$C,$D44),\"0\")","v":"0"},{"$f":"IF('Aonad 13'!$C$7=$D$60,COUNTIF('Aonad 13'!$C:$C,$D44),\"0\")","v":"0"},{"$f":"IF('Aonad 14'!$C$7=$D$60,COUNTIF('Aonad 14'!$C:$C,$D44),\"0\")","v":"0"},{"$f":"IF('Aonad 15'!$C$7=$D$60,COUNTIF('Aonad 15'!$C:$C,$D44),\"0\")","v":"0"},{"$f":"IF('Aonad 16'!$C$7=$D$60,COUNTIF('Aonad 16'!$C:$C,$D44),\"0\")","v":"0"},{"$f":"IF('Aonad 17'!$C$7=$D$60,COUNTIF('Aonad 17'!$C:$C,$D44),\"0\")","v":"0"},{"$f":"IF('Aonad 18'!$C$7=$D$60,COUNTIF('Aonad 18'!$C:$C,$D44),\"0\")","v":"0"},{"$f":"IF('Aonad 19'!$C$7=$D$60,COUNTIF('Aonad 19'!$C:$C,$D44),\"0\")","v":"0"},{"$f":"IF('Aonad 20'!$C$7=$D$60,COUNTIF('Aonad 20'!$C:$C,$D44),\"0\")","v":"0"},{"$f":"IF('Aonad 21'!$C$7=$D$60,COUNTIF('Aonad 21'!$C:$C,$D44),\"0\")","v":"0"},{"$f":"IF('Aonad 22'!$C$7=$D$60,COUNTIF('Aonad 22'!$C:$C,$D44),\"0\")","v":"0"},{"$f":"IF('Aonad 23'!$C$7=$D$60,COUNTIF('Aonad 23'!$C:$C,$D44),\"0\")","v":"0"},{"$f":"IF('Aonad 24'!$C$7=$D$60,COUNTIF('Aonad 24'!$C:$C,$D44),\"0\")","v":"0"},{"$f":"IF('Aonad 25'!$C$7=$D$60,COUNTIF('Aonad 25'!$C:$C,$D44),\"0\")","v":"0"},{"$f":"IF('Aonad 26'!$C$7=$D$60,COUNTIF('Aonad 26'!$C:$C,$D44),\"0\")","v":"0"},{"$f":"IF('Aonad 27'!$C$7=$D$60,COUNTIF('Aonad 27'!$C:$C,$D44),\"0\")","v":"0"},{"$f":"IF('Aonad 28'!$C$7=$D$60,COUNTIF('Aonad 28'!$C:$C,$D44),\"0\")","v":"0"},{"$f":"IF('Aonad 29'!$C$7=$D$60,COUNTIF('Aonad 29'!$C:$C,$D44),\"0\")","v":"0"},{"$f":"IF('Aonad 30'!$C$7=$D$60,COUNTIF('Aonad 30'!$C:$C,$D44),\"0\")","v":"0"},{"$f":"IF('Aonad 31'!$C$7=$D$60,COUNTIF('Aonad 31'!$C:$C,$D44),\"0\")","v":"0"},{"$f":"IF('Aonad 32'!$C$7=$D$60,COUNTIF('Aonad 32'!$C:$C,$D44),\"0\")","v":"0"},{"$f":"IF('Aonad 33'!$C$7=$D$60,COUNTIF('Aonad 33'!$C:$C,$D44),\"0\")","v":"0"},{"$f":"IF('Aonad 34'!$C$7=$D$60,COUNTIF('Aonad 34'!$C:$C,$D44),\"0\")","v":"0"},{"$f":"IF('Aonad 35'!$C$7=$D$60,COUNTIF('Aonad 35'!$C:$C,$D44),\"0\")","v":"0"},{"$f":"IF('Aonad 36'!$C$7=$D$60,COUNTIF('Aonad 36'!$C:$C,$D44),\"0\")","v":"0"},{"$f":"IF('Aonad 37'!$C$7=$D$60,COUNTIF('Aonad 37'!$C:$C,$D44),\"0\")","v":"0"},{"$f":"IF('Aonad 38'!$C$7=$D$60,COUNTIF('Aonad 38'!$C:$C,$D44),\"0\")","v":"0"},0]
[null,null,"3.4","3.4 an chaoi a gcuirtear an teicneolaíocht i bhfeidhm i gcomhthéacsanna áitiúla a fhiosrú","Fiosraigh: smaoineamh nó labhairt faoi rud éigin chun tuilleadh eolais a fháil ina leith",{"$f":"COUNTIF('Aonad 1'!$C:$C,$D45)","v":0},{"$f":"COUNTIF('Aonad 2'!$C:$C,$D45)","v":0},{"$f":"COUNTIF('Aonad 3'!$C:$C,$D45)","v":0},{"$f":"COUNTIF('Aonad 4'!$C:$C,$D45)","v":0},{"$f":"COUNTIF('Aonad 5'!$C:$C,$D45)","v":0},{"$f":"COUNTIF('Aonad 6'!$C:$C,$D45)","v":0},{"$f":"COUNTIF('Aonad 7'!$C:$C,$D45)","v":0},{"$f":"COUNTIF('Aonad 8'!$C:$C,$D45)","v":0},{"$f":"COUNTIF('Aonad 9'!$C:$C,$D45)","v":0},{"$f":"COUNTIF('Aonad 10'!$C:$C,$D45)","v":0},{"$f":"COUNTIF('Aonad 11'!$C:$C,$D45)","v":0},{"$f":"COUNTIF('Aonad 12'!$C:$C,$D45)","v":0},{"$f":"COUNTIF('Aonad 13'!$C:$C,$D45)","v":0},{"$f":"COUNTIF('Aonad 14'!$C:$C,$D45)","v":0},{"$f":"COUNTIF('Aonad 15'!$C:$C,$D45)","v":0},{"$f":"COUNTIF('Aonad 16'!$C:$C,$D45)","v":0},{"$f":"COUNTIF('Aonad 17'!$C:$C,$D45)","v":0},{"$f":"COUNTIF('Aonad 18'!$C:$C,$D45)","v":0},{"$f":"COUNTIF('Aonad 19'!$C:$C,$D45)","v":0},{"$f":"COUNTIF('Aonad 20'!$C:$C,$D45)","v":0},{"$f":"COUNTIF('Aonad 21'!$C:$C,$D45)","v":0},{"$f":"COUNTIF('Aonad 22'!$C:$C,$D45)","v":0},{"$f":"COUNTIF('Aonad 23'!$C:$C,$D45)","v":0},{"$f":"COUNTIF('Aonad 24'!$C:$C,$D45)","v":0},{"$f":"COUNTIF('Aonad 25'!$C:$C,$D45)","v":0},{"$f":"COUNTIF('Aonad 26'!$C:$C,$D45)","v":0},{"$f":"COUNTIF('Aonad 27'!$C:$C,$D45)","v":0},{"$f":"COUNTIF('Aonad 28'!$C:$C,$D45)","v":0},{"$f":"COUNTIF('Aonad 29'!$C:$C,$D45)","v":0},{"$f":"COUNTIF('Aonad 30'!$C:$C,$D45)","v":0},{"$f":"COUNTIF('Aonad 31'!$C:$C,$D45)","v":0},{"$f":"COUNTIF('Aonad 32'!$C:$C,$D45)","v":0},{"$f":"COUNTIF('Aonad 33'!$C:$C,$D45)","v":0},{"$f":"COUNTIF('Aonad 34'!$C:$C,$D45)","v":0},{"$f":"COUNTIF('Aonad 35'!$C:$C,$D45)","v":0},{"$f":"COUNTIF('Aonad 36'!$C:$C,$D45)","v":0},{"$f":"COUNTIF('Aonad 37'!$C:$C,$D45)","v":0},{"$f":"COUNTIF('Aonad 38'!$C:$C,$D45)","v":0},0,null,{"$f":"IF('Aonad 1'!$C$7=$D$58,COUNTIF('Aonad 1'!$C:$C,$D45),\"0\")","v":"0"},{"$f":"IF('Aonad 2'!$C$7=$D$58,COUNTIF('Aonad 2'!$C:$C,$D45),\"0\")","v":"0"},{"$f":"IF('Aonad 3'!$C$7=$D$58,COUNTIF('Aonad 3'!$C:$C,$D45),\"0\")","v":"0"},{"$f":"IF('Aonad 4'!$C$7=$D$58,COUNTIF('Aonad 4'!$C:$C,$D45),\"0\")","v":"0"},{"$f":"IF('Aonad 5'!$C$7=$D$58,COUNTIF('Aonad 5'!$C:$C,$D45),\"0\")","v":"0"},{"$f":"IF('Aonad 6'!$C$7=$D$58,COUNTIF('Aonad 6'!$C:$C,$D45),\"0\")","v":"0"},{"$f":"IF('Aonad 7'!$C$7=$D$58,COUNTIF('Aonad 7'!$C:$C,$D45),\"0\")","v":"0"},{"$f":"IF('Aonad 8'!$C$7=$D$58,COUNTIF('Aonad 8'!$C:$C,$D45),\"0\")","v":"0"},{"$f":"IF('Aonad 9'!$C$7=$D$58,COUNTIF('Aonad 9'!$C:$C,$D45),\"0\")","v":"0"},{"$f":"IF('Aonad 10'!$C$7=$D$58,COUNTIF('Aonad 10'!$C:$C,$D45),\"0\")","v":"0"},{"$f":"IF('Aonad 11'!$C$7=$D$58,COUNTIF('Aonad 11'!$C:$C,$D45),\"0\")","v":"0"},{"$f":"IF('Aonad 12'!$C$7=$D$58,COUNTIF('Aonad 12'!$C:$C,$D45),\"0\")","v":"0"},{"$f":"IF('Aonad 13'!$C$7=$D$58,COUNTIF('Aonad 13'!$C:$C,$D45),\"0\")","v":"0"},{"$f":"IF('Aonad 14'!$C$7=$D$58,COUNTIF('Aonad 14'!$C:$C,$D45),\"0\")","v":"0"},{"$f":"IF('Aonad 15'!$C$7=$D$58,COUNTIF('Aonad 15'!$C:$C,$D45),\"0\")","v":"0"},{"$f":"IF('Aonad 16'!$C$7=$D$58,COUNTIF('Aonad 16'!$C:$C,$D45),\"0\")","v":"0"},{"$f":"IF('Aonad 17'!$C$7=$D$58,COUNTIF('Aonad 17'!$C:$C,$D45),\"0\")","v":"0"},{"$f":"IF('Aonad 18'!$C$7=$D$58,COUNTIF('Aonad 18'!$C:$C,$D45),\"0\")","v":"0"},{"$f":"IF('Aonad 19'!$C$7=$D$58,COUNTIF('Aonad 19'!$C:$C,$D45),\"0\")","v":"0"},{"$f":"IF('Aonad 20'!$C$7=$D$58,COUNTIF('Aonad 20'!$C:$C,$D45),\"0\")","v":"0"},{"$f":"IF('Aonad 21'!$C$7=$D$58,COUNTIF('Aonad 21'!$C:$C,$D45),\"0\")","v":"0"},{"$f":"IF('Aonad 22'!$C$7=$D$58,COUNTIF('Aonad 22'!$C:$C,$D45),\"0\")","v":"0"},{"$f":"IF('Aonad 23'!$C$7=$D$58,COUNTIF('Aonad 23'!$C:$C,$D45),\"0\")","v":"0"},{"$f":"IF('Aonad 24'!$C$7=$D$58,COUNTIF('Aonad 24'!$C:$C,$D45),\"0\")","v":"0"},{"$f":"IF('Aonad 25'!$C$7=$D$58,COUNTIF('Aonad 25'!$C:$C,$D45),\"0\")","v":"0"},{"$f":"IF('Aonad 26'!$C$7=$D$58,COUNTIF('Aonad 26'!$C:$C,$D45),\"0\")","v":"0"},{"$f":"IF('Aonad 27'!$C$7=$D$58,COUNTIF('Aonad 27'!$C:$C,$D45),\"0\")","v":"0"},{"$f":"IF('Aonad 28'!$C$7=$D$58,COUNTIF('Aonad 28'!$C:$C,$D45),\"0\")","v":"0"},{"$f":"IF('Aonad 29'!$C$7=$D$58,COUNTIF('Aonad 29'!$C:$C,$D45),\"0\")","v":"0"},{"$f":"IF('Aonad 30'!$C$7=$D$58,COUNTIF('Aonad 30'!$C:$C,$D45),\"0\")","v":"0"},{"$f":"IF('Aonad 31'!$C$7=$D$58,COUNTIF('Aonad 31'!$C:$C,$D45),\"0\")","v":"0"},{"$f":"IF('Aonad 32'!$C$7=$D$58,COUNTIF('Aonad 32'!$C:$C,$D45),\"0\")","v":"0"},{"$f":"IF('Aonad 33'!$C$7=$D$58,COUNTIF('Aonad 33'!$C:$C,$D45),\"0\")","v":"0"},{"$f":"IF('Aonad 34'!$C$7=$D$58,COUNTIF('Aonad 34'!$C:$C,$D45),\"0\")","v":"0"},{"$f":"IF('Aonad 35'!$C$7=$D$58,COUNTIF('Aonad 35'!$C:$C,$D45),\"0\")","v":"0"},{"$f":"IF('Aonad 36'!$C$7=$D$58,COUNTIF('Aonad 36'!$C:$C,$D45),\"0\")","v":"0"},{"$f":"IF('Aonad 37'!$C$7=$D$58,COUNTIF('Aonad 37'!$C:$C,$D45),\"0\")","v":"0"},{"$f":"IF('Aonad 38'!$C$7=$D$58,COUNTIF('Aonad 38'!$C:$C,$D45),\"0\")","v":"0"},0,null,{"$f":"IF('Aonad 1'!$C$7=$D$59,COUNTIF('Aonad 1'!$C:$C,$D45),\"0\")","v":"0"},{"$f":"IF('Aonad 2'!$C$7=$D$59,COUNTIF('Aonad 2'!$C:$C,$D45),\"0\")","v":"0"},{"$f":"IF('Aonad 3'!$C$7=$D$59,COUNTIF('Aonad 3'!$C:$C,$D45),\"0\")","v":"0"},{"$f":"IF('Aonad 4'!$C$7=$D$59,COUNTIF('Aonad 4'!$C:$C,$D45),\"0\")","v":"0"},{"$f":"IF('Aonad 5'!$C$7=$D$59,COUNTIF('Aonad 5'!$C:$C,$D45),\"0\")","v":"0"},{"$f":"IF('Aonad 6'!$C$7=$D$59,COUNTIF('Aonad 6'!$C:$C,$D45),\"0\")","v":"0"},{"$f":"IF('Aonad 7'!$C$7=$D$59,COUNTIF('Aonad 7'!$C:$C,$D45),\"0\")","v":"0"},{"$f":"IF('Aonad 8'!$C$7=$D$59,COUNTIF('Aonad 8'!$C:$C,$D45),\"0\")","v":"0"},{"$f":"IF('Aonad 9'!$C$7=$D$59,COUNTIF('Aonad 9'!$C:$C,$D45),\"0\")","v":"0"},{"$f":"IF('Aonad 10'!$C$7=$D$59,COUNTIF('Aonad 10'!$C:$C,$D45),\"0\")","v":"0"},{"$f":"IF('Aonad 11'!$C$7=$D$59,COUNTIF('Aonad 11'!$C:$C,$D45),\"0\")","v":"0"},{"$f":"IF('Aonad 12'!$C$7=$D$59,COUNTIF('Aonad 12'!$C:$C,$D45),\"0\")","v":"0"},{"$f":"IF('Aonad 13'!$C$7=$D$59,COUNTIF('Aonad 13'!$C:$C,$D45),\"0\")","v":"0"},{"$f":"IF('Aonad 14'!$C$7=$D$59,COUNTIF('Aonad 14'!$C:$C,$D45),\"0\")","v":"0"},{"$f":"IF('Aonad 15'!$C$7=$D$59,COUNTIF('Aonad 15'!$C:$C,$D45),\"0\")","v":"0"},{"$f":"IF('Aonad 16'!$C$7=$D$59,COUNTIF('Aonad 16'!$C:$C,$D45),\"0\")","v":"0"},{"$f":"IF('Aonad 17'!$C$7=$D$59,COUNTIF('Aonad 17'!$C:$C,$D45),\"0\")","v":"0"},{"$f":"IF('Aonad 18'!$C$7=$D$59,COUNTIF('Aonad 18'!$C:$C,$D45),\"0\")","v":"0"},{"$f":"IF('Aonad 19'!$C$7=$D$59,COUNTIF('Aonad 19'!$C:$C,$D45),\"0\")","v":"0"},{"$f":"IF('Aonad 20'!$C$7=$D$59,COUNTIF('Aonad 20'!$C:$C,$D45),\"0\")","v":"0"},{"$f":"IF('Aonad 21'!$C$7=$D$59,COUNTIF('Aonad 21'!$C:$C,$D45),\"0\")","v":"0"},{"$f":"IF('Aonad 22'!$C$7=$D$59,COUNTIF('Aonad 22'!$C:$C,$D45),\"0\")","v":"0"},{"$f":"IF('Aonad 23'!$C$7=$D$59,COUNTIF('Aonad 23'!$C:$C,$D45),\"0\")","v":"0"},{"$f":"IF('Aonad 24'!$C$7=$D$59,COUNTIF('Aonad 24'!$C:$C,$D45),\"0\")","v":"0"},{"$f":"IF('Aonad 25'!$C$7=$D$59,COUNTIF('Aonad 25'!$C:$C,$D45),\"0\")","v":"0"},{"$f":"IF('Aonad 26'!$C$7=$D$59,COUNTIF('Aonad 26'!$C:$C,$D45),\"0\")","v":"0"},{"$f":"IF('Aonad 27'!$C$7=$D$59,COUNTIF('Aonad 27'!$C:$C,$D45),\"0\")","v":"0"},{"$f":"IF('Aonad 28'!$C$7=$D$59,COUNTIF('Aonad 28'!$C:$C,$D45),\"0\")","v":"0"},{"$f":"IF('Aonad 29'!$C$7=$D$59,COUNTIF('Aonad 29'!$C:$C,$D45),\"0\")","v":"0"},{"$f":"IF('Aonad 30'!$C$7=$D$59,COUNTIF('Aonad 30'!$C:$C,$D45),\"0\")","v":"0"},{"$f":"IF('Aonad 31'!$C$7=$D$59,COUNTIF('Aonad 31'!$C:$C,$D45),\"0\")","v":"0"},{"$f":"IF('Aonad 32'!$C$7=$D$59,COUNTIF('Aonad 32'!$C:$C,$D45),\"0\")","v":"0"},{"$f":"IF('Aonad 33'!$C$7=$D$59,COUNTIF('Aonad 33'!$C:$C,$D45),\"0\")","v":"0"},{"$f":"IF('Aonad 34'!$C$7=$D$59,COUNTIF('Aonad 34'!$C:$C,$D45),\"0\")","v":"0"},{"$f":"IF('Aonad 35'!$C$7=$D$59,COUNTIF('Aonad 35'!$C:$C,$D45),\"0\")","v":"0"},{"$f":"IF('Aonad 36'!$C$7=$D$59,COUNTIF('Aonad 36'!$C:$C,$D45),\"0\")","v":"0"},{"$f":"IF('Aonad 37'!$C$7=$D$59,COUNTIF('Aonad 37'!$C:$C,$D45),\"0\")","v":"0"},{"$f":"IF('Aonad 38'!$C$7=$D$59,COUNTIF('Aonad 38'!$C:$C,$D45),\"0\")","v":"0"},0,null,{"$f":"IF('Aonad 1'!$C$7=$D$60,COUNTIF('Aonad 1'!$C:$C,$D45),\"0\")","v":"0"},{"$f":"IF('Aonad 2'!$C$7=$D$60,COUNTIF('Aonad 2'!$C:$C,$D45),\"0\")","v":"0"},{"$f":"IF('Aonad 3'!$C$7=$D$60,COUNTIF('Aonad 3'!$C:$C,$D45),\"0\")","v":"0"},{"$f":"IF('Aonad 4'!$C$7=$D$60,COUNTIF('Aonad 4'!$C:$C,$D45),\"0\")","v":"0"},{"$f":"IF('Aonad 5'!$C$7=$D$60,COUNTIF('Aonad 5'!$C:$C,$D45),\"0\")","v":"0"},{"$f":"IF('Aonad 6'!$C$7=$D$60,COUNTIF('Aonad 6'!$C:$C,$D45),\"0\")","v":"0"},{"$f":"IF('Aonad 7'!$C$7=$D$60,COUNTIF('Aonad 7'!$C:$C,$D45),\"0\")","v":"0"},{"$f":"IF('Aonad 8'!$C$7=$D$60,COUNTIF('Aonad 8'!$C:$C,$D45),\"0\")","v":"0"},{"$f":"IF('Aonad 9'!$C$7=$D$60,COUNTIF('Aonad 9'!$C:$C,$D45),\"0\")","v":"0"},{"$f":"IF('Aonad 10'!$C$7=$D$60,COUNTIF('Aonad 10'!$C:$C,$D45),\"0\")","v":"0"},{"$f":"IF('Aonad 11'!$C$7=$D$60,COUNTIF('Aonad 11'!$C:$C,$D45),\"0\")","v":"0"},{"$f":"IF('Aonad 12'!$C$7=$D$60,COUNTIF('Aonad 12'!$C:$C,$D45),\"0\")","v":"0"},{"$f":"IF('Aonad 13'!$C$7=$D$60,COUNTIF('Aonad 13'!$C:$C,$D45),\"0\")","v":"0"},{"$f":"IF('Aonad 14'!$C$7=$D$60,COUNTIF('Aonad 14'!$C:$C,$D45),\"0\")","v":"0"},{"$f":"IF('Aonad 15'!$C$7=$D$60,COUNTIF('Aonad 15'!$C:$C,$D45),\"0\")","v":"0"},{"$f":"IF('Aonad 16'!$C$7=$D$60,COUNTIF('Aonad 16'!$C:$C,$D45),\"0\")","v":"0"},{"$f":"IF('Aonad 17'!$C$7=$D$60,COUNTIF('Aonad 17'!$C:$C,$D45),\"0\")","v":"0"},{"$f":"IF('Aonad 18'!$C$7=$D$60,COUNTIF('Aonad 18'!$C:$C,$D45),\"0\")","v":"0"},{"$f":"IF('Aonad 19'!$C$7=$D$60,COUNTIF('Aonad 19'!$C:$C,$D45),\"0\")","v":"0"},{"$f":"IF('Aonad 20'!$C$7=$D$60,COUNTIF('Aonad 20'!$C:$C,$D45),\"0\")","v":"0"},{"$f":"IF('Aonad 21'!$C$7=$D$60,COUNTIF('Aonad 21'!$C:$C,$D45),\"0\")","v":"0"},{"$f":"IF('Aonad 22'!$C$7=$D$60,COUNTIF('Aonad 22'!$C:$C,$D45),\"0\")","v":"0"},{"$f":"IF('Aonad 23'!$C$7=$D$60,COUNTIF('Aonad 23'!$C:$C,$D45),\"0\")","v":"0"},{"$f":"IF('Aonad 24'!$C$7=$D$60,COUNTIF('Aonad 24'!$C:$C,$D45),\"0\")","v":"0"},{"$f":"IF('Aonad 25'!$C$7=$D$60,COUNTIF('Aonad 25'!$C:$C,$D45),\"0\")","v":"0"},{"$f":"IF('Aonad 26'!$C$7=$D$60,COUNTIF('Aonad 26'!$C:$C,$D45),\"0\")","v":"0"},{"$f":"IF('Aonad 27'!$C$7=$D$60,COUNTIF('Aonad 27'!$C:$C,$D45),\"0\")","v":"0"},{"$f":"IF('Aonad 28'!$C$7=$D$60,COUNTIF('Aonad 28'!$C:$C,$D45),\"0\")","v":"0"},{"$f":"IF('Aonad 29'!$C$7=$D$60,COUNTIF('Aonad 29'!$C:$C,$D45),\"0\")","v":"0"},{"$f":"IF('Aonad 30'!$C$7=$D$60,COUNTIF('Aonad 30'!$C:$C,$D45),\"0\")","v":"0"},{"$f":"IF('Aonad 31'!$C$7=$D$60,COUNTIF('Aonad 31'!$C:$C,$D45),\"0\")","v":"0"},{"$f":"IF('Aonad 32'!$C$7=$D$60,COUNTIF('Aonad 32'!$C:$C,$D45),\"0\")","v":"0"},{"$f":"IF('Aonad 33'!$C$7=$D$60,COUNTIF('Aonad 33'!$C:$C,$D45),\"0\")","v":"0"},{"$f":"IF('Aonad 34'!$C$7=$D$60,COUNTIF('Aonad 34'!$C:$C,$D45),\"0\")","v":"0"},{"$f":"IF('Aonad 35'!$C$7=$D$60,COUNTIF('Aonad 35'!$C:$C,$D45),\"0\")","v":"0"},{"$f":"IF('Aonad 36'!$C$7=$D$60,COUNTIF('Aonad 36'!$C:$C,$D45),\"0\")","v":"0"},{"$f":"IF('Aonad 37'!$C$7=$D$60,COUNTIF('Aonad 37'!$C:$C,$D45),\"0\")","v":"0"},{"$f":"IF('Aonad 38'!$C$7=$D$60,COUNTIF('Aonad 38'!$C:$C,$D45),\"0\")","v":"0"},0]
[null,null,null,null,null,{"$f":"COUNTIF('Aonad 1'!$C:$C,$D46)","v":0},{"$f":"COUNTIF('Aonad 2'!$C:$C,$D46)","v":0},{"$f":"COUNTIF('Aonad 3'!$C:$C,$D46)","v":0},{"$f":"COUNTIF('Aonad 4'!$C:$C,$D46)","v":0},{"$f":"COUNTIF('Aonad 5'!$C:$C,$D46)","v":0},{"$f":"COUNTIF('Aonad 6'!$C:$C,$D46)","v":0},{"$f":"COUNTIF('Aonad 7'!$C:$C,$D46)","v":0},{"$f":"COUNTIF('Aonad 8'!$C:$C,$D46)","v":0},{"$f":"COUNTIF('Aonad 9'!$C:$C,$D46)","v":0},{"$f":"COUNTIF('Aonad 10'!$C:$C,$D46)","v":0},{"$f":"COUNTIF('Aonad 11'!$C:$C,$D46)","v":0},{"$f":"COUNTIF('Aonad 12'!$C:$C,$D46)","v":0},{"$f":"COUNTIF('Aonad 13'!$C:$C,$D46)","v":0},{"$f":"COUNTIF('Aonad 14'!$C:$C,$D46)","v":0},{"$f":"COUNTIF('Aonad 15'!$C:$C,$D46)","v":0},{"$f":"COUNTIF('Aonad 16'!$C:$C,$D46)","v":0},{"$f":"COUNTIF('Aonad 17'!$C:$C,$D46)","v":0},{"$f":"COUNTIF('Aonad 18'!$C:$C,$D46)","v":0},{"$f":"COUNTIF('Aonad 19'!$C:$C,$D46)","v":0},{"$f":"COUNTIF('Aonad 20'!$C:$C,$D46)","v":0},{"$f":"COUNTIF('Aonad 21'!$C:$C,$D46)","v":0},{"$f":"COUNTIF('Aonad 22'!$C:$C,$D46)","v":0},{"$f":"COUNTIF('Aonad 23'!$C:$C,$D46)","v":0},{"$f":"COUNTIF('Aonad 24'!$C:$C,$D46)","v":0},{"$f":"COUNTIF('Aonad 25'!$C:$C,$D46)","v":0},{"$f":"COUNTIF('Aonad 26'!$C:$C,$D46)","v":0},{"$f":"COUNTIF('Aonad 27'!$C:$C,$D46)","v":0},{"$f":"COUNTIF('Aonad 28'!$C:$C,$D46)","v":0},{"$f":"COUNTIF('Aonad 29'!$C:$C,$D46)","v":0},{"$f":"COUNTIF('Aonad 30'!$C:$C,$D46)","v":0},{"$f":"COUNTIF('Aonad 31'!$C:$C,$D46)","v":0},{"$f":"COUNTIF('Aonad 32'!$C:$C,$D46)","v":0},{"$f":"COUNTIF('Aonad 33'!$C:$C,$D46)","v":0},{"$f":"COUNTIF('Aonad 34'!$C:$C,$D46)","v":0},{"$f":"COUNTIF('Aonad 35'!$C:$C,$D46)","v":0},{"$f":"COUNTIF('Aonad 36'!$C:$C,$D46)","v":0},{"$f":"COUNTIF('Aonad 37'!$C:$C,$D46)","v":0},{"$f":"COUNTIF('Aonad 38'!$C:$C,$D46)","v":0},0,null,{"$f":"IF('Aonad 1'!$C$7=$D$58,COUNTIF('Aonad 1'!$C:$C,$D46),\"0\")","v":"0"},{"$f":"IF('Aonad 2'!$C$7=$D$58,COUNTIF('Aonad 2'!$C:$C,$D46),\"0\")","v":"0"},{"$f":"IF('Aonad 3'!$C$7=$D$58,COUNTIF('Aonad 3'!$C:$C,$D46),\"0\")","v":"0"},{"$f":"IF('Aonad 4'!$C$7=$D$58,COUNTIF('Aonad 4'!$C:$C,$D46),\"0\")","v":"0"},{"$f":"IF('Aonad 5'!$C$7=$D$58,COUNTIF('Aonad 5'!$C:$C,$D46),\"0\")","v":"0"},{"$f":"IF('Aonad 6'!$C$7=$D$58,COUNTIF('Aonad 6'!$C:$C,$D46),\"0\")","v":"0"},{"$f":"IF('Aonad 7'!$C$7=$D$58,COUNTIF('Aonad 7'!$C:$C,$D46),\"0\")","v":"0"},{"$f":"IF('Aonad 8'!$C$7=$D$58,COUNTIF('Aonad 8'!$C:$C,$D46),\"0\")","v":"0"},{"$f":"IF('Aonad 9'!$C$7=$D$58,COUNTIF('Aonad 9'!$C:$C,$D46),\"0\")","v":"0"},{"$f":"IF('Aonad 10'!$C$7=$D$58,COUNTIF('Aonad 10'!$C:$C,$D46),\"0\")","v":"0"},{"$f":"IF('Aonad 11'!$C$7=$D$58,COUNTIF('Aonad 11'!$C:$C,$D46),\"0\")","v":"0"},{"$f":"IF('Aonad 12'!$C$7=$D$58,COUNTIF('Aonad 12'!$C:$C,$D46),\"0\")","v":"0"},{"$f":"IF('Aonad 13'!$C$7=$D$58,COUNTIF('Aonad 13'!$C:$C,$D46),\"0\")","v":"0"},{"$f":"IF('Aonad 14'!$C$7=$D$58,COUNTIF('Aonad 14'!$C:$C,$D46),\"0\")","v":"0"},{"$f":"IF('Aonad 15'!$C$7=$D$58,COUNTIF('Aonad 15'!$C:$C,$D46),\"0\")","v":"0"},{"$f":"IF('Aonad 16'!$C$7=$D$58,COUNTIF('Aonad 16'!$C:$C,$D46),\"0\")","v":"0"},{"$f":"IF('Aonad 17'!$C$7=$D$58,COUNTIF('Aonad 17'!$C:$C,$D46),\"0\")","v":"0"},{"$f":"IF('Aonad 18'!$C$7=$D$58,COUNTIF('Aonad 18'!$C:$C,$D46),\"0\")","v":"0"},{"$f":"IF('Aonad 19'!$C$7=$D$58,COUNTIF('Aonad 19'!$C:$C,$D46),\"0\")","v":"0"},{"$f":"IF('Aonad 20'!$C$7=$D$58,COUNTIF('Aonad 20'!$C:$C,$D46),\"0\")","v":"0"},{"$f":"IF('Aonad 21'!$C$7=$D$58,COUNTIF('Aonad 21'!$C:$C,$D46),\"0\")","v":"0"},{"$f":"IF('Aonad 22'!$C$7=$D$58,COUNTIF('Aonad 22'!$C:$C,$D46),\"0\")","v":"0"},{"$f":"IF('Aonad 23'!$C$7=$D$58,COUNTIF('Aonad 23'!$C:$C,$D46),\"0\")","v":"0"},{"$f":"IF('Aonad 24'!$C$7=$D$58,COUNTIF('Aonad 24'!$C:$C,$D46),\"0\")","v":"0"},{"$f":"IF('Aonad 25'!$C$7=$D$58,COUNTIF('Aonad 25'!$C:$C,$D46),\"0\")","v":"0"},{"$f":"IF('Aonad 26'!$C$7=$D$58,COUNTIF('Aonad 26'!$C:$C,$D46),\"0\")","v":"0"},{"$f":"IF('Aonad 27'!$C$7=$D$58,COUNTIF('Aonad 27'!$C:$C,$D46),\"0\")","v":"0"},{"$f":"IF('Aonad 28'!$C$7=$D$58,COUNTIF('Aonad 28'!$C:$C,$D46),\"0\")","v":"0"},{"$f":"IF('Aonad 29'!$C$7=$D$58,COUNTIF('Aonad 29'!$C:$C,$D46),\"0\")","v":"0"},{"$f":"IF('Aonad 30'!$C$7=$D$58,COUNTIF('Aonad 30'!$C:$C,$D46),\"0\")","v":"0"},{"$f":"IF('Aonad 31'!$C$7=$D$58,COUNTIF('Aonad 31'!$C:$C,$D46),\"0\")","v":"0"},{"$f":"IF('Aonad 32'!$C$7=$D$58,COUNTIF('Aonad 32'!$C:$C,$D46),\"0\")","v":"0"},{"$f":"IF('Aonad 33'!$C$7=$D$58,COUNTIF('Aonad 33'!$C:$C,$D46),\"0\")","v":"0"},{"$f":"IF('Aonad 34'!$C$7=$D$58,COUNTIF('Aonad 34'!$C:$C,$D46),\"0\")","v":"0"},{"$f":"IF('Aonad 35'!$C$7=$D$58,COUNTIF('Aonad 35'!$C:$C,$D46),\"0\")","v":"0"},{"$f":"IF('Aonad 36'!$C$7=$D$58,COUNTIF('Aonad 36'!$C:$C,$D46),\"0\")","v":"0"},{"$f":"IF('Aonad 37'!$C$7=$D$58,COUNTIF('Aonad 37'!$C:$C,$D46),\"0\")","v":"0"},{"$f":"IF('Aonad 38'!$C$7=$D$58,COUNTIF('Aonad 38'!$C:$C,$D46),\"0\")","v":"0"},0,null,{"$f":"IF('Aonad 1'!$C$7=$D$59,COUNTIF('Aonad 1'!$C:$C,$D46),\"0\")","v":"0"},{"$f":"IF('Aonad 2'!$C$7=$D$59,COUNTIF('Aonad 2'!$C:$C,$D46),\"0\")","v":"0"},{"$f":"IF('Aonad 3'!$C$7=$D$59,COUNTIF('Aonad 3'!$C:$C,$D46),\"0\")","v":"0"},{"$f":"IF('Aonad 4'!$C$7=$D$59,COUNTIF('Aonad 4'!$C:$C,$D46),\"0\")","v":"0"},{"$f":"IF('Aonad 5'!$C$7=$D$59,COUNTIF('Aonad 5'!$C:$C,$D46),\"0\")","v":"0"},{"$f":"IF('Aonad 6'!$C$7=$D$59,COUNTIF('Aonad 6'!$C:$C,$D46),\"0\")","v":"0"},{"$f":"IF('Aonad 7'!$C$7=$D$59,COUNTIF('Aonad 7'!$C:$C,$D46),\"0\")","v":"0"},{"$f":"IF('Aonad 8'!$C$7=$D$59,COUNTIF('Aonad 8'!$C:$C,$D46),\"0\")","v":"0"},{"$f":"IF('Aonad 9'!$C$7=$D$59,COUNTIF('Aonad 9'!$C:$C,$D46),\"0\")","v":"0"},{"$f":"IF('Aonad 10'!$C$7=$D$59,COUNTIF('Aonad 10'!$C:$C,$D46),\"0\")","v":"0"},{"$f":"IF('Aonad 11'!$C$7=$D$59,COUNTIF('Aonad 11'!$C:$C,$D46),\"0\")","v":"0"},{"$f":"IF('Aonad 12'!$C$7=$D$59,COUNTIF('Aonad 12'!$C:$C,$D46),\"0\")","v":"0"},{"$f":"IF('Aonad 13'!$C$7=$D$59,COUNTIF('Aonad 13'!$C:$C,$D46),\"0\")","v":"0"},{"$f":"IF('Aonad 14'!$C$7=$D$59,COUNTIF('Aonad 14'!$C:$C,$D46),\"0\")","v":"0"},{"$f":"IF('Aonad 15'!$C$7=$D$59,COUNTIF('Aonad 15'!$C:$C,$D46),\"0\")","v":"0"},{"$f":"IF('Aonad 16'!$C$7=$D$59,COUNTIF('Aonad 16'!$C:$C,$D46),\"0\")","v":"0"},{"$f":"IF('Aonad 17'!$C$7=$D$59,COUNTIF('Aonad 17'!$C:$C,$D46),\"0\")","v":"0"},{"$f":"IF('Aonad 18'!$C$7=$D$59,COUNTIF('Aonad 18'!$C:$C,$D46),\"0\")","v":"0"},{"$f":"IF('Aonad 19'!$C$7=$D$59,COUNTIF('Aonad 19'!$C:$C,$D46),\"0\")","v":"0"},{"$f":"IF('Aonad 20'!$C$7=$D$59,COUNTIF('Aonad 20'!$C:$C,$D46),\"0\")","v":"0"},{"$f":"IF('Aonad 21'!$C$7=$D$59,COUNTIF('Aonad 21'!$C:$C,$D46),\"0\")","v":"0"},{"$f":"IF('Aonad 22'!$C$7=$D$59,COUNTIF('Aonad 22'!$C:$C,$D46),\"0\")","v":"0"},{"$f":"IF('Aonad 23'!$C$7=$D$59,COUNTIF('Aonad 23'!$C:$C,$D46),\"0\")","v":"0"},{"$f":"IF('Aonad 24'!$C$7=$D$59,COUNTIF('Aonad 24'!$C:$C,$D46),\"0\")","v":"0"},{"$f":"IF('Aonad 25'!$C$7=$D$59,COUNTIF('Aonad 25'!$C:$C,$D46),\"0\")","v":"0"},{"$f":"IF('Aonad 26'!$C$7=$D$59,COUNTIF('Aonad 26'!$C:$C,$D46),\"0\")","v":"0"},{"$f":"IF('Aonad 27'!$C$7=$D$59,COUNTIF('Aonad 27'!$C:$C,$D46),\"0\")","v":"0"},{"$f":"IF('Aonad 28'!$C$7=$D$59,COUNTIF('Aonad 28'!$C:$C,$D46),\"0\")","v":"0"},{"$f":"IF('Aonad 29'!$C$7=$D$59,COUNTIF('Aonad 29'!$C:$C,$D46),\"0\")","v":"0"},{"$f":"IF('Aonad 30'!$C$7=$D$59,COUNTIF('Aonad 30'!$C:$C,$D46),\"0\")","v":"0"},{"$f":"IF('Aonad 31'!$C$7=$D$59,COUNTIF('Aonad 31'!$C:$C,$D46),\"0\")","v":"0"},{"$f":"IF('Aonad 32'!$C$7=$D$59,COUNTIF('Aonad 32'!$C:$C,$D46),\"0\")","v":"0"},{"$f":"IF('Aonad 33'!$C$7=$D$59,COUNTIF('Aonad 33'!$C:$C,$D46),\"0\")","v":"0"},{"$f":"IF('Aonad 34'!$C$7=$D$59,COUNTIF('Aonad 34'!$C:$C,$D46),\"0\")","v":"0"},{"$f":"IF('Aonad 35'!$C$7=$D$59,COUNTIF('Aonad 35'!$C:$C,$D46),\"0\")","v":"0"},{"$f":"IF('Aonad 36'!$C$7=$D$59,COUNTIF('Aonad 36'!$C:$C,$D46),\"0\")","v":"0"},{"$f":"IF('Aonad 37'!$C$7=$D$59,COUNTIF('Aonad 37'!$C:$C,$D46),\"0\")","v":"0"},{"$f":"IF('Aonad 38'!$C$7=$D$59,COUNTIF('Aonad 38'!$C:$C,$D46),\"0\")","v":"0"},0,null,{"$f":"IF('Aonad 1'!$C$7=$D$60,COUNTIF('Aonad 1'!$C:$C,$D46),\"0\")","v":"0"},{"$f":"IF('Aonad 2'!$C$7=$D$60,COUNTIF('Aonad 2'!$C:$C,$D46),\"0\")","v":"0"},{"$f":"IF('Aonad 3'!$C$7=$D$60,COUNTIF('Aonad 3'!$C:$C,$D46),\"0\")","v":"0"},{"$f":"IF('Aonad 4'!$C$7=$D$60,COUNTIF('Aonad 4'!$C:$C,$D46),\"0\")","v":"0"},{"$f":"IF('Aonad 5'!$C$7=$D$60,COUNTIF('Aonad 5'!$C:$C,$D46),\"0\")","v":"0"},{"$f":"IF('Aonad 6'!$C$7=$D$60,COUNTIF('Aonad 6'!$C:$C,$D46),\"0\")","v":"0"},{"$f":"IF('Aonad 7'!$C$7=$D$60,COUNTIF('Aonad 7'!$C:$C,$D46),\"0\")","v":"0"},{"$f":"IF('Aonad 8'!$C$7=$D$60,COUNTIF('Aonad 8'!$C:$C,$D46),\"0\")","v":"0"},{"$f":"IF('Aonad 9'!$C$7=$D$60,COUNTIF('Aonad 9'!$C:$C,$D46),\"0\")","v":"0"},{"$f":"IF('Aonad 10'!$C$7=$D$60,COUNTIF('Aonad 10'!$C:$C,$D46),\"0\")","v":"0"},{"$f":"IF('Aonad 11'!$C$7=$D$60,COUNTIF('Aonad 11'!$C:$C,$D46),\"0\")","v":"0"},{"$f":"IF('Aonad 12'!$C$7=$D$60,COUNTIF('Aonad 12'!$C:$C,$D46),\"0\")","v":"0"},{"$f":"IF('Aonad 13'!$C$7=$D$60,COUNTIF('Aonad 13'!$C:$C,$D46),\"0\")","v":"0"},{"$f":"IF('Aonad 14'!$C$7=$D$60,COUNTIF('Aonad 14'!$C:$C,$D46),\"0\")","v":"0"},{"$f":"IF('Aonad 15'!$C$7=$D$60,COUNTIF('Aonad 15'!$C:$C,$D46),\"0\")","v":"0"},{"$f":"IF('Aonad 16'!$C$7=$D$60,COUNTIF('Aonad 16'!$C:$C,$D46),\"0\")","v":"0"},{"$f":"IF('Aonad 17'!$C$7=$D$60,COUNTIF('Aonad 17'!$C:$C,$D46),\"0\")","v":"0"},{"$f":"IF('Aonad 18'!$C$7=$D$60,COUNTIF('Aonad 18'!$C:$C,$D46),\"0\")","v":"0"},{"$f":"IF('Aonad 19'!$C$7=$D$60,COUNTIF('Aonad 19'!$C:$C,$D46),\"0\")","v":"0"},{"$f":"IF('Aonad 20'!$C$7=$D$60,COUNTIF('Aonad 20'!$C:$C,$D46),\"0\")","v":"0"},{"$f":"IF('Aonad 21'!$C$7=$D$60,COUNTIF('Aonad 21'!$C:$C,$D46),\"0\")","v":"0"},{"$f":"IF('Aonad 22'!$C$7=$D$60,COUNTIF('Aonad 22'!$C:$C,$D46),\"0\")","v":"0"},{"$f":"IF('Aonad 23'!$C$7=$D$60,COUNTIF('Aonad 23'!$C:$C,$D46),\"0\")","v":"0"},{"$f":"IF('Aonad 24'!$C$7=$D$60,COUNTIF('Aonad 24'!$C:$C,$D46),\"0\")","v":"0"},{"$f":"IF('Aonad 25'!$C$7=$D$60,COUNTIF('Aonad 25'!$C:$C,$D46),\"0\")","v":"0"},{"$f":"IF('Aonad 26'!$C$7=$D$60,COUNTIF('Aonad 26'!$C:$C,$D46),\"0\")","v":"0"},{"$f":"IF('Aonad 27'!$C$7=$D$60,COUNTIF('Aonad 27'!$C:$C,$D46),\"0\")","v":"0"},{"$f":"IF('Aonad 28'!$C$7=$D$60,COUNTIF('Aonad 28'!$C:$C,$D46),\"0\")","v":"0"},{"$f":"IF('Aonad 29'!$C$7=$D$60,COUNTIF('Aonad 29'!$C:$C,$D46),\"0\")","v":"0"},{"$f":"IF('Aonad 30'!$C$7=$D$60,COUNTIF('Aonad 30'!$C:$C,$D46),\"0\")","v":"0"},{"$f":"IF('Aonad 31'!$C$7=$D$60,COUNTIF('Aonad 31'!$C:$C,$D46),\"0\")","v":"0"},{"$f":"IF('Aonad 32'!$C$7=$D$60,COUNTIF('Aonad 32'!$C:$C,$D46),\"0\")","v":"0"},{"$f":"IF('Aonad 33'!$C$7=$D$60,COUNTIF('Aonad 33'!$C:$C,$D46),\"0\")","v":"0"},{"$f":"IF('Aonad 34'!$C$7=$D$60,COUNTIF('Aonad 34'!$C:$C,$D46),\"0\")","v":"0"},{"$f":"IF('Aonad 35'!$C$7=$D$60,COUNTIF('Aonad 35'!$C:$C,$D46),\"0\")","v":"0"},{"$f":"IF('Aonad 36'!$C$7=$D$60,COUNTIF('Aonad 36'!$C:$C,$D46),\"0\")","v":"0"},{"$f":"IF('Aonad 37'!$C$7=$D$60,COUNTIF('Aonad 37'!$C:$C,$D46),\"0\")","v":"0"},{"$f":"IF('Aonad 38'!$C$7=$D$60,COUNTIF('Aonad 38'!$C:$C,$D46),\"0\")","v":"0"},0]
[null,null,null,null,null,{"$f":"COUNTIF('Aonad 1'!$C:$C,$D47)","v":0},{"$f":"COUNTIF('Aonad 2'!$C:$C,$D47)","v":0},{"$f":"COUNTIF('Aonad 3'!$C:$C,$D47)","v":0},{"$f":"COUNTIF('Aonad 4'!$C:$C,$D47)","v":0},{"$f":"COUNTIF('Aonad 5'!$C:$C,$D47)","v":0},{"$f":"COUNTIF('Aonad 6'!$C:$C,$D47)","v":0},{"$f":"COUNTIF('Aonad 7'!$C:$C,$D47)","v":0},{"$f":"COUNTIF('Aonad 8'!$C:$C,$D47)","v":0},{"$f":"COUNTIF('Aonad 9'!$C:$C,$D47)","v":0},{"$f":"COUNTIF('Aonad 10'!$C:$C,$D47)","v":0},{"$f":"COUNTIF('Aonad 11'!$C:$C,$D47)","v":0},{"$f":"COUNTIF('Aonad 12'!$C:$C,$D47)","v":0},{"$f":"COUNTIF('Aonad 13'!$C:$C,$D47)","v":0},{"$f":"COUNTIF('Aonad 14'!$C:$C,$D47)","v":0},{"$f":"COUNTIF('Aonad 15'!$C:$C,$D47)","v":0},{"$f":"COUNTIF('Aonad 16'!$C:$C,$D47)","v":0},{"$f":"COUNTIF('Aonad 17'!$C:$C,$D47)","v":0},{"$f":"COUNTIF('Aonad 18'!$C:$C,$D47)","v":0},{"$f":"COUNTIF('Aonad 19'!$C:$C,$D47)","v":0},{"$f":"COUNTIF('Aonad 20'!$C:$C,$D47)","v":0},{"$f":"COUNTIF('Aonad 21'!$C:$C,$D47)","v":0},{"$f":"COUNTIF('Aonad 22'!$C:$C,$D47)","v":0},{"$f":"COUNTIF('Aonad 23'!$C:$C,$D47)","v":0},{"$f":"COUNTIF('Aonad 24'!$C:$C,$D47)","v":0},{"$f":"COUNTIF('Aonad 25'!$C:$C,$D47)","v":0},{"$f":"COUNTIF('Aonad 26'!$C:$C,$D47)","v":0},{"$f":"COUNTIF('Aonad 27'!$C:$C,$D47)","v":0},{"$f":"COUNTIF('Aonad 28'!$C:$C,$D47)","v":0},{"$f":"COUNTIF('Aonad 29'!$C:$C,$D47)","v":0},{"$f":"COUNTIF('Aonad 30'!$C:$C,$D47)","v":0},{"$f":"COUNTIF('Aonad 31'!$C:$C,$D47)","v":0},{"$f":"COUNTIF('Aonad 32'!$C:$C,$D47)","v":0},{"$f":"COUNTIF('Aonad 33'!$C:$C,$D47)","v":0},{"$f":"COUNTIF('Aonad 34'!$C:$C,$D47)","v":0},{"$f":"COUNTIF('Aonad 35'!$C:$C,$D47)","v":0},{"$f":"COUNTIF('Aonad 36'!$C:$C,$D47)","v":0},{"$f":"COUNTIF('Aonad 37'!$C:$C,$D47)","v":0},{"$f":"COUNTIF('Aonad 38'!$C:$C,$D47)","v":0},0,null,{"$f":"IF('Aonad 1'!$C$7=$D$58,COUNTIF('Aonad 1'!$C:$C,$D47),\"0\")","v":"0"},{"$f":"IF('Aonad 2'!$C$7=$D$58,COUNTIF('Aonad 2'!$C:$C,$D47),\"0\")","v":"0"},{"$f":"IF('Aonad 3'!$C$7=$D$58,COUNTIF('Aonad 3'!$C:$C,$D47),\"0\")","v":"0"},{"$f":"IF('Aonad 4'!$C$7=$D$58,COUNTIF('Aonad 4'!$C:$C,$D47),\"0\")","v":"0"},{"$f":"IF('Aonad 5'!$C$7=$D$58,COUNTIF('Aonad 5'!$C:$C,$D47),\"0\")","v":"0"},{"$f":"IF('Aonad 6'!$C$7=$D$58,COUNTIF('Aonad 6'!$C:$C,$D47),\"0\")","v":"0"},{"$f":"IF('Aonad 7'!$C$7=$D$58,COUNTIF('Aonad 7'!$C:$C,$D47),\"0\")","v":"0"},{"$f":"IF('Aonad 8'!$C$7=$D$58,COUNTIF('Aonad 8'!$C:$C,$D47),\"0\")","v":"0"},{"$f":"IF('Aonad 9'!$C$7=$D$58,COUNTIF('Aonad 9'!$C:$C,$D47),\"0\")","v":"0"},{"$f":"IF('Aonad 10'!$C$7=$D$58,COUNTIF('Aonad 10'!$C:$C,$D47),\"0\")","v":"0"},{"$f":"IF('Aonad 11'!$C$7=$D$58,COUNTIF('Aonad 11'!$C:$C,$D47),\"0\")","v":"0"},{"$f":"IF('Aonad 12'!$C$7=$D$58,COUNTIF('Aonad 12'!$C:$C,$D47),\"0\")","v":"0"},{"$f":"IF('Aonad 13'!$C$7=$D$58,COUNTIF('Aonad 13'!$C:$C,$D47),\"0\")","v":"0"},{"$f":"IF('Aonad 14'!$C$7=$D$58,COUNTIF('Aonad 14'!$C:$C,$D47),\"0\")","v":"0"},{"$f":"IF('Aonad 15'!$C$7=$D$58,COUNTIF('Aonad 15'!$C:$C,$D47),\"0\")","v":"0"},{"$f":"IF('Aonad 16'!$C$7=$D$58,COUNTIF('Aonad 16'!$C:$C,$D47),\"0\")","v":"0"},{"$f":"IF('Aonad 17'!$C$7=$D$58,COUNTIF('Aonad 17'!$C:$C,$D47),\"0\")","v":"0"},{"$f":"IF('Aonad 18'!$C$7=$D$58,COUNTIF('Aonad 18'!$C:$C,$D47),\"0\")","v":"0"},{"$f":"IF('Aonad 19'!$C$7=$D$58,COUNTIF('Aonad 19'!$C:$C,$D47),\"0\")","v":"0"},{"$f":"IF('Aonad 20'!$C$7=$D$58,COUNTIF('Aonad 20'!$C:$C,$D47),\"0\")","v":"0"},{"$f":"IF('Aonad 21'!$C$7=$D$58,COUNTIF('Aonad 21'!$C:$C,$D47),\"0\")","v":"0"},{"$f":"IF('Aonad 22'!$C$7=$D$58,COUNTIF('Aonad 22'!$C:$C,$D47),\"0\")","v":"0"},{"$f":"IF('Aonad 23'!$C$7=$D$58,COUNTIF('Aonad 23'!$C:$C,$D47),\"0\")","v":"0"},{"$f":"IF('Aonad 24'!$C$7=$D$58,COUNTIF('Aonad 24'!$C:$C,$D47),\"0\")","v":"0"},{"$f":"IF('Aonad 25'!$C$7=$D$58,COUNTIF('Aonad 25'!$C:$C,$D47),\"0\")","v":"0"},{"$f":"IF('Aonad 26'!$C$7=$D$58,COUNTIF('Aonad 26'!$C:$C,$D47),\"0\")","v":"0"},{"$f":"IF('Aonad 27'!$C$7=$D$58,COUNTIF('Aonad 27'!$C:$C,$D47),\"0\")","v":"0"},{"$f":"IF('Aonad 28'!$C$7=$D$58,COUNTIF('Aonad 28'!$C:$C,$D47),\"0\")","v":"0"},{"$f":"IF('Aonad 29'!$C$7=$D$58,COUNTIF('Aonad 29'!$C:$C,$D47),\"0\")","v":"0"},{"$f":"IF('Aonad 30'!$C$7=$D$58,COUNTIF('Aonad 30'!$C:$C,$D47),\"0\")","v":"0"},{"$f":"IF('Aonad 31'!$C$7=$D$58,COUNTIF('Aonad 31'!$C:$C,$D47),\"0\")","v":"0"},{"$f":"IF('Aonad 32'!$C$7=$D$58,COUNTIF('Aonad 32'!$C:$C,$D47),\"0\")","v":"0"},{"$f":"IF('Aonad 33'!$C$7=$D$58,COUNTIF('Aonad 33'!$C:$C,$D47),\"0\")","v":"0"},{"$f":"IF('Aonad 34'!$C$7=$D$58,COUNTIF('Aonad 34'!$C:$C,$D47),\"0\")","v":"0"},{"$f":"IF('Aonad 35'!$C$7=$D$58,COUNTIF('Aonad 35'!$C:$C,$D47),\"0\")","v":"0"},{"$f":"IF('Aonad 36'!$C$7=$D$58,COUNTIF('Aonad 36'!$C:$C,$D47),\"0\")","v":"0"},{"$f":"IF('Aonad 37'!$C$7=$D$58,COUNTIF('Aonad 37'!$C:$C,$D47),\"0\")","v":"0"},{"$f":"IF('Aonad 38'!$C$7=$D$58,COUNTIF('Aonad 38'!$C:$C,$D47),\"0\")","v":"0"},0,null,{"$f":"IF('Aonad 1'!$C$7=$D$59,COUNTIF('Aonad 1'!$C:$C,$D47),\"0\")","v":"0"},{"$f":"IF('Aonad 2'!$C$7=$D$59,COUNTIF('Aonad 2'!$C:$C,$D47),\"0\")","v":"0"},{"$f":"IF('Aonad 3'!$C$7=$D$59,COUNTIF('Aonad 3'!$C:$C,$D47),\"0\")","v":"0"},{"$f":"IF('Aonad 4'!$C$7=$D$59,COUNTIF('Aonad 4'!$C:$C,$D47),\"0\")","v":"0"},{"$f":"IF('Aonad 5'!$C$7=$D$59,COUNTIF('Aonad 5'!$C:$C,$D47),\"0\")","v":"0"},{"$f":"IF('Aonad 6'!$C$7=$D$59,COUNTIF('Aonad 6'!$C:$C,$D47),\"0\")","v":"0"},{"$f":"IF('Aonad 7'!$C$7=$D$59,COUNTIF('Aonad 7'!$C:$C,$D47),\"0\")","v":"0"},{"$f":"IF('Aonad 8'!$C$7=$D$59,COUNTIF('Aonad 8'!$C:$C,$D47),\"0\")","v":"0"},{"$f":"IF('Aonad 9'!$C$7=$D$59,COUNTIF('Aonad 9'!$C:$C,$D47),\"0\")","v":"0"},{"$f":"IF('Aonad 10'!$C$7=$D$59,COUNTIF('Aonad 10'!$C:$C,$D47),\"0\")","v":"0"},{"$f":"IF('Aonad 11'!$C$7=$D$59,COUNTIF('Aonad 11'!$C:$C,$D47),\"0\")","v":"0"},{"$f":"IF('Aonad 12'!$C$7=$D$59,COUNTIF('Aonad 12'!$C:$C,$D47),\"0\")","v":"0"},{"$f":"IF('Aonad 13'!$C$7=$D$59,COUNTIF('Aonad 13'!$C:$C,$D47),\"0\")","v":"0"},{"$f":"IF('Aonad 14'!$C$7=$D$59,COUNTIF('Aonad 14'!$C:$C,$D47),\"0\")","v":"0"},{"$f":"IF('Aonad 15'!$C$7=$D$59,COUNTIF('Aonad 15'!$C:$C,$D47),\"0\")","v":"0"},{"$f":"IF('Aonad 16'!$C$7=$D$59,COUNTIF('Aonad 16'!$C:$C,$D47),\"0\")","v":"0"},{"$f":"IF('Aonad 17'!$C$7=$D$59,COUNTIF('Aonad 17'!$C:$C,$D47),\"0\")","v":"0"},{"$f":"IF('Aonad 18'!$C$7=$D$59,COUNTIF('Aonad 18'!$C:$C,$D47),\"0\")","v":"0"},{"$f":"IF('Aonad 19'!$C$7=$D$59,COUNTIF('Aonad 19'!$C:$C,$D47),\"0\")","v":"0"},{"$f":"IF('Aonad 20'!$C$7=$D$59,COUNTIF('Aonad 20'!$C:$C,$D47),\"0\")","v":"0"},{"$f":"IF('Aonad 21'!$C$7=$D$59,COUNTIF('Aonad 21'!$C:$C,$D47),\"0\")","v":"0"},{"$f":"IF('Aonad 22'!$C$7=$D$59,COUNTIF('Aonad 22'!$C:$C,$D47),\"0\")","v":"0"},{"$f":"IF('Aonad 23'!$C$7=$D$59,COUNTIF('Aonad 23'!$C:$C,$D47),\"0\")","v":"0"},{"$f":"IF('Aonad 24'!$C$7=$D$59,COUNTIF('Aonad 24'!$C:$C,$D47),\"0\")","v":"0"},{"$f":"IF('Aonad 25'!$C$7=$D$59,COUNTIF('Aonad 25'!$C:$C,$D47),\"0\")","v":"0"},{"$f":"IF('Aonad 26'!$C$7=$D$59,COUNTIF('Aonad 26'!$C:$C,$D47),\"0\")","v":"0"},{"$f":"IF('Aonad 27'!$C$7=$D$59,COUNTIF('Aonad 27'!$C:$C,$D47),\"0\")","v":"0"},{"$f":"IF('Aonad 28'!$C$7=$D$59,COUNTIF('Aonad 28'!$C:$C,$D47),\"0\")","v":"0"},{"$f":"IF('Aonad 29'!$C$7=$D$59,COUNTIF('Aonad 29'!$C:$C,$D47),\"0\")","v":"0"},{"$f":"IF('Aonad 30'!$C$7=$D$59,COUNTIF('Aonad 30'!$C:$C,$D47),\"0\")","v":"0"},{"$f":"IF('Aonad 31'!$C$7=$D$59,COUNTIF('Aonad 31'!$C:$C,$D47),\"0\")","v":"0"},{"$f":"IF('Aonad 32'!$C$7=$D$59,COUNTIF('Aonad 32'!$C:$C,$D47),\"0\")","v":"0"},{"$f":"IF('Aonad 33'!$C$7=$D$59,COUNTIF('Aonad 33'!$C:$C,$D47),\"0\")","v":"0"},{"$f":"IF('Aonad 34'!$C$7=$D$59,COUNTIF('Aonad 34'!$C:$C,$D47),\"0\")","v":"0"},{"$f":"IF('Aonad 35'!$C$7=$D$59,COUNTIF('Aonad 35'!$C:$C,$D47),\"0\")","v":"0"},{"$f":"IF('Aonad 36'!$C$7=$D$59,COUNTIF('Aonad 36'!$C:$C,$D47),\"0\")","v":"0"},{"$f":"IF('Aonad 37'!$C$7=$D$59,COUNTIF('Aonad 37'!$C:$C,$D47),\"0\")","v":"0"},{"$f":"IF('Aonad 38'!$C$7=$D$59,COUNTIF('Aonad 38'!$C:$C,$D47),\"0\")","v":"0"},0,null,{"$f":"IF('Aonad 1'!$C$7=$D$60,COUNTIF('Aonad 1'!$C:$C,$D47),\"0\")","v":"0"},{"$f":"IF('Aonad 2'!$C$7=$D$60,COUNTIF('Aonad 2'!$C:$C,$D47),\"0\")","v":"0"},{"$f":"IF('Aonad 3'!$C$7=$D$60,COUNTIF('Aonad 3'!$C:$C,$D47),\"0\")","v":"0"},{"$f":"IF('Aonad 4'!$C$7=$D$60,COUNTIF('Aonad 4'!$C:$C,$D47),\"0\")","v":"0"},{"$f":"IF('Aonad 5'!$C$7=$D$60,COUNTIF('Aonad 5'!$C:$C,$D47),\"0\")","v":"0"},{"$f":"IF('Aonad 6'!$C$7=$D$60,COUNTIF('Aonad 6'!$C:$C,$D47),\"0\")","v":"0"},{"$f":"IF('Aonad 7'!$C$7=$D$60,COUNTIF('Aonad 7'!$C:$C,$D47),\"0\")","v":"0"},{"$f":"IF('Aonad 8'!$C$7=$D$60,COUNTIF('Aonad 8'!$C:$C,$D47),\"0\")","v":"0"},{"$f":"IF('Aonad 9'!$C$7=$D$60,COUNTIF('Aonad 9'!$C:$C,$D47),\"0\")","v":"0"},{"$f":"IF('Aonad 10'!$C$7=$D$60,COUNTIF('Aonad 10'!$C:$C,$D47),\"0\")","v":"0"},{"$f":"IF('Aonad 11'!$C$7=$D$60,COUNTIF('Aonad 11'!$C:$C,$D47),\"0\")","v":"0"},{"$f":"IF('Aonad 12'!$C$7=$D$60,COUNTIF('Aonad 12'!$C:$C,$D47),\"0\")","v":"0"},{"$f":"IF('Aonad 13'!$C$7=$D$60,COUNTIF('Aonad 13'!$C:$C,$D47),\"0\")","v":"0"},{"$f":"IF('Aonad 14'!$C$7=$D$60,COUNTIF('Aonad 14'!$C:$C,$D47),\"0\")","v":"0"},{"$f":"IF('Aonad 15'!$C$7=$D$60,COUNTIF('Aonad 15'!$C:$C,$D47),\"0\")","v":"0"},{"$f":"IF('Aonad 16'!$C$7=$D$60,COUNTIF('Aonad 16'!$C:$C,$D47),\"0\")","v":"0"},{"$f":"IF('Aonad 17'!$C$7=$D$60,COUNTIF('Aonad 17'!$C:$C,$D47),\"0\")","v":"0"},{"$f":"IF('Aonad 18'!$C$7=$D$60,COUNTIF('Aonad 18'!$C:$C,$D47),\"0\")","v":"0"},{"$f":"IF('Aonad 19'!$C$7=$D$60,COUNTIF('Aonad 19'!$C:$C,$D47),\"0\")","v":"0"},{"$f":"IF('Aonad 20'!$C$7=$D$60,COUNTIF('Aonad 20'!$C:$C,$D47),\"0\")","v":"0"},{"$f":"IF('Aonad 21'!$C$7=$D$60,COUNTIF('Aonad 21'!$C:$C,$D47),\"0\")","v":"0"},{"$f":"IF('Aonad 22'!$C$7=$D$60,COUNTIF('Aonad 22'!$C:$C,$D47),\"0\")","v":"0"},{"$f":"IF('Aonad 23'!$C$7=$D$60,COUNTIF('Aonad 23'!$C:$C,$D47),\"0\")","v":"0"},{"$f":"IF('Aonad 24'!$C$7=$D$60,COUNTIF('Aonad 24'!$C:$C,$D47),\"0\")","v":"0"},{"$f":"IF('Aonad 25'!$C$7=$D$60,COUNTIF('Aonad 25'!$C:$C,$D47),\"0\")","v":"0"},{"$f":"IF('Aonad 26'!$C$7=$D$60,COUNTIF('Aonad 26'!$C:$C,$D47),\"0\")","v":"0"},{"$f":"IF('Aonad 27'!$C$7=$D$60,COUNTIF('Aonad 27'!$C:$C,$D47),\"0\")","v":"0"},{"$f":"IF('Aonad 28'!$C$7=$D$60,COUNTIF('Aonad 28'!$C:$C,$D47),\"0\")","v":"0"},{"$f":"IF('Aonad 29'!$C$7=$D$60,COUNTIF('Aonad 29'!$C:$C,$D47),\"0\")","v":"0"},{"$f":"IF('Aonad 30'!$C$7=$D$60,COUNTIF('Aonad 30'!$C:$C,$D47),\"0\")","v":"0"},{"$f":"IF('Aonad 31'!$C$7=$D$60,COUNTIF('Aonad 31'!$C:$C,$D47),\"0\")","v":"0"},{"$f":"IF('Aonad 32'!$C$7=$D$60,COUNTIF('Aonad 32'!$C:$C,$D47),\"0\")","v":"0"},{"$f":"IF('Aonad 33'!$C$7=$D$60,COUNTIF('Aonad 33'!$C:$C,$D47),\"0\")","v":"0"},{"$f":"IF('Aonad 34'!$C$7=$D$60,COUNTIF('Aonad 34'!$C:$C,$D47),\"0\")","v":"0"},{"$f":"IF('Aonad 35'!$C$7=$D$60,COUNTIF('Aonad 35'!$C:$C,$D47),\"0\")","v":"0"},{"$f":"IF('Aonad 36'!$C$7=$D$60,COUNTIF('Aonad 36'!$C:$C,$D47),\"0\")","v":"0"},{"$f":"IF('Aonad 37'!$C$7=$D$60,COUNTIF('Aonad 37'!$C:$C,$D47),\"0\")","v":"0"},{"$f":"IF('Aonad 38'!$C$7=$D$60,COUNTIF('Aonad 38'!$C:$C,$D47),\"0\")","v":"0"},0]
[null,{"$f":"B16","v":"Pleanáil, bainistiú agus cruthú"},"3.5","3.5 na cúiseanna a bhí le hábhair agus próisis ar leith a roghnú a chosaint, bunaithe ar thosca éagsúla ar nós cúinsí comhshaoil, cúinsí geilleagracha agus cúinsí eiticiúla","Cosain: cúiseanna bailí nó fianaise bhailí a thabhairt chun tacú le freagra nó le conclúid",{"$f":"COUNTIF('Aonad 1'!$C:$C,$D48)","v":0},{"$f":"COUNTIF('Aonad 2'!$C:$C,$D48)","v":0},{"$f":"COUNTIF('Aonad 3'!$C:$C,$D48)","v":0},{"$f":"COUNTIF('Aonad 4'!$C:$C,$D48)","v":0},{"$f":"COUNTIF('Aonad 5'!$C:$C,$D48)","v":0},{"$f":"COUNTIF('Aonad 6'!$C:$C,$D48)","v":0},{"$f":"COUNTIF('Aonad 7'!$C:$C,$D48)","v":0},{"$f":"COUNTIF('Aonad 8'!$C:$C,$D48)","v":0},{"$f":"COUNTIF('Aonad 9'!$C:$C,$D48)","v":0},{"$f":"COUNTIF('Aonad 10'!$C:$C,$D48)","v":0},{"$f":"COUNTIF('Aonad 11'!$C:$C,$D48)","v":0},{"$f":"COUNTIF('Aonad 12'!$C:$C,$D48)","v":0},{"$f":"COUNTIF('Aonad 13'!$C:$C,$D48)","v":0},{"$f":"COUNTIF('Aonad 14'!$C:$C,$D48)","v":0},{"$f":"COUNTIF('Aonad 15'!$C:$C,$D48)","v":0},{"$f":"COUNTIF('Aonad 16'!$C:$C,$D48)","v":0},{"$f":"COUNTIF('Aonad 17'!$C:$C,$D48)","v":0},{"$f":"COUNTIF('Aonad 18'!$C:$C,$D48)","v":0},{"$f":"COUNTIF('Aonad 19'!$C:$C,$D48)","v":0},{"$f":"COUNTIF('Aonad 20'!$C:$C,$D48)","v":0},{"$f":"COUNTIF('Aonad 21'!$C:$C,$D48)","v":0},{"$f":"COUNTIF('Aonad 22'!$C:$C,$D48)","v":0},{"$f":"COUNTIF('Aonad 23'!$C:$C,$D48)","v":0},{"$f":"COUNTIF('Aonad 24'!$C:$C,$D48)","v":0},{"$f":"COUNTIF('Aonad 25'!$C:$C,$D48)","v":0},{"$f":"COUNTIF('Aonad 26'!$C:$C,$D48)","v":0},{"$f":"COUNTIF('Aonad 27'!$C:$C,$D48)","v":0},{"$f":"COUNTIF('Aonad 28'!$C:$C,$D48)","v":0},{"$f":"COUNTIF('Aonad 29'!$C:$C,$D48)","v":0},{"$f":"COUNTIF('Aonad 30'!$C:$C,$D48)","v":0},{"$f":"COUNTIF('Aonad 31'!$C:$C,$D48)","v":0},{"$f":"COUNTIF('Aonad 32'!$C:$C,$D48)","v":0},{"$f":"COUNTIF('Aonad 33'!$C:$C,$D48)","v":0},{"$f":"COUNTIF('Aonad 34'!$C:$C,$D48)","v":0},{"$f":"COUNTIF('Aonad 35'!$C:$C,$D48)","v":0},{"$f":"COUNTIF('Aonad 36'!$C:$C,$D48)","v":0},{"$f":"COUNTIF('Aonad 37'!$C:$C,$D48)","v":0},{"$f":"COUNTIF('Aonad 38'!$C:$C,$D48)","v":0},0,null,{"$f":"IF('Aonad 1'!$C$7=$D$58,COUNTIF('Aonad 1'!$C:$C,$D48),\"0\")","v":"0"},{"$f":"IF('Aonad 2'!$C$7=$D$58,COUNTIF('Aonad 2'!$C:$C,$D48),\"0\")","v":"0"},{"$f":"IF('Aonad 3'!$C$7=$D$58,COUNTIF('Aonad 3'!$C:$C,$D48),\"0\")","v":"0"},{"$f":"IF('Aonad 4'!$C$7=$D$58,COUNTIF('Aonad 4'!$C:$C,$D48),\"0\")","v":"0"},{"$f":"IF('Aonad 5'!$C$7=$D$58,COUNTIF('Aonad 5'!$C:$C,$D48),\"0\")","v":"0"},{"$f":"IF('Aonad 6'!$C$7=$D$58,COUNTIF('Aonad 6'!$C:$C,$D48),\"0\")","v":"0"},{"$f":"IF('Aonad 7'!$C$7=$D$58,COUNTIF('Aonad 7'!$C:$C,$D48),\"0\")","v":"0"},{"$f":"IF('Aonad 8'!$C$7=$D$58,COUNTIF('Aonad 8'!$C:$C,$D48),\"0\")","v":"0"},{"$f":"IF('Aonad 9'!$C$7=$D$58,COUNTIF('Aonad 9'!$C:$C,$D48),\"0\")","v":"0"},{"$f":"IF('Aonad 10'!$C$7=$D$58,COUNTIF('Aonad 10'!$C:$C,$D48),\"0\")","v":"0"},{"$f":"IF('Aonad 11'!$C$7=$D$58,COUNTIF('Aonad 11'!$C:$C,$D48),\"0\")","v":"0"},{"$f":"IF('Aonad 12'!$C$7=$D$58,COUNTIF('Aonad 12'!$C:$C,$D48),\"0\")","v":"0"},{"$f":"IF('Aonad 13'!$C$7=$D$58,COUNTIF('Aonad 13'!$C:$C,$D48),\"0\")","v":"0"},{"$f":"IF('Aonad 14'!$C$7=$D$58,COUNTIF('Aonad 14'!$C:$C,$D48),\"0\")","v":"0"},{"$f":"IF('Aonad 15'!$C$7=$D$58,COUNTIF('Aonad 15'!$C:$C,$D48),\"0\")","v":"0"},{"$f":"IF('Aonad 16'!$C$7=$D$58,COUNTIF('Aonad 16'!$C:$C,$D48),\"0\")","v":"0"},{"$f":"IF('Aonad 17'!$C$7=$D$58,COUNTIF('Aonad 17'!$C:$C,$D48),\"0\")","v":"0"},{"$f":"IF('Aonad 18'!$C$7=$D$58,COUNTIF('Aonad 18'!$C:$C,$D48),\"0\")","v":"0"},{"$f":"IF('Aonad 19'!$C$7=$D$58,COUNTIF('Aonad 19'!$C:$C,$D48),\"0\")","v":"0"},{"$f":"IF('Aonad 20'!$C$7=$D$58,COUNTIF('Aonad 20'!$C:$C,$D48),\"0\")","v":"0"},{"$f":"IF('Aonad 21'!$C$7=$D$58,COUNTIF('Aonad 21'!$C:$C,$D48),\"0\")","v":"0"},{"$f":"IF('Aonad 22'!$C$7=$D$58,COUNTIF('Aonad 22'!$C:$C,$D48),\"0\")","v":"0"},{"$f":"IF('Aonad 23'!$C$7=$D$58,COUNTIF('Aonad 23'!$C:$C,$D48),\"0\")","v":"0"},{"$f":"IF('Aonad 24'!$C$7=$D$58,COUNTIF('Aonad 24'!$C:$C,$D48),\"0\")","v":"0"},{"$f":"IF('Aonad 25'!$C$7=$D$58,COUNTIF('Aonad 25'!$C:$C,$D48),\"0\")","v":"0"},{"$f":"IF('Aonad 26'!$C$7=$D$58,COUNTIF('Aonad 26'!$C:$C,$D48),\"0\")","v":"0"},{"$f":"IF('Aonad 27'!$C$7=$D$58,COUNTIF('Aonad 27'!$C:$C,$D48),\"0\")","v":"0"},{"$f":"IF('Aonad 28'!$C$7=$D$58,COUNTIF('Aonad 28'!$C:$C,$D48),\"0\")","v":"0"},{"$f":"IF('Aonad 29'!$C$7=$D$58,COUNTIF('Aonad 29'!$C:$C,$D48),\"0\")","v":"0"},{"$f":"IF('Aonad 30'!$C$7=$D$58,COUNTIF('Aonad 30'!$C:$C,$D48),\"0\")","v":"0"},{"$f":"IF('Aonad 31'!$C$7=$D$58,COUNTIF('Aonad 31'!$C:$C,$D48),\"0\")","v":"0"},{"$f":"IF('Aonad 32'!$C$7=$D$58,COUNTIF('Aonad 32'!$C:$C,$D48),\"0\")","v":"0"},{"$f":"IF('Aonad 33'!$C$7=$D$58,COUNTIF('Aonad 33'!$C:$C,$D48),\"0\")","v":"0"},{"$f":"IF('Aonad 34'!$C$7=$D$58,COUNTIF('Aonad 34'!$C:$C,$D48),\"0\")","v":"0"},{"$f":"IF('Aonad 35'!$C$7=$D$58,COUNTIF('Aonad 35'!$C:$C,$D48),\"0\")","v":"0"},{"$f":"IF('Aonad 36'!$C$7=$D$58,COUNTIF('Aonad 36'!$C:$C,$D48),\"0\")","v":"0"},{"$f":"IF('Aonad 37'!$C$7=$D$58,COUNTIF('Aonad 37'!$C:$C,$D48),\"0\")","v":"0"},{"$f":"IF('Aonad 38'!$C$7=$D$58,COUNTIF('Aonad 38'!$C:$C,$D48),\"0\")","v":"0"},0,null,{"$f":"IF('Aonad 1'!$C$7=$D$59,COUNTIF('Aonad 1'!$C:$C,$D48),\"0\")","v":"0"},{"$f":"IF('Aonad 2'!$C$7=$D$59,COUNTIF('Aonad 2'!$C:$C,$D48),\"0\")","v":"0"},{"$f":"IF('Aonad 3'!$C$7=$D$59,COUNTIF('Aonad 3'!$C:$C,$D48),\"0\")","v":"0"},{"$f":"IF('Aonad 4'!$C$7=$D$59,COUNTIF('Aonad 4'!$C:$C,$D48),\"0\")","v":"0"},{"$f":"IF('Aonad 5'!$C$7=$D$59,COUNTIF('Aonad 5'!$C:$C,$D48),\"0\")","v":"0"},{"$f":"IF('Aonad 6'!$C$7=$D$59,COUNTIF('Aonad 6'!$C:$C,$D48),\"0\")","v":"0"},{"$f":"IF('Aonad 7'!$C$7=$D$59,COUNTIF('Aonad 7'!$C:$C,$D48),\"0\")","v":"0"},{"$f":"IF('Aonad 8'!$C$7=$D$59,COUNTIF('Aonad 8'!$C:$C,$D48),\"0\")","v":"0"},{"$f":"IF('Aonad 9'!$C$7=$D$59,COUNTIF('Aonad 9'!$C:$C,$D48),\"0\")","v":"0"},{"$f":"IF('Aonad 10'!$C$7=$D$59,COUNTIF('Aonad 10'!$C:$C,$D48),\"0\")","v":"0"},{"$f":"IF('Aonad 11'!$C$7=$D$59,COUNTIF('Aonad 11'!$C:$C,$D48),\"0\")","v":"0"},{"$f":"IF('Aonad 12'!$C$7=$D$59,COUNTIF('Aonad 12'!$C:$C,$D48),\"0\")","v":"0"},{"$f":"IF('Aonad 13'!$C$7=$D$59,COUNTIF('Aonad 13'!$C:$C,$D48),\"0\")","v":"0"},{"$f":"IF('Aonad 14'!$C$7=$D$59,COUNTIF('Aonad 14'!$C:$C,$D48),\"0\")","v":"0"},{"$f":"IF('Aonad 15'!$C$7=$D$59,COUNTIF('Aonad 15'!$C:$C,$D48),\"0\")","v":"0"},{"$f":"IF('Aonad 16'!$C$7=$D$59,COUNTIF('Aonad 16'!$C:$C,$D48),\"0\")","v":"0"},{"$f":"IF('Aonad 17'!$C$7=$D$59,COUNTIF('Aonad 17'!$C:$C,$D48),\"0\")","v":"0"},{"$f":"IF('Aonad 18'!$C$7=$D$59,COUNTIF('Aonad 18'!$C:$C,$D48),\"0\")","v":"0"},{"$f":"IF('Aonad 19'!$C$7=$D$59,COUNTIF('Aonad 19'!$C:$C,$D48),\"0\")","v":"0"},{"$f":"IF('Aonad 20'!$C$7=$D$59,COUNTIF('Aonad 20'!$C:$C,$D48),\"0\")","v":"0"},{"$f":"IF('Aonad 21'!$C$7=$D$59,COUNTIF('Aonad 21'!$C:$C,$D48),\"0\")","v":"0"},{"$f":"IF('Aonad 22'!$C$7=$D$59,COUNTIF('Aonad 22'!$C:$C,$D48),\"0\")","v":"0"},{"$f":"IF('Aonad 23'!$C$7=$D$59,COUNTIF('Aonad 23'!$C:$C,$D48),\"0\")","v":"0"},{"$f":"IF('Aonad 24'!$C$7=$D$59,COUNTIF('Aonad 24'!$C:$C,$D48),\"0\")","v":"0"},{"$f":"IF('Aonad 25'!$C$7=$D$59,COUNTIF('Aonad 25'!$C:$C,$D48),\"0\")","v":"0"},{"$f":"IF('Aonad 26'!$C$7=$D$59,COUNTIF('Aonad 26'!$C:$C,$D48),\"0\")","v":"0"},{"$f":"IF('Aonad 27'!$C$7=$D$59,COUNTIF('Aonad 27'!$C:$C,$D48),\"0\")","v":"0"},{"$f":"IF('Aonad 28'!$C$7=$D$59,COUNTIF('Aonad 28'!$C:$C,$D48),\"0\")","v":"0"},{"$f":"IF('Aonad 29'!$C$7=$D$59,COUNTIF('Aonad 29'!$C:$C,$D48),\"0\")","v":"0"},{"$f":"IF('Aonad 30'!$C$7=$D$59,COUNTIF('Aonad 30'!$C:$C,$D48),\"0\")","v":"0"},{"$f":"IF('Aonad 31'!$C$7=$D$59,COUNTIF('Aonad 31'!$C:$C,$D48),\"0\")","v":"0"},{"$f":"IF('Aonad 32'!$C$7=$D$59,COUNTIF('Aonad 32'!$C:$C,$D48),\"0\")","v":"0"},{"$f":"IF('Aonad 33'!$C$7=$D$59,COUNTIF('Aonad 33'!$C:$C,$D48),\"0\")","v":"0"},{"$f":"IF('Aonad 34'!$C$7=$D$59,COUNTIF('Aonad 34'!$C:$C,$D48),\"0\")","v":"0"},{"$f":"IF('Aonad 35'!$C$7=$D$59,COUNTIF('Aonad 35'!$C:$C,$D48),\"0\")","v":"0"},{"$f":"IF('Aonad 36'!$C$7=$D$59,COUNTIF('Aonad 36'!$C:$C,$D48),\"0\")","v":"0"},{"$f":"IF('Aonad 37'!$C$7=$D$59,COUNTIF('Aonad 37'!$C:$C,$D48),\"0\")","v":"0"},{"$f":"IF('Aonad 38'!$C$7=$D$59,COUNTIF('Aonad 38'!$C:$C,$D48),\"0\")","v":"0"},0,null,{"$f":"IF('Aonad 1'!$C$7=$D$60,COUNTIF('Aonad 1'!$C:$C,$D48),\"0\")","v":"0"},{"$f":"IF('Aonad 2'!$C$7=$D$60,COUNTIF('Aonad 2'!$C:$C,$D48),\"0\")","v":"0"},{"$f":"IF('Aonad 3'!$C$7=$D$60,COUNTIF('Aonad 3'!$C:$C,$D48),\"0\")","v":"0"},{"$f":"IF('Aonad 4'!$C$7=$D$60,COUNTIF('Aonad 4'!$C:$C,$D48),\"0\")","v":"0"},{"$f":"IF('Aonad 5'!$C$7=$D$60,COUNTIF('Aonad 5'!$C:$C,$D48),\"0\")","v":"0"},{"$f":"IF('Aonad 6'!$C$7=$D$60,COUNTIF('Aonad 6'!$C:$C,$D48),\"0\")","v":"0"},{"$f":"IF('Aonad 7'!$C$7=$D$60,COUNTIF('Aonad 7'!$C:$C,$D48),\"0\")","v":"0"},{"$f":"IF('Aonad 8'!$C$7=$D$60,COUNTIF('Aonad 8'!$C:$C,$D48),\"0\")","v":"0"},{"$f":"IF('Aonad 9'!$C$7=$D$60,COUNTIF('Aonad 9'!$C:$C,$D48),\"0\")","v":"0"},{"$f":"IF('Aonad 10'!$C$7=$D$60,COUNTIF('Aonad 10'!$C:$C,$D48),\"0\")","v":"0"},{"$f":"IF('Aonad 11'!$C$7=$D$60,COUNTIF('Aonad 11'!$C:$C,$D48),\"0\")","v":"0"},{"$f":"IF('Aonad 12'!$C$7=$D$60,COUNTIF('Aonad 12'!$C:$C,$D48),\"0\")","v":"0"},{"$f":"IF('Aonad 13'!$C$7=$D$60,COUNTIF('Aonad 13'!$C:$C,$D48),\"0\")","v":"0"},{"$f":"IF('Aonad 14'!$C$7=$D$60,COUNTIF('Aonad 14'!$C:$C,$D48),\"0\")","v":"0"},{"$f":"IF('Aonad 15'!$C$7=$D$60,COUNTIF('Aonad 15'!$C:$C,$D48),\"0\")","v":"0"},{"$f":"IF('Aonad 16'!$C$7=$D$60,COUNTIF('Aonad 16'!$C:$C,$D48),\"0\")","v":"0"},{"$f":"IF('Aonad 17'!$C$7=$D$60,COUNTIF('Aonad 17'!$C:$C,$D48),\"0\")","v":"0"},{"$f":"IF('Aonad 18'!$C$7=$D$60,COUNTIF('Aonad 18'!$C:$C,$D48),\"0\")","v":"0"},{"$f":"IF('Aonad 19'!$C$7=$D$60,COUNTIF('Aonad 19'!$C:$C,$D48),\"0\")","v":"0"},{"$f":"IF('Aonad 20'!$C$7=$D$60,COUNTIF('Aonad 20'!$C:$C,$D48),\"0\")","v":"0"},{"$f":"IF('Aonad 21'!$C$7=$D$60,COUNTIF('Aonad 21'!$C:$C,$D48),\"0\")","v":"0"},{"$f":"IF('Aonad 22'!$C$7=$D$60,COUNTIF('Aonad 22'!$C:$C,$D48),\"0\")","v":"0"},{"$f":"IF('Aonad 23'!$C$7=$D$60,COUNTIF('Aonad 23'!$C:$C,$D48),\"0\")","v":"0"},{"$f":"IF('Aonad 24'!$C$7=$D$60,COUNTIF('Aonad 24'!$C:$C,$D48),\"0\")","v":"0"},{"$f":"IF('Aonad 25'!$C$7=$D$60,COUNTIF('Aonad 25'!$C:$C,$D48),\"0\")","v":"0"},{"$f":"IF('Aonad 26'!$C$7=$D$60,COUNTIF('Aonad 26'!$C:$C,$D48),\"0\")","v":"0"},{"$f":"IF('Aonad 27'!$C$7=$D$60,COUNTIF('Aonad 27'!$C:$C,$D48),\"0\")","v":"0"},{"$f":"IF('Aonad 28'!$C$7=$D$60,COUNTIF('Aonad 28'!$C:$C,$D48),\"0\")","v":"0"},{"$f":"IF('Aonad 29'!$C$7=$D$60,COUNTIF('Aonad 29'!$C:$C,$D48),\"0\")","v":"0"},{"$f":"IF('Aonad 30'!$C$7=$D$60,COUNTIF('Aonad 30'!$C:$C,$D48),\"0\")","v":"0"},{"$f":"IF('Aonad 31'!$C$7=$D$60,COUNTIF('Aonad 31'!$C:$C,$D48),\"0\")","v":"0"},{"$f":"IF('Aonad 32'!$C$7=$D$60,COUNTIF('Aonad 32'!$C:$C,$D48),\"0\")","v":"0"},{"$f":"IF('Aonad 33'!$C$7=$D$60,COUNTIF('Aonad 33'!$C:$C,$D48),\"0\")","v":"0"},{"$f":"IF('Aonad 34'!$C$7=$D$60,COUNTIF('Aonad 34'!$C:$C,$D48),\"0\")","v":"0"},{"$f":"IF('Aonad 35'!$C$7=$D$60,COUNTIF('Aonad 35'!$C:$C,$D48),\"0\")","v":"0"},{"$f":"IF('Aonad 36'!$C$7=$D$60,COUNTIF('Aonad 36'!$C:$C,$D48),\"0\")","v":"0"},{"$f":"IF('Aonad 37'!$C$7=$D$60,COUNTIF('Aonad 37'!$C:$C,$D48),\"0\")","v":"0"},{"$f":"IF('Aonad 38'!$C$7=$D$60,COUNTIF('Aonad 38'!$C:$C,$D48),\"0\")","v":"0"},0]
[null,null,"3.6","3.6 machnamh a dhéanamh ar riachtanais an úsáideora ag gach céim den dearadh","Machnaigh ar: cuimhneamh go cúramach faoi rud éigin, sular ndéanfar cinneadh faoi go hiondúil",{"$f":"COUNTIF('Aonad 1'!$C:$C,$D49)","v":0},{"$f":"COUNTIF('Aonad 2'!$C:$C,$D49)","v":0},{"$f":"COUNTIF('Aonad 3'!$C:$C,$D49)","v":0},{"$f":"COUNTIF('Aonad 4'!$C:$C,$D49)","v":0},{"$f":"COUNTIF('Aonad 5'!$C:$C,$D49)","v":0},{"$f":"COUNTIF('Aonad 6'!$C:$C,$D49)","v":0},{"$f":"COUNTIF('Aonad 7'!$C:$C,$D49)","v":0},{"$f":"COUNTIF('Aonad 8'!$C:$C,$D49)","v":0},{"$f":"COUNTIF('Aonad 9'!$C:$C,$D49)","v":0},{"$f":"COUNTIF('Aonad 10'!$C:$C,$D49)","v":0},{"$f":"COUNTIF('Aonad 11'!$C:$C,$D49)","v":0},{"$f":"COUNTIF('Aonad 12'!$C:$C,$D49)","v":0},{"$f":"COUNTIF('Aonad 13'!$C:$C,$D49)","v":0},{"$f":"COUNTIF('Aonad 14'!$C:$C,$D49)","v":0},{"$f":"COUNTIF('Aonad 15'!$C:$C,$D49)","v":0},{"$f":"COUNTIF('Aonad 16'!$C:$C,$D49)","v":0},{"$f":"COUNTIF('Aonad 17'!$C:$C,$D49)","v":0},{"$f":"COUNTIF('Aonad 18'!$C:$C,$D49)","v":0},{"$f":"COUNTIF('Aonad 19'!$C:$C,$D49)","v":0},{"$f":"COUNTIF('Aonad 20'!$C:$C,$D49)","v":0},{"$f":"COUNTIF('Aonad 21'!$C:$C,$D49)","v":0},{"$f":"COUNTIF('Aonad 22'!$C:$C,$D49)","v":0},{"$f":"COUNTIF('Aonad 23'!$C:$C,$D49)","v":0},{"$f":"COUNTIF('Aonad 24'!$C:$C,$D49)","v":0},{"$f":"COUNTIF('Aonad 25'!$C:$C,$D49)","v":0},{"$f":"COUNTIF('Aonad 26'!$C:$C,$D49)","v":0},{"$f":"COUNTIF('Aonad 27'!$C:$C,$D49)","v":0},{"$f":"COUNTIF('Aonad 28'!$C:$C,$D49)","v":0},{"$f":"COUNTIF('Aonad 29'!$C:$C,$D49)","v":0},{"$f":"COUNTIF('Aonad 30'!$C:$C,$D49)","v":0},{"$f":"COUNTIF('Aonad 31'!$C:$C,$D49)","v":0},{"$f":"COUNTIF('Aonad 32'!$C:$C,$D49)","v":0},{"$f":"COUNTIF('Aonad 33'!$C:$C,$D49)","v":0},{"$f":"COUNTIF('Aonad 34'!$C:$C,$D49)","v":0},{"$f":"COUNTIF('Aonad 35'!$C:$C,$D49)","v":0},{"$f":"COUNTIF('Aonad 36'!$C:$C,$D49)","v":0},{"$f":"COUNTIF('Aonad 37'!$C:$C,$D49)","v":0},{"$f":"COUNTIF('Aonad 38'!$C:$C,$D49)","v":0},0,null,{"$f":"IF('Aonad 1'!$C$7=$D$58,COUNTIF('Aonad 1'!$C:$C,$D49),\"0\")","v":"0"},{"$f":"IF('Aonad 2'!$C$7=$D$58,COUNTIF('Aonad 2'!$C:$C,$D49),\"0\")","v":"0"},{"$f":"IF('Aonad 3'!$C$7=$D$58,COUNTIF('Aonad 3'!$C:$C,$D49),\"0\")","v":"0"},{"$f":"IF('Aonad 4'!$C$7=$D$58,COUNTIF('Aonad 4'!$C:$C,$D49),\"0\")","v":"0"},{"$f":"IF('Aonad 5'!$C$7=$D$58,COUNTIF('Aonad 5'!$C:$C,$D49),\"0\")","v":"0"},{"$f":"IF('Aonad 6'!$C$7=$D$58,COUNTIF('Aonad 6'!$C:$C,$D49),\"0\")","v":"0"},{"$f":"IF('Aonad 7'!$C$7=$D$58,COUNTIF('Aonad 7'!$C:$C,$D49),\"0\")","v":"0"},{"$f":"IF('Aonad 8'!$C$7=$D$58,COUNTIF('Aonad 8'!$C:$C,$D49),\"0\")","v":"0"},{"$f":"IF('Aonad 9'!$C$7=$D$58,COUNTIF('Aonad 9'!$C:$C,$D49),\"0\")","v":"0"},{"$f":"IF('Aonad 10'!$C$7=$D$58,COUNTIF('Aonad 10'!$C:$C,$D49),\"0\")","v":"0"},{"$f":"IF('Aonad 11'!$C$7=$D$58,COUNTIF('Aonad 11'!$C:$C,$D49),\"0\")","v":"0"},{"$f":"IF('Aonad 12'!$C$7=$D$58,COUNTIF('Aonad 12'!$C:$C,$D49),\"0\")","v":"0"},{"$f":"IF('Aonad 13'!$C$7=$D$58,COUNTIF('Aonad 13'!$C:$C,$D49),\"0\")","v":"0"},{"$f":"IF('Aonad 14'!$C$7=$D$58,COUNTIF('Aonad 14'!$C:$C,$D49),\"0\")","v":"0"},{"$f":"IF('Aonad 15'!$C$7=$D$58,COUNTIF('Aonad 15'!$C:$C,$D49),\"0\")","v":"0"},{"$f":"IF('Aonad 16'!$C$7=$D$58,COUNTIF('Aonad 16'!$C:$C,$D49),\"0\")","v":"0"},{"$f":"IF('Aonad 17'!$C$7=$D$58,COUNTIF('Aonad 17'!$C:$C,$D49),\"0\")","v":"0"},{"$f":"IF('Aonad 18'!$C$7=$D$58,COUNTIF('Aonad 18'!$C:$C,$D49),\"0\")","v":"0"},{"$f":"IF('Aonad 19'!$C$7=$D$58,COUNTIF('Aonad 19'!$C:$C,$D49),\"0\")","v":"0"},{"$f":"IF('Aonad 20'!$C$7=$D$58,COUNTIF('Aonad 20'!$C:$C,$D49),\"0\")","v":"0"},{"$f":"IF('Aonad 21'!$C$7=$D$58,COUNTIF('Aonad 21'!$C:$C,$D49),\"0\")","v":"0"},{"$f":"IF('Aonad 22'!$C$7=$D$58,COUNTIF('Aonad 22'!$C:$C,$D49),\"0\")","v":"0"},{"$f":"IF('Aonad 23'!$C$7=$D$58,COUNTIF('Aonad 23'!$C:$C,$D49),\"0\")","v":"0"},{"$f":"IF('Aonad 24'!$C$7=$D$58,COUNTIF('Aonad 24'!$C:$C,$D49),\"0\")","v":"0"},{"$f":"IF('Aonad 25'!$C$7=$D$58,COUNTIF('Aonad 25'!$C:$C,$D49),\"0\")","v":"0"},{"$f":"IF('Aonad 26'!$C$7=$D$58,COUNTIF('Aonad 26'!$C:$C,$D49),\"0\")","v":"0"},{"$f":"IF('Aonad 27'!$C$7=$D$58,COUNTIF('Aonad 27'!$C:$C,$D49),\"0\")","v":"0"},{"$f":"IF('Aonad 28'!$C$7=$D$58,COUNTIF('Aonad 28'!$C:$C,$D49),\"0\")","v":"0"},{"$f":"IF('Aonad 29'!$C$7=$D$58,COUNTIF('Aonad 29'!$C:$C,$D49),\"0\")","v":"0"},{"$f":"IF('Aonad 30'!$C$7=$D$58,COUNTIF('Aonad 30'!$C:$C,$D49),\"0\")","v":"0"},{"$f":"IF('Aonad 31'!$C$7=$D$58,COUNTIF('Aonad 31'!$C:$C,$D49),\"0\")","v":"0"},{"$f":"IF('Aonad 32'!$C$7=$D$58,COUNTIF('Aonad 32'!$C:$C,$D49),\"0\")","v":"0"},{"$f":"IF('Aonad 33'!$C$7=$D$58,COUNTIF('Aonad 33'!$C:$C,$D49),\"0\")","v":"0"},{"$f":"IF('Aonad 34'!$C$7=$D$58,COUNTIF('Aonad 34'!$C:$C,$D49),\"0\")","v":"0"},{"$f":"IF('Aonad 35'!$C$7=$D$58,COUNTIF('Aonad 35'!$C:$C,$D49),\"0\")","v":"0"},{"$f":"IF('Aonad 36'!$C$7=$D$58,COUNTIF('Aonad 36'!$C:$C,$D49),\"0\")","v":"0"},{"$f":"IF('Aonad 37'!$C$7=$D$58,COUNTIF('Aonad 37'!$C:$C,$D49),\"0\")","v":"0"},{"$f":"IF('Aonad 38'!$C$7=$D$58,COUNTIF('Aonad 38'!$C:$C,$D49),\"0\")","v":"0"},0,null,{"$f":"IF('Aonad 1'!$C$7=$D$59,COUNTIF('Aonad 1'!$C:$C,$D49),\"0\")","v":"0"},{"$f":"IF('Aonad 2'!$C$7=$D$59,COUNTIF('Aonad 2'!$C:$C,$D49),\"0\")","v":"0"},{"$f":"IF('Aonad 3'!$C$7=$D$59,COUNTIF('Aonad 3'!$C:$C,$D49),\"0\")","v":"0"},{"$f":"IF('Aonad 4'!$C$7=$D$59,COUNTIF('Aonad 4'!$C:$C,$D49),\"0\")","v":"0"},{"$f":"IF('Aonad 5'!$C$7=$D$59,COUNTIF('Aonad 5'!$C:$C,$D49),\"0\")","v":"0"},{"$f":"IF('Aonad 6'!$C$7=$D$59,COUNTIF('Aonad 6'!$C:$C,$D49),\"0\")","v":"0"},{"$f":"IF('Aonad 7'!$C$7=$D$59,COUNTIF('Aonad 7'!$C:$C,$D49),\"0\")","v":"0"},{"$f":"IF('Aonad 8'!$C$7=$D$59,COUNTIF('Aonad 8'!$C:$C,$D49),\"0\")","v":"0"},{"$f":"IF('Aonad 9'!$C$7=$D$59,COUNTIF('Aonad 9'!$C:$C,$D49),\"0\")","v":"0"},{"$f":"IF('Aonad 10'!$C$7=$D$59,COUNTIF('Aonad 10'!$C:$C,$D49),\"0\")","v":"0"},{"$f":"IF('Aonad 11'!$C$7=$D$59,COUNTIF('Aonad 11'!$C:$C,$D49),\"0\")","v":"0"},{"$f":"IF('Aonad 12'!$C$7=$D$59,COUNTIF('Aonad 12'!$C:$C,$D49),\"0\")","v":"0"},{"$f":"IF('Aonad 13'!$C$7=$D$59,COUNTIF('Aonad 13'!$C:$C,$D49),\"0\")","v":"0"},{"$f":"IF('Aonad 14'!$C$7=$D$59,COUNTIF('Aonad 14'!$C:$C,$D49),\"0\")","v":"0"},{"$f":"IF('Aonad 15'!$C$7=$D$59,COUNTIF('Aonad 15'!$C:$C,$D49),\"0\")","v":"0"},{"$f":"IF('Aonad 16'!$C$7=$D$59,COUNTIF('Aonad 16'!$C:$C,$D49),\"0\")","v":"0"},{"$f":"IF('Aonad 17'!$C$7=$D$59,COUNTIF('Aonad 17'!$C:$C,$D49),\"0\")","v":"0"},{"$f":"IF('Aonad 18'!$C$7=$D$59,COUNTIF('Aonad 18'!$C:$C,$D49),\"0\")","v":"0"},{"$f":"IF('Aonad 19'!$C$7=$D$59,COUNTIF('Aonad 19'!$C:$C,$D49),\"0\")","v":"0"},{"$f":"IF('Aonad 20'!$C$7=$D$59,COUNTIF('Aonad 20'!$C:$C,$D49),\"0\")","v":"0"},{"$f":"IF('Aonad 21'!$C$7=$D$59,COUNTIF('Aonad 21'!$C:$C,$D49),\"0\")","v":"0"},{"$f":"IF('Aonad 22'!$C$7=$D$59,COUNTIF('Aonad 22'!$C:$C,$D49),\"0\")","v":"0"},{"$f":"IF('Aonad 23'!$C$7=$D$59,COUNTIF('Aonad 23'!$C:$C,$D49),\"0\")","v":"0"},{"$f":"IF('Aonad 24'!$C$7=$D$59,COUNTIF('Aonad 24'!$C:$C,$D49),\"0\")","v":"0"},{"$f":"IF('Aonad 25'!$C$7=$D$59,COUNTIF('Aonad 25'!$C:$C,$D49),\"0\")","v":"0"},{"$f":"IF('Aonad 26'!$C$7=$D$59,COUNTIF('Aonad 26'!$C:$C,$D49),\"0\")","v":"0"},{"$f":"IF('Aonad 27'!$C$7=$D$59,COUNTIF('Aonad 27'!$C:$C,$D49),\"0\")","v":"0"},{"$f":"IF('Aonad 28'!$C$7=$D$59,COUNTIF('Aonad 28'!$C:$C,$D49),\"0\")","v":"0"},{"$f":"IF('Aonad 29'!$C$7=$D$59,COUNTIF('Aonad 29'!$C:$C,$D49),\"0\")","v":"0"},{"$f":"IF('Aonad 30'!$C$7=$D$59,COUNTIF('Aonad 30'!$C:$C,$D49),\"0\")","v":"0"},{"$f":"IF('Aonad 31'!$C$7=$D$59,COUNTIF('Aonad 31'!$C:$C,$D49),\"0\")","v":"0"},{"$f":"IF('Aonad 32'!$C$7=$D$59,COUNTIF('Aonad 32'!$C:$C,$D49),\"0\")","v":"0"},{"$f":"IF('Aonad 33'!$C$7=$D$59,COUNTIF('Aonad 33'!$C:$C,$D49),\"0\")","v":"0"},{"$f":"IF('Aonad 34'!$C$7=$D$59,COUNTIF('Aonad 34'!$C:$C,$D49),\"0\")","v":"0"},{"$f":"IF('Aonad 35'!$C$7=$D$59,COUNTIF('Aonad 35'!$C:$C,$D49),\"0\")","v":"0"},{"$f":"IF('Aonad 36'!$C$7=$D$59,COUNTIF('Aonad 36'!$C:$C,$D49),\"0\")","v":"0"},{"$f":"IF('Aonad 37'!$C$7=$D$59,COUNTIF('Aonad 37'!$C:$C,$D49),\"0\")","v":"0"},{"$f":"IF('Aonad 38'!$C$7=$D$59,COUNTIF('Aonad 38'!$C:$C,$D49),\"0\")","v":"0"},0,null,{"$f":"IF('Aonad 1'!$C$7=$D$60,COUNTIF('Aonad 1'!$C:$C,$D49),\"0\")","v":"0"},{"$f":"IF('Aonad 2'!$C$7=$D$60,COUNTIF('Aonad 2'!$C:$C,$D49),\"0\")","v":"0"},{"$f":"IF('Aonad 3'!$C$7=$D$60,COUNTIF('Aonad 3'!$C:$C,$D49),\"0\")","v":"0"},{"$f":"IF('Aonad 4'!$C$7=$D$60,COUNTIF('Aonad 4'!$C:$C,$D49),\"0\")","v":"0"},{"$f":"IF('Aonad 5'!$C$7=$D$60,COUNTIF('Aonad 5'!$C:$C,$D49),\"0\")","v":"0"},{"$f":"IF('Aonad 6'!$C$7=$D$60,COUNTIF('Aonad 6'!$C:$C,$D49),\"0\")","v":"0"},{"$f":"IF('Aonad 7'!$C$7=$D$60,COUNTIF('Aonad 7'!$C:$C,$D49),\"0\")","v":"0"},{"$f":"IF('Aonad 8'!$C$7=$D$60,COUNTIF('Aonad 8'!$C:$C,$D49),\"0\")","v":"0"},{"$f":"IF('Aonad 9'!$C$7=$D$60,COUNTIF('Aonad 9'!$C:$C,$D49),\"0\")","v":"0"},{"$f":"IF('Aonad 10'!$C$7=$D$60,COUNTIF('Aonad 10'!$C:$C,$D49),\"0\")","v":"0"},{"$f":"IF('Aonad 11'!$C$7=$D$60,COUNTIF('Aonad 11'!$C:$C,$D49),\"0\")","v":"0"},{"$f":"IF('Aonad 12'!$C$7=$D$60,COUNTIF('Aonad 12'!$C:$C,$D49),\"0\")","v":"0"},{"$f":"IF('Aonad 13'!$C$7=$D$60,COUNTIF('Aonad 13'!$C:$C,$D49),\"0\")","v":"0"},{"$f":"IF('Aonad 14'!$C$7=$D$60,COUNTIF('Aonad 14'!$C:$C,$D49),\"0\")","v":"0"},{"$f":"IF('Aonad 15'!$C$7=$D$60,COUNTIF('Aonad 15'!$C:$C,$D49),\"0\")","v":"0"},{"$f":"IF('Aonad 16'!$C$7=$D$60,COUNTIF('Aonad 16'!$C:$C,$D49),\"0\")","v":"0"},{"$f":"IF('Aonad 17'!$C$7=$D$60,COUNTIF('Aonad 17'!$C:$C,$D49),\"0\")","v":"0"},{"$f":"IF('Aonad 18'!$C$7=$D$60,COUNTIF('Aonad 18'!$C:$C,$D49),\"0\")","v":"0"},{"$f":"IF('Aonad 19'!$C$7=$D$60,COUNTIF('Aonad 19'!$C:$C,$D49),\"0\")","v":"0"},{"$f":"IF('Aonad 20'!$C$7=$D$60,COUNTIF('Aonad 20'!$C:$C,$D49),\"0\")","v":"0"},{"$f":"IF('Aonad 21'!$C$7=$D$60,COUNTIF('Aonad 21'!$C:$C,$D49),\"0\")","v":"0"},{"$f":"IF('Aonad 22'!$C$7=$D$60,COUNTIF('Aonad 22'!$C:$C,$D49),\"0\")","v":"0"},{"$f":"IF('Aonad 23'!$C$7=$D$60,COUNTIF('Aonad 23'!$C:$C,$D49),\"0\")","v":"0"},{"$f":"IF('Aonad 24'!$C$7=$D$60,COUNTIF('Aonad 24'!$C:$C,$D49),\"0\")","v":"0"},{"$f":"IF('Aonad 25'!$C$7=$D$60,COUNTIF('Aonad 25'!$C:$C,$D49),\"0\")","v":"0"},{"$f":"IF('Aonad 26'!$C$7=$D$60,COUNTIF('Aonad 26'!$C:$C,$D49),\"0\")","v":"0"},{"$f":"IF('Aonad 27'!$C$7=$D$60,COUNTIF('Aonad 27'!$C:$C,$D49),\"0\")","v":"0"},{"$f":"IF('Aonad 28'!$C$7=$D$60,COUNTIF('Aonad 28'!$C:$C,$D49),\"0\")","v":"0"},{"$f":"IF('Aonad 29'!$C$7=$D$60,COUNTIF('Aonad 29'!$C:$C,$D49),\"0\")","v":"0"},{"$f":"IF('Aonad 30'!$C$7=$D$60,COUNTIF('Aonad 30'!$C:$C,$D49),\"0\")","v":"0"},{"$f":"IF('Aonad 31'!$C$7=$D$60,COUNTIF('Aonad 31'!$C:$C,$D49),\"0\")","v":"0"},{"$f":"IF('Aonad 32'!$C$7=$D$60,COUNTIF('Aonad 32'!$C:$C,$D49),\"0\")","v":"0"},{"$f":"IF('Aonad 33'!$C$7=$D$60,COUNTIF('Aonad 33'!$C:$C,$D49),\"0\")","v":"0"},{"$f":"IF('Aonad 34'!$C$7=$D$60,COUNTIF('Aonad 34'!$C:$C,$D49),\"0\")","v":"0"},{"$f":"IF('Aonad 35'!$C$7=$D$60,COUNTIF('Aonad 35'!$C:$C,$D49),\"0\")","v":"0"},{"$f":"IF('Aonad 36'!$C$7=$D$60,COUNTIF('Aonad 36'!$C:$C,$D49),\"0\")","v":"0"},{"$f":"IF('Aonad 37'!$C$7=$D$60,COUNTIF('Aonad 37'!$C:$C,$D49),\"0\")","v":"0"},{"$f":"IF('Aonad 38'!$C$7=$D$60,COUNTIF('Aonad 38'!$C:$C,$D49),\"0\")","v":"0"},0]
[null,null,"3.7","3.7 an fhreagracht atá ar an scoláire maidir lena chinntiú go gcoinnítear sonraí pearsanta slán agus príobháideach a aithint","Aithin: fíricí, saintréithe nó coincheapa atá riachtanach (ábhartha/oiriúnach) chun cás, imeacht, próiseas nó feiniméan a thuiscint agus a shainaithint",{"$f":"COUNTIF('Aonad 1'!$C:$C,$D50)","v":0},{"$f":"COUNTIF('Aonad 2'!$C:$C,$D50)","v":0},{"$f":"COUNTIF('Aonad 3'!$C:$C,$D50)","v":0},{"$f":"COUNTIF('Aonad 4'!$C:$C,$D50)","v":0},{"$f":"COUNTIF('Aonad 5'!$C:$C,$D50)","v":0},{"$f":"COUNTIF('Aonad 6'!$C:$C,$D50)","v":0},{"$f":"COUNTIF('Aonad 7'!$C:$C,$D50)","v":0},{"$f":"COUNTIF('Aonad 8'!$C:$C,$D50)","v":0},{"$f":"COUNTIF('Aonad 9'!$C:$C,$D50)","v":0},{"$f":"COUNTIF('Aonad 10'!$C:$C,$D50)","v":0},{"$f":"COUNTIF('Aonad 11'!$C:$C,$D50)","v":0},{"$f":"COUNTIF('Aonad 12'!$C:$C,$D50)","v":0},{"$f":"COUNTIF('Aonad 13'!$C:$C,$D50)","v":0},{"$f":"COUNTIF('Aonad 14'!$C:$C,$D50)","v":0},{"$f":"COUNTIF('Aonad 15'!$C:$C,$D50)","v":0},{"$f":"COUNTIF('Aonad 16'!$C:$C,$D50)","v":0},{"$f":"COUNTIF('Aonad 17'!$C:$C,$D50)","v":0},{"$f":"COUNTIF('Aonad 18'!$C:$C,$D50)","v":0},{"$f":"COUNTIF('Aonad 19'!$C:$C,$D50)","v":0},{"$f":"COUNTIF('Aonad 20'!$C:$C,$D50)","v":0},{"$f":"COUNTIF('Aonad 21'!$C:$C,$D50)","v":0},{"$f":"COUNTIF('Aonad 22'!$C:$C,$D50)","v":0},{"$f":"COUNTIF('Aonad 23'!$C:$C,$D50)","v":0},{"$f":"COUNTIF('Aonad 24'!$C:$C,$D50)","v":0},{"$f":"COUNTIF('Aonad 25'!$C:$C,$D50)","v":0},{"$f":"COUNTIF('Aonad 26'!$C:$C,$D50)","v":0},{"$f":"COUNTIF('Aonad 27'!$C:$C,$D50)","v":0},{"$f":"COUNTIF('Aonad 28'!$C:$C,$D50)","v":0},{"$f":"COUNTIF('Aonad 29'!$C:$C,$D50)","v":0},{"$f":"COUNTIF('Aonad 30'!$C:$C,$D50)","v":0},{"$f":"COUNTIF('Aonad 31'!$C:$C,$D50)","v":0},{"$f":"COUNTIF('Aonad 32'!$C:$C,$D50)","v":0},{"$f":"COUNTIF('Aonad 33'!$C:$C,$D50)","v":0},{"$f":"COUNTIF('Aonad 34'!$C:$C,$D50)","v":0},{"$f":"COUNTIF('Aonad 35'!$C:$C,$D50)","v":0},{"$f":"COUNTIF('Aonad 36'!$C:$C,$D50)","v":0},{"$f":"COUNTIF('Aonad 37'!$C:$C,$D50)","v":0},{"$f":"COUNTIF('Aonad 38'!$C:$C,$D50)","v":0},0,null,{"$f":"IF('Aonad 1'!$C$7=$D$58,COUNTIF('Aonad 1'!$C:$C,$D50),\"0\")","v":"0"},{"$f":"IF('Aonad 2'!$C$7=$D$58,COUNTIF('Aonad 2'!$C:$C,$D50),\"0\")","v":"0"},{"$f":"IF('Aonad 3'!$C$7=$D$58,COUNTIF('Aonad 3'!$C:$C,$D50),\"0\")","v":"0"},{"$f":"IF('Aonad 4'!$C$7=$D$58,COUNTIF('Aonad 4'!$C:$C,$D50),\"0\")","v":"0"},{"$f":"IF('Aonad 5'!$C$7=$D$58,COUNTIF('Aonad 5'!$C:$C,$D50),\"0\")","v":"0"},{"$f":"IF('Aonad 6'!$C$7=$D$58,COUNTIF('Aonad 6'!$C:$C,$D50),\"0\")","v":"0"},{"$f":"IF('Aonad 7'!$C$7=$D$58,COUNTIF('Aonad 7'!$C:$C,$D50),\"0\")","v":"0"},{"$f":"IF('Aonad 8'!$C$7=$D$58,COUNTIF('Aonad 8'!$C:$C,$D50),\"0\")","v":"0"},{"$f":"IF('Aonad 9'!$C$7=$D$58,COUNTIF('Aonad 9'!$C:$C,$D50),\"0\")","v":"0"},{"$f":"IF('Aonad 10'!$C$7=$D$58,COUNTIF('Aonad 10'!$C:$C,$D50),\"0\")","v":"0"},{"$f":"IF('Aonad 11'!$C$7=$D$58,COUNTIF('Aonad 11'!$C:$C,$D50),\"0\")","v":"0"},{"$f":"IF('Aonad 12'!$C$7=$D$58,COUNTIF('Aonad 12'!$C:$C,$D50),\"0\")","v":"0"},{"$f":"IF('Aonad 13'!$C$7=$D$58,COUNTIF('Aonad 13'!$C:$C,$D50),\"0\")","v":"0"},{"$f":"IF('Aonad 14'!$C$7=$D$58,COUNTIF('Aonad 14'!$C:$C,$D50),\"0\")","v":"0"},{"$f":"IF('Aonad 15'!$C$7=$D$58,COUNTIF('Aonad 15'!$C:$C,$D50),\"0\")","v":"0"},{"$f":"IF('Aonad 16'!$C$7=$D$58,COUNTIF('Aonad 16'!$C:$C,$D50),\"0\")","v":"0"},{"$f":"IF('Aonad 17'!$C$7=$D$58,COUNTIF('Aonad 17'!$C:$C,$D50),\"0\")","v":"0"},{"$f":"IF('Aonad 18'!$C$7=$D$58,COUNTIF('Aonad 18'!$C:$C,$D50),\"0\")","v":"0"},{"$f":"IF('Aonad 19'!$C$7=$D$58,COUNTIF('Aonad 19'!$C:$C,$D50),\"0\")","v":"0"},{"$f":"IF('Aonad 20'!$C$7=$D$58,COUNTIF('Aonad 20'!$C:$C,$D50),\"0\")","v":"0"},{"$f":"IF('Aonad 21'!$C$7=$D$58,COUNTIF('Aonad 21'!$C:$C,$D50),\"0\")","v":"0"},{"$f":"IF('Aonad 22'!$C$7=$D$58,COUNTIF('Aonad 22'!$C:$C,$D50),\"0\")","v":"0"},{"$f":"IF('Aonad 23'!$C$7=$D$58,COUNTIF('Aonad 23'!$C:$C,$D50),\"0\")","v":"0"},{"$f":"IF('Aonad 24'!$C$7=$D$58,COUNTIF('Aonad 24'!$C:$C,$D50),\"0\")","v":"0"},{"$f":"IF('Aonad 25'!$C$7=$D$58,COUNTIF('Aonad 25'!$C:$C,$D50),\"0\")","v":"0"},{"$f":"IF('Aonad 26'!$C$7=$D$58,COUNTIF('Aonad 26'!$C:$C,$D50),\"0\")","v":"0"},{"$f":"IF('Aonad 27'!$C$7=$D$58,COUNTIF('Aonad 27'!$C:$C,$D50),\"0\")","v":"0"},{"$f":"IF('Aonad 28'!$C$7=$D$58,COUNTIF('Aonad 28'!$C:$C,$D50),\"0\")","v":"0"},{"$f":"IF('Aonad 29'!$C$7=$D$58,COUNTIF('Aonad 29'!$C:$C,$D50),\"0\")","v":"0"},{"$f":"IF('Aonad 30'!$C$7=$D$58,COUNTIF('Aonad 30'!$C:$C,$D50),\"0\")","v":"0"},{"$f":"IF('Aonad 31'!$C$7=$D$58,COUNTIF('Aonad 31'!$C:$C,$D50),\"0\")","v":"0"},{"$f":"IF('Aonad 32'!$C$7=$D$58,COUNTIF('Aonad 32'!$C:$C,$D50),\"0\")","v":"0"},{"$f":"IF('Aonad 33'!$C$7=$D$58,COUNTIF('Aonad 33'!$C:$C,$D50),\"0\")","v":"0"},{"$f":"IF('Aonad 34'!$C$7=$D$58,COUNTIF('Aonad 34'!$C:$C,$D50),\"0\")","v":"0"},{"$f":"IF('Aonad 35'!$C$7=$D$58,COUNTIF('Aonad 35'!$C:$C,$D50),\"0\")","v":"0"},{"$f":"IF('Aonad 36'!$C$7=$D$58,COUNTIF('Aonad 36'!$C:$C,$D50),\"0\")","v":"0"},{"$f":"IF('Aonad 37'!$C$7=$D$58,COUNTIF('Aonad 37'!$C:$C,$D50),\"0\")","v":"0"},{"$f":"IF('Aonad 38'!$C$7=$D$58,COUNTIF('Aonad 38'!$C:$C,$D50),\"0\")","v":"0"},0,null,{"$f":"IF('Aonad 1'!$C$7=$D$59,COUNTIF('Aonad 1'!$C:$C,$D50),\"0\")","v":"0"},{"$f":"IF('Aonad 2'!$C$7=$D$59,COUNTIF('Aonad 2'!$C:$C,$D50),\"0\")","v":"0"},{"$f":"IF('Aonad 3'!$C$7=$D$59,COUNTIF('Aonad 3'!$C:$C,$D50),\"0\")","v":"0"},{"$f":"IF('Aonad 4'!$C$7=$D$59,COUNTIF('Aonad 4'!$C:$C,$D50),\"0\")","v":"0"},{"$f":"IF('Aonad 5'!$C$7=$D$59,COUNTIF('Aonad 5'!$C:$C,$D50),\"0\")","v":"0"},{"$f":"IF('Aonad 6'!$C$7=$D$59,COUNTIF('Aonad 6'!$C:$C,$D50),\"0\")","v":"0"},{"$f":"IF('Aonad 7'!$C$7=$D$59,COUNTIF('Aonad 7'!$C:$C,$D50),\"0\")","v":"0"},{"$f":"IF('Aonad 8'!$C$7=$D$59,COUNTIF('Aonad 8'!$C:$C,$D50),\"0\")","v":"0"},{"$f":"IF('Aonad 9'!$C$7=$D$59,COUNTIF('Aonad 9'!$C:$C,$D50),\"0\")","v":"0"},{"$f":"IF('Aonad 10'!$C$7=$D$59,COUNTIF('Aonad 10'!$C:$C,$D50),\"0\")","v":"0"},{"$f":"IF('Aonad 11'!$C$7=$D$59,COUNTIF('Aonad 11'!$C:$C,$D50),\"0\")","v":"0"},{"$f":"IF('Aonad 12'!$C$7=$D$59,COUNTIF('Aonad 12'!$C:$C,$D50),\"0\")","v":"0"},{"$f":"IF('Aonad 13'!$C$7=$D$59,COUNTIF('Aonad 13'!$C:$C,$D50),\"0\")","v":"0"},{"$f":"IF('Aonad 14'!$C$7=$D$59,COUNTIF('Aonad 14'!$C:$C,$D50),\"0\")","v":"0"},{"$f":"IF('Aonad 15'!$C$7=$D$59,COUNTIF('Aonad 15'!$C:$C,$D50),\"0\")","v":"0"},{"$f":"IF('Aonad 16'!$C$7=$D$59,COUNTIF('Aonad 16'!$C:$C,$D50),\"0\")","v":"0"},{"$f":"IF('Aonad 17'!$C$7=$D$59,COUNTIF('Aonad 17'!$C:$C,$D50),\"0\")","v":"0"},{"$f":"IF('Aonad 18'!$C$7=$D$59,COUNTIF('Aonad 18'!$C:$C,$D50),\"0\")","v":"0"},{"$f":"IF('Aonad 19'!$C$7=$D$59,COUNTIF('Aonad 19'!$C:$C,$D50),\"0\")","v":"0"},{"$f":"IF('Aonad 20'!$C$7=$D$59,COUNTIF('Aonad 20'!$C:$C,$D50),\"0\")","v":"0"},{"$f":"IF('Aonad 21'!$C$7=$D$59,COUNTIF('Aonad 21'!$C:$C,$D50),\"0\")","v":"0"},{"$f":"IF('Aonad 22'!$C$7=$D$59,COUNTIF('Aonad 22'!$C:$C,$D50),\"0\")","v":"0"},{"$f":"IF('Aonad 23'!$C$7=$D$59,COUNTIF('Aonad 23'!$C:$C,$D50),\"0\")","v":"0"},{"$f":"IF('Aonad 24'!$C$7=$D$59,COUNTIF('Aonad 24'!$C:$C,$D50),\"0\")","v":"0"},{"$f":"IF('Aonad 25'!$C$7=$D$59,COUNTIF('Aonad 25'!$C:$C,$D50),\"0\")","v":"0"},{"$f":"IF('Aonad 26'!$C$7=$D$59,COUNTIF('Aonad 26'!$C:$C,$D50),\"0\")","v":"0"},{"$f":"IF('Aonad 27'!$C$7=$D$59,COUNTIF('Aonad 27'!$C:$C,$D50),\"0\")","v":"0"},{"$f":"IF('Aonad 28'!$C$7=$D$59,COUNTIF('Aonad 28'!$C:$C,$D50),\"0\")","v":"0"},{"$f":"IF('Aonad 29'!$C$7=$D$59,COUNTIF('Aonad 29'!$C:$C,$D50),\"0\")","v":"0"},{"$f":"IF('Aonad 30'!$C$7=$D$59,COUNTIF('Aonad 30'!$C:$C,$D50),\"0\")","v":"0"},{"$f":"IF('Aonad 31'!$C$7=$D$59,COUNTIF('Aonad 31'!$C:$C,$D50),\"0\")","v":"0"},{"$f":"IF('Aonad 32'!$C$7=$D$59,COUNTIF('Aonad 32'!$C:$C,$D50),\"0\")","v":"0"},{"$f":"IF('Aonad 33'!$C$7=$D$59,COUNTIF('Aonad 33'!$C:$C,$D50),\"0\")","v":"0"},{"$f":"IF('Aonad 34'!$C$7=$D$59,COUNTIF('Aonad 34'!$C:$C,$D50),\"0\")","v":"0"},{"$f":"IF('Aonad 35'!$C$7=$D$59,COUNTIF('Aonad 35'!$C:$C,$D50),\"0\")","v":"0"},{"$f":"IF('Aonad 36'!$C$7=$D$59,COUNTIF('Aonad 36'!$C:$C,$D50),\"0\")","v":"0"},{"$f":"IF('Aonad 37'!$C$7=$D$59,COUNTIF('Aonad 37'!$C:$C,$D50),\"0\")","v":"0"},{"$f":"IF('Aonad 38'!$C$7=$D$59,COUNTIF('Aonad 38'!$C:$C,$D50),\"0\")","v":"0"},0,null,{"$f":"IF('Aonad 1'!$C$7=$D$60,COUNTIF('Aonad 1'!$C:$C,$D50),\"0\")","v":"0"},{"$f":"IF('Aonad 2'!$C$7=$D$60,COUNTIF('Aonad 2'!$C:$C,$D50),\"0\")","v":"0"},{"$f":"IF('Aonad 3'!$C$7=$D$60,COUNTIF('Aonad 3'!$C:$C,$D50),\"0\")","v":"0"},{"$f":"IF('Aonad 4'!$C$7=$D$60,COUNTIF('Aonad 4'!$C:$C,$D50),\"0\")","v":"0"},{"$f":"IF('Aonad 5'!$C$7=$D$60,COUNTIF('Aonad 5'!$C:$C,$D50),\"0\")","v":"0"},{"$f":"IF('Aonad 6'!$C$7=$D$60,COUNTIF('Aonad 6'!$C:$C,$D50),\"0\")","v":"0"},{"$f":"IF('Aonad 7'!$C$7=$D$60,COUNTIF('Aonad 7'!$C:$C,$D50),\"0\")","v":"0"},{"$f":"IF('Aonad 8'!$C$7=$D$60,COUNTIF('Aonad 8'!$C:$C,$D50),\"0\")","v":"0"},{"$f":"IF('Aonad 9'!$C$7=$D$60,COUNTIF('Aonad 9'!$C:$C,$D50),\"0\")","v":"0"},{"$f":"IF('Aonad 10'!$C$7=$D$60,COUNTIF('Aonad 10'!$C:$C,$D50),\"0\")","v":"0"},{"$f":"IF('Aonad 11'!$C$7=$D$60,COUNTIF('Aonad 11'!$C:$C,$D50),\"0\")","v":"0"},{"$f":"IF('Aonad 12'!$C$7=$D$60,COUNTIF('Aonad 12'!$C:$C,$D50),\"0\")","v":"0"},{"$f":"IF('Aonad 13'!$C$7=$D$60,COUNTIF('Aonad 13'!$C:$C,$D50),\"0\")","v":"0"},{"$f":"IF('Aonad 14'!$C$7=$D$60,COUNTIF('Aonad 14'!$C:$C,$D50),\"0\")","v":"0"},{"$f":"IF('Aonad 15'!$C$7=$D$60,COUNTIF('Aonad 15'!$C:$C,$D50),\"0\")","v":"0"},{"$f":"IF('Aonad 16'!$C$7=$D$60,COUNTIF('Aonad 16'!$C:$C,$D50),\"0\")","v":"0"},{"$f":"IF('Aonad 17'!$C$7=$D$60,COUNTIF('Aonad 17'!$C:$C,$D50),\"0\")","v":"0"},{"$f":"IF('Aonad 18'!$C$7=$D$60,COUNTIF('Aonad 18'!$C:$C,$D50),\"0\")","v":"0"},{"$f":"IF('Aonad 19'!$C$7=$D$60,COUNTIF('Aonad 19'!$C:$C,$D50),\"0\")","v":"0"},{"$f":"IF('Aonad 20'!$C$7=$D$60,COUNTIF('Aonad 20'!$C:$C,$D50),\"0\")","v":"0"},{"$f":"IF('Aonad 21'!$C$7=$D$60,COUNTIF('Aonad 21'!$C:$C,$D50),\"0\")","v":"0"},{"$f":"IF('Aonad 22'!$C$7=$D$60,COUNTIF('Aonad 22'!$C:$C,$D50),\"0\")","v":"0"},{"$f":"IF('Aonad 23'!$C$7=$D$60,COUNTIF('Aonad 23'!$C:$C,$D50),\"0\")","v":"0"},{"$f":"IF('Aonad 24'!$C$7=$D$60,COUNTIF('Aonad 24'!$C:$C,$D50),\"0\")","v":"0"},{"$f":"IF('Aonad 25'!$C$7=$D$60,COUNTIF('Aonad 25'!$C:$C,$D50),\"0\")","v":"0"},{"$f":"IF('Aonad 26'!$C$7=$D$60,COUNTIF('Aonad 26'!$C:$C,$D50),\"0\")","v":"0"},{"$f":"IF('Aonad 27'!$C$7=$D$60,COUNTIF('Aonad 27'!$C:$C,$D50),\"0\")","v":"0"},{"$f":"IF('Aonad 28'!$C$7=$D$60,COUNTIF('Aonad 28'!$C:$C,$D50),\"0\")","v":"0"},{"$f":"IF('Aonad 29'!$C$7=$D$60,COUNTIF('Aonad 29'!$C:$C,$D50),\"0\")","v":"0"},{"$f":"IF('Aonad 30'!$C$7=$D$60,COUNTIF('Aonad 30'!$C:$C,$D50),\"0\")","v":"0"},{"$f":"IF('Aonad 31'!$C$7=$D$60,COUNTIF('Aonad 31'!$C:$C,$D50),\"0\")","v":"0"},{"$f":"IF('Aonad 32'!$C$7=$D$60,COUNTIF('Aonad 32'!$C:$C,$D50),\"0\")","v":"0"},{"$f":"IF('Aonad 33'!$C$7=$D$60,COUNTIF('Aonad 33'!$C:$C,$D50),\"0\")","v":"0"},{"$f":"IF('Aonad 34'!$C$7=$D$60,COUNTIF('Aonad 34'!$C:$C,$D50),\"0\")","v":"0"},{"$f":"IF('Aonad 35'!$C$7=$D$60,COUNTIF('Aonad 35'!$C:$C,$D50),\"0\")","v":"0"},{"$f":"IF('Aonad 36'!$C$7=$D$60,COUNTIF('Aonad 36'!$C:$C,$D50),\"0\")","v":"0"},{"$f":"IF('Aonad 37'!$C$7=$D$60,COUNTIF('Aonad 37'!$C:$C,$D50),\"0\")","v":"0"},{"$f":"IF('Aonad 38'!$C$7=$D$60,COUNTIF('Aonad 38'!$C:$C,$D50),\"0\")","v":"0"},0]
[null,null,null,null,null,{"$f":"COUNTIF('Aonad 1'!$C:$C,$D51)","v":0},{"$f":"COUNTIF('Aonad 2'!$C:$C,$D51)","v":0},{"$f":"COUNTIF('Aonad 3'!$C:$C,$D51)","v":0},{"$f":"COUNTIF('Aonad 4'!$C:$C,$D51)","v":0},{"$f":"COUNTIF('Aonad 5'!$C:$C,$D51)","v":0},{"$f":"COUNTIF('Aonad 6'!$C:$C,$D51)","v":0},{"$f":"COUNTIF('Aonad 7'!$C:$C,$D51)","v":0},{"$f":"COUNTIF('Aonad 8'!$C:$C,$D51)","v":0},{"$f":"COUNTIF('Aonad 9'!$C:$C,$D51)","v":0},{"$f":"COUNTIF('Aonad 10'!$C:$C,$D51)","v":0},{"$f":"COUNTIF('Aonad 11'!$C:$C,$D51)","v":0},{"$f":"COUNTIF('Aonad 12'!$C:$C,$D51)","v":0},{"$f":"COUNTIF('Aonad 13'!$C:$C,$D51)","v":0},{"$f":"COUNTIF('Aonad 14'!$C:$C,$D51)","v":0},{"$f":"COUNTIF('Aonad 15'!$C:$C,$D51)","v":0},{"$f":"COUNTIF('Aonad 16'!$C:$C,$D51)","v":0},{"$f":"COUNTIF('Aonad 17'!$C:$C,$D51)","v":0},{"$f":"COUNTIF('Aonad 18'!$C:$C,$D51)","v":0},{"$f":"COUNTIF('Aonad 19'!$C:$C,$D51)","v":0},{"$f":"COUNTIF('Aonad 20'!$C:$C,$D51)","v":0},{"$f":"COUNTIF('Aonad 21'!$C:$C,$D51)","v":0},{"$f":"COUNTIF('Aonad 22'!$C:$C,$D51)","v":0},{"$f":"COUNTIF('Aonad 23'!$C:$C,$D51)","v":0},{"$f":"COUNTIF('Aonad 24'!$C:$C,$D51)","v":0},{"$f":"COUNTIF('Aonad 25'!$C:$C,$D51)","v":0},{"$f":"COUNTIF('Aonad 26'!$C:$C,$D51)","v":0},{"$f":"COUNTIF('Aonad 27'!$C:$C,$D51)","v":0},{"$f":"COUNTIF('Aonad 28'!$C:$C,$D51)","v":0},{"$f":"COUNTIF('Aonad 29'!$C:$C,$D51)","v":0},{"$f":"COUNTIF('Aonad 30'!$C:$C,$D51)","v":0},{"$f":"COUNTIF('Aonad 31'!$C:$C,$D51)","v":0},{"$f":"COUNTIF('Aonad 32'!$C:$C,$D51)","v":0},{"$f":"COUNTIF('Aonad 33'!$C:$C,$D51)","v":0},{"$f":"COUNTIF('Aonad 34'!$C:$C,$D51)","v":0},{"$f":"COUNTIF('Aonad 35'!$C:$C,$D51)","v":0},{"$f":"COUNTIF('Aonad 36'!$C:$C,$D51)","v":0},{"$f":"COUNTIF('Aonad 37'!$C:$C,$D51)","v":0},{"$f":"COUNTIF('Aonad 38'!$C:$C,$D51)","v":0},0,null,{"$f":"IF('Aonad 1'!$C$7=$D$58,COUNTIF('Aonad 1'!$C:$C,$D51),\"0\")","v":"0"},{"$f":"IF('Aonad 2'!$C$7=$D$58,COUNTIF('Aonad 2'!$C:$C,$D51),\"0\")","v":"0"},{"$f":"IF('Aonad 3'!$C$7=$D$58,COUNTIF('Aonad 3'!$C:$C,$D51),\"0\")","v":"0"},{"$f":"IF('Aonad 4'!$C$7=$D$58,COUNTIF('Aonad 4'!$C:$C,$D51),\"0\")","v":"0"},{"$f":"IF('Aonad 5'!$C$7=$D$58,COUNTIF('Aonad 5'!$C:$C,$D51),\"0\")","v":"0"},{"$f":"IF('Aonad 6'!$C$7=$D$58,COUNTIF('Aonad 6'!$C:$C,$D51),\"0\")","v":"0"},{"$f":"IF('Aonad 7'!$C$7=$D$58,COUNTIF('Aonad 7'!$C:$C,$D51),\"0\")","v":"0"},{"$f":"IF('Aonad 8'!$C$7=$D$58,COUNTIF('Aonad 8'!$C:$C,$D51),\"0\")","v":"0"},{"$f":"IF('Aonad 9'!$C$7=$D$58,COUNTIF('Aonad 9'!$C:$C,$D51),\"0\")","v":"0"},{"$f":"IF('Aonad 10'!$C$7=$D$58,COUNTIF('Aonad 10'!$C:$C,$D51),\"0\")","v":"0"},{"$f":"IF('Aonad 11'!$C$7=$D$58,COUNTIF('Aonad 11'!$C:$C,$D51),\"0\")","v":"0"},{"$f":"IF('Aonad 12'!$C$7=$D$58,COUNTIF('Aonad 12'!$C:$C,$D51),\"0\")","v":"0"},{"$f":"IF('Aonad 13'!$C$7=$D$58,COUNTIF('Aonad 13'!$C:$C,$D51),\"0\")","v":"0"},{"$f":"IF('Aonad 14'!$C$7=$D$58,COUNTIF('Aonad 14'!$C:$C,$D51),\"0\")","v":"0"},{"$f":"IF('Aonad 15'!$C$7=$D$58,COUNTIF('Aonad 15'!$C:$C,$D51),\"0\")","v":"0"},{"$f":"IF('Aonad 16'!$C$7=$D$58,COUNTIF('Aonad 16'!$C:$C,$D51),\"0\")","v":"0"},{"$f":"IF('Aonad 17'!$C$7=$D$58,COUNTIF('Aonad 17'!$C:$C,$D51),\"0\")","v":"0"},{"$f":"IF('Aonad 18'!$C$7=$D$58,COUNTIF('Aonad 18'!$C:$C,$D51),\"0\")","v":"0"},{"$f":"IF('Aonad 19'!$C$7=$D$58,COUNTIF('Aonad 19'!$C:$C,$D51),\"0\")","v":"0"},{"$f":"IF('Aonad 20'!$C$7=$D$58,COUNTIF('Aonad 20'!$C:$C,$D51),\"0\")","v":"0"},{"$f":"IF('Aonad 21'!$C$7=$D$58,COUNTIF('Aonad 21'!$C:$C,$D51),\"0\")","v":"0"},{"$f":"IF('Aonad 22'!$C$7=$D$58,COUNTIF('Aonad 22'!$C:$C,$D51),\"0\")","v":"0"},{"$f":"IF('Aonad 23'!$C$7=$D$58,COUNTIF('Aonad 23'!$C:$C,$D51),\"0\")","v":"0"},{"$f":"IF('Aonad 24'!$C$7=$D$58,COUNTIF('Aonad 24'!$C:$C,$D51),\"0\")","v":"0"},{"$f":"IF('Aonad 25'!$C$7=$D$58,COUNTIF('Aonad 25'!$C:$C,$D51),\"0\")","v":"0"},{"$f":"IF('Aonad 26'!$C$7=$D$58,COUNTIF('Aonad 26'!$C:$C,$D51),\"0\")","v":"0"},{"$f":"IF('Aonad 27'!$C$7=$D$58,COUNTIF('Aonad 27'!$C:$C,$D51),\"0\")","v":"0"},{"$f":"IF('Aonad 28'!$C$7=$D$58,COUNTIF('Aonad 28'!$C:$C,$D51),\"0\")","v":"0"},{"$f":"IF('Aonad 29'!$C$7=$D$58,COUNTIF('Aonad 29'!$C:$C,$D51),\"0\")","v":"0"},{"$f":"IF('Aonad 30'!$C$7=$D$58,COUNTIF('Aonad 30'!$C:$C,$D51),\"0\")","v":"0"},{"$f":"IF('Aonad 31'!$C$7=$D$58,COUNTIF('Aonad 31'!$C:$C,$D51),\"0\")","v":"0"},{"$f":"IF('Aonad 32'!$C$7=$D$58,COUNTIF('Aonad 32'!$C:$C,$D51),\"0\")","v":"0"},{"$f":"IF('Aonad 33'!$C$7=$D$58,COUNTIF('Aonad 33'!$C:$C,$D51),\"0\")","v":"0"},{"$f":"IF('Aonad 34'!$C$7=$D$58,COUNTIF('Aonad 34'!$C:$C,$D51),\"0\")","v":"0"},{"$f":"IF('Aonad 35'!$C$7=$D$58,COUNTIF('Aonad 35'!$C:$C,$D51),\"0\")","v":"0"},{"$f":"IF('Aonad 36'!$C$7=$D$58,COUNTIF('Aonad 36'!$C:$C,$D51),\"0\")","v":"0"},{"$f":"IF('Aonad 37'!$C$7=$D$58,COUNTIF('Aonad 37'!$C:$C,$D51),\"0\")","v":"0"},{"$f":"IF('Aonad 38'!$C$7=$D$58,COUNTIF('Aonad 38'!$C:$C,$D51),\"0\")","v":"0"},0,null,{"$f":"IF('Aonad 1'!$C$7=$D$59,COUNTIF('Aonad 1'!$C:$C,$D51),\"0\")","v":"0"},{"$f":"IF('Aonad 2'!$C$7=$D$59,COUNTIF('Aonad 2'!$C:$C,$D51),\"0\")","v":"0"},{"$f":"IF('Aonad 3'!$C$7=$D$59,COUNTIF('Aonad 3'!$C:$C,$D51),\"0\")","v":"0"},{"$f":"IF('Aonad 4'!$C$7=$D$59,COUNTIF('Aonad 4'!$C:$C,$D51),\"0\")","v":"0"},{"$f":"IF('Aonad 5'!$C$7=$D$59,COUNTIF('Aonad 5'!$C:$C,$D51),\"0\")","v":"0"},{"$f":"IF('Aonad 6'!$C$7=$D$59,COUNTIF('Aonad 6'!$C:$C,$D51),\"0\")","v":"0"},{"$f":"IF('Aonad 7'!$C$7=$D$59,COUNTIF('Aonad 7'!$C:$C,$D51),\"0\")","v":"0"},{"$f":"IF('Aonad 8'!$C$7=$D$59,COUNTIF('Aonad 8'!$C:$C,$D51),\"0\")","v":"0"},{"$f":"IF('Aonad 9'!$C$7=$D$59,COUNTIF('Aonad 9'!$C:$C,$D51),\"0\")","v":"0"},{"$f":"IF('Aonad 10'!$C$7=$D$59,COUNTIF('Aonad 10'!$C:$C,$D51),\"0\")","v":"0"},{"$f":"IF('Aonad 11'!$C$7=$D$59,COUNTIF('Aonad 11'!$C:$C,$D51),\"0\")","v":"0"},{"$f":"IF('Aonad 12'!$C$7=$D$59,COUNTIF('Aonad 12'!$C:$C,$D51),\"0\")","v":"0"},{"$f":"IF('Aonad 13'!$C$7=$D$59,COUNTIF('Aonad 13'!$C:$C,$D51),\"0\")","v":"0"},{"$f":"IF('Aonad 14'!$C$7=$D$59,COUNTIF('Aonad 14'!$C:$C,$D51),\"0\")","v":"0"},{"$f":"IF('Aonad 15'!$C$7=$D$59,COUNTIF('Aonad 15'!$C:$C,$D51),\"0\")","v":"0"},{"$f":"IF('Aonad 16'!$C$7=$D$59,COUNTIF('Aonad 16'!$C:$C,$D51),\"0\")","v":"0"},{"$f":"IF('Aonad 17'!$C$7=$D$59,COUNTIF('Aonad 17'!$C:$C,$D51),\"0\")","v":"0"},{"$f":"IF('Aonad 18'!$C$7=$D$59,COUNTIF('Aonad 18'!$C:$C,$D51),\"0\")","v":"0"},{"$f":"IF('Aonad 19'!$C$7=$D$59,COUNTIF('Aonad 19'!$C:$C,$D51),\"0\")","v":"0"},{"$f":"IF('Aonad 20'!$C$7=$D$59,COUNTIF('Aonad 20'!$C:$C,$D51),\"0\")","v":"0"},{"$f":"IF('Aonad 21'!$C$7=$D$59,COUNTIF('Aonad 21'!$C:$C,$D51),\"0\")","v":"0"},{"$f":"IF('Aonad 22'!$C$7=$D$59,COUNTIF('Aonad 22'!$C:$C,$D51),\"0\")","v":"0"},{"$f":"IF('Aonad 23'!$C$7=$D$59,COUNTIF('Aonad 23'!$C:$C,$D51),\"0\")","v":"0"},{"$f":"IF('Aonad 24'!$C$7=$D$59,COUNTIF('Aonad 24'!$C:$C,$D51),\"0\")","v":"0"},{"$f":"IF('Aonad 25'!$C$7=$D$59,COUNTIF('Aonad 25'!$C:$C,$D51),\"0\")","v":"0"},{"$f":"IF('Aonad 26'!$C$7=$D$59,COUNTIF('Aonad 26'!$C:$C,$D51),\"0\")","v":"0"},{"$f":"IF('Aonad 27'!$C$7=$D$59,COUNTIF('Aonad 27'!$C:$C,$D51),\"0\")","v":"0"},{"$f":"IF('Aonad 28'!$C$7=$D$59,COUNTIF('Aonad 28'!$C:$C,$D51),\"0\")","v":"0"},{"$f":"IF('Aonad 29'!$C$7=$D$59,COUNTIF('Aonad 29'!$C:$C,$D51),\"0\")","v":"0"},{"$f":"IF('Aonad 30'!$C$7=$D$59,COUNTIF('Aonad 30'!$C:$C,$D51),\"0\")","v":"0"},{"$f":"IF('Aonad 31'!$C$7=$D$59,COUNTIF('Aonad 31'!$C:$C,$D51),\"0\")","v":"0"},{"$f":"IF('Aonad 32'!$C$7=$D$59,COUNTIF('Aonad 32'!$C:$C,$D51),\"0\")","v":"0"},{"$f":"IF('Aonad 33'!$C$7=$D$59,COUNTIF('Aonad 33'!$C:$C,$D51),\"0\")","v":"0"},{"$f":"IF('Aonad 34'!$C$7=$D$59,COUNTIF('Aonad 34'!$C:$C,$D51),\"0\")","v":"0"},{"$f":"IF('Aonad 35'!$C$7=$D$59,COUNTIF('Aonad 35'!$C:$C,$D51),\"0\")","v":"0"},{"$f":"IF('Aonad 36'!$C$7=$D$59,COUNTIF('Aonad 36'!$C:$C,$D51),\"0\")","v":"0"},{"$f":"IF('Aonad 37'!$C$7=$D$59,COUNTIF('Aonad 37'!$C:$C,$D51),\"0\")","v":"0"},{"$f":"IF('Aonad 38'!$C$7=$D$59,COUNTIF('Aonad 38'!$C:$C,$D51),\"0\")","v":"0"},0,null,{"$f":"IF('Aonad 1'!$C$7=$D$60,COUNTIF('Aonad 1'!$C:$C,$D51),\"0\")","v":"0"},{"$f":"IF('Aonad 2'!$C$7=$D$60,COUNTIF('Aonad 2'!$C:$C,$D51),\"0\")","v":"0"},{"$f":"IF('Aonad 3'!$C$7=$D$60,COUNTIF('Aonad 3'!$C:$C,$D51),\"0\")","v":"0"},{"$f":"IF('Aonad 4'!$C$7=$D$60,COUNTIF('Aonad 4'!$C:$C,$D51),\"0\")","v":"0"},{"$f":"IF('Aonad 5'!$C$7=$D$60,COUNTIF('Aonad 5'!$C:$C,$D51),\"0\")","v":"0"},{"$f":"IF('Aonad 6'!$C$7=$D$60,COUNTIF('Aonad 6'!$C:$C,$D51),\"0\")","v":"0"},{"$f":"IF('Aonad 7'!$C$7=$D$60,COUNTIF('Aonad 7'!$C:$C,$D51),\"0\")","v":"0"},{"$f":"IF('Aonad 8'!$C$7=$D$60,COUNTIF('Aonad 8'!$C:$C,$D51),\"0\")","v":"0"},{"$f":"IF('Aonad 9'!$C$7=$D$60,COUNTIF('Aonad 9'!$C:$C,$D51),\"0\")","v":"0"},{"$f":"IF('Aonad 10'!$C$7=$D$60,COUNTIF('Aonad 10'!$C:$C,$D51),\"0\")","v":"0"},{"$f":"IF('Aonad 11'!$C$7=$D$60,COUNTIF('Aonad 11'!$C:$C,$D51),\"0\")","v":"0"},{"$f":"IF('Aonad 12'!$C$7=$D$60,COUNTIF('Aonad 12'!$C:$C,$D51),\"0\")","v":"0"},{"$f":"IF('Aonad 13'!$C$7=$D$60,COUNTIF('Aonad 13'!$C:$C,$D51),\"0\")","v":"0"},{"$f":"IF('Aonad 14'!$C$7=$D$60,COUNTIF('Aonad 14'!$C:$C,$D51),\"0\")","v":"0"},{"$f":"IF('Aonad 15'!$C$7=$D$60,COUNTIF('Aonad 15'!$C:$C,$D51),\"0\")","v":"0"},{"$f":"IF('Aonad 16'!$C$7=$D$60,COUNTIF('Aonad 16'!$C:$C,$D51),\"0\")","v":"0"},{"$f":"IF('Aonad 17'!$C$7=$D$60,COUNTIF('Aonad 17'!$C:$C,$D51),\"0\")","v":"0"},{"$f":"IF('Aonad 18'!$C$7=$D$60,COUNTIF('Aonad 18'!$C:$C,$D51),\"0\")","v":"0"},{"$f":"IF('Aonad 19'!$C$7=$D$60,COUNTIF('Aonad 19'!$C:$C,$D51),\"0\")","v":"0"},{"$f":"IF('Aonad 20'!$C$7=$D$60,COUNTIF('Aonad 20'!$C:$C,$D51),\"0\")","v":"0"},{"$f":"IF('Aonad 21'!$C$7=$D$60,COUNTIF('Aonad 21'!$C:$C,$D51),\"0\")","v":"0"},{"$f":"IF('Aonad 22'!$C$7=$D$60,COUNTIF('Aonad 22'!$C:$C,$D51),\"0\")","v":"0"},{"$f":"IF('Aonad 23'!$C$7=$D$60,COUNTIF('Aonad 23'!$C:$C,$D51),\"0\")","v":"0"},{"$f":"IF('Aonad 24'!$C$7=$D$60,COUNTIF('Aonad 24'!$C:$C,$D51),\"0\")","v":"0"},{"$f":"IF('Aonad 25'!$C$7=$D$60,COUNTIF('Aonad 25'!$C:$C,$D51),\"0\")","v":"0"},{"$f":"IF('Aonad 26'!$C$7=$D$60,COUNTIF('Aonad 26'!$C:$C,$D51),\"0\")","v":"0"},{"$f":"IF('Aonad 27'!$C$7=$D$60,COUNTIF('Aonad 27'!$C:$C,$D51),\"0\")","v":"0"},{"$f":"IF('Aonad 28'!$C$7=$D$60,COUNTIF('Aonad 28'!$C:$C,$D51),\"0\")","v":"0"},{"$f":"IF('Aonad 29'!$C$7=$D$60,COUNTIF('Aonad 29'!$C:$C,$D51),\"0\")","v":"0"},{"$f":"IF('Aonad 30'!$C$7=$D$60,COUNTIF('Aonad 30'!$C:$C,$D51),\"0\")","v":"0"},{"$f":"IF('Aonad 31'!$C$7=$D$60,COUNTIF('Aonad 31'!$C:$C,$D51),\"0\")","v":"0"},{"$f":"IF('Aonad 32'!$C$7=$D$60,COUNTIF('Aonad 32'!$C:$C,$D51),\"0\")","v":"0"},{"$f":"IF('Aonad 33'!$C$7=$D$60,COUNTIF('Aonad 33'!$C:$C,$D51),\"0\")","v":"0"},{"$f":"IF('Aonad 34'!$C$7=$D$60,COUNTIF('Aonad 34'!$C:$C,$D51),\"0\")","v":"0"},{"$f":"IF('Aonad 35'!$C$7=$D$60,COUNTIF('Aonad 35'!$C:$C,$D51),\"0\")","v":"0"},{"$f":"IF('Aonad 36'!$C$7=$D$60,COUNTIF('Aonad 36'!$C:$C,$D51),\"0\")","v":"0"},{"$f":"IF('Aonad 37'!$C$7=$D$60,COUNTIF('Aonad 37'!$C:$C,$D51),\"0\")","v":"0"},{"$f":"IF('Aonad 38'!$C$7=$D$60,COUNTIF('Aonad 38'!$C:$C,$D51),\"0\")","v":"0"},0]
[null,{"$f":"B20","v":"Cumarsáid"},"3.8","3.8 measúnú a dhéanamh ar an tionchar a bhíonn ag teicneolaíochtaí ar a shaol féin, ar an tsochaí agus ar an gcomhshaol","Measúnaigh: (breithiúnas eiticiúil) fianaise a bhailiú agus a scrúdú chun breithiúnais agus breithmheas a dhéanamh; cur síos a dhéanamh ar an gcaoi a dtacaíonn nó nach dtacaíonn fianaise le breithiúnas; srianta fianaise i gconclúidí a shainaithint; breithiúnais a dhéanamh faoi na smaointe, faoi réitigh nó faoi mhodhanna.\nMeastóireacht a dhéanamh: (sonraí) sonraí a bhailiú agus a scrúdú chun breithiúnais agus breithmheas a dhéanamh; cur síos a dhéanamh ar an gcaoi a dtacaíonn nó nach dtacaíonn fianaise le conclúid i bhfiosrúchán nó in iniúchadh; srianta sonraí i gconclúidí a shainaithint; breithiúnais a dhéanamh faoi smaointe, faoi réitigh nó faoi mhodhanna.",{"$f":"COUNTIF('Aonad 1'!$C:$C,$D52)","v":0},{"$f":"COUNTIF('Aonad 2'!$C:$C,$D52)","v":0},{"$f":"COUNTIF('Aonad 3'!$C:$C,$D52)","v":0},{"$f":"COUNTIF('Aonad 4'!$C:$C,$D52)","v":0},{"$f":"COUNTIF('Aonad 5'!$C:$C,$D52)","v":0},{"$f":"COUNTIF('Aonad 6'!$C:$C,$D52)","v":0},{"$f":"COUNTIF('Aonad 7'!$C:$C,$D52)","v":0},{"$f":"COUNTIF('Aonad 8'!$C:$C,$D52)","v":0},{"$f":"COUNTIF('Aonad 9'!$C:$C,$D52)","v":0},{"$f":"COUNTIF('Aonad 10'!$C:$C,$D52)","v":0},{"$f":"COUNTIF('Aonad 11'!$C:$C,$D52)","v":0},{"$f":"COUNTIF('Aonad 12'!$C:$C,$D52)","v":0},{"$f":"COUNTIF('Aonad 13'!$C:$C,$D52)","v":0},{"$f":"COUNTIF('Aonad 14'!$C:$C,$D52)","v":0},{"$f":"COUNTIF('Aonad 15'!$C:$C,$D52)","v":0},{"$f":"COUNTIF('Aonad 16'!$C:$C,$D52)","v":0},{"$f":"COUNTIF('Aonad 17'!$C:$C,$D52)","v":0},{"$f":"COUNTIF('Aonad 18'!$C:$C,$D52)","v":0},{"$f":"COUNTIF('Aonad 19'!$C:$C,$D52)","v":0},{"$f":"COUNTIF('Aonad 20'!$C:$C,$D52)","v":0},{"$f":"COUNTIF('Aonad 21'!$C:$C,$D52)","v":0},{"$f":"COUNTIF('Aonad 22'!$C:$C,$D52)","v":0},{"$f":"COUNTIF('Aonad 23'!$C:$C,$D52)","v":0},{"$f":"COUNTIF('Aonad 24'!$C:$C,$D52)","v":0},{"$f":"COUNTIF('Aonad 25'!$C:$C,$D52)","v":0},{"$f":"COUNTIF('Aonad 26'!$C:$C,$D52)","v":0},{"$f":"COUNTIF('Aonad 27'!$C:$C,$D52)","v":0},{"$f":"COUNTIF('Aonad 28'!$C:$C,$D52)","v":0},{"$f":"COUNTIF('Aonad 29'!$C:$C,$D52)","v":0},{"$f":"COUNTIF('Aonad 30'!$C:$C,$D52)","v":0},{"$f":"COUNTIF('Aonad 31'!$C:$C,$D52)","v":0},{"$f":"COUNTIF('Aonad 32'!$C:$C,$D52)","v":0},{"$f":"COUNTIF('Aonad 33'!$C:$C,$D52)","v":0},{"$f":"COUNTIF('Aonad 34'!$C:$C,$D52)","v":0},{"$f":"COUNTIF('Aonad 35'!$C:$C,$D52)","v":0},{"$f":"COUNTIF('Aonad 36'!$C:$C,$D52)","v":0},{"$f":"COUNTIF('Aonad 37'!$C:$C,$D52)","v":0},{"$f":"COUNTIF('Aonad 38'!$C:$C,$D52)","v":0},0,null,{"$f":"IF('Aonad 1'!$C$7=$D$58,COUNTIF('Aonad 1'!$C:$C,$D52),\"0\")","v":"0"},{"$f":"IF('Aonad 2'!$C$7=$D$58,COUNTIF('Aonad 2'!$C:$C,$D52),\"0\")","v":"0"},{"$f":"IF('Aonad 3'!$C$7=$D$58,COUNTIF('Aonad 3'!$C:$C,$D52),\"0\")","v":"0"},{"$f":"IF('Aonad 4'!$C$7=$D$58,COUNTIF('Aonad 4'!$C:$C,$D52),\"0\")","v":"0"},{"$f":"IF('Aonad 5'!$C$7=$D$58,COUNTIF('Aonad 5'!$C:$C,$D52),\"0\")","v":"0"},{"$f":"IF('Aonad 6'!$C$7=$D$58,COUNTIF('Aonad 6'!$C:$C,$D52),\"0\")","v":"0"},{"$f":"IF('Aonad 7'!$C$7=$D$58,COUNTIF('Aonad 7'!$C:$C,$D52),\"0\")","v":"0"},{"$f":"IF('Aonad 8'!$C$7=$D$58,COUNTIF('Aonad 8'!$C:$C,$D52),\"0\")","v":"0"},{"$f":"IF('Aonad 9'!$C$7=$D$58,COUNTIF('Aonad 9'!$C:$C,$D52),\"0\")","v":"0"},{"$f":"IF('Aonad 10'!$C$7=$D$58,COUNTIF('Aonad 10'!$C:$C,$D52),\"0\")","v":"0"},{"$f":"IF('Aonad 11'!$C$7=$D$58,COUNTIF('Aonad 11'!$C:$C,$D52),\"0\")","v":"0"},{"$f":"IF('Aonad 12'!$C$7=$D$58,COUNTIF('Aonad 12'!$C:$C,$D52),\"0\")","v":"0"},{"$f":"IF('Aonad 13'!$C$7=$D$58,COUNTIF('Aonad 13'!$C:$C,$D52),\"0\")","v":"0"},{"$f":"IF('Aonad 14'!$C$7=$D$58,COUNTIF('Aonad 14'!$C:$C,$D52),\"0\")","v":"0"},{"$f":"IF('Aonad 15'!$C$7=$D$58,COUNTIF('Aonad 15'!$C:$C,$D52),\"0\")","v":"0"},{"$f":"IF('Aonad 16'!$C$7=$D$58,COUNTIF('Aonad 16'!$C:$C,$D52),\"0\")","v":"0"},{"$f":"IF('Aonad 17'!$C$7=$D$58,COUNTIF('Aonad 17'!$C:$C,$D52),\"0\")","v":"0"},{"$f":"IF('Aonad 18'!$C$7=$D$58,COUNTIF('Aonad 18'!$C:$C,$D52),\"0\")","v":"0"},{"$f":"IF('Aonad 19'!$C$7=$D$58,COUNTIF('Aonad 19'!$C:$C,$D52),\"0\")","v":"0"},{"$f":"IF('Aonad 20'!$C$7=$D$58,COUNTIF('Aonad 20'!$C:$C,$D52),\"0\")","v":"0"},{"$f":"IF('Aonad 21'!$C$7=$D$58,COUNTIF('Aonad 21'!$C:$C,$D52),\"0\")","v":"0"},{"$f":"IF('Aonad 22'!$C$7=$D$58,COUNTIF('Aonad 22'!$C:$C,$D52),\"0\")","v":"0"},{"$f":"IF('Aonad 23'!$C$7=$D$58,COUNTIF('Aonad 23'!$C:$C,$D52),\"0\")","v":"0"},{"$f":"IF('Aonad 24'!$C$7=$D$58,COUNTIF('Aonad 24'!$C:$C,$D52),\"0\")","v":"0"},{"$f":"IF('Aonad 25'!$C$7=$D$58,COUNTIF('Aonad 25'!$C:$C,$D52),\"0\")","v":"0"},{"$f":"IF('Aonad 26'!$C$7=$D$58,COUNTIF('Aonad 26'!$C:$C,$D52),\"0\")","v":"0"},{"$f":"IF('Aonad 27'!$C$7=$D$58,COUNTIF('Aonad 27'!$C:$C,$D52),\"0\")","v":"0"},{"$f":"IF('Aonad 28'!$C$7=$D$58,COUNTIF('Aonad 28'!$C:$C,$D52),\"0\")","v":"0"},{"$f":"IF('Aonad 29'!$C$7=$D$58,COUNTIF('Aonad 29'!$C:$C,$D52),\"0\")","v":"0"},{"$f":"IF('Aonad 30'!$C$7=$D$58,COUNTIF('Aonad 30'!$C:$C,$D52),\"0\")","v":"0"},{"$f":"IF('Aonad 31'!$C$7=$D$58,COUNTIF('Aonad 31'!$C:$C,$D52),\"0\")","v":"0"},{"$f":"IF('Aonad 32'!$C$7=$D$58,COUNTIF('Aonad 32'!$C:$C,$D52),\"0\")","v":"0"},{"$f":"IF('Aonad 33'!$C$7=$D$58,COUNTIF('Aonad 33'!$C:$C,$D52),\"0\")","v":"0"},{"$f":"IF('Aonad 34'!$C$7=$D$58,COUNTIF('Aonad 34'!$C:$C,$D52),\"0\")","v":"0"},{"$f":"IF('Aonad 35'!$C$7=$D$58,COUNTIF('Aonad 35'!$C:$C,$D52),\"0\")","v":"0"},{"$f":"IF('Aonad 36'!$C$7=$D$58,COUNTIF('Aonad 36'!$C:$C,$D52),\"0\")","v":"0"},{"$f":"IF('Aonad 37'!$C$7=$D$58,COUNTIF('Aonad 37'!$C:$C,$D52),\"0\")","v":"0"},{"$f":"IF('Aonad 38'!$C$7=$D$58,COUNTIF('Aonad 38'!$C:$C,$D52),\"0\")","v":"0"},0,null,{"$f":"IF('Aonad 1'!$C$7=$D$59,COUNTIF('Aonad 1'!$C:$C,$D52),\"0\")","v":"0"},{"$f":"IF('Aonad 2'!$C$7=$D$59,COUNTIF('Aonad 2'!$C:$C,$D52),\"0\")","v":"0"},{"$f":"IF('Aonad 3'!$C$7=$D$59,COUNTIF('Aonad 3'!$C:$C,$D52),\"0\")","v":"0"},{"$f":"IF('Aonad 4'!$C$7=$D$59,COUNTIF('Aonad 4'!$C:$C,$D52),\"0\")","v":"0"},{"$f":"IF('Aonad 5'!$C$7=$D$59,COUNTIF('Aonad 5'!$C:$C,$D52),\"0\")","v":"0"},{"$f":"IF('Aonad 6'!$C$7=$D$59,COUNTIF('Aonad 6'!$C:$C,$D52),\"0\")","v":"0"},{"$f":"IF('Aonad 7'!$C$7=$D$59,COUNTIF('Aonad 7'!$C:$C,$D52),\"0\")","v":"0"},{"$f":"IF('Aonad 8'!$C$7=$D$59,COUNTIF('Aonad 8'!$C:$C,$D52),\"0\")","v":"0"},{"$f":"IF('Aonad 9'!$C$7=$D$59,COUNTIF('Aonad 9'!$C:$C,$D52),\"0\")","v":"0"},{"$f":"IF('Aonad 10'!$C$7=$D$59,COUNTIF('Aonad 10'!$C:$C,$D52),\"0\")","v":"0"},{"$f":"IF('Aonad 11'!$C$7=$D$59,COUNTIF('Aonad 11'!$C:$C,$D52),\"0\")","v":"0"},{"$f":"IF('Aonad 12'!$C$7=$D$59,COUNTIF('Aonad 12'!$C:$C,$D52),\"0\")","v":"0"},{"$f":"IF('Aonad 13'!$C$7=$D$59,COUNTIF('Aonad 13'!$C:$C,$D52),\"0\")","v":"0"},{"$f":"IF('Aonad 14'!$C$7=$D$59,COUNTIF('Aonad 14'!$C:$C,$D52),\"0\")","v":"0"},{"$f":"IF('Aonad 15'!$C$7=$D$59,COUNTIF('Aonad 15'!$C:$C,$D52),\"0\")","v":"0"},{"$f":"IF('Aonad 16'!$C$7=$D$59,COUNTIF('Aonad 16'!$C:$C,$D52),\"0\")","v":"0"},{"$f":"IF('Aonad 17'!$C$7=$D$59,COUNTIF('Aonad 17'!$C:$C,$D52),\"0\")","v":"0"},{"$f":"IF('Aonad 18'!$C$7=$D$59,COUNTIF('Aonad 18'!$C:$C,$D52),\"0\")","v":"0"},{"$f":"IF('Aonad 19'!$C$7=$D$59,COUNTIF('Aonad 19'!$C:$C,$D52),\"0\")","v":"0"},{"$f":"IF('Aonad 20'!$C$7=$D$59,COUNTIF('Aonad 20'!$C:$C,$D52),\"0\")","v":"0"},{"$f":"IF('Aonad 21'!$C$7=$D$59,COUNTIF('Aonad 21'!$C:$C,$D52),\"0\")","v":"0"},{"$f":"IF('Aonad 22'!$C$7=$D$59,COUNTIF('Aonad 22'!$C:$C,$D52),\"0\")","v":"0"},{"$f":"IF('Aonad 23'!$C$7=$D$59,COUNTIF('Aonad 23'!$C:$C,$D52),\"0\")","v":"0"},{"$f":"IF('Aonad 24'!$C$7=$D$59,COUNTIF('Aonad 24'!$C:$C,$D52),\"0\")","v":"0"},{"$f":"IF('Aonad 25'!$C$7=$D$59,COUNTIF('Aonad 25'!$C:$C,$D52),\"0\")","v":"0"},{"$f":"IF('Aonad 26'!$C$7=$D$59,COUNTIF('Aonad 26'!$C:$C,$D52),\"0\")","v":"0"},{"$f":"IF('Aonad 27'!$C$7=$D$59,COUNTIF('Aonad 27'!$C:$C,$D52),\"0\")","v":"0"},{"$f":"IF('Aonad 28'!$C$7=$D$59,COUNTIF('Aonad 28'!$C:$C,$D52),\"0\")","v":"0"},{"$f":"IF('Aonad 29'!$C$7=$D$59,COUNTIF('Aonad 29'!$C:$C,$D52),\"0\")","v":"0"},{"$f":"IF('Aonad 30'!$C$7=$D$59,COUNTIF('Aonad 30'!$C:$C,$D52),\"0\")","v":"0"},{"$f":"IF('Aonad 31'!$C$7=$D$59,COUNTIF('Aonad 31'!$C:$C,$D52),\"0\")","v":"0"},{"$f":"IF('Aonad 32'!$C$7=$D$59,COUNTIF('Aonad 32'!$C:$C,$D52),\"0\")","v":"0"},{"$f":"IF('Aonad 33'!$C$7=$D$59,COUNTIF('Aonad 33'!$C:$C,$D52),\"0\")","v":"0"},{"$f":"IF('Aonad 34'!$C$7=$D$59,COUNTIF('Aonad 34'!$C:$C,$D52),\"0\")","v":"0"},{"$f":"IF('Aonad 35'!$C$7=$D$59,COUNTIF('Aonad 35'!$C:$C,$D52),\"0\")","v":"0"},{"$f":"IF('Aonad 36'!$C$7=$D$59,COUNTIF('Aonad 36'!$C:$C,$D52),\"0\")","v":"0"},{"$f":"IF('Aonad 37'!$C$7=$D$59,COUNTIF('Aonad 37'!$C:$C,$D52),\"0\")","v":"0"},{"$f":"IF('Aonad 38'!$C$7=$D$59,COUNTIF('Aonad 38'!$C:$C,$D52),\"0\")","v":"0"},0,null,{"$f":"IF('Aonad 1'!$C$7=$D$60,COUNTIF('Aonad 1'!$C:$C,$D52),\"0\")","v":"0"},{"$f":"IF('Aonad 2'!$C$7=$D$60,COUNTIF('Aonad 2'!$C:$C,$D52),\"0\")","v":"0"},{"$f":"IF('Aonad 3'!$C$7=$D$60,COUNTIF('Aonad 3'!$C:$C,$D52),\"0\")","v":"0"},{"$f":"IF('Aonad 4'!$C$7=$D$60,COUNTIF('Aonad 4'!$C:$C,$D52),\"0\")","v":"0"},{"$f":"IF('Aonad 5'!$C$7=$D$60,COUNTIF('Aonad 5'!$C:$C,$D52),\"0\")","v":"0"},{"$f":"IF('Aonad 6'!$C$7=$D$60,COUNTIF('Aonad 6'!$C:$C,$D52),\"0\")","v":"0"},{"$f":"IF('Aonad 7'!$C$7=$D$60,COUNTIF('Aonad 7'!$C:$C,$D52),\"0\")","v":"0"},{"$f":"IF('Aonad 8'!$C$7=$D$60,COUNTIF('Aonad 8'!$C:$C,$D52),\"0\")","v":"0"},{"$f":"IF('Aonad 9'!$C$7=$D$60,COUNTIF('Aonad 9'!$C:$C,$D52),\"0\")","v":"0"},{"$f":"IF('Aonad 10'!$C$7=$D$60,COUNTIF('Aonad 10'!$C:$C,$D52),\"0\")","v":"0"},{"$f":"IF('Aonad 11'!$C$7=$D$60,COUNTIF('Aonad 11'!$C:$C,$D52),\"0\")","v":"0"},{"$f":"IF('Aonad 12'!$C$7=$D$60,COUNTIF('Aonad 12'!$C:$C,$D52),\"0\")","v":"0"},{"$f":"IF('Aonad 13'!$C$7=$D$60,COUNTIF('Aonad 13'!$C:$C,$D52),\"0\")","v":"0"},{"$f":"IF('Aonad 14'!$C$7=$D$60,COUNTIF('Aonad 14'!$C:$C,$D52),\"0\")","v":"0"},{"$f":"IF('Aonad 15'!$C$7=$D$60,COUNTIF('Aonad 15'!$C:$C,$D52),\"0\")","v":"0"},{"$f":"IF('Aonad 16'!$C$7=$D$60,COUNTIF('Aonad 16'!$C:$C,$D52),\"0\")","v":"0"},{"$f":"IF('Aonad 17'!$C$7=$D$60,COUNTIF('Aonad 17'!$C:$C,$D52),\"0\")","v":"0"},{"$f":"IF('Aonad 18'!$C$7=$D$60,COUNTIF('Aonad 18'!$C:$C,$D52),\"0\")","v":"0"},{"$f":"IF('Aonad 19'!$C$7=$D$60,COUNTIF('Aonad 19'!$C:$C,$D52),\"0\")","v":"0"},{"$f":"IF('Aonad 20'!$C$7=$D$60,COUNTIF('Aonad 20'!$C:$C,$D52),\"0\")","v":"0"},{"$f":"IF('Aonad 21'!$C$7=$D$60,COUNTIF('Aonad 21'!$C:$C,$D52),\"0\")","v":"0"},{"$f":"IF('Aonad 22'!$C$7=$D$60,COUNTIF('Aonad 22'!$C:$C,$D52),\"0\")","v":"0"},{"$f":"IF('Aonad 23'!$C$7=$D$60,COUNTIF('Aonad 23'!$C:$C,$D52),\"0\")","v":"0"},{"$f":"IF('Aonad 24'!$C$7=$D$60,COUNTIF('Aonad 24'!$C:$C,$D52),\"0\")","v":"0"},{"$f":"IF('Aonad 25'!$C$7=$D$60,COUNTIF('Aonad 25'!$C:$C,$D52),\"0\")","v":"0"},{"$f":"IF('Aonad 26'!$C$7=$D$60,COUNTIF('Aonad 26'!$C:$C,$D52),\"0\")","v":"0"},{"$f":"IF('Aonad 27'!$C$7=$D$60,COUNTIF('Aonad 27'!$C:$C,$D52),\"0\")","v":"0"},{"$f":"IF('Aonad 28'!$C$7=$D$60,COUNTIF('Aonad 28'!$C:$C,$D52),\"0\")","v":"0"},{"$f":"IF('Aonad 29'!$C$7=$D$60,COUNTIF('Aonad 29'!$C:$C,$D52),\"0\")","v":"0"},{"$f":"IF('Aonad 30'!$C$7=$D$60,COUNTIF('Aonad 30'!$C:$C,$D52),\"0\")","v":"0"},{"$f":"IF('Aonad 31'!$C$7=$D$60,COUNTIF('Aonad 31'!$C:$C,$D52),\"0\")","v":"0"},{"$f":"IF('Aonad 32'!$C$7=$D$60,COUNTIF('Aonad 32'!$C:$C,$D52),\"0\")","v":"0"},{"$f":"IF('Aonad 33'!$C$7=$D$60,COUNTIF('Aonad 33'!$C:$C,$D52),\"0\")","v":"0"},{"$f":"IF('Aonad 34'!$C$7=$D$60,COUNTIF('Aonad 34'!$C:$C,$D52),\"0\")","v":"0"},{"$f":"IF('Aonad 35'!$C$7=$D$60,COUNTIF('Aonad 35'!$C:$C,$D52),\"0\")","v":"0"},{"$f":"IF('Aonad 36'!$C$7=$D$60,COUNTIF('Aonad 36'!$C:$C,$D52),\"0\")","v":"0"},{"$f":"IF('Aonad 37'!$C$7=$D$60,COUNTIF('Aonad 37'!$C:$C,$D52),\"0\")","v":"0"},{"$f":"IF('Aonad 38'!$C$7=$D$60,COUNTIF('Aonad 38'!$C:$C,$D52),\"0\")","v":"0"},0]
[null,null,"3.9","3.9 plé a dhéanamh ar an gcaoi a bhféadfadh an teicneolaíocht dul i bhfeidhm ar an tsochaí agus ar an gcomhshaol","Pléigh: athbhreithniú tomhaiste cothrom a thabhairt a chuimsíonn réimse argóintí, tosca, nó hipitéisí: tacaítear le tuairimí nó conclúidí le fianaise chuí",{"$f":"COUNTIF('Aonad 1'!$C:$C,$D53)","v":0},{"$f":"COUNTIF('Aonad 2'!$C:$C,$D53)","v":0},{"$f":"COUNTIF('Aonad 3'!$C:$C,$D53)","v":0},{"$f":"COUNTIF('Aonad 4'!$C:$C,$D53)","v":0},{"$f":"COUNTIF('Aonad 5'!$C:$C,$D53)","v":0},{"$f":"COUNTIF('Aonad 6'!$C:$C,$D53)","v":0},{"$f":"COUNTIF('Aonad 7'!$C:$C,$D53)","v":0},{"$f":"COUNTIF('Aonad 8'!$C:$C,$D53)","v":0},{"$f":"COUNTIF('Aonad 9'!$C:$C,$D53)","v":0},{"$f":"COUNTIF('Aonad 10'!$C:$C,$D53)","v":0},{"$f":"COUNTIF('Aonad 11'!$C:$C,$D53)","v":0},{"$f":"COUNTIF('Aonad 12'!$C:$C,$D53)","v":0},{"$f":"COUNTIF('Aonad 13'!$C:$C,$D53)","v":0},{"$f":"COUNTIF('Aonad 14'!$C:$C,$D53)","v":0},{"$f":"COUNTIF('Aonad 15'!$C:$C,$D53)","v":0},{"$f":"COUNTIF('Aonad 16'!$C:$C,$D53)","v":0},{"$f":"COUNTIF('Aonad 17'!$C:$C,$D53)","v":0},{"$f":"COUNTIF('Aonad 18'!$C:$C,$D53)","v":0},{"$f":"COUNTIF('Aonad 19'!$C:$C,$D53)","v":0},{"$f":"COUNTIF('Aonad 20'!$C:$C,$D53)","v":0},{"$f":"COUNTIF('Aonad 21'!$C:$C,$D53)","v":0},{"$f":"COUNTIF('Aonad 22'!$C:$C,$D53)","v":0},{"$f":"COUNTIF('Aonad 23'!$C:$C,$D53)","v":0},{"$f":"COUNTIF('Aonad 24'!$C:$C,$D53)","v":0},{"$f":"COUNTIF('Aonad 25'!$C:$C,$D53)","v":0},{"$f":"COUNTIF('Aonad 26'!$C:$C,$D53)","v":0},{"$f":"COUNTIF('Aonad 27'!$C:$C,$D53)","v":0},{"$f":"COUNTIF('Aonad 28'!$C:$C,$D53)","v":0},{"$f":"COUNTIF('Aonad 29'!$C:$C,$D53)","v":0},{"$f":"COUNTIF('Aonad 30'!$C:$C,$D53)","v":0},{"$f":"COUNTIF('Aonad 31'!$C:$C,$D53)","v":0},{"$f":"COUNTIF('Aonad 32'!$C:$C,$D53)","v":0},{"$f":"COUNTIF('Aonad 33'!$C:$C,$D53)","v":0},{"$f":"COUNTIF('Aonad 34'!$C:$C,$D53)","v":0},{"$f":"COUNTIF('Aonad 35'!$C:$C,$D53)","v":0},{"$f":"COUNTIF('Aonad 36'!$C:$C,$D53)","v":0},{"$f":"COUNTIF('Aonad 37'!$C:$C,$D53)","v":0},{"$f":"COUNTIF('Aonad 38'!$C:$C,$D53)","v":0},0,null,{"$f":"IF('Aonad 1'!$C$7=$D$58,COUNTIF('Aonad 1'!$C:$C,$D53),\"0\")","v":"0"},{"$f":"IF('Aonad 2'!$C$7=$D$58,COUNTIF('Aonad 2'!$C:$C,$D53),\"0\")","v":"0"},{"$f":"IF('Aonad 3'!$C$7=$D$58,COUNTIF('Aonad 3'!$C:$C,$D53),\"0\")","v":"0"},{"$f":"IF('Aonad 4'!$C$7=$D$58,COUNTIF('Aonad 4'!$C:$C,$D53),\"0\")","v":"0"},{"$f":"IF('Aonad 5'!$C$7=$D$58,COUNTIF('Aonad 5'!$C:$C,$D53),\"0\")","v":"0"},{"$f":"IF('Aonad 6'!$C$7=$D$58,COUNTIF('Aonad 6'!$C:$C,$D53),\"0\")","v":"0"},{"$f":"IF('Aonad 7'!$C$7=$D$58,COUNTIF('Aonad 7'!$C:$C,$D53),\"0\")","v":"0"},{"$f":"IF('Aonad 8'!$C$7=$D$58,COUNTIF('Aonad 8'!$C:$C,$D53),\"0\")","v":"0"},{"$f":"IF('Aonad 9'!$C$7=$D$58,COUNTIF('Aonad 9'!$C:$C,$D53),\"0\")","v":"0"},{"$f":"IF('Aonad 10'!$C$7=$D$58,COUNTIF('Aonad 10'!$C:$C,$D53),\"0\")","v":"0"},{"$f":"IF('Aonad 11'!$C$7=$D$58,COUNTIF('Aonad 11'!$C:$C,$D53),\"0\")","v":"0"},{"$f":"IF('Aonad 12'!$C$7=$D$58,COUNTIF('Aonad 12'!$C:$C,$D53),\"0\")","v":"0"},{"$f":"IF('Aonad 13'!$C$7=$D$58,COUNTIF('Aonad 13'!$C:$C,$D53),\"0\")","v":"0"},{"$f":"IF('Aonad 14'!$C$7=$D$58,COUNTIF('Aonad 14'!$C:$C,$D53),\"0\")","v":"0"},{"$f":"IF('Aonad 15'!$C$7=$D$58,COUNTIF('Aonad 15'!$C:$C,$D53),\"0\")","v":"0"},{"$f":"IF('Aonad 16'!$C$7=$D$58,COUNTIF('Aonad 16'!$C:$C,$D53),\"0\")","v":"0"},{"$f":"IF('Aonad 17'!$C$7=$D$58,COUNTIF('Aonad 17'!$C:$C,$D53),\"0\")","v":"0"},{"$f":"IF('Aonad 18'!$C$7=$D$58,COUNTIF('Aonad 18'!$C:$C,$D53),\"0\")","v":"0"},{"$f":"IF('Aonad 19'!$C$7=$D$58,COUNTIF('Aonad 19'!$C:$C,$D53),\"0\")","v":"0"},{"$f":"IF('Aonad 20'!$C$7=$D$58,COUNTIF('Aonad 20'!$C:$C,$D53),\"0\")","v":"0"},{"$f":"IF('Aonad 21'!$C$7=$D$58,COUNTIF('Aonad 21'!$C:$C,$D53),\"0\")","v":"0"},{"$f":"IF('Aonad 22'!$C$7=$D$58,COUNTIF('Aonad 22'!$C:$C,$D53),\"0\")","v":"0"},{"$f":"IF('Aonad 23'!$C$7=$D$58,COUNTIF('Aonad 23'!$C:$C,$D53),\"0\")","v":"0"},{"$f":"IF('Aonad 24'!$C$7=$D$58,COUNTIF('Aonad 24'!$C:$C,$D53),\"0\")","v":"0"},{"$f":"IF('Aonad 25'!$C$7=$D$58,COUNTIF('Aonad 25'!$C:$C,$D53),\"0\")","v":"0"},{"$f":"IF('Aonad 26'!$C$7=$D$58,COUNTIF('Aonad 26'!$C:$C,$D53),\"0\")","v":"0"},{"$f":"IF('Aonad 27'!$C$7=$D$58,COUNTIF('Aonad 27'!$C:$C,$D53),\"0\")","v":"0"},{"$f":"IF('Aonad 28'!$C$7=$D$58,COUNTIF('Aonad 28'!$C:$C,$D53),\"0\")","v":"0"},{"$f":"IF('Aonad 29'!$C$7=$D$58,COUNTIF('Aonad 29'!$C:$C,$D53),\"0\")","v":"0"},{"$f":"IF('Aonad 30'!$C$7=$D$58,COUNTIF('Aonad 30'!$C:$C,$D53),\"0\")","v":"0"},{"$f":"IF('Aonad 31'!$C$7=$D$58,COUNTIF('Aonad 31'!$C:$C,$D53),\"0\")","v":"0"},{"$f":"IF('Aonad 32'!$C$7=$D$58,COUNTIF('Aonad 32'!$C:$C,$D53),\"0\")","v":"0"},{"$f":"IF('Aonad 33'!$C$7=$D$58,COUNTIF('Aonad 33'!$C:$C,$D53),\"0\")","v":"0"},{"$f":"IF('Aonad 34'!$C$7=$D$58,COUNTIF('Aonad 34'!$C:$C,$D53),\"0\")","v":"0"},{"$f":"IF('Aonad 35'!$C$7=$D$58,COUNTIF('Aonad 35'!$C:$C,$D53),\"0\")","v":"0"},{"$f":"IF('Aonad 36'!$C$7=$D$58,COUNTIF('Aonad 36'!$C:$C,$D53),\"0\")","v":"0"},{"$f":"IF('Aonad 37'!$C$7=$D$58,COUNTIF('Aonad 37'!$C:$C,$D53),\"0\")","v":"0"},{"$f":"IF('Aonad 38'!$C$7=$D$58,COUNTIF('Aonad 38'!$C:$C,$D53),\"0\")","v":"0"},0,null,{"$f":"IF('Aonad 1'!$C$7=$D$59,COUNTIF('Aonad 1'!$C:$C,$D53),\"0\")","v":"0"},{"$f":"IF('Aonad 2'!$C$7=$D$59,COUNTIF('Aonad 2'!$C:$C,$D53),\"0\")","v":"0"},{"$f":"IF('Aonad 3'!$C$7=$D$59,COUNTIF('Aonad 3'!$C:$C,$D53),\"0\")","v":"0"},{"$f":"IF('Aonad 4'!$C$7=$D$59,COUNTIF('Aonad 4'!$C:$C,$D53),\"0\")","v":"0"},{"$f":"IF('Aonad 5'!$C$7=$D$59,COUNTIF('Aonad 5'!$C:$C,$D53),\"0\")","v":"0"},{"$f":"IF('Aonad 6'!$C$7=$D$59,COUNTIF('Aonad 6'!$C:$C,$D53),\"0\")","v":"0"},{"$f":"IF('Aonad 7'!$C$7=$D$59,COUNTIF('Aonad 7'!$C:$C,$D53),\"0\")","v":"0"},{"$f":"IF('Aonad 8'!$C$7=$D$59,COUNTIF('Aonad 8'!$C:$C,$D53),\"0\")","v":"0"},{"$f":"IF('Aonad 9'!$C$7=$D$59,COUNTIF('Aonad 9'!$C:$C,$D53),\"0\")","v":"0"},{"$f":"IF('Aonad 10'!$C$7=$D$59,COUNTIF('Aonad 10'!$C:$C,$D53),\"0\")","v":"0"},{"$f":"IF('Aonad 11'!$C$7=$D$59,COUNTIF('Aonad 11'!$C:$C,$D53),\"0\")","v":"0"},{"$f":"IF('Aonad 12'!$C$7=$D$59,COUNTIF('Aonad 12'!$C:$C,$D53),\"0\")","v":"0"},{"$f":"IF('Aonad 13'!$C$7=$D$59,COUNTIF('Aonad 13'!$C:$C,$D53),\"0\")","v":"0"},{"$f":"IF('Aonad 14'!$C$7=$D$59,COUNTIF('Aonad 14'!$C:$C,$D53),\"0\")","v":"0"},{"$f":"IF('Aonad 15'!$C$7=$D$59,COUNTIF('Aonad 15'!$C:$C,$D53),\"0\")","v":"0"},{"$f":"IF('Aonad 16'!$C$7=$D$59,COUNTIF('Aonad 16'!$C:$C,$D53),\"0\")","v":"0"},{"$f":"IF('Aonad 17'!$C$7=$D$59,COUNTIF('Aonad 17'!$C:$C,$D53),\"0\")","v":"0"},{"$f":"IF('Aonad 18'!$C$7=$D$59,COUNTIF('Aonad 18'!$C:$C,$D53),\"0\")","v":"0"},{"$f":"IF('Aonad 19'!$C$7=$D$59,COUNTIF('Aonad 19'!$C:$C,$D53),\"0\")","v":"0"},{"$f":"IF('Aonad 20'!$C$7=$D$59,COUNTIF('Aonad 20'!$C:$C,$D53),\"0\")","v":"0"},{"$f":"IF('Aonad 21'!$C$7=$D$59,COUNTIF('Aonad 21'!$C:$C,$D53),\"0\")","v":"0"},{"$f":"IF('Aonad 22'!$C$7=$D$59,COUNTIF('Aonad 22'!$C:$C,$D53),\"0\")","v":"0"},{"$f":"IF('Aonad 23'!$C$7=$D$59,COUNTIF('Aonad 23'!$C:$C,$D53),\"0\")","v":"0"},{"$f":"IF('Aonad 24'!$C$7=$D$59,COUNTIF('Aonad 24'!$C:$C,$D53),\"0\")","v":"0"},{"$f":"IF('Aonad 25'!$C$7=$D$59,COUNTIF('Aonad 25'!$C:$C,$D53),\"0\")","v":"0"},{"$f":"IF('Aonad 26'!$C$7=$D$59,COUNTIF('Aonad 26'!$C:$C,$D53),\"0\")","v":"0"},{"$f":"IF('Aonad 27'!$C$7=$D$59,COUNTIF('Aonad 27'!$C:$C,$D53),\"0\")","v":"0"},{"$f":"IF('Aonad 28'!$C$7=$D$59,COUNTIF('Aonad 28'!$C:$C,$D53),\"0\")","v":"0"},{"$f":"IF('Aonad 29'!$C$7=$D$59,COUNTIF('Aonad 29'!$C:$C,$D53),\"0\")","v":"0"},{"$f":"IF('Aonad 30'!$C$7=$D$59,COUNTIF('Aonad 30'!$C:$C,$D53),\"0\")","v":"0"},{"$f":"IF('Aonad 31'!$C$7=$D$59,COUNTIF('Aonad 31'!$C:$C,$D53),\"0\")","v":"0"},{"$f":"IF('Aonad 32'!$C$7=$D$59,COUNTIF('Aonad 32'!$C:$C,$D53),\"0\")","v":"0"},{"$f":"IF('Aonad 33'!$C$7=$D$59,COUNTIF('Aonad 33'!$C:$C,$D53),\"0\")","v":"0"},{"$f":"IF('Aonad 34'!$C$7=$D$59,COUNTIF('Aonad 34'!$C:$C,$D53),\"0\")","v":"0"},{"$f":"IF('Aonad 35'!$C$7=$D$59,COUNTIF('Aonad 35'!$C:$C,$D53),\"0\")","v":"0"},{"$f":"IF('Aonad 36'!$C$7=$D$59,COUNTIF('Aonad 36'!$C:$C,$D53),\"0\")","v":"0"},{"$f":"IF('Aonad 37'!$C$7=$D$59,COUNTIF('Aonad 37'!$C:$C,$D53),\"0\")","v":"0"},{"$f":"IF('Aonad 38'!$C$7=$D$59,COUNTIF('Aonad 38'!$C:$C,$D53),\"0\")","v":"0"},0,null,{"$f":"IF('Aonad 1'!$C$7=$D$60,COUNTIF('Aonad 1'!$C:$C,$D53),\"0\")","v":"0"},{"$f":"IF('Aonad 2'!$C$7=$D$60,COUNTIF('Aonad 2'!$C:$C,$D53),\"0\")","v":"0"},{"$f":"IF('Aonad 3'!$C$7=$D$60,COUNTIF('Aonad 3'!$C:$C,$D53),\"0\")","v":"0"},{"$f":"IF('Aonad 4'!$C$7=$D$60,COUNTIF('Aonad 4'!$C:$C,$D53),\"0\")","v":"0"},{"$f":"IF('Aonad 5'!$C$7=$D$60,COUNTIF('Aonad 5'!$C:$C,$D53),\"0\")","v":"0"},{"$f":"IF('Aonad 6'!$C$7=$D$60,COUNTIF('Aonad 6'!$C:$C,$D53),\"0\")","v":"0"},{"$f":"IF('Aonad 7'!$C$7=$D$60,COUNTIF('Aonad 7'!$C:$C,$D53),\"0\")","v":"0"},{"$f":"IF('Aonad 8'!$C$7=$D$60,COUNTIF('Aonad 8'!$C:$C,$D53),\"0\")","v":"0"},{"$f":"IF('Aonad 9'!$C$7=$D$60,COUNTIF('Aonad 9'!$C:$C,$D53),\"0\")","v":"0"},{"$f":"IF('Aonad 10'!$C$7=$D$60,COUNTIF('Aonad 10'!$C:$C,$D53),\"0\")","v":"0"},{"$f":"IF('Aonad 11'!$C$7=$D$60,COUNTIF('Aonad 11'!$C:$C,$D53),\"0\")","v":"0"},{"$f":"IF('Aonad 12'!$C$7=$D$60,COUNTIF('Aonad 12'!$C:$C,$D53),\"0\")","v":"0"},{"$f":"IF('Aonad 13'!$C$7=$D$60,COUNTIF('Aonad 13'!$C:$C,$D53),\"0\")","v":"0"},{"$f":"IF('Aonad 14'!$C$7=$D$60,COUNTIF('Aonad 14'!$C:$C,$D53),\"0\")","v":"0"},{"$f":"IF('Aonad 15'!$C$7=$D$60,COUNTIF('Aonad 15'!$C:$C,$D53),\"0\")","v":"0"},{"$f":"IF('Aonad 16'!$C$7=$D$60,COUNTIF('Aonad 16'!$C:$C,$D53),\"0\")","v":"0"},{"$f":"IF('Aonad 17'!$C$7=$D$60,COUNTIF('Aonad 17'!$C:$C,$D53),\"0\")","v":"0"},{"$f":"IF('Aonad 18'!$C$7=$D$60,COUNTIF('Aonad 18'!$C:$C,$D53),\"0\")","v":"0"},{"$f":"IF('Aonad 19'!$C$7=$D$60,COUNTIF('Aonad 19'!$C:$C,$D53),\"0\")","v":"0"},{"$f":"IF('Aonad 20'!$C$7=$D$60,COUNTIF('Aonad 20'!$C:$C,$D53),\"0\")","v":"0"},{"$f":"IF('Aonad 21'!$C$7=$D$60,COUNTIF('Aonad 21'!$C:$C,$D53),\"0\")","v":"0"},{"$f":"IF('Aonad 22'!$C$7=$D$60,COUNTIF('Aonad 22'!$C:$C,$D53),\"0\")","v":"0"},{"$f":"IF('Aonad 23'!$C$7=$D$60,COUNTIF('Aonad 23'!$C:$C,$D53),\"0\")","v":"0"},{"$f":"IF('Aonad 24'!$C$7=$D$60,COUNTIF('Aonad 24'!$C:$C,$D53),\"0\")","v":"0"},{"$f":"IF('Aonad 25'!$C$7=$D$60,COUNTIF('Aonad 25'!$C:$C,$D53),\"0\")","v":"0"},{"$f":"IF('Aonad 26'!$C$7=$D$60,COUNTIF('Aonad 26'!$C:$C,$D53),\"0\")","v":"0"},{"$f":"IF('Aonad 27'!$C$7=$D$60,COUNTIF('Aonad 27'!$C:$C,$D53),\"0\")","v":"0"},{"$f":"IF('Aonad 28'!$C$7=$D$60,COUNTIF('Aonad 28'!$C:$C,$D53),\"0\")","v":"0"},{"$f":"IF('Aonad 29'!$C$7=$D$60,COUNTIF('Aonad 29'!$C:$C,$D53),\"0\")","v":"0"},{"$f":"IF('Aonad 30'!$C$7=$D$60,COUNTIF('Aonad 30'!$C:$C,$D53),\"0\")","v":"0"},{"$f":"IF('Aonad 31'!$C$7=$D$60,COUNTIF('Aonad 31'!$C:$C,$D53),\"0\")","v":"0"},{"$f":"IF('Aonad 32'!$C$7=$D$60,COUNTIF('Aonad 32'!$C:$C,$D53),\"0\")","v":"0"},{"$f":"IF('Aonad 33'!$C$7=$D$60,COUNTIF('Aonad 33'!$C:$C,$D53),\"0\")","v":"0"},{"$f":"IF('Aonad 34'!$C$7=$D$60,COUNTIF('Aonad 34'!$C:$C,$D53),\"0\")","v":"0"},{"$f":"IF('Aonad 35'!$C$7=$D$60,COUNTIF('Aonad 35'!$C:$C,$D53),\"0\")","v":"0"},{"$f":"IF('Aonad 36'!$C$7=$D$60,COUNTIF('Aonad 36'!$C:$C,$D53),\"0\")","v":"0"},{"$f":"IF('Aonad 37'!$C$7=$D$60,COUNTIF('Aonad 37'!$C:$C,$D53),\"0\")","v":"0"},{"$f":"IF('Aonad 38'!$C$7=$D$60,COUNTIF('Aonad 38'!$C:$C,$D53),\"0\")","v":"0"},0]
[null,null,null,null,null,{"$f":"COUNTIF('Aonad 1'!$C:$C,$D54)","v":0},{"$f":"COUNTIF('Aonad 2'!$C:$C,$D54)","v":0},{"$f":"COUNTIF('Aonad 3'!$C:$C,$D54)","v":0},{"$f":"COUNTIF('Aonad 4'!$C:$C,$D54)","v":0},{"$f":"COUNTIF('Aonad 5'!$C:$C,$D54)","v":0},{"$f":"COUNTIF('Aonad 6'!$C:$C,$D54)","v":0},{"$f":"COUNTIF('Aonad 7'!$C:$C,$D54)","v":0},{"$f":"COUNTIF('Aonad 8'!$C:$C,$D54)","v":0},{"$f":"COUNTIF('Aonad 9'!$C:$C,$D54)","v":0},{"$f":"COUNTIF('Aonad 10'!$C:$C,$D54)","v":0},{"$f":"COUNTIF('Aonad 11'!$C:$C,$D54)","v":0},{"$f":"COUNTIF('Aonad 12'!$C:$C,$D54)","v":0},{"$f":"COUNTIF('Aonad 13'!$C:$C,$D54)","v":0},{"$f":"COUNTIF('Aonad 14'!$C:$C,$D54)","v":0},{"$f":"COUNTIF('Aonad 15'!$C:$C,$D54)","v":0},{"$f":"COUNTIF('Aonad 16'!$C:$C,$D54)","v":0},{"$f":"COUNTIF('Aonad 17'!$C:$C,$D54)","v":0},{"$f":"COUNTIF('Aonad 18'!$C:$C,$D54)","v":0},{"$f":"COUNTIF('Aonad 19'!$C:$C,$D54)","v":0},{"$f":"COUNTIF('Aonad 20'!$C:$C,$D54)","v":0},{"$f":"COUNTIF('Aonad 21'!$C:$C,$D54)","v":0},{"$f":"COUNTIF('Aonad 22'!$C:$C,$D54)","v":0},{"$f":"COUNTIF('Aonad 23'!$C:$C,$D54)","v":0},{"$f":"COUNTIF('Aonad 24'!$C:$C,$D54)","v":0},{"$f":"COUNTIF('Aonad 25'!$C:$C,$D54)","v":0},{"$f":"COUNTIF('Aonad 26'!$C:$C,$D54)","v":0},{"$f":"COUNTIF('Aonad 27'!$C:$C,$D54)","v":0},{"$f":"COUNTIF('Aonad 28'!$C:$C,$D54)","v":0},{"$f":"COUNTIF('Aonad 29'!$C:$C,$D54)","v":0},{"$f":"COUNTIF('Aonad 30'!$C:$C,$D54)","v":0},{"$f":"COUNTIF('Aonad 31'!$C:$C,$D54)","v":0},{"$f":"COUNTIF('Aonad 32'!$C:$C,$D54)","v":0},{"$f":"COUNTIF('Aonad 33'!$C:$C,$D54)","v":0},{"$f":"COUNTIF('Aonad 34'!$C:$C,$D54)","v":0},{"$f":"COUNTIF('Aonad 35'!$C:$C,$D54)","v":0},{"$f":"COUNTIF('Aonad 36'!$C:$C,$D54)","v":0},{"$f":"COUNTIF('Aonad 37'!$C:$C,$D54)","v":0},{"$f":"COUNTIF('Aonad 38'!$C:$C,$D54)","v":0},0,null,{"$f":"IF('Aonad 1'!$C$7=$D$58,COUNTIF('Aonad 1'!$C:$C,$D54),\"0\")","v":"0"},{"$f":"IF('Aonad 2'!$C$7=$D$58,COUNTIF('Aonad 2'!$C:$C,$D54),\"0\")","v":"0"},{"$f":"IF('Aonad 3'!$C$7=$D$58,COUNTIF('Aonad 3'!$C:$C,$D54),\"0\")","v":"0"},{"$f":"IF('Aonad 4'!$C$7=$D$58,COUNTIF('Aonad 4'!$C:$C,$D54),\"0\")","v":"0"},{"$f":"IF('Aonad 5'!$C$7=$D$58,COUNTIF('Aonad 5'!$C:$C,$D54),\"0\")","v":"0"},{"$f":"IF('Aonad 6'!$C$7=$D$58,COUNTIF('Aonad 6'!$C:$C,$D54),\"0\")","v":"0"},{"$f":"IF('Aonad 7'!$C$7=$D$58,COUNTIF('Aonad 7'!$C:$C,$D54),\"0\")","v":"0"},{"$f":"IF('Aonad 8'!$C$7=$D$58,COUNTIF('Aonad 8'!$C:$C,$D54),\"0\")","v":"0"},{"$f":"IF('Aonad 9'!$C$7=$D$58,COUNTIF('Aonad 9'!$C:$C,$D54),\"0\")","v":"0"},{"$f":"IF('Aonad 10'!$C$7=$D$58,COUNTIF('Aonad 10'!$C:$C,$D54),\"0\")","v":"0"},{"$f":"IF('Aonad 11'!$C$7=$D$58,COUNTIF('Aonad 11'!$C:$C,$D54),\"0\")","v":"0"},{"$f":"IF('Aonad 12'!$C$7=$D$58,COUNTIF('Aonad 12'!$C:$C,$D54),\"0\")","v":"0"},{"$f":"IF('Aonad 13'!$C$7=$D$58,COUNTIF('Aonad 13'!$C:$C,$D54),\"0\")","v":"0"},{"$f":"IF('Aonad 14'!$C$7=$D$58,COUNTIF('Aonad 14'!$C:$C,$D54),\"0\")","v":"0"},{"$f":"IF('Aonad 15'!$C$7=$D$58,COUNTIF('Aonad 15'!$C:$C,$D54),\"0\")","v":"0"},{"$f":"IF('Aonad 16'!$C$7=$D$58,COUNTIF('Aonad 16'!$C:$C,$D54),\"0\")","v":"0"},{"$f":"IF('Aonad 17'!$C$7=$D$58,COUNTIF('Aonad 17'!$C:$C,$D54),\"0\")","v":"0"},{"$f":"IF('Aonad 18'!$C$7=$D$58,COUNTIF('Aonad 18'!$C:$C,$D54),\"0\")","v":"0"},{"$f":"IF('Aonad 19'!$C$7=$D$58,COUNTIF('Aonad 19'!$C:$C,$D54),\"0\")","v":"0"},{"$f":"IF('Aonad 20'!$C$7=$D$58,COUNTIF('Aonad 20'!$C:$C,$D54),\"0\")","v":"0"},{"$f":"IF('Aonad 21'!$C$7=$D$58,COUNTIF('Aonad 21'!$C:$C,$D54),\"0\")","v":"0"},{"$f":"IF('Aonad 22'!$C$7=$D$58,COUNTIF('Aonad 22'!$C:$C,$D54),\"0\")","v":"0"},{"$f":"IF('Aonad 23'!$C$7=$D$58,COUNTIF('Aonad 23'!$C:$C,$D54),\"0\")","v":"0"},{"$f":"IF('Aonad 24'!$C$7=$D$58,COUNTIF('Aonad 24'!$C:$C,$D54),\"0\")","v":"0"},{"$f":"IF('Aonad 25'!$C$7=$D$58,COUNTIF('Aonad 25'!$C:$C,$D54),\"0\")","v":"0"},{"$f":"IF('Aonad 26'!$C$7=$D$58,COUNTIF('Aonad 26'!$C:$C,$D54),\"0\")","v":"0"},{"$f":"IF('Aonad 27'!$C$7=$D$58,COUNTIF('Aonad 27'!$C:$C,$D54),\"0\")","v":"0"},{"$f":"IF('Aonad 28'!$C$7=$D$58,COUNTIF('Aonad 28'!$C:$C,$D54),\"0\")","v":"0"},{"$f":"IF('Aonad 29'!$C$7=$D$58,COUNTIF('Aonad 29'!$C:$C,$D54),\"0\")","v":"0"},{"$f":"IF('Aonad 30'!$C$7=$D$58,COUNTIF('Aonad 30'!$C:$C,$D54),\"0\")","v":"0"},{"$f":"IF('Aonad 31'!$C$7=$D$58,COUNTIF('Aonad 31'!$C:$C,$D54),\"0\")","v":"0"},{"$f":"IF('Aonad 32'!$C$7=$D$58,COUNTIF('Aonad 32'!$C:$C,$D54),\"0\")","v":"0"},{"$f":"IF('Aonad 33'!$C$7=$D$58,COUNTIF('Aonad 33'!$C:$C,$D54),\"0\")","v":"0"},{"$f":"IF('Aonad 34'!$C$7=$D$58,COUNTIF('Aonad 34'!$C:$C,$D54),\"0\")","v":"0"},{"$f":"IF('Aonad 35'!$C$7=$D$58,COUNTIF('Aonad 35'!$C:$C,$D54),\"0\")","v":"0"},{"$f":"IF('Aonad 36'!$C$7=$D$58,COUNTIF('Aonad 36'!$C:$C,$D54),\"0\")","v":"0"},{"$f":"IF('Aonad 37'!$C$7=$D$58,COUNTIF('Aonad 37'!$C:$C,$D54),\"0\")","v":"0"},{"$f":"IF('Aonad 38'!$C$7=$D$58,COUNTIF('Aonad 38'!$C:$C,$D54),\"0\")","v":"0"},0,null,{"$f":"IF('Aonad 1'!$C$7=$D$59,COUNTIF('Aonad 1'!$C:$C,$D54),\"0\")","v":"0"},{"$f":"IF('Aonad 2'!$C$7=$D$59,COUNTIF('Aonad 2'!$C:$C,$D54),\"0\")","v":"0"},{"$f":"IF('Aonad 3'!$C$7=$D$59,COUNTIF('Aonad 3'!$C:$C,$D54),\"0\")","v":"0"},{"$f":"IF('Aonad 4'!$C$7=$D$59,COUNTIF('Aonad 4'!$C:$C,$D54),\"0\")","v":"0"},{"$f":"IF('Aonad 5'!$C$7=$D$59,COUNTIF('Aonad 5'!$C:$C,$D54),\"0\")","v":"0"},{"$f":"IF('Aonad 6'!$C$7=$D$59,COUNTIF('Aonad 6'!$C:$C,$D54),\"0\")","v":"0"},{"$f":"IF('Aonad 7'!$C$7=$D$59,COUNTIF('Aonad 7'!$C:$C,$D54),\"0\")","v":"0"},{"$f":"IF('Aonad 8'!$C$7=$D$59,COUNTIF('Aonad 8'!$C:$C,$D54),\"0\")","v":"0"},{"$f":"IF('Aonad 9'!$C$7=$D$59,COUNTIF('Aonad 9'!$C:$C,$D54),\"0\")","v":"0"},{"$f":"IF('Aonad 10'!$C$7=$D$59,COUNTIF('Aonad 10'!$C:$C,$D54),\"0\")","v":"0"},{"$f":"IF('Aonad 11'!$C$7=$D$59,COUNTIF('Aonad 11'!$C:$C,$D54),\"0\")","v":"0"},{"$f":"IF('Aonad 12'!$C$7=$D$59,COUNTIF('Aonad 12'!$C:$C,$D54),\"0\")","v":"0"},{"$f":"IF('Aonad 13'!$C$7=$D$59,COUNTIF('Aonad 13'!$C:$C,$D54),\"0\")","v":"0"},{"$f":"IF('Aonad 14'!$C$7=$D$59,COUNTIF('Aonad 14'!$C:$C,$D54),\"0\")","v":"0"},{"$f":"IF('Aonad 15'!$C$7=$D$59,COUNTIF('Aonad 15'!$C:$C,$D54),\"0\")","v":"0"},{"$f":"IF('Aonad 16'!$C$7=$D$59,COUNTIF('Aonad 16'!$C:$C,$D54),\"0\")","v":"0"},{"$f":"IF('Aonad 17'!$C$7=$D$59,COUNTIF('Aonad 17'!$C:$C,$D54),\"0\")","v":"0"},{"$f":"IF('Aonad 18'!$C$7=$D$59,COUNTIF('Aonad 18'!$C:$C,$D54),\"0\")","v":"0"},{"$f":"IF('Aonad 19'!$C$7=$D$59,COUNTIF('Aonad 19'!$C:$C,$D54),\"0\")","v":"0"},{"$f":"IF('Aonad 20'!$C$7=$D$59,COUNTIF('Aonad 20'!$C:$C,$D54),\"0\")","v":"0"},{"$f":"IF('Aonad 21'!$C$7=$D$59,COUNTIF('Aonad 21'!$C:$C,$D54),\"0\")","v":"0"},{"$f":"IF('Aonad 22'!$C$7=$D$59,COUNTIF('Aonad 22'!$C:$C,$D54),\"0\")","v":"0"},{"$f":"IF('Aonad 23'!$C$7=$D$59,COUNTIF('Aonad 23'!$C:$C,$D54),\"0\")","v":"0"},{"$f":"IF('Aonad 24'!$C$7=$D$59,COUNTIF('Aonad 24'!$C:$C,$D54),\"0\")","v":"0"},{"$f":"IF('Aonad 25'!$C$7=$D$59,COUNTIF('Aonad 25'!$C:$C,$D54),\"0\")","v":"0"},{"$f":"IF('Aonad 26'!$C$7=$D$59,COUNTIF('Aonad 26'!$C:$C,$D54),\"0\")","v":"0"},{"$f":"IF('Aonad 27'!$C$7=$D$59,COUNTIF('Aonad 27'!$C:$C,$D54),\"0\")","v":"0"},{"$f":"IF('Aonad 28'!$C$7=$D$59,COUNTIF('Aonad 28'!$C:$C,$D54),\"0\")","v":"0"},{"$f":"IF('Aonad 29'!$C$7=$D$59,COUNTIF('Aonad 29'!$C:$C,$D54),\"0\")","v":"0"},{"$f":"IF('Aonad 30'!$C$7=$D$59,COUNTIF('Aonad 30'!$C:$C,$D54),\"0\")","v":"0"},{"$f":"IF('Aonad 31'!$C$7=$D$59,COUNTIF('Aonad 31'!$C:$C,$D54),\"0\")","v":"0"},{"$f":"IF('Aonad 32'!$C$7=$D$59,COUNTIF('Aonad 32'!$C:$C,$D54),\"0\")","v":"0"},{"$f":"IF('Aonad 33'!$C$7=$D$59,COUNTIF('Aonad 33'!$C:$C,$D54),\"0\")","v":"0"},{"$f":"IF('Aonad 34'!$C$7=$D$59,COUNTIF('Aonad 34'!$C:$C,$D54),\"0\")","v":"0"},{"$f":"IF('Aonad 35'!$C$7=$D$59,COUNTIF('Aonad 35'!$C:$C,$D54),\"0\")","v":"0"},{"$f":"IF('Aonad 36'!$C$7=$D$59,COUNTIF('Aonad 36'!$C:$C,$D54),\"0\")","v":"0"},{"$f":"IF('Aonad 37'!$C$7=$D$59,COUNTIF('Aonad 37'!$C:$C,$D54),\"0\")","v":"0"},{"$f":"IF('Aonad 38'!$C$7=$D$59,COUNTIF('Aonad 38'!$C:$C,$D54),\"0\")","v":"0"},0,null,{"$f":"IF('Aonad 1'!$C$7=$D$60,COUNTIF('Aonad 1'!$C:$C,$D54),\"0\")","v":"0"},{"$f":"IF('Aonad 2'!$C$7=$D$60,COUNTIF('Aonad 2'!$C:$C,$D54),\"0\")","v":"0"},{"$f":"IF('Aonad 3'!$C$7=$D$60,COUNTIF('Aonad 3'!$C:$C,$D54),\"0\")","v":"0"},{"$f":"IF('Aonad 4'!$C$7=$D$60,COUNTIF('Aonad 4'!$C:$C,$D54),\"0\")","v":"0"},{"$f":"IF('Aonad 5'!$C$7=$D$60,COUNTIF('Aonad 5'!$C:$C,$D54),\"0\")","v":"0"},{"$f":"IF('Aonad 6'!$C$7=$D$60,COUNTIF('Aonad 6'!$C:$C,$D54),\"0\")","v":"0"},{"$f":"IF('Aonad 7'!$C$7=$D$60,COUNTIF('Aonad 7'!$C:$C,$D54),\"0\")","v":"0"},{"$f":"IF('Aonad 8'!$C$7=$D$60,COUNTIF('Aonad 8'!$C:$C,$D54),\"0\")","v":"0"},{"$f":"IF('Aonad 9'!$C$7=$D$60,COUNTIF('Aonad 9'!$C:$C,$D54),\"0\")","v":"0"},{"$f":"IF('Aonad 10'!$C$7=$D$60,COUNTIF('Aonad 10'!$C:$C,$D54),\"0\")","v":"0"},{"$f":"IF('Aonad 11'!$C$7=$D$60,COUNTIF('Aonad 11'!$C:$C,$D54),\"0\")","v":"0"},{"$f":"IF('Aonad 12'!$C$7=$D$60,COUNTIF('Aonad 12'!$C:$C,$D54),\"0\")","v":"0"},{"$f":"IF('Aonad 13'!$C$7=$D$60,COUNTIF('Aonad 13'!$C:$C,$D54),\"0\")","v":"0"},{"$f":"IF('Aonad 14'!$C$7=$D$60,COUNTIF('Aonad 14'!$C:$C,$D54),\"0\")","v":"0"},{"$f":"IF('Aonad 15'!$C$7=$D$60,COUNTIF('Aonad 15'!$C:$C,$D54),\"0\")","v":"0"},{"$f":"IF('Aonad 16'!$C$7=$D$60,COUNTIF('Aonad 16'!$C:$C,$D54),\"0\")","v":"0"},{"$f":"IF('Aonad 17'!$C$7=$D$60,COUNTIF('Aonad 17'!$C:$C,$D54),\"0\")","v":"0"},{"$f":"IF('Aonad 18'!$C$7=$D$60,COUNTIF('Aonad 18'!$C:$C,$D54),\"0\")","v":"0"},{"$f":"IF('Aonad 19'!$C$7=$D$60,COUNTIF('Aonad 19'!$C:$C,$D54),\"0\")","v":"0"},{"$f":"IF('Aonad 20'!$C$7=$D$60,COUNTIF('Aonad 20'!$C:$C,$D54),\"0\")","v":"0"},{"$f":"IF('Aonad 21'!$C$7=$D$60,COUNTIF('Aonad 21'!$C:$C,$D54),\"0\")","v":"0"},{"$f":"IF('Aonad 22'!$C$7=$D$60,COUNTIF('Aonad 22'!$C:$C,$D54),\"0\")","v":"0"},{"$f":"IF('Aonad 23'!$C$7=$D$60,COUNTIF('Aonad 23'!$C:$C,$D54),\"0\")","v":"0"},{"$f":"IF('Aonad 24'!$C$7=$D$60,COUNTIF('Aonad 24'!$C:$C,$D54),\"0\")","v":"0"},{"$f":"IF('Aonad 25'!$C$7=$D$60,COUNTIF('Aonad 25'!$C:$C,$D54),\"0\")","v":"0"},{"$f":"IF('Aonad 26'!$C$7=$D$60,COUNTIF('Aonad 26'!$C:$C,$D54),\"0\")","v":"0"},{"$f":"IF('Aonad 27'!$C$7=$D$60,COUNTIF('Aonad 27'!$C:$C,$D54),\"0\")","v":"0"},{"$f":"IF('Aonad 28'!$C$7=$D$60,COUNTIF('Aonad 28'!$C:$C,$D54),\"0\")","v":"0"},{"$f":"IF('Aonad 29'!$C$7=$D$60,COUNTIF('Aonad 29'!$C:$C,$D54),\"0\")","v":"0"},{"$f":"IF('Aonad 30'!$C$7=$D$60,COUNTIF('Aonad 30'!$C:$C,$D54),\"0\")","v":"0"},{"$f":"IF('Aonad 31'!$C$7=$D$60,COUNTIF('Aonad 31'!$C:$C,$D54),\"0\")","v":"0"},{"$f":"IF('Aonad 32'!$C$7=$D$60,COUNTIF('Aonad 32'!$C:$C,$D54),\"0\")","v":"0"},{"$f":"IF('Aonad 33'!$C$7=$D$60,COUNTIF('Aonad 33'!$C:$C,$D54),\"0\")","v":"0"},{"$f":"IF('Aonad 34'!$C$7=$D$60,COUNTIF('Aonad 34'!$C:$C,$D54),\"0\")","v":"0"},{"$f":"IF('Aonad 35'!$C$7=$D$60,COUNTIF('Aonad 35'!$C:$C,$D54),\"0\")","v":"0"},{"$f":"IF('Aonad 36'!$C$7=$D$60,COUNTIF('Aonad 36'!$C:$C,$D54),\"0\")","v":"0"},{"$f":"IF('Aonad 37'!$C$7=$D$60,COUNTIF('Aonad 37'!$C:$C,$D54),\"0\")","v":"0"},{"$f":"IF('Aonad 38'!$C$7=$D$60,COUNTIF('Aonad 38'!$C:$C,$D54),\"0\")","v":"0"},0]
[null,null,null,null,null,{"$f":"COUNTIF('Aonad 1'!$C:$C,$D55)","v":0},{"$f":"COUNTIF('Aonad 2'!$C:$C,$D55)","v":0},{"$f":"COUNTIF('Aonad 3'!$C:$C,$D55)","v":0},{"$f":"COUNTIF('Aonad 4'!$C:$C,$D55)","v":0},{"$f":"COUNTIF('Aonad 5'!$C:$C,$D55)","v":0},{"$f":"COUNTIF('Aonad 6'!$C:$C,$D55)","v":0},{"$f":"COUNTIF('Aonad 7'!$C:$C,$D55)","v":0},{"$f":"COUNTIF('Aonad 8'!$C:$C,$D55)","v":0},{"$f":"COUNTIF('Aonad 9'!$C:$C,$D55)","v":0},{"$f":"COUNTIF('Aonad 10'!$C:$C,$D55)","v":0},{"$f":"COUNTIF('Aonad 11'!$C:$C,$D55)","v":0},{"$f":"COUNTIF('Aonad 12'!$C:$C,$D55)","v":0},{"$f":"COUNTIF('Aonad 13'!$C:$C,$D55)","v":0},{"$f":"COUNTIF('Aonad 14'!$C:$C,$D55)","v":0},{"$f":"COUNTIF('Aonad 15'!$C:$C,$D55)","v":0},{"$f":"COUNTIF('Aonad 16'!$C:$C,$D55)","v":0},{"$f":"COUNTIF('Aonad 17'!$C:$C,$D55)","v":0},{"$f":"COUNTIF('Aonad 18'!$C:$C,$D55)","v":0},{"$f":"COUNTIF('Aonad 19'!$C:$C,$D55)","v":0},{"$f":"COUNTIF('Aonad 20'!$C:$C,$D55)","v":0},{"$f":"COUNTIF('Aonad 21'!$C:$C,$D55)","v":0},{"$f":"COUNTIF('Aonad 22'!$C:$C,$D55)","v":0},{"$f":"COUNTIF('Aonad 23'!$C:$C,$D55)","v":0},{"$f":"COUNTIF('Aonad 24'!$C:$C,$D55)","v":0},{"$f":"COUNTIF('Aonad 25'!$C:$C,$D55)","v":0},{"$f":"COUNTIF('Aonad 26'!$C:$C,$D55)","v":0},{"$f":"COUNTIF('Aonad 27'!$C:$C,$D55)","v":0},{"$f":"COUNTIF('Aonad 28'!$C:$C,$D55)","v":0},{"$f":"COUNTIF('Aonad 29'!$C:$C,$D55)","v":0},{"$f":"COUNTIF('Aonad 30'!$C:$C,$D55)","v":0},{"$f":"COUNTIF('Aonad 31'!$C:$C,$D55)","v":0},{"$f":"COUNTIF('Aonad 32'!$C:$C,$D55)","v":0},{"$f":"COUNTIF('Aonad 33'!$C:$C,$D55)","v":0},{"$f":"COUNTIF('Aonad 34'!$C:$C,$D55)","v":0},{"$f":"COUNTIF('Aonad 35'!$C:$C,$D55)","v":0},{"$f":"COUNTIF('Aonad 36'!$C:$C,$D55)","v":0},{"$f":"COUNTIF('Aonad 37'!$C:$C,$D55)","v":0},{"$f":"COUNTIF('Aonad 38'!$C:$C,$D55)","v":0},0,null,{"$f":"IF('Aonad 1'!$C$7=$D$58,COUNTIF('Aonad 1'!$C:$C,$D55),\"0\")","v":"0"},{"$f":"IF('Aonad 2'!$C$7=$D$58,COUNTIF('Aonad 2'!$C:$C,$D55),\"0\")","v":"0"},{"$f":"IF('Aonad 3'!$C$7=$D$58,COUNTIF('Aonad 3'!$C:$C,$D55),\"0\")","v":"0"},{"$f":"IF('Aonad 4'!$C$7=$D$58,COUNTIF('Aonad 4'!$C:$C,$D55),\"0\")","v":"0"},{"$f":"IF('Aonad 5'!$C$7=$D$58,COUNTIF('Aonad 5'!$C:$C,$D55),\"0\")","v":"0"},{"$f":"IF('Aonad 6'!$C$7=$D$58,COUNTIF('Aonad 6'!$C:$C,$D55),\"0\")","v":"0"},{"$f":"IF('Aonad 7'!$C$7=$D$58,COUNTIF('Aonad 7'!$C:$C,$D55),\"0\")","v":"0"},{"$f":"IF('Aonad 8'!$C$7=$D$58,COUNTIF('Aonad 8'!$C:$C,$D55),\"0\")","v":"0"},{"$f":"IF('Aonad 9'!$C$7=$D$58,COUNTIF('Aonad 9'!$C:$C,$D55),\"0\")","v":"0"},{"$f":"IF('Aonad 10'!$C$7=$D$58,COUNTIF('Aonad 10'!$C:$C,$D55),\"0\")","v":"0"},{"$f":"IF('Aonad 11'!$C$7=$D$58,COUNTIF('Aonad 11'!$C:$C,$D55),\"0\")","v":"0"},{"$f":"IF('Aonad 12'!$C$7=$D$58,COUNTIF('Aonad 12'!$C:$C,$D55),\"0\")","v":"0"},{"$f":"IF('Aonad 13'!$C$7=$D$58,COUNTIF('Aonad 13'!$C:$C,$D55),\"0\")","v":"0"},{"$f":"IF('Aonad 14'!$C$7=$D$58,COUNTIF('Aonad 14'!$C:$C,$D55),\"0\")","v":"0"},{"$f":"IF('Aonad 15'!$C$7=$D$58,COUNTIF('Aonad 15'!$C:$C,$D55),\"0\")","v":"0"},{"$f":"IF('Aonad 16'!$C$7=$D$58,COUNTIF('Aonad 16'!$C:$C,$D55),\"0\")","v":"0"},{"$f":"IF('Aonad 17'!$C$7=$D$58,COUNTIF('Aonad 17'!$C:$C,$D55),\"0\")","v":"0"},{"$f":"IF('Aonad 18'!$C$7=$D$58,COUNTIF('Aonad 18'!$C:$C,$D55),\"0\")","v":"0"},{"$f":"IF('Aonad 19'!$C$7=$D$58,COUNTIF('Aonad 19'!$C:$C,$D55),\"0\")","v":"0"},{"$f":"IF('Aonad 20'!$C$7=$D$58,COUNTIF('Aonad 20'!$C:$C,$D55),\"0\")","v":"0"},{"$f":"IF('Aonad 21'!$C$7=$D$58,COUNTIF('Aonad 21'!$C:$C,$D55),\"0\")","v":"0"},{"$f":"IF('Aonad 22'!$C$7=$D$58,COUNTIF('Aonad 22'!$C:$C,$D55),\"0\")","v":"0"},{"$f":"IF('Aonad 23'!$C$7=$D$58,COUNTIF('Aonad 23'!$C:$C,$D55),\"0\")","v":"0"},{"$f":"IF('Aonad 24'!$C$7=$D$58,COUNTIF('Aonad 24'!$C:$C,$D55),\"0\")","v":"0"},{"$f":"IF('Aonad 25'!$C$7=$D$58,COUNTIF('Aonad 25'!$C:$C,$D55),\"0\")","v":"0"},{"$f":"IF('Aonad 26'!$C$7=$D$58,COUNTIF('Aonad 26'!$C:$C,$D55),\"0\")","v":"0"},{"$f":"IF('Aonad 27'!$C$7=$D$58,COUNTIF('Aonad 27'!$C:$C,$D55),\"0\")","v":"0"},{"$f":"IF('Aonad 28'!$C$7=$D$58,COUNTIF('Aonad 28'!$C:$C,$D55),\"0\")","v":"0"},{"$f":"IF('Aonad 29'!$C$7=$D$58,COUNTIF('Aonad 29'!$C:$C,$D55),\"0\")","v":"0"},{"$f":"IF('Aonad 30'!$C$7=$D$58,COUNTIF('Aonad 30'!$C:$C,$D55),\"0\")","v":"0"},{"$f":"IF('Aonad 31'!$C$7=$D$58,COUNTIF('Aonad 31'!$C:$C,$D55),\"0\")","v":"0"},{"$f":"IF('Aonad 32'!$C$7=$D$58,COUNTIF('Aonad 32'!$C:$C,$D55),\"0\")","v":"0"},{"$f":"IF('Aonad 33'!$C$7=$D$58,COUNTIF('Aonad 33'!$C:$C,$D55),\"0\")","v":"0"},{"$f":"IF('Aonad 34'!$C$7=$D$58,COUNTIF('Aonad 34'!$C:$C,$D55),\"0\")","v":"0"},{"$f":"IF('Aonad 35'!$C$7=$D$58,COUNTIF('Aonad 35'!$C:$C,$D55),\"0\")","v":"0"},{"$f":"IF('Aonad 36'!$C$7=$D$58,COUNTIF('Aonad 36'!$C:$C,$D55),\"0\")","v":"0"},{"$f":"IF('Aonad 37'!$C$7=$D$58,COUNTIF('Aonad 37'!$C:$C,$D55),\"0\")","v":"0"},{"$f":"IF('Aonad 38'!$C$7=$D$58,COUNTIF('Aonad 38'!$C:$C,$D55),\"0\")","v":"0"},0,null,{"$f":"IF('Aonad 1'!$C$7=$D$59,COUNTIF('Aonad 1'!$C:$C,$D55),\"0\")","v":"0"},{"$f":"IF('Aonad 2'!$C$7=$D$59,COUNTIF('Aonad 2'!$C:$C,$D55),\"0\")","v":"0"},{"$f":"IF('Aonad 3'!$C$7=$D$59,COUNTIF('Aonad 3'!$C:$C,$D55),\"0\")","v":"0"},{"$f":"IF('Aonad 4'!$C$7=$D$59,COUNTIF('Aonad 4'!$C:$C,$D55),\"0\")","v":"0"},{"$f":"IF('Aonad 5'!$C$7=$D$59,COUNTIF('Aonad 5'!$C:$C,$D55),\"0\")","v":"0"},{"$f":"IF('Aonad 6'!$C$7=$D$59,COUNTIF('Aonad 6'!$C:$C,$D55),\"0\")","v":"0"},{"$f":"IF('Aonad 7'!$C$7=$D$59,COUNTIF('Aonad 7'!$C:$C,$D55),\"0\")","v":"0"},{"$f":"IF('Aonad 8'!$C$7=$D$59,COUNTIF('Aonad 8'!$C:$C,$D55),\"0\")","v":"0"},{"$f":"IF('Aonad 9'!$C$7=$D$59,COUNTIF('Aonad 9'!$C:$C,$D55),\"0\")","v":"0"},{"$f":"IF('Aonad 10'!$C$7=$D$59,COUNTIF('Aonad 10'!$C:$C,$D55),\"0\")","v":"0"},{"$f":"IF('Aonad 11'!$C$7=$D$59,COUNTIF('Aonad 11'!$C:$C,$D55),\"0\")","v":"0"},{"$f":"IF('Aonad 12'!$C$7=$D$59,COUNTIF('Aonad 12'!$C:$C,$D55),\"0\")","v":"0"},{"$f":"IF('Aonad 13'!$C$7=$D$59,COUNTIF('Aonad 13'!$C:$C,$D55),\"0\")","v":"0"},{"$f":"IF('Aonad 14'!$C$7=$D$59,COUNTIF('Aonad 14'!$C:$C,$D55),\"0\")","v":"0"},{"$f":"IF('Aonad 15'!$C$7=$D$59,COUNTIF('Aonad 15'!$C:$C,$D55),\"0\")","v":"0"},{"$f":"IF('Aonad 16'!$C$7=$D$59,COUNTIF('Aonad 16'!$C:$C,$D55),\"0\")","v":"0"},{"$f":"IF('Aonad 17'!$C$7=$D$59,COUNTIF('Aonad 17'!$C:$C,$D55),\"0\")","v":"0"},{"$f":"IF('Aonad 18'!$C$7=$D$59,COUNTIF('Aonad 18'!$C:$C,$D55),\"0\")","v":"0"},{"$f":"IF('Aonad 19'!$C$7=$D$59,COUNTIF('Aonad 19'!$C:$C,$D55),\"0\")","v":"0"},{"$f":"IF('Aonad 20'!$C$7=$D$59,COUNTIF('Aonad 20'!$C:$C,$D55),\"0\")","v":"0"},{"$f":"IF('Aonad 21'!$C$7=$D$59,COUNTIF('Aonad 21'!$C:$C,$D55),\"0\")","v":"0"},{"$f":"IF('Aonad 22'!$C$7=$D$59,COUNTIF('Aonad 22'!$C:$C,$D55),\"0\")","v":"0"},{"$f":"IF('Aonad 23'!$C$7=$D$59,COUNTIF('Aonad 23'!$C:$C,$D55),\"0\")","v":"0"},{"$f":"IF('Aonad 24'!$C$7=$D$59,COUNTIF('Aonad 24'!$C:$C,$D55),\"0\")","v":"0"},{"$f":"IF('Aonad 25'!$C$7=$D$59,COUNTIF('Aonad 25'!$C:$C,$D55),\"0\")","v":"0"},{"$f":"IF('Aonad 26'!$C$7=$D$59,COUNTIF('Aonad 26'!$C:$C,$D55),\"0\")","v":"0"},{"$f":"IF('Aonad 27'!$C$7=$D$59,COUNTIF('Aonad 27'!$C:$C,$D55),\"0\")","v":"0"},{"$f":"IF('Aonad 28'!$C$7=$D$59,COUNTIF('Aonad 28'!$C:$C,$D55),\"0\")","v":"0"},{"$f":"IF('Aonad 29'!$C$7=$D$59,COUNTIF('Aonad 29'!$C:$C,$D55),\"0\")","v":"0"},{"$f":"IF('Aonad 30'!$C$7=$D$59,COUNTIF('Aonad 30'!$C:$C,$D55),\"0\")","v":"0"},{"$f":"IF('Aonad 31'!$C$7=$D$59,COUNTIF('Aonad 31'!$C:$C,$D55),\"0\")","v":"0"},{"$f":"IF('Aonad 32'!$C$7=$D$59,COUNTIF('Aonad 32'!$C:$C,$D55),\"0\")","v":"0"},{"$f":"IF('Aonad 33'!$C$7=$D$59,COUNTIF('Aonad 33'!$C:$C,$D55),\"0\")","v":"0"},{"$f":"IF('Aonad 34'!$C$7=$D$59,COUNTIF('Aonad 34'!$C:$C,$D55),\"0\")","v":"0"},{"$f":"IF('Aonad 35'!$C$7=$D$59,COUNTIF('Aonad 35'!$C:$C,$D55),\"0\")","v":"0"},{"$f":"IF('Aonad 36'!$C$7=$D$59,COUNTIF('Aonad 36'!$C:$C,$D55),\"0\")","v":"0"},{"$f":"IF('Aonad 37'!$C$7=$D$59,COUNTIF('Aonad 37'!$C:$C,$D55),\"0\")","v":"0"},{"$f":"IF('Aonad 38'!$C$7=$D$59,COUNTIF('Aonad 38'!$C:$C,$D55),\"0\")","v":"0"},0,null,{"$f":"IF('Aonad 1'!$C$7=$D$60,COUNTIF('Aonad 1'!$C:$C,$D55),\"0\")","v":"0"},{"$f":"IF('Aonad 2'!$C$7=$D$60,COUNTIF('Aonad 2'!$C:$C,$D55),\"0\")","v":"0"},{"$f":"IF('Aonad 3'!$C$7=$D$60,COUNTIF('Aonad 3'!$C:$C,$D55),\"0\")","v":"0"},{"$f":"IF('Aonad 4'!$C$7=$D$60,COUNTIF('Aonad 4'!$C:$C,$D55),\"0\")","v":"0"},{"$f":"IF('Aonad 5'!$C$7=$D$60,COUNTIF('Aonad 5'!$C:$C,$D55),\"0\")","v":"0"},{"$f":"IF('Aonad 6'!$C$7=$D$60,COUNTIF('Aonad 6'!$C:$C,$D55),\"0\")","v":"0"},{"$f":"IF('Aonad 7'!$C$7=$D$60,COUNTIF('Aonad 7'!$C:$C,$D55),\"0\")","v":"0"},{"$f":"IF('Aonad 8'!$C$7=$D$60,COUNTIF('Aonad 8'!$C:$C,$D55),\"0\")","v":"0"},{"$f":"IF('Aonad 9'!$C$7=$D$60,COUNTIF('Aonad 9'!$C:$C,$D55),\"0\")","v":"0"},{"$f":"IF('Aonad 10'!$C$7=$D$60,COUNTIF('Aonad 10'!$C:$C,$D55),\"0\")","v":"0"},{"$f":"IF('Aonad 11'!$C$7=$D$60,COUNTIF('Aonad 11'!$C:$C,$D55),\"0\")","v":"0"},{"$f":"IF('Aonad 12'!$C$7=$D$60,COUNTIF('Aonad 12'!$C:$C,$D55),\"0\")","v":"0"},{"$f":"IF('Aonad 13'!$C$7=$D$60,COUNTIF('Aonad 13'!$C:$C,$D55),\"0\")","v":"0"},{"$f":"IF('Aonad 14'!$C$7=$D$60,COUNTIF('Aonad 14'!$C:$C,$D55),\"0\")","v":"0"},{"$f":"IF('Aonad 15'!$C$7=$D$60,COUNTIF('Aonad 15'!$C:$C,$D55),\"0\")","v":"0"},{"$f":"IF('Aonad 16'!$C$7=$D$60,COUNTIF('Aonad 16'!$C:$C,$D55),\"0\")","v":"0"},{"$f":"IF('Aonad 17'!$C$7=$D$60,COUNTIF('Aonad 17'!$C:$C,$D55),\"0\")","v":"0"},{"$f":"IF('Aonad 18'!$C$7=$D$60,COUNTIF('Aonad 18'!$C:$C,$D55),\"0\")","v":"0"},{"$f":"IF('Aonad 19'!$C$7=$D$60,COUNTIF('Aonad 19'!$C:$C,$D55),\"0\")","v":"0"},{"$f":"IF('Aonad 20'!$C$7=$D$60,COUNTIF('Aonad 20'!$C:$C,$D55),\"0\")","v":"0"},{"$f":"IF('Aonad 21'!$C$7=$D$60,COUNTIF('Aonad 21'!$C:$C,$D55),\"0\")","v":"0"},{"$f":"IF('Aonad 22'!$C$7=$D$60,COUNTIF('Aonad 22'!$C:$C,$D55),\"0\")","v":"0"},{"$f":"IF('Aonad 23'!$C$7=$D$60,COUNTIF('Aonad 23'!$C:$C,$D55),\"0\")","v":"0"},{"$f":"IF('Aonad 24'!$C$7=$D$60,COUNTIF('Aonad 24'!$C:$C,$D55),\"0\")","v":"0"},{"$f":"IF('Aonad 25'!$C$7=$D$60,COUNTIF('Aonad 25'!$C:$C,$D55),\"0\")","v":"0"},{"$f":"IF('Aonad 26'!$C$7=$D$60,COUNTIF('Aonad 26'!$C:$C,$D55),\"0\")","v":"0"},{"$f":"IF('Aonad 27'!$C$7=$D$60,COUNTIF('Aonad 27'!$C:$C,$D55),\"0\")","v":"0"},{"$f":"IF('Aonad 28'!$C$7=$D$60,COUNTIF('Aonad 28'!$C:$C,$D55),\"0\")","v":"0"},{"$f":"IF('Aonad 29'!$C$7=$D$60,COUNTIF('Aonad 29'!$C:$C,$D55),\"0\")","v":"0"},{"$f":"IF('Aonad 30'!$C$7=$D$60,COUNTIF('Aonad 30'!$C:$C,$D55),\"0\")","v":"0"},{"$f":"IF('Aonad 31'!$C$7=$D$60,COUNTIF('Aonad 31'!$C:$C,$D55),\"0\")","v":"0"},{"$f":"IF('Aonad 32'!$C$7=$D$60,COUNTIF('Aonad 32'!$C:$C,$D55),\"0\")","v":"0"},{"$f":"IF('Aonad 33'!$C$7=$D$60,COUNTIF('Aonad 33'!$C:$C,$D55),\"0\")","v":"0"},{"$f":"IF('Aonad 34'!$C$7=$D$60,COUNTIF('Aonad 34'!$C:$C,$D55),\"0\")","v":"0"},{"$f":"IF('Aonad 35'!$C$7=$D$60,COUNTIF('Aonad 35'!$C:$C,$D55),\"0\")","v":"0"},{"$f":"IF('Aonad 36'!$C$7=$D$60,COUNTIF('Aonad 36'!$C:$C,$D55),\"0\")","v":"0"},{"$f":"IF('Aonad 37'!$C$7=$D$60,COUNTIF('Aonad 37'!$C:$C,$D55),\"0\")","v":"0"},{"$f":"IF('Aonad 38'!$C$7=$D$60,COUNTIF('Aonad 38'!$C:$C,$D55),\"0\")","v":"0"},0]
[]
[null,null,null,"Grúpa Ranga:"]
[null,null,null,"Bhliain 1"]
[null,null,null,"Bhliain 2"]
[null,null,null,"Bhliain 3"]
[]
[null,null,null,"Ábhair na dTeicneolaíochtaí"]
[null,null,null,"Teicneolaíocht Fheidhmeach"]
[null,null,null,"Innealtóireacht"]
[null,null,null,"Grafaic"]
[null,null,null,"Teicneolaíocht Adhmaid"]
[]
[null,null,null,"Torthaí Foghlama do Roghchláir Anuas: (Líonann an liosta seo é féin ón tábla thuas)"]
[null,null,null,{"$f":"IFERROR(INDEX($D$8:$D$55,MATCH(0,COUNTIF($D$68:D68,$D$8:$D$55&\"\")+IF($D$8:$D$55=\"\",1,0), 0)),\"\")","v":"1.1 réiteach dearaidh a fhorbairt bunaithe ar thaithí agus úsáid á baint as fianaise, as réasúnaíocht agus as cinnteoireacht"}]
[null,null,null,{"$f":"IFERROR(INDEX($D$8:$D$55,MATCH(0,COUNTIF($D$68:D69,$D$8:$D$55&\"\")+IF($D$8:$D$55=\"\",1,0), 0)),\"\")","v":"1.2 anailís a dhéanamh ar fhadhbanna le cur chuige córasach"}]
[null,null,null,{"$f":"IFERROR(INDEX($D$8:$D$55,MATCH(0,COUNTIF($D$68:D70,$D$8:$D$55&\"\")+IF($D$8:$D$55=\"\",1,0), 0)),\"\")","v":"1.3 smaointe a bheachtú ach úsáid a bhaint as an bhfréamhshamhaltú"}]
[null,null,null,{"$f":"IFERROR(INDEX($D$8:$D$55,MATCH(0,COUNTIF($D$68:D71,$D$8:$D$55&\"\")+IF($D$8:$D$55=\"\",1,0), 0)),\"\")","v":"1.4 athbhreithniú a dhéanamh ar chinntí pleanála síos tríd an bpróiseas"}]
[null,null,null,{"$f":"IFERROR(INDEX($D$8:$D$55,MATCH(0,COUNTIF($D$68:D72,$D$8:$D$55&\"\")+IF($D$8:$D$55=\"\",1,0), 0)),\"\")","v":"1.5 machnamh a dhéanamh ar eispéireas an úsáideora deiridh ag gach céim den phróiseas deartha"}]
[null,null,null,{"$f":"IFERROR(INDEX($D$8:$D$55,MATCH(0,COUNTIF($D$68:D73,$D$8:$D$55&\"\")+IF($D$8:$D$55=\"\",1,0), 0)),\"\")","v":"1.6 an ról agus an tionchar a bhíonn ag teicneolaíochtaí atá ann cheana agus ag teicneolaíochtaí atá ag teacht chun cinn a thuiscint, chomh maith leis an úsáid a d’fhéadfaí a bhaint astu"}]
[null,null,null,{"$f":"IFERROR(INDEX($D$8:$D$55,MATCH(0,COUNTIF($D$68:D74,$D$8:$D$55&\"\")+IF($D$8:$D$55=\"\",1,0), 0)),\"\")","v":"1.7 cuir chuige nuálacha a chur i bhfeidhm ar réitigh dearaidh"}]
[null,null,null,{"$f":"IFERROR(INDEX($D$8:$D$55,MATCH(0,COUNTIF($D$68:D75,$D$8:$D$55&\"\")+IF($D$8:$D$55=\"\",1,0), 0)),\"\")","v":"1.8 plean a fhorbairt chun réiteach a thabhairt chun críche"}]
[null,null,null,{"$f":"IFERROR(INDEX($D$8:$D$55,MATCH(0,COUNTIF($D$68:D76,$D$8:$D$55&\"\")+IF($D$8:$D$55=\"\",1,0), 0)),\"\")","v":"1.9 ábhair, trealamh agus próisis chuí a roghnú chun fadhb a réiteach"}]
[null,null,null,{"$f":"IFERROR(INDEX($D$8:$D$55,MATCH(0,COUNTIF($D$68:D77,$D$8:$D$55&\"\")+IF($D$8:$D$55=\"\",1,0), 0)),\"\")","v":"1.10 plean a chur chun feidhme agus úsáid á baint as uirlisí, ábhair agus próisis chuí"}]
[null,null,null,{"$f":"IFERROR(INDEX($D$8:$D$55,MATCH(0,COUNTIF($D$68:D78,$D$8:$D$55&\"\")+IF($D$8:$D$55=\"\",1,0), 0)),\"\")","v":"1.11 a léiriú gur cloíodh leis na caighdeáin aitheanta sláinte agus sábháilteachta"}]
[null,null,null,{"$f":"IFERROR(INDEX($D$8:$D$55,MATCH(0,COUNTIF($D$68:D79,$D$8:$D$55&\"\")+IF($D$8:$D$55=\"\",1,0), 0)),\"\")","v":"1.12 taifead a choinneáil ar an dul chun cinn a dhéantar ó choincheap a cheapadh go dtí é a thabhairt chun críche"}]
[null,null,null,{"$f":"IFERROR(INDEX($D$8:$D$55,MATCH(0,COUNTIF($D$68:D80,$D$8:$D$55&\"\")+IF($D$8:$D$55=\"\",1,0), 0)),\"\")","v":"1.13 fianaise ar an bpróiseas atriallach a bhaineann leis an dearadh a chur in iúl"}]
[null,null,null,{"$f":"IFERROR(INDEX($D$8:$D$55,MATCH(0,COUNTIF($D$68:D81,$D$8:$D$55&\"\")+IF($D$8:$D$55=\"\",1,0), 0)),\"\")","v":"2.1 iniúchadh a dhéanamh ar an gcaidreamh idir ionchuir, claochluithe agus aschuir taobh istigh de chórais shimplí rialaithe"}]
[null,null,null,{"$f":"IFERROR(INDEX($D$8:$D$55,MATCH(0,COUNTIF($D$68:D82,$D$8:$D$55&\"\")+IF($D$8:$D$55=\"\",1,0), 0)),\"\")","v":"2.2 smaointe a mheasúnú ach úsáid a bhaint as an ionsamhlú"}]
[null,null,null,{"$f":"IFERROR(INDEX($D$8:$D$55,MATCH(0,COUNTIF($D$68:D83,$D$8:$D$55&\"\")+IF($D$8:$D$55=\"\",1,0), 0)),\"\")","v":"2.3 na prionsabail a bhaineann le córais rialaithe a aithint agus an réiteach á fhorbairt"}]
[null,null,null,{"$f":"IFERROR(INDEX($D$8:$D$55,MATCH(0,COUNTIF($D$68:D84,$D$8:$D$55&\"\")+IF($D$8:$D$55=\"\",1,0), 0)),\"\")","v":"2.4 sraith loighciúil treoracha a dhearadh i ndáil le gléas nó córas a rialú"}]
[null,null,null,{"$f":"IFERROR(INDEX($D$8:$D$55,MATCH(0,COUNTIF($D$68:D85,$D$8:$D$55&\"\")+IF($D$8:$D$55=\"\",1,0), 0)),\"\")","v":"2.5 cuir chuige nuálacha a chur i bhfeidhm i leith réitigh córais rialaithe a dhearadh"}]
[null,null,null,{"$f":"IFERROR(INDEX($D$8:$D$55,MATCH(0,COUNTIF($D$68:D86,$D$8:$D$55&\"\")+IF($D$8:$D$55=\"\",1,0), 0)),\"\")","v":"2.6 caomhnú agus éifeachtúlacht fuinnimh a fhiosrú"}]
[null,null,null,{"$f":"IFERROR(INDEX($D$8:$D$55,MATCH(0,COUNTIF($D$68:D87,$D$8:$D$55&\"\")+IF($D$8:$D$55=\"\",1,0), 0)),\"\")","v":"2.7 córais chuí fuinnimh agus rialaithe a shainaithint do na réitigh dearaidh"}]
[null,null,null,{"$f":"IFERROR(INDEX($D$8:$D$55,MATCH(0,COUNTIF($D$68:D88,$D$8:$D$55&\"\")+IF($D$8:$D$55=\"\",1,0), 0)),\"\")","v":"2.8 réitigh rialaithe a chruthú ar fhadhbanna a shainaithnítear"}]
[null,null,null,{"$f":"IFERROR(INDEX($D$8:$D$55,MATCH(0,COUNTIF($D$68:D89,$D$8:$D$55&\"\")+IF($D$8:$D$55=\"\",1,0), 0)),\"\")","v":"2.9 faisnéis theicniúil a chur in iúl i bhfoirmeacha cuí"}]
[null,null,null,{"$f":"IFERROR(INDEX($D$8:$D$55,MATCH(0,COUNTIF($D$68:D90,$D$8:$D$55&\"\")+IF($D$8:$D$55=\"\",1,0), 0)),\"\")","v":"2.10 míniú a thabhairt ar an gclaochlú a thagann ar ionchuir nuair a iompaítear ina n-aschuir iad"}]
[null,null,null,{"$f":"IFERROR(INDEX($D$8:$D$55,MATCH(0,COUNTIF($D$68:D91,$D$8:$D$55&\"\")+IF($D$8:$D$55=\"\",1,0), 0)),\"\")","v":"3.1 anailís a dhéanamh ar thionchar na srianta ar réitigh a dhearadh"}]
[null,null,null,{"$f":"IFERROR(INDEX($D$8:$D$55,MATCH(0,COUNTIF($D$68:D92,$D$8:$D$55&\"\")+IF($D$8:$D$55=\"\",1,0), 0)),\"\")","v":"3.2 measúnú a dhéanamh ar a éifeachtaí agus atá na réitigh"}]
[null,null,null,{"$f":"IFERROR(INDEX($D$8:$D$55,MATCH(0,COUNTIF($D$68:D93,$D$8:$D$55&\"\")+IF($D$8:$D$55=\"\",1,0), 0)),\"\")","v":"3.3 míniú a thabhairt ar an gcaoi a dtéann an cine daonna, an tsochaí agus an comhshaol i bhfeidhm ar réitigh agus ar thorthaí"}]
[null,null,null,{"$f":"IFERROR(INDEX($D$8:$D$55,MATCH(0,COUNTIF($D$68:D94,$D$8:$D$55&\"\")+IF($D$8:$D$55=\"\",1,0), 0)),\"\")","v":"3.4 an chaoi a gcuirtear an teicneolaíocht i bhfeidhm i gcomhthéacsanna áitiúla a fhiosrú"}]
[null,null,null,{"$f":"IFERROR(INDEX($D$8:$D$55,MATCH(0,COUNTIF($D$68:D95,$D$8:$D$55&\"\")+IF($D$8:$D$55=\"\",1,0), 0)),\"\")","v":"3.5 na cúiseanna a bhí le hábhair agus próisis ar leith a roghnú a chosaint, bunaithe ar thosca éagsúla ar nós cúinsí comhshaoil, cúinsí geilleagracha agus cúinsí eiticiúla"}]
[null,null,null,{"$f":"IFERROR(INDEX($D$8:$D$55,MATCH(0,COUNTIF($D$68:D96,$D$8:$D$55&\"\")+IF($D$8:$D$55=\"\",1,0), 0)),\"\")","v":"3.6 machnamh a dhéanamh ar riachtanais an úsáideora ag gach céim den dearadh"}]
[null,null,null,{"$f":"IFERROR(INDEX($D$8:$D$55,MATCH(0,COUNTIF($D$68:D97,$D$8:$D$55&\"\")+IF($D$8:$D$55=\"\",1,0), 0)),\"\")","v":"3.7 an fhreagracht atá ar an scoláire maidir lena chinntiú go gcoinnítear sonraí pearsanta slán agus príobháideach a aithint"}]
[null,null,null,{"$f":"IFERROR(INDEX($D$8:$D$55,MATCH(0,COUNTIF($D$68:D98,$D$8:$D$55&\"\")+IF($D$8:$D$55=\"\",1,0), 0)),\"\")","v":"3.8 measúnú a dhéanamh ar an tionchar a bhíonn ag teicneolaíochtaí ar a shaol féin, ar an tsochaí agus ar an gcomhshaol"}]
[null,null,null,{"$f":"IFERROR(INDEX($D$8:$D$55,MATCH(0,COUNTIF($D$68:D99,$D$8:$D$55&\"\")+IF($D$8:$D$55=\"\",1,0), 0)),\"\")","v":"3.9 plé a dhéanamh ar an gcaoi a bhféadfadh an teicneolaíocht dul i bhfeidhm ar an tsochaí agus ar an gcomhshaol"}]
[null,null,null,{"$f":"IFERROR(INDEX($D$8:$D$55,MATCH(0,COUNTIF($D$68:D100,$D$8:$D$55&\"\")+IF($D$8:$D$55=\"\",1,0), 0)),\"\")","v":""}]
[null,null,null,{"$f":"IFERROR(INDEX($D$8:$D$55,MATCH(0,COUNTIF($D$68:D101,$D$8:$D$55&\"\")+IF($D$8:$D$55=\"\",1,0), 0)),\"\")","v":""}]
[null,null,null,{"$f":"IFERROR(INDEX($D$8:$D$55,MATCH(0,COUNTIF($D$68:D102,$D$8:$D$55&\"\")+IF($D$8:$D$55=\"\",1,0), 0)),\"\")","v":""}]
[null,null,null,{"$f":"IFERROR(INDEX($D$8:$D$55,MATCH(0,COUNTIF($D$68:D103,$D$8:$D$55&\"\")+IF($D$8:$D$55=\"\",1,0), 0)),\"\")","v":""}]
[null,null,null,{"$f":"IFERROR(INDEX($D$8:$D$55,MATCH(0,COUNTIF($D$68:D104,$D$8:$D$55&\"\")+IF($D$8:$D$55=\"\",1,0), 0)),\"\")","v":""}]
[null,null,null,{"$f":"IFERROR(INDEX($D$8:$D$55,MATCH(0,COUNTIF($D$68:D105,$D$8:$D$55&\"\")+IF($D$8:$D$55=\"\",1,0), 0)),\"\")","v":""}]
[null,null,null,{"$f":"IFERROR(INDEX($D$8:$D$55,MATCH(0,COUNTIF($D$68:D106,$D$8:$D$55&\"\")+IF($D$8:$D$55=\"\",1,0), 0)),\"\")","v":""}]
[null,null,null,{"$f":"IFERROR(INDEX($D$8:$D$55,MATCH(0,COUNTIF($D$68:D107,$D$8:$D$55&\"\")+IF($D$8:$D$55=\"\",1,0), 0)),\"\")","v":""}]